Workbook
Name _tab10: #REF!
Name _tab11: #REF!
Name _tab12: #REF!
Name _tab13: #REF!
Name _tab14: #REF!
Name _tab15: #REF!
Name _tab16: #REF!
Name _tab17: #REF!
Name _tab18: #REF!
Name _tab19: #REF!
Name _tab20: #REF!
Name _tab21: #REF!
Name _tab22: #REF!
Name _tab23: #REF!
Name _tab24: #REF!
Name _tab5: #REF!
Name _tab6: #REF!
Name _tab7: #REF!
Name _tab8: #REF!
Name _tab9: #REF!
Name AgencyCode: #REF!
Name AgencyCode: #REF!
Name AgencyName: #REF!
Name AgencyName: #REF!
Name åû: #REF!
Name åû: #REF!
Name davit: #REF!
Name davit: #REF!
Name Functional1: #REF!
Name Functional1: #REF!
Name ggg: #REF!
Name ggg: #REF!
Name hav: #REF!
Name havelvac: #REF!
Name mas: #REF!
Name mas: #REF!
Name mass: #REF!
Name mass: #REF!
Name PANature: #REF!
Name PANature: #REF!
Name par_count: #REF!,#REF!,#REF!,#REF!,#REF!,#REF!,#REF!,#REF!,#REF!,#REF!,#REF!,#REF!,#REF!,#REF!,#REF!
Name par_qual: #REF!,#REF!,#REF!,#REF!,#REF!
Name par_time: #REF!,#REF!,#REF!,#REF!
Name par2.12s: #REF!
Name par2.4s: #REF!,#REF!,#REF!,#REF!,#REF!,#REF!,#REF!,#REF!,#REF!,#REF!,#REF!,#REF!,#REF!,#REF!,#REF!,#REF!
Name par2.5s: #REF!,#REF!
Name par2.6s: #REF!,#REF!,#REF!,#REF!
Name par2.7s: #REF!,#REF!
Name par2.9s: #REF!,#REF!,#REF!,#REF!,#REF!,#REF!,#REF!,#REF!,#REF!,#REF!,#REF!,#REF!,#REF!,#REF!,#REF!,#REF!
Name par4.10s: #REF!,#REF!
Name par4.11d: #REF!,#REF!,#REF!,#REF!,#REF!
Name par4.12d: #REF!
Name par4.13s: #REF!
Name par4.14: #REF!,#REF!,#REF!,#REF!,#REF!,#REF!
Name par4.15: #REF!,#REF!,#REF!
Name par4.16: #REF!,#REF!,#REF!
Name par4.17: #REF!,#REF!,#REF!,#REF!
Name par4.18d: #REF!,#REF!
Name par4.19s: #REF!
Name par4.20f: #REF!

Sheet h1
G1: Հավելված N 1
G2: ՀՀ կառավարության 2025 թվականի
G3: N ------------ -Ն որոշման
A5: «ՀԱՅԱՍՏԱՆԻ ՀԱՆՐԱՊԵՏՈՒԹՅԱՆ 2025 ԹՎԱԿԱՆԻ ՊԵՏԱԿԱՆ ԲՅՈՒՋԵԻ ՄԱՍԻՆ» ՕՐԵՆՔԻ N 1 ՀԱՎԵԼՎԱԾԻ N 2 ԱՂՅՈՒՍԱԿՈՒՄ ԿԱՏԱՐՎՈՂ ՎԵՐԱԲԱՇԽՈՒՄԸ ԵՎ ՀԱՅԱՍՏԱՆԻ ՀԱՆՐԱՊԵՏՈՒԹՅԱՆ ԿԱՌԱՎԱՐՈՒԹՅԱՆ 2024 ԹՎԱԿԱՆԻ ԴԵԿՏԵՄԲԵՐԻ 27-Ի N 2060-Ն ՈՐՈՇՄԱՆ N 5 ՀԱՎԵԼՎԱԾԻ N 1 ԱՂՅՈՒՍԱԿՈՒՄ ԿԱՏԱՐՎՈՂ ՓՈՓՈԽՈՒԹՅՈՒՆՆԵՐԸ ԵՎ ԼՐԱՑՈՒՄՆԵՐԸ
G8: հազար դրամներով
A9: ԲԳԿ | B9: Ծրագրային դասիչը | D9: ԲԳԿ/Ծրագրի /միջոցառման անվանումը | E9: Ծրագրի նպատակը/Միջոցառման նկարագրությունը | F9: Վերջնական արդյունքի նկարագրությունը/Միջոցառման տեսակը | G9: Ցուցանիշների փոփոխությունը (ավելացումները նշված են դրական նշանով, իսկ նվազեցումները` փակագծերում)
B10: Ծրագիր | C10: Միջոցառում | G10: Տարի
A11: ԸՆԴԱՄԵՆԸ | G11: =G12+G20 -> 0
A12: ՀՀ տարածքային կառավարման և ենթակառուցվածքների նախարարություն | G12: =G13 -> 0
B13: 1049 | D13: =+'h3'!D17 -> Ճանապարհային ցանցի բարելավում | E13: Ճանապարհային ցանցի բարելավում և անվտանգ երթևեկության ապահովում | F13: Ճանապարհների ծածկի որակի և փոխադրումների արդյունավետության բարելավում, ճանապարհների վիճակով պայմանավորված պատահարների նվազում | G13: 0
C14: =_xlfn.CONCAT("1049-",'h3'!C19) -> 1049-11016 | D14: =+'h3'!D19 -> Ասիական զարգացման բանկի աջակցությամբ իրականացվող Հյուսիս-հարավ ճանապարհային միջանցքի զարգացման ծրագրի Սիսիան-Քաջարան 60կմ-ի ճանապարհի Հյուսիսային ենթահատվածի համակարգում և կառավարում | E14: Խորհրդատվական ծառայություններ և պահպանման ծախսեր | F14: Ծառայությունների մատուցում | G14: ='h2'!H21 -> -279385.2
C15: =_xlfn.CONCAT("1049-",'h3'!C28) -> 1049- 21004 | D15: =+'h3'!D28 -> Ասիական զարգացման բանկի աջակցությամբ իրականացվող Մ6 Վանաձոր-Ալավերդի-Վրաստանի սահման միջպետական նշանակության ճանապարհի ծրագրի կառուցում և հիմնանորոգում | E15: Ճանապարհաշինական աշխատանքներ | F15: Հանրության կողմից անմիջականորեն օգտագործվող ակտիվների հետ կապված միջոցառումներ | G15: ='h2'!H30 -> -443959.1
C16: 1049 - 21012 | D16: Եվրասիական զարգացման բանկի աջակցությամբ իրականացվող Հյուսիս-հարավ միջանցքի զարգացման ծրագիր | E16: Ճանապարհաշինական աշխատանքներ | F16: Հանրության կողմից անմիջականորեն օգտագործվող ակտիվների հետ կապված միջոցառումներ | G16: ='h2'!H39 -> 8400000
C17: 1049 - 21018 | D17: Հյուսիս-հարավ ճանապարհային միջանցքի զարգացման ծրագրի Քաջարանի թունելի և մոտեցումների կառուցում | E17: Քաջարանի թունելի և մոտեցումների շինարարություն | F17: Հանրության կողմից անմիջականորեն օգտագործվող ակտիվների հետ կապված միջոցառումներ | G17: ='h2'!H48 -> -7707355.7
C18: =_xlfn.CONCAT("1049-",'h3'!C57) -> 1049-21026 | D18: =+'h3'!D57 -> Ասիական Զարգացման Բանկի աջակցությամբ իրականացվող «Դիմակայուն և ներառական ճանապարհային հատվածի բարելավման ծրագիր», Սիսիան-Քաջարան Հյուսիսային հատվածի կառուցում | E18: ՍիսիանՔաջարան շուրջ 60 կմ ընդհանուր երկարությամբ նոր ճանապարհահատվածի կառուցում | F18: Հանրության կողմից անմիջականորեն օգտագործվող ակտիվների հետ կապված միջոցառումներ | G18: ='h2'!H59 -> 22000
C19: =_xlfn.CONCAT("1049-",'h3'!C66) -> 1049-21028 | D19: =+'h3'!D66 -> Ֆրանսիայի աջակցությամբ իրականացվող Սիսիան-Քաջարան ճանապարհահատվածի Բարգուշատի թունելի կառուցում | E19: Սիսիան-Քաջարան ճանապարհահատվածի Բարգուշատի 8.65 կմ թունելի կառուցում | F19: Հանրության կողմից անմիջականորեն օգտագործվող ակտիվների հետ կապված միջոցառումներ | G19: ='h2'!H68 -> 8700
A20: ՀՀ կառավարություն | G20: =G21 -> 0
B21: 1139 | D21: ՀՀ կառավարության պահուստային ֆոնդ | E21: Պետական բյուջեում չկանխատեսված, ինչպես նաեւ բյուջետային երաշխիքների ապահովման ծախսերի ֆինանսավորման ապահովում | F21: Պահուստային ֆոնդի կառավարման արդյունավետության և թափանցիկության ապահովում | G21: =G22+G23 -> 0
C22: 1139 - 11001 | D22: ՀՀ կառավարության պահուստային ֆոնդ | E22: ՀՀ պետական բյուջեում նախատեսված ելքերի լրացուցիչ ֆինանսավորման, պետական բյուջեում չկանխատեսված ելքերի, ինչպես նաև բյուջետային երաշխիքների ապահովման ելքերի ֆինանսավորման ապահովում | F22: Ծառայությունների մատուցում | G22: ='h2'!H89 -> -30700
C23: 1139 - 11001 | D23: ՀՀ կառավարության պահուստային ֆոնդ | E23: ՀՀ պետական բյուջեում նախատեսված ելքերի լրացուցիչ ֆինանսավորման, պետական բյուջեում չկանխատեսված ելքերի, ինչպես նաև բյուջետային երաշխիքների ապահովման ելքերի ֆինանսավորման ապահովում | F23: Ծառայությունների մատուցում | G23: ='h2'!H97 -> 30700
B28: ՀԱՅԱՍՏԱՆԻ ՀԱՆՐԱՊԵՏՈՒԹՅԱՆ
B29: ՎԱՐՉԱՊԵՏԻ ԱՇԽԱՏԱԿԱԶՄԻ
C30: ՂԵԿԱՎԱՐ ՝ Ա. ՀԱՐՈՒԹՅՈՒՆՅԱՆ

Sheet h2
H1: Հավելված N 2
F2: ՀՀ կառավարության 2025 թվականի
F3: -----------------ի N -----------Ն որոշման
B5: ՀԱՅԱՍՏԱՆԻ ՀԱՆՐԱՊԵՏՈՒԹՅԱՆ ԿԱՌԱՎԱՐՈՒԹՅԱՆ 2024 ԹՎԱԿԱՆԻ ԴԵԿՏԵՄԲԵՐԻ 27-Ի N 2060-Ն ՈՐՈՇՄԱՆ NN 3 ԵՎ 4 ՀԱՎԵԼՎԱԾՆԵՐՈՒՄ ԿԱՏԱՐՎՈՂ ՓՈՓՈԽՈՒԹՅՈՒՆՆԵՐԸ ԵՎ ԼՐԱՑՈՒՄՆԵՐԸ
H6: հազար դրամներով
B7: Գործառական դասիչը | E7: Ծրագրային դասիչը | G7: Բյուջետային ծախսերի գործառական դասակարգման բաժինների, խմբերի և դասերի, բյուջետային ծրագրերի միջոցառումների, բյուջետային հատկացումների գլխավոր կարգադրիչների անվանումները | H7: Ցուցանիշների փոփոխությունը (ավելացումները նշված են դրական նշանով, նվազեցումները` փակագծերում)
B8: Բաժինը | C8: Խումբը | D8: Դասը | E8: Ծրագիր | F8: Միջոցառում | H8: Տարի
G9: ԸՆԴԱՄԵՆԸ | H9: =H11+H77 -> 0
G10: այդ թվում՝
G11: ՀՀ ՏԱՐԱԾՔԱՅԻՆ ԿԱՌԱՎԱՐՄԱՆ ԵՎ ԵՆԹԱԿԱՌՈՒՑՎԱԾՔՆԵՐԻ ՆԱԽԱՐԱՐՈՒԹՅՈՒՆ | H11: =H13 -> 0
G12: այդ թվում`
B13: 04 | G13: ՏՆՏԵՍԱԿԱՆ ՀԱՐԱԲԵՐՈՒԹՅՈՒՆՆԵՐ | H13: =H15 -> 0
G14: այդ թվում`
C15: 05 | G15: Տրանսպորտ | H15: =H17 -> 0
G16: այդ թվում`
D17: 01 | G17: Ճանապարհային տրանսպորտ | H17: =+H19 -> 0
G18: այդ թվում`
E19: =+'h3'!B17 -> 1049 | G19: =+'h3'!D17 -> Ճանապարհային ցանցի բարելավում | H19: 0
G20: այդ թվում`
F21: =+'h3'!C19 -> 11016 | G21: =+'h3'!D19 -> Ասիական զարգացման բանկի աջակցությամբ իրականացվող Հյուսիս-հարավ ճանապարհային միջանցքի զարգացման ծրագրի Սիսիան-Քաջարան 60կմ-ի ճանապարհի Հյուսիսային ենթահատվածի համակարգում և կառավարում | H21: =+'h3'!E19 -> -279385.2
G22: =+'h3'!D20 -> այդ թվում` ըստ կատարողների
G23: =+'h3'!D21 -> ՀՀ տարածքային կառավարման և ենթակառուցվածքների նախարարություն | H23: =+'h3'!E21 -> -279385.2
G24: =+'h3'!D22 -> այդ թվում` բյուջետային ծախսերի տնտեսագիտական դասակարգման հոդվածներ
G25: =+'h3'!D23 -> ԸՆԴԱՄԵՆԸ ԾԱԽՍԵՐ | H25: =+'h3'!E23 -> -279385.2
G26: =+'h3'!D24 -> ԸՆԹԱՑԻԿ ԾԱԽՍԵՐ | H26: =+'h3'!E24 -> -279385.2
G27: =+'h3'!D25 -> ԴՐԱՄԱՇՆՈՐՀՆԵՐ | H27: =+'h3'!E25 -> -279385.2
G28: =+'h3'!D26 -> Կապիտալ դրամաշնորհներ պետական հատվածի այլ մակարդակներին | H28: =+'h3'!E26 -> -279385.2
G29: =+'h3'!D27 -> - Այլ կապիտալ դրամաշնորհներ | H29: =+'h3'!E27 -> -279385.2
F30: =+'h3'!C28 -> 21004 | G30: =+'h3'!D28 -> Ասիական զարգացման բանկի աջակցությամբ իրականացվող Մ6 Վանաձոր-Ալավերդի-Վրաստանի սահման միջպետական նշանակության ճանապարհի ծրագրի կառուցում և հիմնանորոգում | H30: =+'h3'!E28 -> -443959.1
G31: =+'h3'!D29 -> այդ թվում` ըստ կատարողների
G32: =+'h3'!D30 -> ՀՀ տարածքային կառավարման և ենթակառուցվածքների նախարարություն | H32: =+'h3'!E30 -> -443959.1
G33: =+'h3'!D31 -> այդ թվում` բյուջետային ծախսերի տնտեսագիտական դասակարգման հոդվածներ
G34: =+'h3'!D32 -> ԸՆԴԱՄԵՆԸ ԾԱԽՍԵՐ | H34: =+'h3'!E32 -> -443959.1
G35: =+'h3'!D33 -> ՈՉ ՖԻՆԱՆՍԱԿԱՆ ԱԿՏԻՎՆԵՐԻ ԳԾՈՎ ԾԱԽՍԵՐ | H35: =+'h3'!E33 -> -443959.1
G36: =+'h3'!D34 -> ՀԻՄՆԱԿԱՆ ՄԻՋՈՑՆԵՐ | H36: =+'h3'!E34 -> -443959.1
G37: =+'h3'!D35 -> ԱՅԼ ՀԻՄՆԱԿԱՆ ՄԻՋՈՑՆԵՐ | H37: =+'h3'!E35 -> -443959.1
G38: =+'h3'!D36 -> - Նախագծահետազոտական ծախսեր | H38: =+'h3'!E36 -> -443959.1
F39: =+'h3'!C37 -> 21012 | G39: =+'h3'!D37 -> Եվրասիական զարգացման բանկի աջակցությամբ իրականացվող Հյուսիս-հարավ միջանցքի զարգացման ծրագիր | H39: =+'h3'!E37 -> 8400000
G40: =+'h3'!D38 -> այդ թվում` ըստ կատարողների
G41: =+'h3'!D39 -> ՀՀ տարածքային կառավարման և ենթակառուցվածքների նախարարություն | H41: =+'h3'!E39 -> 8400000
...

Sheet h3
B1: Հավելված 3
B2: ՀՀ կառավարության 2025 թվականի
B3: -----------------ի N -----------Ն որոշման
B5: «ՀԱՅԱՍՏԱՆԻ ՀԱՆՐԱՊԵՏՈՒԹՅԱՆ 2025 ԹՎԱԿԱՆԻ ՊԵՏԱԿԱՆ ԲՅՈՒՋԵԻ ՄԱՍԻՆ» ՀԱՅԱՍՏԱՆԻ ՀԱՆՐԱՊԵՏՈՒԹՅԱՆ ՕՐԵՆՔԻ N 1 ՀԱՎԵԼՎԱԾԻ N 4 ԱՂՅՈՒՍԱԿՈՒՄ ԵՎ ՀԱՅԱՍՏԱՆԻ ՀԱՆՐԱՊԵՏՈՒԹՅԱՆ ԿԱՌԱՎԱՐՈՒԹՅԱՆ 2024 ԹՎԱԿԱՆԻ ԴԵԿՏԵՄԲԵՐԻ 27-Ի N 2060-Ն ՈՐՈՇՄԱՆ N 5 ՀԱՎԵԼՎԱԾԻ N 3 ԱՂՅՈՒՍԱԿՈՒՄ ԿԱՏԱՐՎՈՂ ՓՈՓՈԽՈՒԹՅՈՒՆՆԵՐԸ ԵՎ ԼՐԱՑՈՒՄՆԵՐԸ
F7: հազար դրամներով
B8: Ծրագրային դասիչը | D8: Բյուջետային հատկացումների գլխավոր կարգադրիչների, ծրագրերի, միջոցառումների և միջոցառումները կատարող պետական մարմինների անվանումները | E8: Ցուցանիշների փոփոխությունը (ավելացումները նշված են դրական նշանով, իսկ նվազեցումները` փակագծերում)
E9: Տարի
B10: Ծրագիր | C10: Միջոցառում | E10: Ընդամենը | F10: այդ թվում`
F11: Վարկային միջոցներ | G11: Համաֆինանսավորում
D12: ԸՆԴԱՄԵՆԸ | E12: =F12+G12 -> 0 | F12: =F14+F15 -> 0 | G12: =G14+G15 -> 0
D13: այդ թվում`
D14: ԸՆԹԱՑԻԿ ԾԱԽՍԵՐ | E14: =+E19 -> -279385.2 | F14: =+F19 -> 0 | G14: =+G19 -> -279385.2
D15: ՈՉ ՖԻՆԱՆՍԱԿԱՆ ԱԿՏԻՎՆԵՐԻ ԳԾՈՎ ԾԱԽՍԵՐ | E15: =E46+E57+E37+E28+E66 -> 279385.2 | F15: 0 | G15: =G46+G57+G37+G28+G66 -> 279385.2
D16: ՀՀ տարածքային կառավարման և ենթակառուցվածքների նախարարություն | E16: =E17 -> 0 | F16: =F17 -> 0 | G16: =G17 -> 0
B17: 1049 | D17: Ճանապարհային ցանցի բարելավում | E17: =F17+G17 -> 0 | F17: 0 | G17: =G28+G46+G19+G57+G37+G66 -> 0
D18: այդ թվում`
C19: 11016 | D19: Ասիական զարգացման բանկի աջակցությամբ իրականացվող Հյուսիս-հարավ ճանապարհային միջանցքի զարգացման ծրագրի Սիսիան-Քաջարան 60կմ-ի ճանապարհի Հյուսիսային ենթահատվածի համակարգում և կառավարում | E19: =F19+G19 -> -279385.2 | F19: =F21 -> 0 | G19: =G21 -> -279385.2
D20: այդ թվում` ըստ կատարողների
D21: ՀՀ տարածքային կառավարման և ենթակառուցվածքների նախարարություն | E21: =F21+G21 -> -279385.2 | F21: =F23 -> 0 | G21: =G23 -> -279385.2
D22: այդ թվում` բյուջետային ծախսերի տնտեսագիտական դասակարգման հոդվածներ
D23: ԸՆԴԱՄԵՆԸ ԾԱԽՍԵՐ | E23: =F23+G23 -> -279385.2 | F23: =F24 -> 0 | G23: =G24 -> -279385.2
D24: ԸՆԹԱՑԻԿ ԾԱԽՍԵՐ | E24: =F24+G24 -> -279385.2 | F24: =+F25 -> 0 | G24: =+G25 -> -279385.2
D25: ԴՐԱՄԱՇՆՈՐՀՆԵՐ | E25: =F25+G25 -> -279385.2 | F25: =F26 -> 0 | G25: =G26 -> -279385.2
D26: Կապիտալ դրամաշնորհներ պետական հատվածի այլ մակարդակներին | E26: =F26+G26 -> -279385.2 | F26: =F27 -> 0 | G26: =G27 -> -279385.2
D27: - Այլ կապիտալ դրամաշնորհներ | E27: =F27+G27 -> -279385.2 | F27: 0 | G27: =-22000-248685.2-14500+5800 -> -279385.2
C28: 21004 | D28: Ասիական զարգացման բանկի աջակցությամբ իրականացվող Մ6 Վանաձոր-Ալավերդի-Վրաստանի սահման միջպետական նշանակության ճանապարհի ծրագրի կառուցում և հիմնանորոգում | E28: =F28+G28 -> -443959.1 | F28: =F30 -> -277203.6 | G28: =G30 -> -166755.5
D29: այդ թվում` ըստ կատարողների
D30: ՀՀ տարածքային կառավարման և ենթակառուցվածքների նախարարություն | E30: =F30+G30 -> -443959.1 | F30: =F32 -> -277203.6 | G30: =G32 -> -166755.5
D31: այդ թվում` բյուջետային ծախսերի տնտեսագիտական դասակարգման հոդվածներ
D32: ԸՆԴԱՄԵՆԸ ԾԱԽՍԵՐ | E32: =F32+G32 -> -443959.1 | F32: =F33 -> -277203.6 | G32: =G33 -> -166755.5
D33: ՈՉ ՖԻՆԱՆՍԱԿԱՆ ԱԿՏԻՎՆԵՐԻ ԳԾՈՎ ԾԱԽՍԵՐ | E33: =F33+G33 -> -443959.1 | F33: =F34 -> -277203.6 | G33: =G34 -> -166755.5
D34: ՀԻՄՆԱԿԱՆ ՄԻՋՈՑՆԵՐ | E34: =F34+G34 -> -443959.1 | F34: =F35 -> -277203.6 | G34: =G35 -> -166755.5
D35: ԱՅԼ ՀԻՄՆԱԿԱՆ ՄԻՋՈՑՆԵՐ | E35: =F35+G35 -> -443959.1 | F35: =F36 -> -277203.6 | G35: =G36 -> -166755.5
D36: - Նախագծահետազոտական ծախսեր | E36: =F36+G36 -> -443959.1 | F36: -277203.6 | G36: -166755.5
C37: 21012 | D37: Եվրասիական զարգացման բանկի աջակցությամբ իրականացվող Հյուսիս-հարավ միջանցքի զարգացման ծրագիր | E37: =F37+G37 -> 8400000 | F37: =F39 -> 6700000 | G37: =G39 -> 1700000
D38: այդ թվում` ըստ կատարողների
D39: ՀՀ տարածքային կառավարման և ենթակառուցվածքների նախարարություն | E39: =F39+G39 -> 8400000 | F39: =F41 -> 6700000 | G39: =G41 -> 1700000
D40: այդ թվում` բյուջետային ծախսերի տնտեսագիտական դասակարգման հոդվածներ
D41: ԸՆԴԱՄԵՆԸ ԾԱԽՍԵՐ | E41: =F41+G41 -> 8400000 | F41: =F42 -> 6700000 | G41: =G42 -> 1700000
D42: ՈՉ ՖԻՆԱՆՍԱԿԱՆ ԱԿՏԻՎՆԵՐԻ ԳԾՈՎ ԾԱԽՍԵՐ | E42: =F42+G42 -> 8400000 | F42: =F43 -> 6700000 | G42: =G43 -> 1700000
...

Sheet հ4
J1: Հավելված N 4
J2: ՀՀ կառավարության 2025 թվականի
J3: -----------------ի N -----------Ն որոշման
A5: ՀԱՅԱՍՏԱՆԻ ՀԱՆՐԱՊԵՏՈՒԹՅԱՆ ԿԱՌԱՎԱՐՈՒԹՅԱՆ 2024 ԹՎԱԿԱՆԻ ԴԵԿՏԵՄԲԵՐԻ 27-Ի № 2060-Ն ՈՐՈՇՄԱՆ № 9 ՀԱՎԵԼՎԱԾԻ ԱՂՅՈՒՍԱԿՆԵՐՈՒՄ ԿԱՏԱՐՎՈՂ ՓՈՓՈԽՈՒԹՅՈՒՆՆԵՐԸ ԵՎ ԼՐԱՑՈՒՄՆԵՐԸ
J7: հազար դրամներով
A8: ԲԳԿ | B8: Ծրագիր | D8: Միջոցառում | H8: Իրականացնողը/ ակտիվն օգտագործողը/ շահառուի ընտրության չափորոշիչը | I8: Արդյունքային չափորոշիչը | J8: Ցուցանիշների փոփոխությունը (ավելացումները նշված են դրական նշանով, իսկ նվազեցումները` փակագծերում)
B9: Դասիչը | C9: Անվանումը | D9: Դասիչը | E9: Անվանումը | F9: Նկարագրությունը | G9: Տեսակը | J9: Տարի
A10: ԸՆԴԱՄԵՆԸ | J10: =J11+J53 -> 0
A11: ՀՀ տարածքային կառավարման և ենթակառուցվածքների նախարարություն | J11: =+J12 -> 0
B12: 1049 | C12: Ճանապարհային ցանցի բարելավում | J12: 0
D13: =+'h1'!C14 -> 1049-11016 | E13: =+'h3'!D19 -> Ասիական զարգացման բանկի աջակցությամբ իրականացվող Հյուսիս-հարավ ճանապարհային միջանցքի զարգացման ծրագրի Սիսիան-Քաջարան 60կմ-ի ճանապարհի Հյուսիսային ենթահատվածի համակարգում և կառավարում | J13: =+'h3'!E19 -> -279385.2
F14: Խորհրդատվական ծառայություններ և պահպանման ծախսեր
G15: Ծառայությունների մատուցում
H16: Ծառայությունը մատուցողի անվանումը` Մասնագիտացված միավոր
I17: Հողերի օտարում, շահառուների քանակ | J17: -200
I18: Միջոցառման շրջանակներում իրականացվող ծախսերի կատարման տոկոս (ծրագրի սկզբից ներառյալ հաշվետու տարին) | J18: -2.9
D19: =+'h1'!C15 -> 1049- 21004 | E19: =+'h3'!D28 -> Ասիական զարգացման բանկի աջակցությամբ իրականացվող Մ6 Վանաձոր-Ալավերդի-Վրաստանի սահման միջպետական նշանակության ճանապարհի ծրագրի կառուցում և հիմնանորոգում | J19: =+'h3'!E28 -> -443959.1
F20: Ճանապարհաշինական աշխատանքներ
G21: Հանրության կողմից անմիջականորեն օգտագործվող ակտիվների հետ կապված միջոցառումներ
H22: Միջոցառումն իրականացնողի անվանումը` Մասնագիտացված միավոր
I23: Պայմանագրերի քանակը, հատ այդ թվում՛ | J23: -1
I24: Ջրաբանական ուսումնասիրությունների ծառայություն, հատ | J24: -1
D25: =+'h1'!C16 -> 1049 - 21012 | E25: =+'h3'!D37 -> Եվրասիական զարգացման բանկի աջակցությամբ իրականացվող Հյուսիս-հարավ միջանցքի զարգացման ծրագիր | J25: =+'h3'!E37 -> 8400000
F26: Ճանապարհաշինական աշխատանքներ
G27: Հանրության կողմից անմիջականորեն օգտագործվող ակտիվների հետ կապված միջոցառումներ
H28: Միջոցառումն իրականացնողի անվանումը` Մասնագիտացված միավոր
I29: Վարչական սարքավորումներ, քանակ | J29: -10
I30: Ոչ նյութական հիմնական միջոցներ, քանակ | J30: -5
D31: =+'h1'!C17 -> 1049 - 21018 | E31: =+'h3'!D46 -> Հյուսիս-հարավ ճանապարհային միջանցքի զարգացման ծրագրի Քաջարանի թունելի և մոտեցումների կառուցում | J31: =+'h2'!H48 -> -7707355.7
F32: Քաջարանի թունելի և մոտեցումների շինարարություն
G33: Հանրության կողմից անմիջականորեն օգտագործվող ակտիվների հետ կապված միջոցառումներ
H34: Միջոցառումն իրականացնողի անվանումը` Մասնագիտացված միավոր
I35: Կապալի պայմանագրերի քանակը (հատ)այդ թվում` | J35: -3
I36: Տեխնիկական հսկողություն (հատ) | J36: -1
I37: Հեղինակային հսկողություն | J37: -1
I38: Թունելների պահպանման նորմատիվային բազայի և համակարգի մշակման ծառայություն | J38: -1
I39: Կառուցվող ճանապարհահատված, կանխավճար, ընդհանուր ծավալի մեջ, տոկոս | J39: -10
D40: =+'h1'!C18 -> 1049-21026 | E40: =+'h3'!D57 -> Ասիական Զարգացման Բանկի աջակցությամբ իրականացվող «Դիմակայուն և ներառական ճանապարհային հատվածի բարելավման ծրագիր», Սիսիան-Քաջարան Հյուսիսային հատվածի կառուցում | J40: =+'h3'!E57 -> 22000
F41: Սիսիան-Քաջարան շուրջ 60 կմ ընդհանուր երկարությամբ նոր ճանապարհահատվածի կառուցում
G42: Հանրության կողմից անմիջականորեն օգտագործվող ակտիվների հետ կապված միջոցառումներ
...

Sheet հ5
J1: Հավելված N 5
J2: ՀՀ կառավարության 2025 թվականի
J3: -----------------ի N -----------Ն որոշման
A5: ՀԱՅԱՍՏԱՆԻ ՀԱՆՐԱՊԵՏՈՒԹՅԱՆ ԿԱՌԱՎԱՐՈՒԹՅԱՆ 2024 ԹՎԱԿԱՆԻ ԴԵԿՏԵՄԲԵՐԻ 27-Ի № 2060-Ն ՈՐՈՇՄԱՆ № 9.1 ՀԱՎԵԼՎԱԾԻ ԱՂՅՈՒՍԱԿՆԵՐՈՒՄ ԿԱՏԱՐՎՈՂ ՓՈՓՈԽՈՒԹՅՈՒՆՆԵՐԸ ԵՎ ԼՐԱՑՈՒՄՆԵՐԸ
J6: հազար դրամներով
A7: ԲՍԿ | B7: Ծրագիր | D7: Միջոցառում | H7: Իրականացնողը/ ակտիվն օգտագործողը/ շահառուի ընտրության չափորոշիչը | I7: Արդյունքային չափորոշիչը | J7: Ցուցանիշների փոփոխությունը (ավելացումները նշված են դրական նշանով, իսկ նվազեցումները` փակագծերում)
B8: Դասիչը | C8: Անվանումը | D8: Դասիչը | E8: Անվանումը | F8: Նկարագրությունը | G8: Տեսակը | J8: Տարի
A9: ԸՆԴԱՄԵՆԸ | J9: =J10+J52 -> 0
A10: ՀՀ տարածքային կառավարման և ենթակառուցվածքների նախարարություն | J10: =+J11 -> 0
B11: 1049 | C11: Ճանապարհային ցանցի բարելավում | J11: 0
D12: 1049 - 11016 | E12: Ասիական զարգացման բանկի աջակցությամբ իրականացվող Հյուսիս-հարավ ճանապարհային միջանցքի զարգացման ծրագրի Սիսիան-Քաջարան 60կմ-ի ճանապարհի Հյուսիսային ենթահատվածի համակարգում և կառավարում | J12: =+հ4!J13 -> -279385.2
F13: Խորհրդատվական ծառայություններ և պահպանման ծախսեր
G14: Ծառայությունների մատուցում
H15: Ծառայությունը մատուցողի անվանումը` Մասնագիտացված միավոր
I16: =+հ4!I17 -> Հողերի օտարում, շահառուների քանակ | J16: =+հ4!J17 -> -200
I17: =+հ4!I18 -> Միջոցառման շրջանակներում իրականացվող ծախսերի կատարման տոկոս (ծրագրի սկզբից ներառյալ հաշվետու տարին) | J17: =+հ4!J18 -> -2.9
D18: =+հ4!D19 -> 1049- 21004 | E18: =+հ4!E19 -> Ասիական զարգացման բանկի աջակցությամբ իրականացվող Մ6 Վանաձոր-Ալավերդի-Վրաստանի սահման միջպետական նշանակության ճանապարհի ծրագրի կառուցում և հիմնանորոգում | J18: =+հ4!J19 -> -443959.1
F19: Ճանապարհաշինական աշխատանքներ
G20: Հանրության կողմից անմիջականորեն օգտագործվող ակտիվների հետ կապված միջոցառումներ
H21: Միջոցառումն իրականացնողի անվանումը` Մասնագիտացված միավոր
I22: Պայմանագրերի քանակը, հատ այդ թվում՛ | J22: -1
I23: Ջրաբանական ուսումնասիրությունների ծառայություն, հատ | J23: -1
D24: =+հ4!D25 -> 1049 - 21012 | E24: =+հ4!E25 -> Եվրասիական զարգացման բանկի աջակցությամբ իրականացվող Հյուսիս-հարավ միջանցքի զարգացման ծրագիր | J24: =+'h2'!H39 -> 8400000
F25: Ճանապարհաշինական աշխատանքներ
G26: =+հ4!G27 -> Հանրության կողմից անմիջականորեն օգտագործվող ակտիվների հետ կապված միջոցառումներ
H27: =+հ4!H28 -> Միջոցառումն իրականացնողի անվանումը` Մասնագիտացված միավոր
I28: =+հ4!I29 -> Վարչական սարքավորումներ, քանակ | J28: =+հ4!J29 -> -10
I29: =+հ4!I30 -> Ոչ նյութական հիմնական միջոցներ, քանակ | J29: =+հ4!J30 -> -5
D30: 1049 - 21018 | E30: =+հ4!E31 -> Հյուսիս-հարավ ճանապարհային միջանցքի զարգացման ծրագրի Քաջարանի թունելի և մոտեցումների կառուցում | J30: =+'h2'!H48 -> -7707355.7
F31: Քաջարանի թունելի և մոտեցումների շինարարություն
G32: =+հ4!G33 -> Հանրության կողմից անմիջականորեն օգտագործվող ակտիվների հետ կապված միջոցառումներ
H33: =+հ4!H34 -> Միջոցառումն իրականացնողի անվանումը` Մասնագիտացված միավոր
I34: Կապալի պայմանագրերի քանակը (հատ)այդ թվում` | J34: -3
I35: Տեխնիկական հսկողություն (հատ) | J35: -1
I36: Հեղինակային հսկողություն | J36: -1
I37: Թունելների պահպանման նորմատիվային բազայի և համակարգի մշակման ծառայություն | J37: -1
I38: Կառուցվող ճանապարհահատված, կանխավճար, ընդհանուր ծավալի մեջ, տոկոս | J38: -10
D39: =+հ4!D40 -> 1049-21026 | E39: =+հ4!E40 -> Ասիական Զարգացման Բանկի աջակցությամբ իրականացվող «Դիմակայուն և ներառական ճանապարհային հատվածի բարելավման ծրագիր», Սիսիան-Քաջարան Հյուսիսային հատվածի կառուցում | J39: =+հ4!J40 -> 22000
F40: Սիսիան-Քաջարան շուրջ 60 կմ ընդհանուր երկարությամբ նոր ճանապարհահատվածի կառուցում
G41: =+հ4!G42 -> Հանրության կողմից անմիջականորեն օգտագործվող ակտիվների հետ կապված միջոցառումներ
...

Sheet h6
G1: Հավելված N 6
A2: ՀՀ կառավարության 2025 թվականի
G3: N ------------ -Ն որոշման
A4: ՀԱՅԱՍՏԱՆԻ ՀԱՆՐԱՊԵՏՈՒԹՅԱՆ 2025 ԹՎԱԿԱՆԻ ՊԵՏԱԿԱՆ ԲՅՈՒՋԵՈՎ ՆԱԽԱՏԵՍՎԱԾ՝ ՀԱՅԱՍՏԱՆԻ ՀԱՆՐԱՊԵՏՈՒԹՅԱՆ ԿԱՌԱՎԱՐՈՒԹՅԱՆ ՊԱՀՈՒՍՏԱՅԻՆ ՖՈՆԴԻՑ ՀԱՏԿԱՑՈՒՄՆԵՐ ԿԱՏԱՐԵԼՈՒ ՎԵՐԱԲԵՐՅԱԼ
G6: հազար դրամներով
A7: Գործառական դասիչը | D7: Ծրագրային դասիչը | F7: Բյուջետային հատկացումների գլխավոր կարգադրիչների, ծրագրերի, միջոցառումների և միջոցառումները կատարող պետական մարմինների անվանումները | G7: Ցուցանիշների փոփոխությունը (ավելացումները նշված են դրական նշանով, իսկ նվազեցումները` փակագծերում)
A8: Բաժին | B8: Խումբ | C8: Դաս | D8: Ծրագիր | E8: Միջոցառում | G8: Տարի
F9: ԸՆԴԱՄԵՆԸ | G9: =G13+G39 -> 0
F10: այդ թվում`
F11: ՀՀ տարածքային կառավարման և ենթակառուցվածքների նախարարություն | G11: =G13 -> 30700
F12: այդ թվում`
A13: 04 | F13: ՏՆՏԵՍԱԿԱՆ ՀԱՐԱԲԵՐՈՒԹՅՈՒՆՆԵՐ | G13: =+G15 -> 30700
F14: այդ թվում`
B15: 05 | F15: Տրանսպորտ | G15: =G17 -> 30700
F16: այդ թվում`
C17: 01 | F17: Ճանապարհային տրանսպորտ | G17: =G19 -> 30700
F18: այդ թվում`
D19: 1049 | F19: Ճանապարհային ցանցի բարելավում | G19: =G21+G30 -> 30700
F20: այդ թվում`
E21: 21026 | F21: Ասիական Զարգացման Բանկի աջակցությամբ իրականացվող «Դիմակայուն և ներառական ճանապարհային հատվածի բարելավման ծրագիր», Սիսիան-Քաջարան Հյուսիսային հատվածի կառուցում | G21: =G23 -> 22000
F22: այդ թվում` ըստ կատարողների
F23: ՀՀ տարածքային կառավարման և ենթակառուցվածքների նախարարություն | G23: =G26 -> 22000
F24: այդ թվում` բյուջետային ծախսերի տնտեսագիտական դասակարգման հոդվածներ
F25: ԸՆԴԱՄԵՆԸ ԾԱԽՍԵՐ | G25: =G26 -> 22000
F26: ՈՉ ՖԻՆԱՆՍԱԿԱՆ ԱԿՏԻՎՆԵՐԻ ԳԾՈՎ ԾԱԽՍԵՐ | G26: =G27 -> 22000
F27: ՀԻՄՆԱԿԱՆ ՄԻՋՈՑՆԵՐ | G27: =G28 -> 22000
F28: ԱՅԼ ՀԻՄՆԱԿԱՆ ՄԻՋՈՑՆԵՐ | G28: =G29 -> 22000
F29: - Նախագծահետազոտական ծախսեր | G29: =+'h3'!G57 -> 22000
E30: =+'h3'!C66 -> 21028 | F30: =+'h3'!D66 -> Ֆրանսիայի աջակցությամբ իրականացվող Սիսիան-Քաջարան ճանապարհահատվածի Բարգուշատի թունելի կառուցում | G30: =G32 -> 8700
F31: այդ թվում` ըստ կատարողների
F32: ՀՀ տարածքային կառավարման և ենթակառուցվածքների նախարարություն | G32: =G35 -> 8700
F33: այդ թվում` բյուջետային ծախսերի տնտեսագիտական դասակարգման հոդվածներ
F34: ԸՆԴԱՄԵՆԸ ԾԱԽՍԵՐ | G34: =G35 -> 8700
F35: ՈՉ ՖԻՆԱՆՍԱԿԱՆ ԱԿՏԻՎՆԵՐԻ ԳԾՈՎ ԾԱԽՍԵՐ | G35: =G36 -> 8700
F36: ՀԻՄՆԱԿԱՆ ՄԻՋՈՑՆԵՐ | G36: =G37 -> 8700
F37: ԱՅԼ ՀԻՄՆԱԿԱՆ ՄԻՋՈՑՆԵՐ | G37: =G38 -> 8700
F38: - Նախագծահետազոտական ծախսեր | G38: =+'h3'!G66 -> 8700
F39: ՀՀ ԿԱՌԱՎԱՐՈՒԹՅՈՒՆ | G39: =+G41 -> -30700
F40: այդ թվում`
A41: 11 | F41: ՀԻՄՆԱԿԱՆ ԲԱԺԻՆՆԵՐԻՆ ՉԴԱՍՎՈՂ ՊԱՀՈՒՍՏԱՅԻՆ ՖՈՆԴԵՐ | G41: =+G43 -> -30700
...
