Workbook
Name _tab10: #REF!
Name _tab11: #REF!
Name _tab12: #REF!
Name _tab13: #REF!
Name _tab14: #REF!
Name _tab15: #REF!
Name _tab16: #REF!
Name _tab17: #REF!
Name _tab18: #REF!
Name _tab19: #REF!
Name _tab20: #REF!
Name _tab21: #REF!
Name _tab22: #REF!
Name _tab23: #REF!
Name _tab24: #REF!
Name _tab5: #REF!
Name _tab6: #REF!
Name _tab7: #REF!
Name _tab8: #REF!
Name _tab9: #REF!
Name AgencyCode: #REF!
Name AgencyCode: #REF!
Name AgencyName: #REF!
Name AgencyName: #REF!
Name åû: #REF!
Name åû: #REF!
Name davit: #REF!
Name davit: #REF!
Name Functional1: #REF!
Name Functional1: #REF!
Name ggg: #REF!
Name ggg: #REF!
Name hav: #REF!
Name havelvac: #REF!
Name mas: #REF!
Name mas: #REF!
Name mass: #REF!
Name mass: #REF!
Name PANature: #REF!
Name PANature: #REF!
Name par_count: #REF!,#REF!,#REF!,#REF!,#REF!,#REF!,#REF!,#REF!,#REF!,#REF!,#REF!,#REF!,#REF!,#REF!,#REF!
Name par_qual: #REF!,#REF!,#REF!,#REF!,#REF!
Name par_time: #REF!,#REF!,#REF!,#REF!
Name par2.12s: #REF!
Name par2.4s: #REF!,#REF!,#REF!,#REF!,#REF!,#REF!,#REF!,#REF!,#REF!,#REF!,#REF!,#REF!,#REF!,#REF!,#REF!,#REF!
Name par2.5s: #REF!,#REF!
Name par2.6s: #REF!,#REF!,#REF!,#REF!
Name par2.7s: #REF!,#REF!
Name par2.9s: #REF!,#REF!,#REF!,#REF!,#REF!,#REF!,#REF!,#REF!,#REF!,#REF!,#REF!,#REF!,#REF!,#REF!,#REF!,#REF!
Name par4.10s: #REF!,#REF!
Name par4.11d: #REF!,#REF!,#REF!,#REF!,#REF!
Name par4.12d: #REF!
Name par4.13s: #REF!
Name par4.14: #REF!,#REF!,#REF!,#REF!,#REF!,#REF!
Name par4.15: #REF!,#REF!,#REF!
Name par4.16: #REF!,#REF!,#REF!
Name par4.17: #REF!,#REF!,#REF!,#REF!
Name par4.18d: #REF!,#REF!
Name par4.19s: #REF!
Name par4.20f: #REF!

Sheet h1
G1: Հավելված N 1
G2: ՀՀ կառավարության 2025 թվականի
G3: N ------------ -Ն որոշման
A5: «ՀԱՅԱՍՏԱՆԻ ՀԱՆՐԱՊԵՏՈՒԹՅԱՆ 2025 ԹՎԱԿԱՆԻ ՊԵՏԱԿԱՆ ԲՅՈՒՋԵԻ ՄԱՍԻՆ» ՕՐԵՆՔԻ N 1 ՀԱՎԵԼՎԱԾԻ N 2 ԱՂՅՈՒՍԱԿՈՒՄ ԿԱՏԱՐՎՈՂ ՎԵՐԱԲԱՇԽՈՒՄԸ ԵՎ ՀԱՅԱՍՏԱՆԻ ՀԱՆՐԱՊԵՏՈՒԹՅԱՆ ԿԱՌԱՎԱՐՈՒԹՅԱՆ 2024 ԹՎԱԿԱՆԻ ԴԵԿՏԵՄԲԵՐԻ 27-Ի N 2060-Ն ՈՐՈՇՄԱՆ N 5 ՀԱՎԵԼՎԱԾԻ N 1 ԱՂՅՈՒՍԱԿՈՒՄ ԿԱՏԱՐՎՈՂ ՓՈՓՈԽՈՒԹՅՈՒՆՆԵՐԸ ԵՎ ԼՐԱՑՈՒՄՆԵՐԸ
G8: հազար դրամներով
A9: ԲԳԿ | B9: Ծրագրային դասիչը | D9: ԲԳԿ/Ծրագրի /միջոցառման անվանումը | E9: Ծրագրի նպատակը/Միջոցառման նկարագրությունը | F9: Վերջնական արդյունքի նկարագրությունը/Միջոցառման տեսակը | G9: Ցուցանիշների փոփոխությունը (ավելացումները նշված են դրական նշանով, իսկ նվազեցումները` փակագծերում)
B10: Ծրագիր | C10: Միջոցառում | G10: Տարի
A11: ԸՆԴԱՄԵՆԸ | G11: =G12+G20 -> 0
A12: ՀՀ տարածքային կառավարման և ենթակառուցվածքների նախարարություն | G12: =G13 -> 0
B13: 1049 | D13: =+'h3'!D17 -> Ճանապարհային ցանցի բարելավում | E13: Ճանապարհային ցանցի բարելավում և անվտանգ երթևեկության ապահովում | F13: Ճանապարհների ծածկի որակի և փոխադրումների արդյունավետության բարելավում, ճանապարհների վիճակով պայմանավորված պատահարների նվազում | G13: 0
C14: =_xlfn.CONCAT("1049-",'h3'!C19) -> 1049-11016 | D14: =+'h3'!D19 -> Ասիական զարգացման բանկի աջակցությամբ իրականացվող Հյուսիս-հարավ ճանապարհային միջանցքի զարգացման ծրագրի Սիսիան-Քաջարան 60կմ-ի ճանապարհի Հյուսիսային ենթահատվածի համակարգում և կառավարում | E14: Խորհրդատվական ծառայություններ և պահպանման ծախսեր | F14: Ծառայությունների մատուցում | G14: ='h2'!H21 -> -279385.2
C15: =_xlfn.CONCAT("1049-",'h3'!C28) -> 1049- 21004 | D15: =+'h3'!D28 -> Ասիական զարգացման բանկի աջակցությամբ իրականացվող Մ6 Վանաձոր-Ալավերդի-Վրաստանի սահման միջպետական նշանակության ճանապարհի ծրագրի կառուցում և հիմնանորոգում | E15: Ճանապարհաշինական աշխատանքներ | F15: Հանրության կողմից անմիջականորեն օգտագործվող ակտիվների հետ կապված միջոցառումներ | G15: ='h2'!H30 -> -443959.1
C16: 1049 - 21012 | D16: Եվրասիական զարգացման բանկի աջակցությամբ իրականացվող Հյուսիս-հարավ միջանցքի զարգացման ծրագիր | E16: Ճանապարհաշինական աշխատանքներ | F16: Հանրության կողմից անմիջականորեն օգտագործվող ակտիվների հետ կապված միջոցառումներ | G16: ='h2'!H39 -> 8400000
C17: 1049 - 21018 | D17: Հյուսիս-հարավ ճանապարհային միջանցքի զարգացման ծրագրի Քաջարանի թունելի և մոտեցումների կառուցում | E17: Քաջարանի թունելի և մոտեցումների շինարարություն | F17: Հանրության կողմից անմիջականորեն օգտագործվող ակտիվների հետ կապված միջոցառումներ | G17: ='h2'!H48 -> -7707355.7
C18: =_xlfn.CONCAT("1049-",'h3'!C57) -> 1049-21026 | D18: =+'h3'!D57 -> Ասիական Զարգացման Բանկի աջակցությամբ իրականացվող «Դիմակայուն և ներառական ճանապարհային հատվածի բարելավման ծրագիր», Սիսիան-Քաջարան Հյուսիսային հատվածի կառուցում | E18: ՍիսիանՔաջարան շուրջ 60 կմ ընդհանուր երկարությամբ նոր ճանապարհահատվածի կառուցում | F18: Հանրության կողմից անմիջականորեն օգտագործվող ակտիվների հետ կապված միջոցառումներ | G18: ='h2'!H59 -> 22000
C19: =_xlfn.CONCAT("1049-",'h3'!C66) -> 1049-21028 | D19: =+'h3'!D66 -> Ֆրանսիայի աջակցությամբ իրականացվող Սիսիան-Քաջարան ճանապարհահատվածի Բարգուշատի թունելի կառուցում | E19: Սիսիան-Քաջարան ճանապարհահատվածի Բարգուշատի 8.65 կմ թունելի կառուցում | F19: Հանրության կողմից անմիջականորեն օգտագործվող ակտիվների հետ կապված միջոցառումներ | G19: ='h2'!H68 -> 8700
A20: ՀՀ կառավարություն | G20: =G21 -> 0
B21: 1139 | D21: ՀՀ կառավարության պահուստային ֆոնդ | E21: Պետական բյուջեում չկանխատեսված, ինչպես նաեւ բյուջետային երաշխիքների ապահովման ծախսերի ֆինանսավորման ապահովում | F21: Պահուստային ֆոնդի կառավարման արդյունավետության և թափանցիկության ապահովում | G21: =G22+G23 -> 0
C22: 1139 - 11001 | D22: ՀՀ կառավարության պահուստային ֆոնդ | E22: ՀՀ պետական բյուջեում նախատեսված ելքերի լրացուցիչ ֆինանսավորման, պետական բյուջեում չկանխատեսված ելքերի, ինչպես նաև բյուջետային երաշխիքների ապահովման ելքերի ֆինանսավորման ապահովում | F22: Ծառայությունների մատուցում | G22: ='h2'!H89 -> -30700
C23: 1139 - 11001 | D23: ՀՀ կառավարության պահուստային ֆոնդ | E23: ՀՀ պետական բյուջեում նախատեսված ելքերի լրացուցիչ ֆինանսավորման, պետական բյուջեում չկանխատեսված ելքերի, ինչպես նաև բյուջետային երաշխիքների ապահովման ելքերի ֆինանսավորման ապահովում | F23: Ծառայությունների մատուցում | G23: ='h2'!H97 -> 30700
B28: ՀԱՅԱՍՏԱՆԻ ՀԱՆՐԱՊԵՏՈՒԹՅԱՆ
B29: ՎԱՐՉԱՊԵՏԻ ԱՇԽԱՏԱԿԱԶՄԻ
C30: ՂԵԿԱՎԱՐ ՝ Ա. ՀԱՐՈՒԹՅՈՒՆՅԱՆ

Sheet h2
H1: Հավելված N 2
F2: ՀՀ կառավարության 2025 թվականի
F3: -----------------ի N -----------Ն որոշման
B5: ՀԱՅԱՍՏԱՆԻ ՀԱՆՐԱՊԵՏՈՒԹՅԱՆ ԿԱՌԱՎԱՐՈՒԹՅԱՆ 2024 ԹՎԱԿԱՆԻ ԴԵԿՏԵՄԲԵՐԻ 27-Ի N 2060-Ն ՈՐՈՇՄԱՆ NN 3 ԵՎ 4 ՀԱՎԵԼՎԱԾՆԵՐՈՒՄ ԿԱՏԱՐՎՈՂ ՓՈՓՈԽՈՒԹՅՈՒՆՆԵՐԸ ԵՎ ԼՐԱՑՈՒՄՆԵՐԸ
H6: հազար դրամներով
B7: Գործառական դասիչը | E7: Ծրագրային դասիչը | G7: Բյուջետային ծախսերի գործառական դասակարգման բաժինների, խմբերի և դասերի, բյուջետային ծրագրերի միջոցառումների, բյուջետային հատկացումների գլխավոր կարգադրիչների անվանումները | H7: Ցուցանիշների փոփոխությունը (ավելացումները նշված են դրական նշանով, նվազեցումները` փակագծերում)
B8: Բաժինը | C8: Խումբը | D8: Դասը | E8: Ծրագիր | F8: Միջոցառում | H8: Տարի
G9: ԸՆԴԱՄԵՆԸ | H9: =H11+H77 -> 0
G10: այդ թվում՝
G11: ՀՀ ՏԱՐԱԾՔԱՅԻՆ ԿԱՌԱՎԱՐՄԱՆ ԵՎ ԵՆԹԱԿԱՌՈՒՑՎԱԾՔՆԵՐԻ ՆԱԽԱՐԱՐՈՒԹՅՈՒՆ | H11: =H13 -> 0
G12: այդ թվում`
B13: 04 | G13: ՏՆՏԵՍԱԿԱՆ ՀԱՐԱԲԵՐՈՒԹՅՈՒՆՆԵՐ | H13: =H15 -> 0
G14: այդ թվում`
C15: 05 | G15: Տրանսպորտ | H15: =H17 -> 0
G16: այդ թվում`
D17: 01 | G17: Ճանապարհային տրանսպորտ | H17: =+H19 -> 0
G18: այդ թվում`
E19: =+'h3'!B17 -> 1049 | G19: =+'h3'!D17 -> Ճանապարհային ցանցի բարելավում | H19: 0
G20: այդ թվում`
F21: =+'h3'!C19 -> 11016 | G21: =+'h3'!D19 -> Ասիական զարգացման բանկի աջակցությամբ իրականացվող Հյուսիս-հարավ ճանապարհային միջանցքի զարգացման ծրագրի Սիսիան-Քաջարան 60կմ-ի ճանապարհի Հյուսիսային ենթահատվածի համակարգում և կառավարում | H21: =+'h3'!E19 -> -279385.2
G22: =+'h3'!D20 -> այդ թվում` ըստ կատարողների
G23: =+'h3'!D21 -> ՀՀ տարածքային կառավարման և ենթակառուցվածքների նախարարություն | H23: =+'h3'!E21 -> -279385.2
G24: =+'h3'!D22 -> այդ թվում` բյուջետային ծախսերի տնտեսագիտական դասակարգման հոդվածներ
G25: =+'h3'!D23 -> ԸՆԴԱՄԵՆԸ ԾԱԽՍԵՐ | H25: =+'h3'!E23 -> -279385.2
G26: =+'h3'!D24 -> ԸՆԹԱՑԻԿ ԾԱԽՍԵՐ | H26: =+'h3'!E24 -> -279385.2
G27: =+'h3'!D25 -> ԴՐԱՄԱՇՆՈՐՀՆԵՐ | H27: =+'h3'!E25 -> -279385.2
G28: =+'h3'!D26 -> Կապիտալ դրամաշնորհներ պետական հատվածի այլ մակարդակներին | H28: =+'h3'!E26 -> -279385.2
G29: =+'h3'!D27 -> - Այլ կապիտալ դրամաշնորհներ | H29: =+'h3'!E27 -> -279385.2
F30: =+'h3'!C28 -> 21004 | G30: =+'h3'!D28 -> Ասիական զարգացման բանկի աջակցությամբ իրականացվող Մ6 Վանաձոր-Ալավերդի-Վրաստանի սահման միջպետական նշանակության ճանապարհի ծրագրի կառուցում և հիմնանորոգում | H30: =+'h3'!E28 -> -443959.1
G31: =+'h3'!D29 -> այդ թվում` ըստ կատարողների
G32: =+'h3'!D30 -> ՀՀ տարածքային կառավարման և ենթակառուցվածքների նախարարություն | H32: =+'h3'!E30 -> -443959.1
G33: =+'h3'!D31 -> այդ թվում` բյուջետային ծախսերի տնտեսագիտական դասակարգման հոդվածներ
G34: =+'h3'!D32 -> ԸՆԴԱՄԵՆԸ ԾԱԽՍԵՐ | H34: =+'h3'!E32 -> -443959.1
G35: =+'h3'!D33 -> ՈՉ ՖԻՆԱՆՍԱԿԱՆ ԱԿՏԻՎՆԵՐԻ ԳԾՈՎ ԾԱԽՍԵՐ | H35: =+'h3'!E33 -> -443959.1
G36: =+'h3'!D34 -> ՀԻՄՆԱԿԱՆ ՄԻՋՈՑՆԵՐ | H36: =+'h3'!E34 -> -443959.1
G37: =+'h3'!D35 -> ԱՅԼ ՀԻՄՆԱԿԱՆ ՄԻՋՈՑՆԵՐ | H37: =+'h3'!E35 -> -443959.1
G38: =+'h3'!D36 -> - Նախագծահետազոտական ծախսեր | H38: =+'h3'!E36 -> -443959.1
F39: =+'h3'!C37 -> 21012 | G39: =+'h3'!D37 -> Եվրասիական զարգացման բանկի աջակցությամբ իրականացվող Հյուսիս-հարավ միջանցքի զարգացման ծրագիր | H39: =+'h3'!E37 -> 8400000
G40: =+'h3'!D38 -> այդ թվում` ըստ կատարողների
G41: =+'h3'!D39 -> ՀՀ տարածքային կառավարման և ենթակառուցվածքների նախարարություն | H41: =+'h3'!E39 -> 8400000
G42: =+'h3'!D40 -> այդ թվում` բյուջետային ծախսերի տնտեսագիտական դասակարգման հոդվածներ
G43: =+'h3'!D41 -> ԸՆԴԱՄԵՆԸ ԾԱԽՍԵՐ | H43: =+'h3'!E41 -> 8400000
G44: =+'h3'!D42 -> ՈՉ ՖԻՆԱՆՍԱԿԱՆ ԱԿՏԻՎՆԵՐԻ ԳԾՈՎ ԾԱԽՍԵՐ | H44: =+'h3'!E42 -> 8400000
G45: =+'h3'!D43 -> ՀԻՄՆԱԿԱՆ ՄԻՋՈՑՆԵՐ | H45: =+'h3'!E43 -> 8400000
G46: =+'h3'!D44 -> ՇԵՆՔԵՐ ԵՎ ՇԻՆՈՒԹՅՈՒՆՆԵՐ | H46: =+'h3'!E44 -> 8400000
G47: =+'h3'!D45 -> - Շենքերի և շինությունների շինարարություն | H47: =+'h3'!E45 -> 8400000
F48: 21018 | G48: Հյուսիս-հարավ ճանապարհային միջանցքի զարգացման ծրագրի Քաջարանի թունելի և մոտեցումների կառուցում | H48: ='h3'!E46 -> -7707355.7
G49: այդ թվում` ըստ կատարողների
G50: ՀՀ տարածքային կառավարման և ենթակառուցվածքների նախարարություն | H50: ='h3'!E48 -> -7707355.7
G51: այդ թվում` բյուջետային ծախսերի տնտեսագիտական դասակարգման հոդվածներ
G52: ԸՆԴԱՄԵՆԸ ԾԱԽՍԵՐ | H52: ='h3'!E50 -> -7707355.7
G53: ՈՉ ՖԻՆԱՆՍԱԿԱՆ ԱԿՏԻՎՆԵՐԻ ԳԾՈՎ ԾԱԽՍԵՐ | H53: ='h3'!E51 -> -7707355.7
G54: ՀԻՄՆԱԿԱՆ ՄԻՋՈՑՆԵՐ | H54: ='h3'!E52 -> -7707355.7
G55: ՇԵՆՔԵՐ ԵՎ ՇԻՆՈՒԹՅՈՒՆՆԵՐ | H55: ='h3'!E53 -> -6557004.1
G56: - Շենքերի և շինությունների շինարարություն | H56: ='h3'!E54 -> -6557004.1
G57: ԱՅԼ ՀԻՄՆԱԿԱՆ ՄԻՋՈՑՆԵՐ | H57: ='h3'!E55 -> -1150351.6
G58: - Նախագծահետազոտական ծախսեր | H58: ='h3'!E56 -> -1150351.6
F59: =+'h3'!C57 -> 21026 | G59: =+'h3'!D57 -> Ասիական Զարգացման Բանկի աջակցությամբ իրականացվող «Դիմակայուն և ներառական ճանապարհային հատվածի բարելավման ծրագիր», Սիսիան-Քաջարան Հյուսիսային հատվածի կառուցում | H59: =+'h3'!E57 -> 22000
G60: =+'h3'!D58 -> այդ թվում` ըստ կատարողների
G61: =+'h3'!D59 -> ՀՀ տարածքային կառավարման և ենթակառուցվածքների նախարարություն | H61: =+'h3'!E59 -> 22000
G62: =+'h3'!D60 -> այդ թվում` բյուջետային ծախսերի տնտեսագիտական դասակարգման հոդվածներ
G63: =+'h3'!D61 -> ԸՆԴԱՄԵՆԸ ԾԱԽՍԵՐ | H63: =H64 -> 22000
G64: =+'h3'!D62 -> ՈՉ ՖԻՆԱՆՍԱԿԱՆ ԱԿՏԻՎՆԵՐԻ ԳԾՈՎ ԾԱԽՍԵՐ | H64: =+'h3'!E62 -> 22000
G65: =+'h3'!D63 -> ՀԻՄՆԱԿԱՆ ՄԻՋՈՑՆԵՐ | H65: =H66 -> 22000
G66: =+'h3'!D64 -> ԱՅԼ ՀԻՄՆԱԿԱՆ ՄԻՋՈՑՆԵՐ | H66: =+'h3'!E64 -> 22000
G67: =+'h3'!D65 -> - Նախագծահետազոտական ծախսեր | H67: =+'h3'!E65 -> 22000
F68: =+'h3'!C66 -> 21028 | G68: =+'h3'!D66 -> Ֆրանսիայի աջակցությամբ իրականացվող Սիսիան-Քաջարան ճանապարհահատվածի Բարգուշատի թունելի կառուցում | H68: =+'h3'!E66 -> 8700
G69: =+'h3'!D67 -> այդ թվում` ըստ կատարողների
G70: =+'h3'!D68 -> ՀՀ տարածքային կառավարման և ենթակառուցվածքների նախարարություն | H70: =+'h3'!E68 -> 8700
G71: =+'h3'!D69 -> այդ թվում` բյուջետային ծախսերի տնտեսագիտական դասակարգման հոդվածներ
G72: =+'h3'!D70 -> ԸՆԴԱՄԵՆԸ ԾԱԽՍԵՐ | H72: =H73 -> 8700
G73: =+'h3'!D71 -> ՈՉ ՖԻՆԱՆՍԱԿԱՆ ԱԿՏԻՎՆԵՐԻ ԳԾՈՎ ԾԱԽՍԵՐ | H73: =+'h3'!E71 -> 8700
G74: =+'h3'!D72 -> ՀԻՄՆԱԿԱՆ ՄԻՋՈՑՆԵՐ | H74: =H75 -> 8700
G75: =+'h3'!D73 -> ԱՅԼ ՀԻՄՆԱԿԱՆ ՄԻՋՈՑՆԵՐ | H75: =+'h3'!E73 -> 8700
G76: =+'h3'!D74 -> - Նախագծահետազոտական ծախսեր | H76: =+'h3'!E74 -> 8700
G77: ՀՀ ԿԱՌԱՎԱՐՈՒԹՅՈՒՆ | H77: =H79 -> 0
G78: այդ թվում`
B79: 11 | G79: ՀԻՄՆԱԿԱՆ ԲԱԺԻՆՆԵՐԻՆ ՉԴԱՍՎՈՂ ՊԱՀՈՒՍՏԱՅԻՆ ՖՈՆԴԵՐ | H79: =H81 -> 0
G80: այդ թվում`
C81: 01 | G81: ՀՀ կառավարության և համայնքների պահուստային ֆոնդ | H81: =H83 -> 0
G82: այդ թվում`
D83: 01 | G83: ՀՀ կառավարության պահուստային ֆոնդ | H83: =H85 -> 0
G84: այդ թվում`
G85: ՀՀ կառավարություն | H85: =H87 -> 0
G86: այդ թվում`
E87: 1139 | G87: ՀՀ կառավարության պահուստային ֆոնդ | H87: =H89+H97 -> 0
G88: այդ թվում`
F89: 11001 | G89: ՀՀ կառավարության պահուստային ֆոնդ | H89: =H91 -> -30700
G90: այդ թվում` ըստ կատարողների
G91: ՀՀ կառավարություն | H91: =H93 -> -30700
G92: այդ թվում` բյուջետային ծախսերի տնտեսագիտական դասակարգման հոդվածներ
G93: ԸՆԴԱՄԵՆԸ ԾԱԽՍԵՐ | H93: =H94 -> -30700
G94: ԸՆԹԱՑԻԿ ԾԱԽՍԵՐ | H94: =H95 -> -30700
G95: ԱՅԼ ԾԱԽՍԵՐ | H95: =H96 -> -30700
G96: Պահուստային միջոցներ | H96: =-H97 -> -30700
F97: 11001 | G97: ՀՀ կառավարության պահուստային ֆոնդ | H97: =H99 -> 30700
G98: այդ թվում` ըստ կատարողների
G99: ՀՀ կառավարություն | H99: =H101 -> 30700
G100: այդ թվում` բյուջետային ծախսերի տնտեսագիտական դասակարգման հոդվածներ
G101: ԸՆԴԱՄԵՆԸ ԾԱԽՍԵՐ | H101: =H102 -> 30700
...

Sheet h3
B1: Հավելված 3
B2: ՀՀ կառավարության 2025 թվականի
B3: -----------------ի N -----------Ն որոշման
B5: «ՀԱՅԱՍՏԱՆԻ ՀԱՆՐԱՊԵՏՈՒԹՅԱՆ 2025 ԹՎԱԿԱՆԻ ՊԵՏԱԿԱՆ ԲՅՈՒՋԵԻ ՄԱՍԻՆ» ՀԱՅԱՍՏԱՆԻ ՀԱՆՐԱՊԵՏՈՒԹՅԱՆ ՕՐԵՆՔԻ N 1 ՀԱՎԵԼՎԱԾԻ N 4 ԱՂՅՈՒՍԱԿՈՒՄ ԵՎ ՀԱՅԱՍՏԱՆԻ ՀԱՆՐԱՊԵՏՈՒԹՅԱՆ ԿԱՌԱՎԱՐՈՒԹՅԱՆ 2024 ԹՎԱԿԱՆԻ ԴԵԿՏԵՄԲԵՐԻ 27-Ի N 2060-Ն ՈՐՈՇՄԱՆ N 5 ՀԱՎԵԼՎԱԾԻ N 3 ԱՂՅՈՒՍԱԿՈՒՄ ԿԱՏԱՐՎՈՂ ՓՈՓՈԽՈՒԹՅՈՒՆՆԵՐԸ ԵՎ ԼՐԱՑՈՒՄՆԵՐԸ
F7: հազար դրամներով
B8: Ծրագրային դասիչը | D8: Բյուջետային հատկացումների գլխավոր կարգադրիչների, ծրագրերի, միջոցառումների և միջոցառումները կատարող պետական մարմինների անվանումները | E8: Ցուցանիշների փոփոխությունը (ավելացումները նշված են դրական նշանով, իսկ նվազեցումները` փակագծերում)
E9: Տարի
B10: Ծրագիր | C10: Միջոցառում | E10: Ընդամենը | F10: այդ թվում`
F11: Վարկային միջոցներ | G11: Համաֆինանսավորում
D12: ԸՆԴԱՄԵՆԸ | E12: =F12+G12 -> 0 | F12: =F14+F15 -> 0 | G12: =G14+G15 -> 0
D13: այդ թվում`
D14: ԸՆԹԱՑԻԿ ԾԱԽՍԵՐ | E14: =+E19 -> -279385.2 | F14: =+F19 -> 0 | G14: =+G19 -> -279385.2
D15: ՈՉ ՖԻՆԱՆՍԱԿԱՆ ԱԿՏԻՎՆԵՐԻ ԳԾՈՎ ԾԱԽՍԵՐ | E15: =E46+E57+E37+E28+E66 -> 279385.2 | F15: 0 | G15: =G46+G57+G37+G28+G66 -> 279385.2
D16: ՀՀ տարածքային կառավարման և ենթակառուցվածքների նախարարություն | E16: =E17 -> 0 | F16: =F17 -> 0 | G16: =G17 -> 0
B17: 1049 | D17: Ճանապարհային ցանցի բարելավում | E17: =F17+G17 -> 0 | F17: 0 | G17: =G28+G46+G19+G57+G37+G66 -> 0
D18: այդ թվում`
C19: 11016 | D19: Ասիական զարգացման բանկի աջակցությամբ իրականացվող Հյուսիս-հարավ ճանապարհային միջանցքի զարգացման ծրագրի Սիսիան-Քաջարան 60կմ-ի ճանապարհի Հյուսիսային ենթահատվածի համակարգում և կառավարում | E19: =F19+G19 -> -279385.2 | F19: =F21 -> 0 | G19: =G21 -> -279385.2
D20: այդ թվում` ըստ կատարողների
D21: ՀՀ տարածքային կառավարման և ենթակառուցվածքների նախարարություն | E21: =F21+G21 -> -279385.2 | F21: =F23 -> 0 | G21: =G23 -> -279385.2
D22: այդ թվում` բյուջետային ծախսերի տնտեսագիտական դասակարգման հոդվածներ
D23: ԸՆԴԱՄԵՆԸ ԾԱԽՍԵՐ | E23: =F23+G23 -> -279385.2 | F23: =F24 -> 0 | G23: =G24 -> -279385.2
D24: ԸՆԹԱՑԻԿ ԾԱԽՍԵՐ | E24: =F24+G24 -> -279385.2 | F24: =+F25 -> 0 | G24: =+G25 -> -279385.2
D25: ԴՐԱՄԱՇՆՈՐՀՆԵՐ | E25: =F25+G25 -> -279385.2 | F25: =F26 -> 0 | G25: =G26 -> -279385.2
D26: Կապիտալ դրամաշնորհներ պետական հատվածի այլ մակարդակներին | E26: =F26+G26 -> -279385.2 | F26: =F27 -> 0 | G26: =G27 -> -279385.2
D27: - Այլ կապիտալ դրամաշնորհներ | E27: =F27+G27 -> -279385.2 | F27: 0 | G27: =-22000-248685.2-14500+5800 -> -279385.2
C28: 21004 | D28: Ասիական զարգացման բանկի աջակցությամբ իրականացվող Մ6 Վանաձոր-Ալավերդի-Վրաստանի սահման միջպետական նշանակության ճանապարհի ծրագրի կառուցում և հիմնանորոգում | E28: =F28+G28 -> -443959.1 | F28: =F30 -> -277203.6 | G28: =G30 -> -166755.5
D29: այդ թվում` ըստ կատարողների
D30: ՀՀ տարածքային կառավարման և ենթակառուցվածքների նախարարություն | E30: =F30+G30 -> -443959.1 | F30: =F32 -> -277203.6 | G30: =G32 -> -166755.5
D31: այդ թվում` բյուջետային ծախսերի տնտեսագիտական դասակարգման հոդվածներ
D32: ԸՆԴԱՄԵՆԸ ԾԱԽՍԵՐ | E32: =F32+G32 -> -443959.1 | F32: =F33 -> -277203.6 | G32: =G33 -> -166755.5
D33: ՈՉ ՖԻՆԱՆՍԱԿԱՆ ԱԿՏԻՎՆԵՐԻ ԳԾՈՎ ԾԱԽՍԵՐ | E33: =F33+G33 -> -443959.1 | F33: =F34 -> -277203.6 | G33: =G34 -> -166755.5
D34: ՀԻՄՆԱԿԱՆ ՄԻՋՈՑՆԵՐ | E34: =F34+G34 -> -443959.1 | F34: =F35 -> -277203.6 | G34: =G35 -> -166755.5
D35: ԱՅԼ ՀԻՄՆԱԿԱՆ ՄԻՋՈՑՆԵՐ | E35: =F35+G35 -> -443959.1 | F35: =F36 -> -277203.6 | G35: =G36 -> -166755.5
D36: - Նախագծահետազոտական ծախսեր | E36: =F36+G36 -> -443959.1 | F36: -277203.6 | G36: -166755.5
C37: 21012 | D37: Եվրասիական զարգացման բանկի աջակցությամբ իրականացվող Հյուսիս-հարավ միջանցքի զարգացման ծրագիր | E37: =F37+G37 -> 8400000 | F37: =F39 -> 6700000 | G37: =G39 -> 1700000
D38: այդ թվում` ըստ կատարողների
D39: ՀՀ տարածքային կառավարման և ենթակառուցվածքների նախարարություն | E39: =F39+G39 -> 8400000 | F39: =F41 -> 6700000 | G39: =G41 -> 1700000
D40: այդ թվում` բյուջետային ծախսերի տնտեսագիտական դասակարգման հոդվածներ
D41: ԸՆԴԱՄԵՆԸ ԾԱԽՍԵՐ | E41: =F41+G41 -> 8400000 | F41: =F42 -> 6700000 | G41: =G42 -> 1700000
D42: ՈՉ ՖԻՆԱՆՍԱԿԱՆ ԱԿՏԻՎՆԵՐԻ ԳԾՈՎ ԾԱԽՍԵՐ | E42: =F42+G42 -> 8400000 | F42: =F43 -> 6700000 | G42: =G43 -> 1700000
D43: ՀԻՄՆԱԿԱՆ ՄԻՋՈՑՆԵՐ | E43: =F43+G43 -> 8400000 | F43: =F44 -> 6700000 | G43: =G44+G47 -> 1700000
D44: ՇԵՆՔԵՐ ԵՎ ՇԻՆՈՒԹՅՈՒՆՆԵՐ | E44: =F44+G44 -> 8400000 | F44: =F45 -> 6700000 | G44: =G45 -> 1700000
D45: - Շենքերի և շինությունների շինարարություն | E45: =F45+G45 -> 8400000 | F45: 6700000 | G45: 1700000
C46: 21018 | D46: Հյուսիս-հարավ ճանապարհային միջանցքի զարգացման ծրագրի Քաջարանի թունելի և մոտեցումների կառուցում | E46: =F46+G46 -> -7707355.7 | F46: =F48 -> -6422796.4 | G46: =G48 -> -1284559.3
D47: այդ թվում` ըստ կատարողների
D48: ՀՀ տարածքային կառավարման և ենթակառուցվածքների նախարարություն | E48: =F48+G48 -> -7707355.7 | F48: =F50 -> -6422796.4 | G48: =G50 -> -1284559.3
D49: այդ թվում` բյուջետային ծախսերի տնտեսագիտական դասակարգման հոդվածներ
D50: ԸՆԴԱՄԵՆԸ ԾԱԽՍԵՐ | E50: =F50+G50 -> -7707355.7 | F50: =F51 -> -6422796.4 | G50: =G51 -> -1284559.3
D51: ՈՉ ՖԻՆԱՆՍԱԿԱՆ ԱԿՏԻՎՆԵՐԻ ԳԾՈՎ ԾԱԽՍԵՐ | E51: =F51+G51 -> -7707355.7 | F51: =F52 -> -6422796.4 | G51: =G52 -> -1284559.3
D52: ՀԻՄՆԱԿԱՆ ՄԻՋՈՑՆԵՐ | E52: =F52+G52 -> -7707355.7 | F52: =F53+F55 -> -6422796.4 | G52: =G53+G55 -> -1284559.3
D53: ՇԵՆՔԵՐ ԵՎ ՇԻՆՈՒԹՅՈՒՆՆԵՐ | E53: =F53+G53 -> -6557004.1 | F53: =F54 -> -5464170.1 | G53: =G54 -> -1092834
D54: - Շենքերի և շինությունների շինարարություն | E54: =F54+G54 -> -6557004.1 | F54: -5464170.1 | G54: -1092834
D55: ԱՅԼ ՀԻՄՆԱԿԱՆ ՄԻՋՈՑՆԵՐ | E55: =F55+G55 -> -1150351.6 | F55: -958626.3 | G55: =G56 -> -191725.3
D56: - Նախագծահետազոտական ծախսեր | E56: =F56+G56 -> -1150351.6 | F56: -958626.3 | G56: -191725.3
C57: 21026 | D57: Ասիական Զարգացման Բանկի աջակցությամբ իրականացվող «Դիմակայուն և ներառական ճանապարհային հատվածի բարելավման ծրագիր», Սիսիան-Քաջարան Հյուսիսային հատվածի կառուցում | E57: =F57+G57 -> 22000 | F57: =F59 -> 0 | G57: =G59 -> 22000
D58: այդ թվում` ըստ կատարողների
D59: ՀՀ տարածքային կառավարման և ենթակառուցվածքների նախարարություն | E59: =F59+G59 -> 22000 | F59: =F61 -> 0 | G59: =G61 -> 22000
D60: այդ թվում` բյուջետային ծախսերի տնտեսագիտական դասակարգման հոդվածներ
D61: ԸՆԴԱՄԵՆԸ ԾԱԽՍԵՐ | E61: =F61+G61 -> 22000 | F61: =F62 -> 0 | G61: =G62 -> 22000
D62: ՈՉ ՖԻՆԱՆՍԱԿԱՆ ԱԿՏԻՎՆԵՐԻ ԳԾՈՎ ԾԱԽՍԵՐ | E62: =F62+G62 -> 22000 | F62: =F63 -> 0 | G62: =G63 -> 22000
D63: ՀԻՄՆԱԿԱՆ ՄԻՋՈՑՆԵՐ | E63: =F63+G63 -> 22000 | F63: =F64 -> 0 | G63: =G64 -> 22000
D64: ԱՅԼ ՀԻՄՆԱԿԱՆ ՄԻՋՈՑՆԵՐ | E64: =F64+G64 -> 22000 | F64: =F65 -> 0 | G64: =G65 -> 22000
D65: - Նախագծահետազոտական ծախսեր | E65: =F65+G65 -> 22000 | F65: 0 | G65: 22000
C66: 21028 | D66: Ֆրանսիայի աջակցությամբ իրականացվող Սիսիան-Քաջարան ճանապարհահատվածի Բարգուշատի թունելի կառուցում | E66: =F66+G66 -> 8700 | F66: =F68 -> 0 | G66: =G68 -> 8700
D67: այդ թվում` ըստ կատարողների
D68: ՀՀ տարածքային կառավարման և ենթակառուցվածքների նախարարություն | E68: =F68+G68 -> 8700 | F68: =F70 -> 0 | G68: =G70 -> 8700
D69: այդ թվում` բյուջետային ծախսերի տնտեսագիտական դասակարգման հոդվածներ
D70: ԸՆԴԱՄԵՆԸ ԾԱԽՍԵՐ | E70: =F70+G70 -> 8700 | F70: =F71 -> 0 | G70: =G71 -> 8700
D71: ՈՉ ՖԻՆԱՆՍԱԿԱՆ ԱԿՏԻՎՆԵՐԻ ԳԾՈՎ ԾԱԽՍԵՐ | E71: =F71+G71 -> 8700 | F71: =F72 -> 0 | G71: =G72 -> 8700
D72: ՀԻՄՆԱԿԱՆ ՄԻՋՈՑՆԵՐ | E72: =F72+G72 -> 8700 | F72: =F73 -> 0 | G72: =G73 -> 8700
D73: ԱՅԼ ՀԻՄՆԱԿԱՆ ՄԻՋՈՑՆԵՐ | E73: =F73+G73 -> 8700 | F73: =F74 -> 0 | G73: =G74 -> 8700
D74: - Նախագծահետազոտական ծախսեր | E74: =F74+G74 -> 8700 | F74: 0 | G74: 8700
D77: ՀԱՅԱՍՏԱՆԻ ՀԱՆՐԱՊԵՏՈՒԹՅԱՆ ՎԱՐՉԱՊԵՏԻ ԱՇԽԱՏԱԿԱԶՄԻ ՂԵԿԱՎԱՐ
E78: Ա. ՀԱՐՈՒԹՅՈՒՆՅԱՆ

Sheet հ4
J1: Հավելված N 4
J2: ՀՀ կառավարության 2025 թվականի
J3: -----------------ի N -----------Ն որոշման
A5: ՀԱՅԱՍՏԱՆԻ ՀԱՆՐԱՊԵՏՈՒԹՅԱՆ ԿԱՌԱՎԱՐՈՒԹՅԱՆ 2024 ԹՎԱԿԱՆԻ ԴԵԿՏԵՄԲԵՐԻ 27-Ի № 2060-Ն ՈՐՈՇՄԱՆ № 9 ՀԱՎԵԼՎԱԾԻ ԱՂՅՈՒՍԱԿՆԵՐՈՒՄ ԿԱՏԱՐՎՈՂ ՓՈՓՈԽՈՒԹՅՈՒՆՆԵՐԸ ԵՎ ԼՐԱՑՈՒՄՆԵՐԸ
J7: հազար դրամներով
A8: ԲԳԿ | B8: Ծրագիր | D8: Միջոցառում | H8: Իրականացնողը/ ակտիվն օգտագործողը/ շահառուի ընտրության չափորոշիչը | I8: Արդյունքային չափորոշիչը | J8: Ցուցանիշների փոփոխությունը (ավելացումները նշված են դրական նշանով, իսկ նվազեցումները` փակագծերում)
B9: Դասիչը | C9: Անվանումը | D9: Դասիչը | E9: Անվանումը | F9: Նկարագրությունը | G9: Տեսակը | J9: Տարի
A10: ԸՆԴԱՄԵՆԸ | J10: =J11+J53 -> 0
A11: ՀՀ տարածքային կառավարման և ենթակառուցվածքների նախարարություն | J11: =+J12 -> 0
B12: 1049 | C12: Ճանապարհային ցանցի բարելավում | J12: 0
D13: =+'h1'!C14 -> 1049-11016 | E13: =+'h3'!D19 -> Ասիական զարգացման բանկի աջակցությամբ իրականացվող Հյուսիս-հարավ ճանապարհային միջանցքի զարգացման ծրագրի Սիսիան-Քաջարան 60կմ-ի ճանապարհի Հյուսիսային ենթահատվածի համակարգում և կառավարում | J13: =+'h3'!E19 -> -279385.2
F14: Խորհրդատվական ծառայություններ և պահպանման ծախսեր
G15: Ծառայությունների մատուցում
H16: Ծառայությունը մատուցողի անվանումը` Մասնագիտացված միավոր
I17: Հողերի օտարում, շահառուների քանակ | J17: -200
I18: Միջոցառման շրջանակներում իրականացվող ծախսերի կատարման տոկոս (ծրագրի սկզբից ներառյալ հաշվետու տարին) | J18: -2.9
D19: =+'h1'!C15 -> 1049- 21004 | E19: =+'h3'!D28 -> Ասիական զարգացման բանկի աջակցությամբ իրականացվող Մ6 Վանաձոր-Ալավերդի-Վրաստանի սահման միջպետական նշանակության ճանապարհի ծրագրի կառուցում և հիմնանորոգում | J19: =+'h3'!E28 -> -443959.1
F20: Ճանապարհաշինական աշխատանքներ
G21: Հանրության կողմից անմիջականորեն օգտագործվող ակտիվների հետ կապված միջոցառումներ
H22: Միջոցառումն իրականացնողի անվանումը` Մասնագիտացված միավոր
I23: Պայմանագրերի քանակը, հատ այդ թվում՛ | J23: -1
I24: Ջրաբանական ուսումնասիրությունների ծառայություն, հատ | J24: -1
D25: =+'h1'!C16 -> 1049 - 21012 | E25: =+'h3'!D37 -> Եվրասիական զարգացման բանկի աջակցությամբ իրականացվող Հյուսիս-հարավ միջանցքի զարգացման ծրագիր | J25: =+'h3'!E37 -> 8400000
F26: Ճանապարհաշինական աշխատանքներ
G27: Հանրության կողմից անմիջականորեն օգտագործվող ակտիվների հետ կապված միջոցառումներ
H28: Միջոցառումն իրականացնողի անվանումը` Մասնագիտացված միավոր
I29: Վարչական սարքավորումներ, քանակ | J29: -10
I30: Ոչ նյութական հիմնական միջոցներ, քանակ | J30: -5
D31: =+'h1'!C17 -> 1049 - 21018 | E31: =+'h3'!D46 -> Հյուսիս-հարավ ճանապարհային միջանցքի զարգացման ծրագրի Քաջարանի թունելի և մոտեցումների կառուցում | J31: =+'h2'!H48 -> -7707355.7
F32: Քաջարանի թունելի և մոտեցումների շինարարություն
G33: Հանրության կողմից անմիջականորեն օգտագործվող ակտիվների հետ կապված միջոցառումներ
H34: Միջոցառումն իրականացնողի անվանումը` Մասնագիտացված միավոր
I35: Կապալի պայմանագրերի քանակը (հատ)այդ թվում` | J35: -3
I36: Տեխնիկական հսկողություն (հատ) | J36: -1
I37: Հեղինակային հսկողություն | J37: -1
I38: Թունելների պահպանման նորմատիվային բազայի և համակարգի մշակման ծառայություն | J38: -1
I39: Կառուցվող ճանապարհահատված, կանխավճար, ընդհանուր ծավալի մեջ, տոկոս | J39: -10
D40: =+'h1'!C18 -> 1049-21026 | E40: =+'h3'!D57 -> Ասիական Զարգացման Բանկի աջակցությամբ իրականացվող «Դիմակայուն և ներառական ճանապարհային հատվածի բարելավման ծրագիր», Սիսիան-Քաջարան Հյուսիսային հատվածի կառուցում | J40: =+'h3'!E57 -> 22000
F41: Սիսիան-Քաջարան շուրջ 60 կմ ընդհանուր երկարությամբ նոր ճանապարհահատվածի կառուցում
G42: Հանրության կողմից անմիջականորեն օգտագործվող ակտիվների հետ կապված միջոցառումներ
H43: Միջոցառումն իրականացնողի անվանումը` Մասնագիտացված միավոր
I44: Պայմանագրերի քանակը, հատ այդ թվում՛ | J44: 2
I45: ՀՕՏԾ նախագծում, հատ | J45: 1
I46: ՀՕՏԾ գնահատում, հատ | J46: 1
D47: =+'h1'!C19 -> 1049-21028 | E47: =+'h3'!D66 -> Ֆրանսիայի աջակցությամբ իրականացվող Սիսիան-Քաջարան ճանապարհահատվածի Բարգուշատի թունելի կառուցում | J47: =+'h3'!E66 -> 8700
F48: Սիսիան-Քաջարան ճանապարհահատվածի Բարգուշատի 8.65 կմ թունելի կառուցում
G49: Հանրության կողմից անմիջականորեն օգտագործվող ակտիվների հետ կապված միջոցառումներ
H50: Միջոցառումն իրականացնողի անվանումը` Մասնագիտացված միավոր
I51: Պայմանագրերի քանակը, հատ այդ թվում՛ | J51: 1
I52: Նախագծային աշխատանքների փորձաքննություն | J52: 1
A53: ՀՀ կառավարություն | J53: =+J54 -> 0
B54: 1139 | C54: ՀՀ կառավարության պահուստային ֆոնդ | J54: =+J55+J59 -> 0
D55: 1139 - 11001 | E55: ՀՀ կառավարության պահուստային ֆոնդ | J55: ='h1'!G22 -> -30700
F56: ՀՀ պետական բյուջեում նախատեսված ելքերի լրացուցիչ ֆինանսավորման, պետական բյուջեում չկանխատեսված ելքերի, ինչպես նաև բյուջետային երաշխիքների ապահովման ելքերի ֆինանսավորման ապահովում
G57: Ծառայությունների մատուցում
H58: Ծառայությունը մատուցողի անվանումը` ՀՀ կառավարություն
D59: 1139 - 11001 | E59: ՀՀ կառավարության պահուստային ֆոնդ | J59: ='h1'!G23 -> 30700
F60: ՀՀ պետական բյուջեում նախատեսված ելքերի լրացուցիչ ֆինանսավորման, պետական բյուջեում չկանխատեսված ելքերի, ինչպես նաև բյուջետային երաշխիքների ապահովման ելքերի ֆինանսավորման ապահովում
G61: Ծառայությունների մատուցում
H62: Ծառայությունը մատուցողի անվանումը` ՀՀ կառավարություն
C66: ՀԱՅԱՍՏԱՆԻ ՀԱՆՐԱՊԵՏՈՒԹՅԱՆ
C67: ՎԱՐՉԱՊԵՏԻ ԱՇԽԱՏԱԿԱԶՄԻ
D68: ՂԵԿԱՎԱՐ ՝ Ա. ՀԱՐՈՒԹՅՈՒՆՅԱՆ

Sheet հ5
J1: Հավելված N 5
J2: ՀՀ կառավարության 2025 թվականի
J3: -----------------ի N -----------Ն որոշման
A5: ՀԱՅԱՍՏԱՆԻ ՀԱՆՐԱՊԵՏՈՒԹՅԱՆ ԿԱՌԱՎԱՐՈՒԹՅԱՆ 2024 ԹՎԱԿԱՆԻ ԴԵԿՏԵՄԲԵՐԻ 27-Ի № 2060-Ն ՈՐՈՇՄԱՆ № 9.1 ՀԱՎԵԼՎԱԾԻ ԱՂՅՈՒՍԱԿՆԵՐՈՒՄ ԿԱՏԱՐՎՈՂ ՓՈՓՈԽՈՒԹՅՈՒՆՆԵՐԸ ԵՎ ԼՐԱՑՈՒՄՆԵՐԸ
J6: հազար դրամներով
A7: ԲՍԿ | B7: Ծրագիր | D7: Միջոցառում | H7: Իրականացնողը/ ակտիվն օգտագործողը/ շահառուի ընտրության չափորոշիչը | I7: Արդյունքային չափորոշիչը | J7: Ցուցանիշների փոփոխությունը (ավելացումները նշված են դրական նշանով, իսկ նվազեցումները` փակագծերում)
B8: Դասիչը | C8: Անվանումը | D8: Դասիչը | E8: Անվանումը | F8: Նկարագրությունը | G8: Տեսակը | J8: Տարի
A9: ԸՆԴԱՄԵՆԸ | J9: =J10+J52 -> 0
A10: ՀՀ տարածքային կառավարման և ենթակառուցվածքների նախարարություն | J10: =+J11 -> 0
B11: 1049 | C11: Ճանապարհային ցանցի բարելավում | J11: 0
D12: 1049 - 11016 | E12: Ասիական զարգացման բանկի աջակցությամբ իրականացվող Հյուսիս-հարավ ճանապարհային միջանցքի զարգացման ծրագրի Սիսիան-Քաջարան 60կմ-ի ճանապարհի Հյուսիսային ենթահատվածի համակարգում և կառավարում | J12: =+հ4!J13 -> -279385.2
F13: Խորհրդատվական ծառայություններ և պահպանման ծախսեր
G14: Ծառայությունների մատուցում
H15: Ծառայությունը մատուցողի անվանումը` Մասնագիտացված միավոր
I16: =+հ4!I17 -> Հողերի օտարում, շահառուների քանակ | J16: =+հ4!J17 -> -200
I17: =+հ4!I18 -> Միջոցառման շրջանակներում իրականացվող ծախսերի կատարման տոկոս (ծրագրի սկզբից ներառյալ հաշվետու տարին) | J17: =+հ4!J18 -> -2.9
D18: =+հ4!D19 -> 1049- 21004 | E18: =+հ4!E19 -> Ասիական զարգացման բանկի աջակցությամբ իրականացվող Մ6 Վանաձոր-Ալավերդի-Վրաստանի սահման միջպետական նշանակության ճանապարհի ծրագրի կառուցում և հիմնանորոգում | J18: =+հ4!J19 -> -443959.1
F19: Ճանապարհաշինական աշխատանքներ
G20: Հանրության կողմից անմիջականորեն օգտագործվող ակտիվների հետ կապված միջոցառումներ
H21: Միջոցառումն իրականացնողի անվանումը` Մասնագիտացված միավոր
I22: Պայմանագրերի քանակը, հատ այդ թվում՛ | J22: -1
I23: Ջրաբանական ուսումնասիրությունների ծառայություն, հատ | J23: -1
D24: =+հ4!D25 -> 1049 - 21012 | E24: =+հ4!E25 -> Եվրասիական զարգացման բանկի աջակցությամբ իրականացվող Հյուսիս-հարավ միջանցքի զարգացման ծրագիր | J24: =+'h2'!H39 -> 8400000
F25: Ճանապարհաշինական աշխատանքներ
G26: =+հ4!G27 -> Հանրության կողմից անմիջականորեն օգտագործվող ակտիվների հետ կապված միջոցառումներ
H27: =+հ4!H28 -> Միջոցառումն իրականացնողի անվանումը` Մասնագիտացված միավոր
I28: =+հ4!I29 -> Վարչական սարքավորումներ, քանակ | J28: =+հ4!J29 -> -10
I29: =+հ4!I30 -> Ոչ նյութական հիմնական միջոցներ, քանակ | J29: =+հ4!J30 -> -5
D30: 1049 - 21018 | E30: =+հ4!E31 -> Հյուսիս-հարավ ճանապարհային միջանցքի զարգացման ծրագրի Քաջարանի թունելի և մոտեցումների կառուցում | J30: =+'h2'!H48 -> -7707355.7
F31: Քաջարանի թունելի և մոտեցումների շինարարություն
G32: =+հ4!G33 -> Հանրության կողմից անմիջականորեն օգտագործվող ակտիվների հետ կապված միջոցառումներ
H33: =+հ4!H34 -> Միջոցառումն իրականացնողի անվանումը` Մասնագիտացված միավոր
I34: Կապալի պայմանագրերի քանակը (հատ)այդ թվում` | J34: -3
I35: Տեխնիկական հսկողություն (հատ) | J35: -1
I36: Հեղինակային հսկողություն | J36: -1
I37: Թունելների պահպանման նորմատիվային բազայի և համակարգի մշակման ծառայություն | J37: -1
I38: Կառուցվող ճանապարհահատված, կանխավճար, ընդհանուր ծավալի մեջ, տոկոս | J38: -10
D39: =+հ4!D40 -> 1049-21026 | E39: =+հ4!E40 -> Ասիական Զարգացման Բանկի աջակցությամբ իրականացվող «Դիմակայուն և ներառական ճանապարհային հատվածի բարելավման ծրագիր», Սիսիան-Քաջարան Հյուսիսային հատվածի կառուցում | J39: =+հ4!J40 -> 22000
F40: Սիսիան-Քաջարան շուրջ 60 կմ ընդհանուր երկարությամբ նոր ճանապարհահատվածի կառուցում
G41: =+հ4!G42 -> Հանրության կողմից անմիջականորեն օգտագործվող ակտիվների հետ կապված միջոցառումներ
H42: =+հ4!H43 -> Միջոցառումն իրականացնողի անվանումը` Մասնագիտացված միավոր
I43: Պայմանագրերի քանակը, հատ այդ թվում՛ | J43: =J44+J45+J52 -> 2
I44: ՀՕՏԾ նախագծում, հատ | J44: 1
I45: ՀՕՏԾ գնահատում, հատ | J45: 1
D46: =+հ4!D47 -> 1049-21028 | E46: =+հ4!E47 -> Ֆրանսիայի աջակցությամբ իրականացվող Սիսիան-Քաջարան ճանապարհահատվածի Բարգուշատի թունելի կառուցում | J46: =+հ4!J47 -> 8700
F47: Սիսիան-Քաջարան ճանապարհահատվածի Բարգուշատի 8.65 կմ թունելի կառուցում
G48: =+հ4!G49 -> Հանրության կողմից անմիջականորեն օգտագործվող ակտիվների հետ կապված միջոցառումներ
H49: =+հ4!H50 -> Միջոցառումն իրականացնողի անվանումը` Մասնագիտացված միավոր
I50: =+հ4!I51 -> Պայմանագրերի քանակը, հատ այդ թվում՛ | J50: =+հ4!J51 -> 1
I51: =+հ4!I52 -> Նախագծային աշխատանքների փորձաքննություն | J51: =+հ4!J52 -> 1
A52: ՀՀ կառավարություն | J52: =+J53 -> 0
B53: 1139 | C53: ՀՀ կառավարության պահուստային ֆոնդ | J53: =+J54+J58 -> 0
D54: 1139 - 11001 | E54: ՀՀ կառավարության պահուստային ֆոնդ | J54: ='h1'!G22 -> -30700
F55: ՀՀ պետական բյուջեում նախատեսված ելքերի լրացուցիչ ֆինանսավորման, պետական բյուջեում չկանխատեսված ելքերի, ինչպես նաև բյուջետային երաշխիքների ապահովման ելքերի ֆինանսավորման ապահովում
G56: Ծառայությունների մատուցում
H57: Ծառայությունը մատուցողի անվանումը` ՀՀ կառավարություն
D58: 1139 - 11001 | E58: ՀՀ կառավարության պահուստային ֆոնդ | J58: ='h1'!G23 -> 30700
F59: ՀՀ պետական բյուջեում նախատեսված ելքերի լրացուցիչ ֆինանսավորման, պետական բյուջեում չկանխատեսված ելքերի, ինչպես նաև բյուջետային երաշխիքների ապահովման ելքերի ֆինանսավորման ապահովում
G60: Ծառայությունների մատուցում
H61: Ծառայությունը մատուցողի անվանումը` ՀՀ կառավարություն
C64: ՀԱՅԱՍՏԱՆԻ ՀԱՆՐԱՊԵՏՈՒԹՅԱՆ
C65: ՎԱՐՉԱՊԵՏԻ ԱՇԽԱՏԱԿԱԶՄԻ
D66: ՂԵԿԱՎԱՐ ՝ Ա. ՀԱՐՈՒԹՅՈՒՆՅԱՆ

Sheet h6
G1: Հավելված N 6
A2: ՀՀ կառավարության 2025 թվականի
G3: N ------------ -Ն որոշման
A4: ՀԱՅԱՍՏԱՆԻ ՀԱՆՐԱՊԵՏՈՒԹՅԱՆ 2025 ԹՎԱԿԱՆԻ ՊԵՏԱԿԱՆ ԲՅՈՒՋԵՈՎ ՆԱԽԱՏԵՍՎԱԾ՝ ՀԱՅԱՍՏԱՆԻ ՀԱՆՐԱՊԵՏՈՒԹՅԱՆ ԿԱՌԱՎԱՐՈՒԹՅԱՆ ՊԱՀՈՒՍՏԱՅԻՆ ՖՈՆԴԻՑ ՀԱՏԿԱՑՈՒՄՆԵՐ ԿԱՏԱՐԵԼՈՒ ՎԵՐԱԲԵՐՅԱԼ
G6: հազար դրամներով
A7: Գործառական դասիչը | D7: Ծրագրային դասիչը | F7: Բյուջետային հատկացումների գլխավոր կարգադրիչների, ծրագրերի, միջոցառումների և միջոցառումները կատարող պետական մարմինների անվանումները | G7: Ցուցանիշների փոփոխությունը (ավելացումները նշված են դրական նշանով, իսկ նվազեցումները` փակագծերում)
A8: Բաժին | B8: Խումբ | C8: Դաս | D8: Ծրագիր | E8: Միջոցառում | G8: Տարի
F9: ԸՆԴԱՄԵՆԸ | G9: =G13+G39 -> 0
F10: այդ թվում`
F11: ՀՀ տարածքային կառավարման և ենթակառուցվածքների նախարարություն | G11: =G13 -> 30700
F12: այդ թվում`
A13: 04 | F13: ՏՆՏԵՍԱԿԱՆ ՀԱՐԱԲԵՐՈՒԹՅՈՒՆՆԵՐ | G13: =+G15 -> 30700
F14: այդ թվում`
B15: 05 | F15: Տրանսպորտ | G15: =G17 -> 30700
F16: այդ թվում`
C17: 01 | F17: Ճանապարհային տրանսպորտ | G17: =G19 -> 30700
F18: այդ թվում`
D19: 1049 | F19: Ճանապարհային ցանցի բարելավում | G19: =G21+G30 -> 30700
F20: այդ թվում`
E21: 21026 | F21: Ասիական Զարգացման Բանկի աջակցությամբ իրականացվող «Դիմակայուն և ներառական ճանապարհային հատվածի բարելավման ծրագիր», Սիսիան-Քաջարան Հյուսիսային հատվածի կառուցում | G21: =G23 -> 22000
F22: այդ թվում` ըստ կատարողների
F23: ՀՀ տարածքային կառավարման և ենթակառուցվածքների նախարարություն | G23: =G26 -> 22000
F24: այդ թվում` բյուջետային ծախսերի տնտեսագիտական դասակարգման հոդվածներ
F25: ԸՆԴԱՄԵՆԸ ԾԱԽՍԵՐ | G25: =G26 -> 22000
F26: ՈՉ ՖԻՆԱՆՍԱԿԱՆ ԱԿՏԻՎՆԵՐԻ ԳԾՈՎ ԾԱԽՍԵՐ | G26: =G27 -> 22000
F27: ՀԻՄՆԱԿԱՆ ՄԻՋՈՑՆԵՐ | G27: =G28 -> 22000
F28: ԱՅԼ ՀԻՄՆԱԿԱՆ ՄԻՋՈՑՆԵՐ | G28: =G29 -> 22000
F29: - Նախագծահետազոտական ծախսեր | G29: =+'h3'!G57 -> 22000
E30: =+'h3'!C66 -> 21028 | F30: =+'h3'!D66 -> Ֆրանսիայի աջակցությամբ իրականացվող Սիսիան-Քաջարան ճանապարհահատվածի Բարգուշատի թունելի կառուցում | G30: =G32 -> 8700
F31: այդ թվում` ըստ կատարողների
F32: ՀՀ տարածքային կառավարման և ենթակառուցվածքների նախարարություն | G32: =G35 -> 8700
F33: այդ թվում` բյուջետային ծախսերի տնտեսագիտական դասակարգման հոդվածներ
F34: ԸՆԴԱՄԵՆԸ ԾԱԽՍԵՐ | G34: =G35 -> 8700
F35: ՈՉ ՖԻՆԱՆՍԱԿԱՆ ԱԿՏԻՎՆԵՐԻ ԳԾՈՎ ԾԱԽՍԵՐ | G35: =G36 -> 8700
F36: ՀԻՄՆԱԿԱՆ ՄԻՋՈՑՆԵՐ | G36: =G37 -> 8700
F37: ԱՅԼ ՀԻՄՆԱԿԱՆ ՄԻՋՈՑՆԵՐ | G37: =G38 -> 8700
F38: - Նախագծահետազոտական ծախսեր | G38: =+'h3'!G66 -> 8700
F39: ՀՀ ԿԱՌԱՎԱՐՈՒԹՅՈՒՆ | G39: =+G41 -> -30700
F40: այդ թվում`
A41: 11 | F41: ՀԻՄՆԱԿԱՆ ԲԱԺԻՆՆԵՐԻՆ ՉԴԱՍՎՈՂ ՊԱՀՈՒՍՏԱՅԻՆ ՖՈՆԴԵՐ | G41: =+G43 -> -30700
F42: այդ թվում`
B43: 01 | F43: ՀՀ կառավարության և համայնքների պահուստային ֆոնդ | G43: =+G45 -> -30700
F44: այդ թվում`
C45: 01 | F45: ՀՀ կառավարության պահուստային ֆոնդ | G45: =+G47 -> -30700
F46: այդ թվում`
F47: ՀՀ կառավարություն | G47: =+G49 -> -30700
F48: այդ թվում`
D49: 1139 | F49: ՀՀ կառավարության պահուստային ֆոնդ | G49: =+G51 -> -30700
F50: այդ թվում`
E51: 11001 | F51: ՀՀ կառավարության պահուստային ֆոնդ | G51: =G53 -> -30700
F52: այդ թվում` ըստ կատարողների
F53: ՀՀ կառավարություն | G53: =G55 -> -30700
F54: այդ թվում` բյուջետային ծախսերի տնտեսագիտական դասակարգման հոդվածներ
F55: ԸՆԴԱՄԵՆԸ ԾԱԽՍԵՐ | G55: =G56 -> -30700
F56: ԸՆԹԱՑԻԿ ԾԱԽՍԵՐ | G56: =G57 -> -30700
F57: ԱՅԼ ԾԱԽՍԵՐ | G57: =G58 -> -30700
F58: Պահուստային միջոցներ | G58: =+'h2'!H89 -> -30700
B64: ՀԱՅԱՍՏԱՆԻ ՀԱՆՐԱՊԵՏՈՒԹՅԱՆ
B65: ՎԱՐՉԱՊԵՏԻ ԱՇԽԱՏԱԿԱԶՄԻ
C66: ՂԵԿԱՎԱՐ ՝ Ա. ՀԱՐՈՒԹՅՈՒՆՅԱՆ
