Workbook
Name _tab10: #REF!
Name _tab11: #REF!
Name _tab12: #REF!
Name _tab13: #REF!
Name _tab14: #REF!
Name _tab15: #REF!
Name _tab16: #REF!
Name _tab17: #REF!
Name _tab18: #REF!
Name _tab19: #REF!
Name _tab20: #REF!
Name _tab21: #REF!
Name _tab22: #REF!
Name _tab23: #REF!
Name _tab24: #REF!
Name _tab5: #REF!
Name _tab6: #REF!
Name _tab7: #REF!
Name _tab8: #REF!
Name _tab9: #REF!
Name AgencyCode: #REF!
Name AgencyCode: #REF!
Name AgencyName: #REF!
Name AgencyName: #REF!
Name åû: #REF!
Name åû: #REF!
Name davit: #REF!
Name davit: #REF!
Name Functional1: #REF!
Name Functional1: #REF!
Name ggg: #REF!
Name ggg: #REF!
Name hav: #REF!
Name havelvac: #REF!
Name mas: #REF!
Name mas: #REF!
Name mass: #REF!
Name mass: #REF!
Name PANature: #REF!
Name PANature: #REF!
Name par_count: #REF!,#REF!,#REF!,#REF!,#REF!,#REF!,#REF!,#REF!,#REF!,#REF!,#REF!,#REF!,#REF!,#REF!,#REF!
Name par_qual: #REF!,#REF!,#REF!,#REF!,#REF!
Name par_time: #REF!,#REF!,#REF!,#REF!
Name par2.12s: #REF!
Name par2.4s: #REF!,#REF!,#REF!,#REF!,#REF!,#REF!,#REF!,#REF!,#REF!,#REF!,#REF!,#REF!,#REF!,#REF!,#REF!,#REF!
Name par2.5s: #REF!,#REF!
Name par2.6s: #REF!,#REF!,#REF!,#REF!
Name par2.7s: #REF!,#REF!
Name par2.9s: #REF!,#REF!,#REF!,#REF!,#REF!,#REF!,#REF!,#REF!,#REF!,#REF!,#REF!,#REF!,#REF!,#REF!,#REF!,#REF!
Name par4.10s: #REF!,#REF!
Name par4.11d: #REF!,#REF!,#REF!,#REF!,#REF!
Name par4.12d: #REF!
Name par4.13s: #REF!
Name par4.14: #REF!,#REF!,#REF!,#REF!,#REF!,#REF!
Name par4.15: #REF!,#REF!,#REF!
Name par4.16: #REF!,#REF!,#REF!
Name par4.17: #REF!,#REF!,#REF!,#REF!
Name par4.18d: #REF!,#REF!
Name par4.19s: #REF!
Name par4.20f: #REF!

Sheet h1
B1: Հավելված N 1
B2: ՀՀ կառավարության 2025 թվականի
B3: ______________ ի ___Ն որոշման
B6: «ՀԱՅԱՍՏԱՆԻ ՀԱՆՐԱՊԵՏՈՒԹՅԱՆ 2025 ԹՎԱԿԱՆԻ ՊԵՏԱԿԱՆ ԲՅՈՒՋԵԻ ՄԱՍԻՆ» ՕՐԵՆՔԻ 2-ՐԴ ՀՈԴՎԱԾԻ ԱՂՅՈՒՍԱԿՈՒՄ ԿԱՏԱՐՎՈՂ ԼՐԱՑՈՒՄԸ
C8: հազար դրամներով
C9: Ցուցանիշների փոփոխությունը (ավելացումները նշված են դրական նշանով)
B10: 1. Եկամուտների գծով | C10: =C11 -> 576․2
B11: 2. Ծախսերի գծով | C11: 576․2
B12: 3. Դեֆիցիտը (պակասուրդը) | C12: 0
B16: ՀԱՅԱՍՏԱՆԻ ՀԱՆՐԱՊԵՏՈՒԹՅԱՆ ՎԱՐՉԱՊԵՏԻ ԱՇԽԱՏԱԿԱԶՄԻ ՂԵԿԱՎԱՐ | C16: Ա. ՀԱՐՈՒԹՅՈՒՆՅԱՆ

Sheet h2
B1: Հավելված N 2
B2: ՀՀ կառավարության 2025 թվականի
B3: ______________ ի ___Ն որոշման
B5: «ՀԱՅԱՍՏԱՆԻ ՀԱՆՐԱՊԵՏՈՒԹՅԱՆ 2025 ԹՎԱԿԱՆԻ ՊԵՏԱԿԱՆ ԲՅՈՒՋԵԻ ՄԱՍԻՆ» ՕՐԵՆՔԻ 6-ՐԴ ՀՈԴՎԱԾԻ ԱՂՅՈՒՍԱԿՈՒՄ ԵՎ ՀԱՅԱՍՏԱՆԻ ՀԱՆՐԱՊԵՏՈՒԹՅԱՆ ԿԱՌԱՎԱՐՈՒԹՅԱՆ 2060 ԹՎԱԿԱՆԻ ԴԵԿՏԵՄԲԵՐԻ 27-Ի N 2060-Ն ՈՐՈՇՄԱՆ N 2 ՀԱՎԵԼՎԱԾՈՒՄ ԿԱՏԱՐՎՈՂ ԼՐԱՑՈՒՄԸ
C7: հազար դրամներով
B8: Եկամտատեսակ | C8: Ցուցանիշների փոփոխությունը (ավելացումները նշված են դրական նշանով)
C9: Տարի
B10: ՊԵՏԱԿԱՆ ԲՅՈՒՋԵԻ ԵԿԱՄՈՒՏՆԵՐ | C10: =C12 -> 576.2
B11: այդ թվում՝
B12: Այլ եկամուտներ | C12: 576.2
B16: ՀԱՅԱՍՏԱՆԻ ՀԱՆՐԱՊԵՏՈՒԹՅԱՆ ՎԱՐՉԱՊԵՏԻ ԱՇԽԱՏԱԿԱԶՄԻ ՂԵԿԱՎԱՐ | C16: Ա. ՀԱՐՈՒԹՅՈՒՆՅԱՆ

Sheet h3
E1: Հավելված N 3
D2: ՀՀ կառավարության 2025 թվականի
D3: ______________ ի ___Ն որոշման
B5: ՀԱՅԱՍՏԱՆԻ ՀԱՆՐԱՊԵՏՈՒԹՅԱՆ ԿԱՌԱՎԱՐՈՒԹՅԱՆ 2024 ԹՎԱԿԱՆԻ ԴԵԿՏԵՄԲԵՐԻ 27-Ի N 2060-Ն ՈՐՈՇՄԱՆ N 6 ՀԱՎԵԼՎԱԾՈՒՄ ԿԱՏԱՐՎՈՂ ԼՐԱՑՈՒՄԸ
E6: հազար դրամներով
C7: եկամտատեսակը | D7: Գանձման համար պատասխանատու պետական կառավարման (մարմինները) | E7: Ցուցանիշների փոփոխությունը (ավելացումները նշված են դրական նշանով)
E8: Տարի
B9: Այլ եկամուտներ, ընդամենը | E9: =E11 -> 576.2
C10: այդ թվում`
B11: 6 | C11: Օրենքով և այլ իրավական ակտերով սահմանված պետական բյուջե մուտքագրվող այլ եկամուտներ | E11: =E12 -> 576.2
B12: 6.7 | C12: Այլ եկամուտներ | D12: ՀՀ պետական կառավարման մարմիններ | E12: ='h2'!C12 -> 576.2
B15: ՀԱՅԱՍՏԱՆԻ ՀԱՆՐԱՊԵՏՈՒԹՅԱՆ ՎԱՐՉԱՊԵՏԻ ԱՇԽԱՏԱԿԱԶՄԻ ՂԵԿԱՎԱՐ՝ | D15: Ա.ՀԱՐՈՒԹՅՈՒՆՅԱՆ

Sheet h4.
G1: Հավելված N 4
D2: ՀՀ կառավարության 2025 թվականի
G3: N ------------ -Ն որոշման
B5: «ՀԱՅԱՍՏԱՆԻ ՀԱՆՐԱՊԵՏՈՒԹՅԱՆ 2025 ԹՎԱԿԱՆԻ ՊԵՏԱԿԱՆ ԲՅՈՒՋԵԻ ՄԱՍԻՆ» ՕՐԵՆՔԻ N 1 ՀԱՎԵԼՎԱԾԻ N 2 ԱՂՅՈՒՍԱԿՈՒՄ ԿԱՏԱՐՎՈՂ ՎԵՐԱԲԱՇԽՈՒՄԸ, ՀԱՅԱՍՏԱՆԻ ՀԱՆՐԱՊԵՏՈՒԹՅԱՆ ԿԱՌԱՎԱՐՈՒԹՅԱՆ 2024 ԹՎԱԿԱՆԻ ԴԵԿՏԵՄԲԵՐԻ 27-Ի N 2060-Ն ՈՐՈՇՄԱՆ N 5 ՀԱՎԵԼՎԱԾԻ N 1 ԱՂՅՈՒՍԱԿՈՒՄ ԿԱՏԱՐՎՈՂ ԼՐԱՑՈՒՄՆԵՐԸ
G9: հազար դրամներով
A10: ԲԳԿ | B10: Ծրագրային դասիչը | D10: ԲԳԿ/Ծրագրի /միջոցառման անվանումը | E10: Ծրագրի նպատակը/Միջոցառման նկարագրությունը | F10: Վերջնական արդյունքի նկարագրությունը/Միջոցառման տեսակը | G10: Ցուցանիշների փոփոխությունը (ավելացումները նշված են դրական նշանով)
B11: Ծրագիր | C11: Միջոցառում | G11: Տարի
A12: ԸՆԴԱՄԵՆԸ | G12: =G13 -> 576.2
A13: ՀՀ Արմավիրի մարզպետի աշխատակազմ | G13: =G14 -> 576.2
B14: 1010 | D14: ՀՀ Արմավիրի մարզում տարածքային պետական կառավարում | E14: ՀՀ Արմավիրի մարզում պետական քաղաքականության իրականացման ապահովում | F14: ՀՀ Արմավիրի մարզում իրականացվող պետական ծրագրերի արդյունավետության և հասցեականության բարելավում, հետադարձ կապի ապահովում | G14: =G15 -> 576.2
C15: 1010 - 11001 | D15: ՀՀ Արմավիրի մարզպետի աշխատակազմի կողմից տարածքային պետական կառավարման ապահովում | E15: Մարզպետի աշխատակազմի ենթակայության հիմնարկների կառավարում, կրթության, ճանապարհաշինության, քաղաքաշինության և այլ ոլորտներում հասարակական պատվերի տեղաբաշխում, տնտեսության և սոցիալական տարբեր ոլորտներում մարզային միջոցառումների համակարգում | F15: Ծառայությունների մատուցում | G15: ='h2'!C10 -> 576.2
B18: ՀԱՅԱՍՏԱՆԻ ՀԱՆՐԱՊԵՏՈՒԹՅԱՆ
B19: ՎԱՐՉԱՊԵՏԻ ԱՇԽԱՏԱԿԱԶՄԻ
C20: ՂԵԿԱՎԱՐ ՝ Ա. ՀԱՐՈՒԹՅՈՒՆՅԱՆ

Sheet h5
H1: Հավելված N5
F2: ՀՀ կառավարության 2025 թվականի
F3: -----------------ի N -----------Ն որոշման
B5: ՀԱՅԱՍՏԱՆԻ ՀԱՆՐԱՊԵՏՈՒԹՅԱՆ ԿԱՌԱՎԱՐՈՒԹՅԱՆ 2024 ԹՎԱԿԱՆԻ ԴԵԿՏԵՄԲԵՐԻ 27-Ի N 2060-Ն ՈՐՈՇՄԱՆ NN 3 ԵՎ 4 ՀԱՎԵԼՎԱԾՆԵՐՈՒՄ ԿԱՏԱՐՎՈՂ ԼՐԱՑՈՒՄՆԵՐԸ
H6: հազար դրամներով
B7: Գործառական դասիչը | E7: Ծրագրային դասիչը | G7: Բյուջետային ծախսերի գործառական դասակարգման բաժինների, խմբերի և դասերի, բյուջետային ծրագրերի միջոցառումների, բյուջետային հատկացումների գլխավոր կարգադրիչների անվանումները | H7: Ցուցանիշների փոփոխությունը (ավելացումները նշված են դրական նշանով)
B8: Բաժինը | C8: Խումբը | D8: Դասը | E8: Ծրագիր | F8: Միջոցառում | H8: Տարի
G9: ԸՆԴԱՄԵՆԸ | H9: =H11 -> 576.2
G10: այդ թվում՝
B11: 01 | G11: ԸՆԴՀԱՆՈՒՐ ԲՆՈՒՅԹԻ ՀԱՆՐԱՅԻՆ ԾԱՌԱՅՈՒԹՅՈՒՆՆԵՐ | H11: =H13 -> 576.2
G12: այդ թվում`
C13: 01 | G13: Օրենսդիր և գործադիր մարմիններ, պետական կառավարում, ֆինանսական և հարկաբյուջետային հարաբերություններ, արտաքին հարաբերություններ | H13: =H15 -> 576.2
G14: այդ թվում`
D15: 01 | G15: Օրենսդիր և գործադիր մարմիններ, պետական կառավարում | H15: =H17 -> 576.2
G16: այդ թվում`
G17: ՀՀ Արմավիրի մարզպետի աշխատակազմ | H17: =H19 -> 576.2
G18: այդ թվում`
E19: 1010 | G19: ՀՀ Արմավիրի մարզում տարածքային պետական կառավարում | H19: =H21 -> 576.2
G20: այդ թվում`
F21: 11001 | G21: ՀՀ Արմավիրի մարզպետի աշխատակազմի կողմից տարածքային պետական կառավարման ապահովում | H21: =+H25 -> 576.2
G22: այդ թվում` ըստ կատարողների
G23: ՀՀ Արմավիրի մարզպետի աշխատակազմ | H23: =+H25 -> 576.2
G24: այդ թվում` բյուջետային ծախսերի տնտեսագիտական դասակարգման հոդվածներ
G25: ԸՆԴԱՄԵՆԸ ԾԱԽՍԵՐ | H25: =+H26 -> 576.2
G26: ԸՆԹԱՑԻԿ ԾԱԽՍԵՐ | H26: =+H27 -> 576.2
G27: ԾԱՌԱՅՈՒԹՅՈՒՆՆԵՐԻ ԵՎ ԱՊՐԱՆՔՆԵՐԻ ՁԵՌՔԲԵՐՈՒՄ այդ թվում՝ | H27: =H28 -> 576.2
G28: Ընթացիկ նորոգում և պահպանում (ծառայություններ և նյութեր) այդ թվում՝ | H28: =H29 -> 576.2
G29: - Մեքենաների և սարքավորումների ընթացիկ նորոգում և պահպանում | H29: ='h3'!E12 -> 576.2
D34: ՀԱՅԱՍՏԱՆԻ ՀԱՆՐԱՊԵՏՈՒԹՅԱՆ
D35: ՎԱՐՉԱՊԵՏԻ ԱՇԽԱՏԱԿԱԶՄԻ
D36: ՂԵԿԱՎԱՐ | G36: Ա. ՀԱՐՈՒԹՅՈՒՆՅԱՆ

Sheet հ6
K1: Հավելված N6
I2: ՀՀ կառավարության 2025 թվականի
I3: -----------------ի N -----------Ն որոշման
B5: ՀԱՅԱՍՏԱՆԻ ՀԱՆՐԱՊԵՏՈՒԹՅԱՆ ԿԱՌԱՎԱՐՈՒԹՅԱՆ 2024 ԹՎԱԿԱՆԻ ԴԵԿՏԵՄԲԵՐԻ 27-Ի № 2060-Ն ՈՐՈՇՄԱՆ № 9 ԵՎ № 9.1 ՀԱՎԵԼՎԱԾՆԵՐՈՒՄ ԿԱՏԱՐՎՈՂ ԼՐԱՑՈՒՄԸ
K6: հազար դրամներով
B7: ԲԳԿ/ ԲՍԿ | C7: Ծրագիր | E7: Միջոցառում | I7: Իրականացնողը/ ակտիվն օգտագործողը/ շահառուի ընտրության չափորոշիչը | J7: Արդյունքային չափորոշիչը | K7: Ցուցանիշների փոփոխությունը (ավելացումները նշված են դրական նշանով)
C8: Դասիչը | D8: Անվանումը | E8: Դասիչը | F8: Անվանումը | G8: Նկարագրությունը | H8: Տեսակը | K8: Տարի
B9: ԸՆԴԱՄԵՆԸ | K9: =K10 -> 576.2
B10: ՀՀ Արմավիրի մարզպետի աշխատակազմ | K10: =K11 -> 576.2
C11: 1010 | D11: ՀՀ Արմավիրի մարզում տարածքային պետական կառավարում | K11: =K12 -> 576.2
E12: 1010 - 11001 | F12: ՀՀ Արմավիրի մարզպետի աշխատակազմի կողմից տարածքային պետական կառավարման ապահովում | K12: ='h2'!C10 -> 576.2
G13: Մարզպետի աշխատակազմի ենթակայության հիմնարկների կառավարում, կրթության, ճանապարհաշինության, քաղաքաշինության և այլ ոլորտներում հասարակական պատվերի տեղաբաշխում, տնտեսության և սոցիալական տարբեր ոլորտներում մարզային միջոցառումների համակարգում
H14: Ծառայությունների մատուցում
I15: Ծառայությունը մատուցողի անվանումը` ՀՀ Արմավիրի մարզպետի աշխատակազմ
D18: ՀԱՅԱՍՏԱՆԻ ՀԱՆՐԱՊԵՏՈՒԹՅԱՆ
D19: ՎԱՐՉԱՊԵՏԻ ԱՇԽԱՏԱԿԱԶՄԻ
E20: ՂԵԿԱՎԱՐ ՝ Ա. ՀԱՐՈՒԹՅՈՒՆՅԱՆ

Sheet h7
H1: Հավելված N 7
H2: ՀՀ կառավարության 2025 թվականի
H3: ______________ ի ___Ն որոշման
B5: ՀԱՅԱՍՏԱՆԻ ՀԱՆՐԱՊԵՏՈՒԹՅԱՆ ԿԱՌԱՎԱՐՈՒԹՅԱՆ 2024 ԹՎԱԿԱՆԻ ԴԵԿՏԵՄԲԵՐԻ 27-Ի N 2060-Ն ՈՐՈՇՄԱՆ N 10 ՀԱՎԵԼՎԱԾՈՒՄ ԿԱՏԱՐՎՈՂ ԼՐԱՑՈՒՄՆԵՐԸ
B7: Կոդը | C7: Անվանումը | D7: Գնման ձևը | E7: Չափման միավորը | F7: Միավորի գինը | G7: Ցուցանիշների փոփոխությունը (ավելացումները նշված են դրական նշանով)
G8: Քանակը | H8: Գումարը (հազար դրամով)
B9: ՀՀ Արմավիրի մարզպետի աշխատակազմ | H9: =+H10 -> 576.2
B10: Բաժին N 01 | C10: Խումբ N 01 | D10: Դաս N 01 | E10: Օրենսդիր և գործադիր մարմիններ, պետական կառավարում | H10: =H11 -> 576.2
B11: 1010 11001 | C11: ՀՀ Արմավիրի մարզպետի աշխատակազմի կողմից տարածքային պետական կառավարման ապահովում | H11: =H13 -> 576.2
C12: ՄԱՍ III. ԾԱՌԱՅՈՒԹՅՈՒՆՆԵՐ | H12: =H13 -> 576.2
B13: 50111130/ | C13: Վթարված ավտոմեքենաների վերականգնման ծառայություններ | D13: ԳՀ | E13: դրամ | F13: =H13*1000 -> 576200 | G13: 1 | H13: ='h2'!C12 -> 576.2
B17: ՀԱՅԱՍՏԱՆԻ ՀԱՆՐԱՊԵՏՈՒԹՅԱՆ
B18: ՎԱՐՉԱՊԵՏԻ ԱՇԽԱՏԱԿԱԶՄԻ
C19: ՂԵԿԱՎԱՐ ՝ Ա. ՀԱՐՈՒԹՅՈՒՆՅԱՆ
