Workbook

Sheet 1
I1: Հավելված N 1
I2: ՀՀ կառավարության 2025 թվականի
I3: ___________ ___-ի N _______ -Ն որոշման
B6: «ՀԱՅԱՍՏԱՆԻ ՀԱՆՐԱՊԵՏՈՒԹՅԱՆ 2025 ԹՎԱԿԱՆԻ ՊԵՏԱԿԱՆ ԲՅՈՒՋԵԻ ՄԱՍԻՆ» ՀԱՅԱՍՏԱՆԻ ՀԱՆՐԱՊԵՏՈՒԹՅԱՆ ՕՐԵՆՔԻ N 1 ՀԱՎԵԼՎԱԾԻ N 2 ԱՂՅՈՒՍԱԿՈՒՄ ԿԱՏԱՐՎՈՂ ՎԵՐԱԲԱՇԽՈՒՄԸ ԵՎ ՀԱՅԱՍՏԱՆԻ ՀԱՆՐԱՊԵՏՈՒԹՅԱՆ ԿԱՌԱՎԱՐՈՒԹՅԱՆ 2024 ԹՎԱԿԱՆԻ ԴԵԿՏԵՄԲԵՐԻ 27-Ի N2060-Ն ՈՐՈՇՄԱՆ N 5 ՀԱՎԵԼՎԱԾԻ N 1 ԱՂՅՈՒՍԱԿՈՒՄ ԿԱՏԱՐՎՈՂ ՓՈՓՈԽՈՒԹՅՈՒՆՆԵՐԸ | I6: հազար դրամներով
A7: ԲԳԿ | B7: Ծրագրային դասիչը | D7: ԲԳԿ/Ծրագրի /միջոցառման անվանումը | E7: Ծրագրի նպատակը/Միջոցառման նկարագրությունը | F7: Վերջնական արդյունքի նկարագրությունը/Միջոցառման տեսակը | G7: Առաջին եռամսյակ | H7: Առաջին կիսամյակ | I7: Ցուցանիշների փոփոխություն (ավելացումները նշված են դրական նշանով, իսկ նվազեցումները փակագծերում)
B8: Ծրագիր | C8: Միջոցառում | I8: Տարի
A9: ԸՆԴԱՄԵՆԸ | G9: 0 | H9: 0 | I9: =+I10+I15 -> 0
B10: ՀՀ արտաքին գործերի նախարարություն | G10: =+G11 -> 0 | H10: =+H11 -> 0 | I10: =+I11+I13 -> 22765.2
B11: 1061 | D11: Արտաքին գործերի ոլորտում Կառավարության քաղաքականության մշակում և իրականացում | E11: Հայաստանի Հանրապետության ինքնիշխանության և պետական շահերի պաշտպանություն | F11: Տարածաշրջանային խաղաղության և կայունության հաստատում, գործընկերների հետ համագործակցության խթանում և հարաբերությունների կարգավորում, ԼՂ-ից բռնի տեղահանվածների կարիքների հասցեագրում | G11: =+G12 -> 0 | H11: =+H12 -> 0 | I11: =+I12 -> 6765.2
C12: 1061-11001 | D12: Կառավարության արտաքին քաղաքականության մշակում և իրագործման ապահովում | E12: ՀՀ ինքնիշխանության պաշտպանություն, արտաքին անվտանգության բաղադրիչի ամրապնդում, արտերկրում ՀՀ քաղաքացիների շահերի պաշտպանություն | F12: Ծառայությունների մատուցում | G12: 0 | H12: 0 | I12: 6765.2
B13: 1128 | D13: Օտարերկրյա պետություններում ՀՀ դիվանագիտական ծառայության մարմինների գործունեության կազմակերպում և իրականացում | E13: Միջազգային ասպարեզում ՀՀ շահերի պաշտպանություն և դիրքորոշումների առաջմղում | F13: Երկկողմ և բազմակողմ միջազգային հարթակներում գործունեության ծավալում և օտարերկրյա պետություններում ՀՀ քաղաքացիների և իրավաբանական անձանց շահերի պաշտպանության ապահովում | I13: =+I14 -> 16000
C14: 1128 - 11001 | D14: Օտարերկրյա պետություններում և միջազգային կազմակերպություններում հավատարմագրված ՀՀ դիվանագիտական ծառայության մարմինների գործունեության իրականացում | E14: Օտարերկրյա պետություններում և միջազգային կազմակերպություններում դիվանագիտական գործունեության միջոցով արտաքին գործերի բնագավառում ՀՀ Կառավարության քաղաքականության իրականացում, հյուպատոսական ծառայության մատուցում | F14: Ծառայությունների մատուցում | I14: 16000
B15: ՀՀ կառավարություն | I15: =+I16 -> -22765.2
B16: 1139 | D16: ՀՀ կառավարության պահուստային ֆոնդ | E16: Պետական բյուջեում չկանխատեսված, ինչպես նաեւ բյուջետային երաշխիքների ապահովման ծախսերի ֆինանսավորման ապահովում | F16: Պահուստային ֆոնդի կառավարման արդյունավետության և թափանցիկության ապահովում | G16: =+G17 -> 0 | H16: =+H17 -> 0 | I16: =+I17 -> -22765.2
C17: 1139 - 11001 | D17: ՀՀ կառավարության պահուստային ֆոնդ | E17: ՀՀ պետական բյուջեում նախատեսված ելքերի լրացուցիչ ֆինանսավորման, պետական բյուջեում չկանխատեսված ելքերի, ինչպես նաև բյուջետային երաշխիքների ապահովման ելքերի ֆինանսավորման ապահովում | F17: Ծառայությունների մատուցում | G17: 0 | H17: 0 | I17: -22765.2

Sheet 2
D1: Հավելված N 2
D2: ՀՀ կառավարության 2025 թվականի
D3: ___________ ___-ի N _______ -Ն որոշման
A6: ՀԱՅԱՍՏԱՆԻ ՀԱՆՐԱՊԵՏՈՒԹՅԱՆ ԿԱՌԱՎԱՐՈՒԹՅԱՆ 2024 ԹՎԱԿԱՆԻ ԴԵԿՏԵՄԲԵՐԻ 27-Ի N2060-Ն ՈՐՈՇՄԱՆ N 5 ՀԱՎԵԼՎԱԾԻ N 2 ԱՂՅՈՒՍԱԿՈՒՄ ԿԱՏԱՐՎՈՂ ՓՈՓՈԽՈՒԹՅՈՒՆԸ
D7: հազար դրամներով
A8: Ծրագրային դասիչ | C8: Բյուջետային գլխավոր կարգադրիչների, ծրագրերի, միջոցառումների և ուղղությունների անվանումները | D8: Ցուցանիշների փոփոխություն (նվազեցումները նշած են փակագծերում)
A9: Ծրագիր | B9: Միջոցառում | D9: Տարի
C10: ԸՆԴԱՄԵՆԸ | D10: =D12+D17+D22+D45+D50+D55+D60+D177+D284+D301+D309+D314+D328+D847+D855+D869+D879+D884+D898+D903+D908+D916+D921+D929+D940+D945+D950+D955+D963+D968+D1005+D1010+D1015+D1020+D1025+D1030+D1035+D1040+D1045+D1050+D1055+D1060+D1065 -> -22765.2
C11: այդ թվում`
C12: ՀՀ կառավարություն | D12: =+D14 -> -22765.2
C13: այդ թվում՛
A14: 1139 | B14: 11001 | C14: ՀՀ կառավարության պահուստային ֆոնդ | D14: =+D16 -> -22765.2
C15: այդ թվում` ըստ կատարողների
C16: ՀՀ կառավարություն | D16: =+'1'!I17 -> -22765.2

Sheet 3
H1: Հավելված N 3
H2: ՀՀ կառավարության 2025 թվականի
H3: ___________ ___-ի N _______ -Ն որոշման
A4: «ՀԱՅԱՍՏԱՆԻ ՀԱՆՐԱՊԵՏՈՒԹՅԱՆ 2025 ԹՎԱԿԱՆԻ ՊԵՏԱԿԱՆ ԲՅՈՒՋԵԻ ՄԱՍԻՆ» ՀԱՅԱՍՏԱՆԻ ՀԱՆՐԱՊԵՏՈՒԹՅԱՆ ՕՐԵՆՔԻ N 1 ՀԱՎԵԼՎԱԾԻ N 3 ԱՂՅՈՒՍԱԿՈՒՄ ԿԱՏԱՐՎՈՂ ՓՈՓՈԽՈՒԹՅՈՒՆԸ
H5: հազար դրամներով
A6: Ծրագրային դասիչ | C6: Բյուջետային գլխավոր կարգադրիչների, ծրագրերի, միջոցառումների և ուղղությունների անվանումները | D6: Ընդամենը | E6: այդ թվում` | H6: Ցուցանիշների փոփոխություն (նվազեցումները նշած են փակագծերում)
A7: Ծրագիր | B7: Միջոցառում | E7: Կառուցման աշխատանքներ | F7: Վերակառուցման, վերանորոգման և վերականգնման աշխատանքներ | G7: Նախագծահե- տազոտական, գեոդեզիա- քարտեզագրական աշխատանքներ | H7: Ոչ ֆինանսական այլ ակտիվների ձեռքբերում
C8: ԸՆԴԱՄԵՆԸ | D8: =+D9+D12+D15+D24+D27+D30+D33+D112+D116+D123+D127+D130+D136+D550+D554+D560+D564+D567+D573+D576+D579+D583+D586+D590+D595+D598+D601+D604+D608+D611+D642+D645+D648+D651+D654+D657+D660+D663+D666+D669+D672+D675+D678 -> -22765.2 | E8: =+E9+E12+E15+E24+E27+E30+E33+E112+E116+E123+E127+E130+E136+E550+E554+E560+E564+E567+E573+E576+E579+E583+E586+E590+E595+E598+E601+E604+E608+E611+E642+E645+E648+E651+E654+E657+E660+E663+E666+E669+E672+E675+E678 -> 0 | F8: =+F9+F12+F15+F24+F27+F30+F33+F112+F116+F123+F127+F130+F136+F550+F554+F560+F564+F567+F573+F576+F579+F583+F586+F590+F595+F598+F601+F604+F608+F611+F642+F645+F648+F651+F654+F657+F660+F663+F666+F669+F672+F675+F678 -> -22765.2 | G8: =+G9+G12+G15+G24+G27+G30+G33+G112+G116+G123+G127+G130+G136+G550+G554+G560+G564+G567+G573+G576+G579+G583+G586+G590+G595+G598+G601+G604+G608+G611+G642+G645+G648+G651+G654+G657+G660+G663+G666+G669+G672+G675+G678 -> 0 | H8: =+H9+H12+H15+H24+H27+H30+H33+H112+H116+H123+H127+H130+H136+H550+H554+H560+H564+H567+H573+H576+H579+H583+H586+H590+H595+H598+H601+H604+H608+H611+H642+H645+H648+H651+H654+H657+H660+H663+H666+H669+H672+H675+H678 -> 0
C9: ՀՀ կառավարություն | D9: =+F9 -> -22765.2 | E9: 0 | F9: =+F11 -> -22765.2 | G9: 0 | H9: 0
C10: այդ թվում՛
A11: 1139 | B11: 11001 | C11: ՀՀ կառավարության պահուստային ֆոնդ | D11: =+'2'!D16 -> -22765.2 | E11: 0 | F11: =+'2'!D16 -> -22765.2 | G11: 0 | H11: 0

Sheet 4
I1: Հավելված N 4
I2: ՀՀ կառավարության 2025 թվականի
I3: ___________ ___-ի N _______ -Ն որոշման
A5: ՀԱՅԱՍՏԱՆԻ ՀԱՆՐԱՊԵՏՈՒԹՅԱՆ ԿԱՌԱՎԱՐՈՒԹՅԱՆ 2024 ԹՎԱԿԱՆԻ ԴԵԿՏԵՄԲԵՐԻ 27-Ի N 2060-Ն ՈՐՈՇՄԱՆ NN 3 և 4 ՀԱՎԵԼՎԱԾՆԵՐՈՒՄ ԿԱՏԱՐՎՈՂ ՓՈՓՈԽՈՒԹՅՈՒՆՆԵՐԸ
I6: հազար դրամներով
A8: Գործառական դասիչը | D8: Ծրագրային դասիչը | F8: Բյուջետային ծախսերի գործառական դասակարգման բաժինների, խմբերի և դասերի, բյուջետային ծրագրերի միջոցառումների, բյուջետային հատկացումների գլխավոր կարգադրիչների անվանումները | I8: Ցուցանիշների փոփոխություն (ավելացումները նշված են դրական նշանով, իսկ նվազեցումները փակագծերում)
G9: Առաջին եռամսյակ | H9: Առաջին կիսամյակ | I9: Տարի
A10: Բաժին | B10: Խումբ | C10: Դաս | D10: Ծրագիր | E10: Միջոցա ռում
F11: ԸՆԴԱՄԵՆԸ ԾԱԽՍԵՐ այդ թվում՝ | G11: =+H11 -> 0 | H11: 0 | I11: 0
A12: 01 | F12: ԸՆՀԴԱՆՈՒՐ ԲՆՈՒՅԹԻ ՀԱՆՐԱՅԻՆ ԾԱՌԱՅՈՒԹՅՈՒՆՆԵՐ | G12: =+G14 -> #REF! | H12: =+H14 -> 0 | I12: =+I21+I39 -> 22765.2
F13: այդ թվում`
B14: 01 | F14: Օրենսդիր և գործադիր մարմիններ, պետական կառավարում, ֆինանսական և հարկաբյուջետային հարաբերություններ, արտաքին հարաբերություններ | G14: =+G16 -> #REF! | H14: =+H16 -> 0 | I14: =+I21+I39 -> 22765.2
F15: այդ թվում`
C16: 03 | F16: Արտաքին հարաբերություններ | G16: =+G18 -> #REF! | H16: =+H18 -> 0 | I16: =+I14 -> 22765.2
F17: այդ թվում`
F18: ՀՀ արտաքին գործերի նախարարություն | G18: =+G19 -> #REF! | H18: =+H19 -> 0 | I18: =+I16 -> 22765.2
D19: 1061 | F19: Արտաքին գործերի ոլորտում Կառավարության քաղաքականության մշակում և իրականացում | G19: =+G20 -> #REF! | H19: =+'1'!H12 -> 0 | I19: =+I18 -> 22765.2
F20: այդ թվում` | G20: =+G22 -> #REF! | H20: =+H22 -> #REF!
E21: 11001 | F21: Կառավարության արտաքին քաղաքականության մշակում և իրագործման ապահովում | I21: =+I23 -> 6765.2
F22: այդ թվում` ըստ կատարող | G22: =+G24 -> #REF! | H22: =+H24 -> #REF!
F23: ՀՀ արտաքին գործերի նախարարություն | I23: =+I25 -> 6765.2
F24: այդ թվում` բյուջետային ծախսերի տնտեսագիտական դասակարգման հոդվածներ | G24: =+G25 -> #REF! | H24: =+H25 -> #REF!
F25: ԸՆԴԱՄԵՆԸ ԾԱԽՍԵՐ | G25: =+G26 -> #REF! | H25: =+H26 -> #REF! | I25: =+I26 -> 6765.2
F26: ԸՆԹԱՑԻԿ ԾԱԽՍԵՐ | G26: =+#REF! -> #REF! | H26: =+#REF! -> #REF! | I26: =+I27 -> 6765.2
F27: ԾԱՌԱՅՈՒԹՅՈՒՆՆԵՐԻ ԵՎ ԱՊՐԱՆՔՆԵՐԻ ՁԵՌՔԲԵՐՈՒՄ | I27: =+I28 -> 6765.2
F28: Ծառայողական գործուղումների գծով ծախսեր | I28: =+I29 -> 6765.2
F29: - Արտասահմանյան գործուղումների գծով ծախսեր | I29: =+'1'!I12 -> 6765.2
D30: 1128 | F30: Օտարերկրյա պետություններում ՀՀ դիվանագիտական ծառայության մարմինների գործունեության կազմակերպում և իրականացում | I30: =+I31 -> 16000
E31: 11001 | F31: Օտարերկրյա պետություններում և միջազգային կազմակերպություններում հավատարմագրված ՀՀ դիվանագիտական ծառայության մարմինների գործունեության իրականացում | I31: =+I33 -> 16000
F32: այդ թվում` ըստ կատարողների
F33: ՀՀ արտաքին գործերի նախարարություն | I33: =+I35 -> 16000
F34: այդ թվում` բյուջետային ծախսերի տնտեսագիտական դասակարգման հոդվածներ
F35: ԸՆԴԱՄԵՆԸ ԾԱԽՍԵՐ | I35: =+I36 -> 16000
F36: ԸՆԹԱՑԻԿ ԾԱԽՍԵՐ | I36: =+I37 -> 16000
F37: ԾԱՌԱՅՈՒԹՅՈՒՆՆԵՐԻ ԵՎ ԱՊՐԱՆՔՆԵՐԻ ՁԵՌՔԲԵՐՈՒՄ | I37: =+I38 -> 16000
F38: ԱՅԼ ԾԱԽՍԵՐ | I38: =+I39 -> 16000
F39: Այլ ծախսեր | I39: =+'1'!I14 -> 16000
A40: 11 | F40: ՀԻՄՆԱԿԱՆ ԲԱԺԻՆՆԵՐԻՆ ՉԴԱՍՎՈՂ ՊԱՀՈՒՍՏԱՅԻՆ ՖՈՆԴԵՐ | G40: =+G42 -> #REF! | H40: =+H42 -> #REF! | I40: =+I42 -> -22765.2
F41: այդ թվում`
B42: 01 | F42: ՀՀ կառավարության և համայնքների պահուստային ֆոնդ | G42: =+G44 -> #REF! | H42: =+H44 -> #REF! | I42: =+I44 -> -22765.2
...

Sheet 5
L1: Հավելված 5
L2: ՀՀ կառավարության 2025 թվականի
L3: ______________ ի ___Ն որոշման
A5: ՀԱՅԱՍՏԱՆԻ ՀԱՆՐԱՊԵՏՈՒԹՅԱՆ ԿԱՌԱՎԱՐՈՒԹՅԱՆ 2024 ԹՎԱԿԱՆԻ ԴԵԿՏԵՄԲԵՐԻ 27-Ի ԹԻՎ 2060-Ն ՈՐՈՇՄԱՆ N 9 և 9.1 ՀԱՎԵԼՎԱԾՆԵՐՈՒՄ ԿԱՏԱՐՎՈՂ ՓՈՓՈԽՈՒԹՅՈՒՆՆԵՐԸ
L6: հազար դրամներով
A7: ԲԳԿ/ԲՍԿ | B7: Ծրագիր | D7: Միջոցառում | H7: Իրականացնողը/ ակտիվն օգտագործողը/ շահառուի ընտրության չափորոշիչը | I7: Արդյունքային չափորոշիչը | L7: Ցուցանիշի փոփոխություն (ավելացումը նշված է դրական նշանով)
B8: Դասիչը | C8: Անվանումը | D8: Դասիչը | E8: Անվանումը | F8: Նկարագրությունը | G8: Տեսակը | J8: Առաջին եռամսյակ | K8: Առաջին կիսամյակ | L8: Տարի
A9: ԸՆԴԱՄԵՆԸ | J9: 0 | K9: 0 | L9: =+L10+L23 -> 0
A10: ՀՀ արտաքին գործերի նախարարություն | J10: =+J11 -> 0 | K10: =+K11 -> 0 | L10: =+L11+L16 -> 22765.2
B11: 1061 | C11: Արտաքին գործերի ոլորտում Կառավարության քաղաքականության մշակում և իրականացում | J11: =+J12 -> 0 | K11: =+K12 -> 0 | L11: =+L12 -> 6765.2
D12: 1061-11001 | E12: Կառավարության արտաքին քաղաքականության մշակում և իրագործման ապահովում | L12: =+-L25-L17 -> 6765.2
F13: ՀՀ ինքնիշխանության պաշտպանություն, արտաքին անվտանգության բաղադրիչի ամրապնդում, արտերկրում ՀՀ քաղաքացիների շահերի պաշտպանություն
G14: Ծառայությունների մատուցում
H15: Ծառայությունը մատուցողի անվանումը` ՀՀ արտաքին գործերի նախարարություն
B16: 1128 | C16: Օտարերկրյա պետություններում ՀՀ դիվանագիտական ծառայության մարմինների գործունեության կազմակերպում և իրականացում | J16: =+J17 -> 0 | K16: =+K17 -> 0 | L16: =+L17 -> 16000
D17: 1128 - 11001 | E17: Օտարերկրյա պետություններում և միջազգային կազմակերպություններում հավատարմագրված ՀՀ դիվանագիտական ծառայության մարմինների գործունեության իրականացում | J17: =+'[1]2'!G33 -> 0 | K17: =+'[1]2'!H24 -> 0 | L17: =+'1'!I14 -> 16000
F18: Օտարերկրյա պետություններում և միջազգային կազմակերպություններում դիվանագիտական գործունեության միջոցով արտաքին գործերի բնագավառում ՀՀ Կառավարության քաղաքականության իրականացում, հյուպատոսական ծառայության մատուցում
G19: Ծառայությունների մատուցում
H20: Ծառայությունը մատուցողի անվանումը` Օտարերկրյա պետություններում ՀՀ դիվանագիտական ծառայության մարմիններ
A22: ՀՀ կառավարություն | L22: Ցուցանիշի փոփոխություն (նվազեցումը նշված է փակագծերում)
J23: =+J24 -> #REF! | K23: =+K24 -> #REF! | L23: =+L24 -> -22765.2
B24: 1139 | C24: ՀՀ կառավարության պահուստային ֆոնդ | J24: =+J25 -> #REF! | K24: =+K25 -> #REF! | L24: =+L25 -> -22765.2
D25: 1139 - 11001 | E25: ՀՀ կառավարության պահուստային ֆոնդ | J25: =+'4'!#REF! -> #REF! | K25: =+'4'!#REF! -> #REF! | L25: =+'3'!F11 -> -22765.2
F26: ՀՀ պետական բյուջեում նախատեսված ելքերի լրացուցիչ ֆինանսավորման, պետական բյուջեում չկանխատեսված ելքերի, ինչպես նաև բյուջետային երաշխիքների ապահովման ելքերի ֆինանսավորման ապահովում
G27: Ծառայությունների մատուցում
H28: Ծառայությունը մատուցողի անվանումը` ՀՀ կառավարություն
