Workbook
Name _tab10: #REF!
Name _tab10: #REF!
Name _tab10: #REF!
Name _tab10: #REF!
Name _tab10: #REF!
Name _tab10: #REF!
Name _tab11: #REF!
Name _tab11: #REF!
Name _tab11: #REF!
Name _tab11: #REF!
Name _tab11: #REF!
Name _tab11: #REF!
Name _tab12: #REF!
Name _tab12: #REF!
Name _tab12: #REF!
Name _tab12: #REF!
Name _tab12: #REF!
Name _tab12: #REF!
Name _tab13: #REF!
Name _tab13: #REF!
Name _tab13: #REF!
Name _tab13: #REF!
Name _tab13: #REF!
Name _tab13: #REF!
Name _tab14: #REF!
Name _tab14: #REF!
Name _tab14: #REF!
Name _tab14: #REF!
Name _tab14: #REF!
Name _tab14: #REF!
Name _tab15: #REF!
Name _tab15: #REF!
Name _tab15: #REF!
Name _tab15: #REF!
Name _tab15: #REF!
Name _tab15: #REF!
Name _tab16: #REF!
Name _tab16: #REF!
Name _tab16: #REF!
Name _tab16: #REF!
Name _tab16: #REF!
Name _tab16: #REF!
Name _tab17: #REF!
Name _tab17: #REF!
Name _tab17: #REF!
Name _tab17: #REF!
Name _tab17: #REF!
Name _tab17: #REF!
Name _tab18: #REF!
Name _tab18: #REF!
Name _tab18: #REF!
Name _tab18: #REF!
Name _tab18: #REF!
Name _tab18: #REF!
Name _tab19: #REF!
Name _tab19: #REF!
Name _tab19: #REF!
Name _tab19: #REF!
Name _tab19: #REF!
Name _tab19: #REF!

Sheet ՕՀ-1 Ա 2 և Հ-5 Ա-1
H1: Հավելված N 1
H2: ='Հ-3 և Հ-4'!H2 -> ՀՀ կառավարության 2025 թվականի
H3: ='Հ-3 և Հ-4'!H3 -> ______________ ի N ___ -Ն որոշման
B5: «ՀԱՅԱՍՏԱՆԻ ՀԱՆՐԱՊԵՏՈՒԹՅԱՆ 2025 ԹՎԱԿԱՆԻ ՊԵՏԱԿԱՆ ԲՅՈՒՋԵԻ ՄԱՍԻՆ» ՀԱՅԱՍՏԱՆԻ ՀԱՆՐԱՊԵՏՈՒԹՅԱՆ ՕՐԵՆՔԻ N 1 ՀԱՎԵԼՎԱԾԻ N 2 ԱՂՅՈՒՍԱԿՈՒՄ
B6: ԿԱՏԱՐՎՈՂ ՎԵՐԱԲԱՇԽՈՒՄԸ ԵՎ ՀԱՅԱՍՏԱՆԻ ՀԱՆՐԱՊԵՏՈՒԹՅԱՆ ԿԱՌԱՎԱՐՈՒԹՅԱՆ 2024 ԹՎԱԿԱՆԻ ԴԵԿՏԵՄԲԵՐԻ 27-Ի N 2060-Ն ՈՐՈՇՄԱՆ
B7: N 5 ՀԱՎԵԼՎԱԾԻ N 1 ԱՂՅՈՒՍԱԿՈՒՄ ԿԱՏԱՐՎՈՂ ՓՈՓՈԽՈՒԹՅՈՒՆՆԵՐԸ
H8: հազար դրամ
B9: ԲԳԿ | C9: Ծրագրային դասիչը | E9: ԲԳԿ/Ծրագրի /միջոցառման անվանումը | F9: Ծրագրի նպատակը/ Միջոցառման նկարագրությունը | G9: Վերջնական արդյունքի նկարագրությունը/ Միջոցառման տեսակը | H9: Ցուցանիշների փոփոխությունը (ավելացումները նշված են դրական նշանով, իսկ նվազեցումները՝ փակագծերում)
C10: Ծրագիր | D10: Միջոցառում | H10: տարի
B11: ԸՆԴԱՄԵՆԸ | H11: =H15+H12 -> 0
B12: ՀՀ ֆինանսների նախարարություն | H12: =+H13 -> -19605500
C13: 1006 | E13: Պետական պարտքի կառավարում | F13: Կառավարության ֆինանսական կարիքների բավարարման մշտական հնարավորության ապահովումը` երկարաժամկետ հատվածում նվազեցնելով պարտքի սպասարկման մեծությունը | G13: Կառավարության պարտքի օպտիմալ կառուցվածքի ձևավորում՛ հաշվի առնելով պոտենցիալ ռիսկերը | H13: =+H14 -> -19605500
D14: 1006 - 13001 | E14: Կառավարության պարտքի սպասարկում | F14: Կառավարության պարտքի սպասարկում (տոկոսավճարներ) | G14: Ֆինանսավորման ծախսերի իրականացում | H14: =+'Հ-3 և Հ-4'!H20 -> -19605500
B15: ՀՀ պաշտպանության նախարարություն | H15: =H16 -> 19605500
C16: 1169 | E16: ՀՀ պաշտպանության ապահովում | F16: ՀՀ ԶՈւ ռազմավարական ծավալումն ապահովող մարտական պատրաստականության պահպանում, արտաքին թշնամուց ՀՀ պետական սահմանների պաշտպանության ապահովում | G16: ՀՀ ԶՈւ ռազմավարական ծավալումն ապահովող մարտական պատրաստականության պահպանում | H16: =SUM(H17:H17) -> 19605500
D17: 1169 - 31001 | E17: ՀՀ պաշտպանության նախարարության շենքային պայմանների բարելավում | F17: Պաշտպանության կարիքների համար բնակելի, գրասենյակային և այլ նշանակության շենքերի և շինությունների կառուցում | G17: Պետական մարմինների կողմից օգտագործվող ոչ ֆինանսական ակտիվների հետ գործառնություններ | H17: =+'Հ-3 և Հ-4'!H38 -> 19605500

Sheet ՕՀ-1 Ա 3
I1: Հավելված N 2
I2: ՀՀ կառավարության 2025 թվականի
I3: ___________ ___-ի N _______ -Ն որոշման
B5: «ՀԱՅԱՍՏԱՆԻ ՀԱՆՐԱՊԵՏՈՒԹՅԱՆ 2025 ԹՎԱԿԱՆԻ ՊԵՏԱԿԱՆ ԲՅՈՒՋԵԻ ՄԱՍԻՆ» ՀԱՅԱՍՏԱՆԻ ՀԱՆՐԱՊԵՏՈՒԹՅԱՆ ՕՐԵՆՔԻ
B6: N 1 ՀԱՎԵԼՎԱԾԻ N 3 ԱՂՅՈՒՍԱԿՈՒՄ ԿԱՏԱՐՎՈՂ ՓՈՓՈԽՈՒԹՅՈՒՆԸ
I7: հազար դրամ
B8: Ծրագրային դասիչ | D8: Բյուջետային գլխավոր կարգադրիչների, ծրագրերի, միջոցառումների և ուղղությունների անվանումները | E8: Ցուցանիշների փոփոխությունը (ավելացումները նշված են դրական նշանով)
B9: Ծրագիր | C9: Միջոցառում | E9: ընդամենը | F9: այդ թվում՝
F10: կառուցման աշխատանքներ | G10: վերակառուցման, վերանորոգման և վերականգնման աշխատանքներ | H10: նախագծահե- տազոտական, գեոդեզիա- քարտեզագրա- կան աշխա- տանքներ | I10: ոչ ֆինանսական այլ ակտիվների ձեռքբերում
D11: ԸՆԴԱՄԵՆԸ | E11: =E13 -> 19605500 | F11: =F13 -> 19605500 | G11: =G13 -> 0 | H11: =H13 -> 0 | I11: =I13 -> 0
D12: այդ թվում՝
D13: ՀՀ պաշտպանության նախարարություն | E13: =SUM(E15:E15) -> 19605500 | F13: =SUM(F15:F15) -> 19605500 | G13: =SUM(G15:G15) -> 0 | H13: =SUM(H15:H15) -> 0 | I13: =SUM(I15:I15) -> 0
D14: այդ թվում`
B15: 1169 | C15: 31001 | D15: ՀՀ պաշտպանության նախարարության շենքային պայմանների բարելավում | E15: =SUM(F15:I15) -> 19605500 | F15: =+'Հ-3 և Հ-4'!H40 -> 19605500 | G15: 0 | H15: 0 | I15: 0

Sheet Հ-3 և Հ-4
H1: Հավելված N 3
H2: ՀՀ կառավարության 2025 թվականի
H3: ______________ ի N ___ -Ն որոշման
B5: ՀԱՅԱՍՏԱՆԻ ՀԱՆՐԱՊԵՏՈՒԹՅԱՆ ԿԱՌԱՎԱՐՈՒԹՅԱՆ 2024 ԹՎԱԿԱՆԻ ԴԵԿՏԵՄԲԵՐԻ 27-Ի N 2060-Ն ՈՐՈՇՄԱՆ
B6: N 3 և N 4 ՀԱՎԵԼՎԱԾՆԵՐՈՒՄ ԿԱՏԱՐՎՈՂ ՓՈՓՈԽՈՒԹՅՈՒՆՆԵՐԸ
H7: հազար դրամ
B8: Գործառական դասիչը | E8: Ծրագրային դասիչը | G8: Բյուջետային ծախսերի գործառական դասակարգման բաժինների, խմբերի և դասերի, բյուջետային ծրագրերի միջոցառումների, բյուջետային հատկացումների գլխավոր կարգադրիչների անվանումները | H8: Ցուցանիշների փոփոխությունը (ավելացումները նշված են դրական նշանով, իսկ նվազեցումները՝ փակագծերում)
B9: բաժին | C9: խումբ | D9: դաս | E9: ծրագիր | F9: միջոցա-ռում | H9: տարի
G10: ԸՆԴԱՄԵՆԸ ԾԱԽՍԵՐ | H10: =H30+H12 -> 0
G11: այդ թվում`
G12: ՀՀ ֆինանսների նախարարություն | H12: =H14 -> -19605500
G13: այդ թվում`
B14: 01 | G14: ԸՆԴՀԱՆՈՒՐ ԲՆՈՒՅԹԻ ՀԱՆՐԱՅԻՆ ԾԱՌԱՅՈՒԹՅՈՒՆՆԵՐ | H14: =H16 -> -19605500
G15: այդ թվում`
C16: 07 | G16: Պետական պարտքի գծով գործառնություններ | H16: =H18 -> -19605500
G17: այդ թվում`
D18: 01 | G18: Պետական պարտքի գծով գործառնություններ | H18: =H20 -> -19605500
G19: այդ թվում`
E20: 1006 | G20: Պետական պարտքի կառավարում | H20: =H22 -> -19605500
G21: այդ թվում`
F22: 13001 | G22: Կառավարության պարտքի սպասարկում | H22: =H24 -> -19605500
G23: այդ թվում` ըստ կատարողների
G24: ՀՀ ֆինանսների նախարարություն | H24: =H26 -> -19605500
G25: այդ թվում` բյուջետային ծախսերի տնտեսագիտական դասակարգման հոդվածներ
G26: ԸՆԴԱՄԵՆԸ ԾԱԽՍԵՐ | H26: =H27 -> -19605500
G27: ԸՆԹԱՑԻԿ ԾԱԽՍԵՐ | H27: =H28 -> -19605500
G28: ՏՈԿՈՍԱՎՃԱՐՆԵՐ | H28: =H29 -> -19605500
G29: - Արտաքին տոկոսավճարներ | H29: =-H48 -> -19605500
G30: ՀՀ պաշտպանության նախարարություն | H30: =H32 -> 19605500
G31: այդ թվում`
B32: 02 | G32: ՊԱՇՏՊԱՆՈՒԹՅՈՒՆ | H32: =H34 -> 19605500
G33: այդ թվում`
C34: 01 | G34: Ռազմական պաշտպանություն | H34: =H36 -> 19605500
G35: այդ թվում`
D36: 01 | G36: Ռազմական պաշտպանություն | H36: =H38 -> 19605500
G37: այդ թվում`
E38: 1169 | G38: ՀՀ պաշտպանության ապահովում | H38: =H40 -> 19605500
G39: այդ թվում`
F40: 31001 | G40: ՀՀ պաշտպանության նախարարության շենքային պայմանների բարելավում | H40: =H42 -> 19605500
G41: այդ թվում` ըստ կատարողների
...

Sheet Հ-5 Ա 2
E1: Հավելված N 4
E2: ='Հ-3 և Հ-4'!H2 -> ՀՀ կառավարության 2025 թվականի
E3: ='Հ-3 և Հ-4'!H3 -> ______________ ի N ___ -Ն որոշման
B5: ='Հ-3 և Հ-4'!B5:H5 -> ՀԱՅԱՍՏԱՆԻ ՀԱՆՐԱՊԵՏՈՒԹՅԱՆ ԿԱՌԱՎԱՐՈՒԹՅԱՆ 2024 ԹՎԱԿԱՆԻ ԴԵԿՏԵՄԲԵՐԻ 27-Ի N 2060-Ն ՈՐՈՇՄԱՆ
B6: N 5 ՀԱՎԵԼՎԱԾԻ N 2 ԱՂՅՈՒՍԱԿՈՒՄ ԿԱՏԱՐՎՈՂ ՓՈՓՈԽՈՒԹՅՈՒՆՆԵՐԸ
E7: հազար դրամ
B8: Ծրագրային դասիչ | D8: Բյուջետային գլխավոր կարգադրիչների, ծրագրերի, միջոցառումների և ուղղությունների անվանումները | E8: Ցուցանիշների փոփոխությունը (ավելացումները նշված են դրական նշանով)
B9: ծրագիր | C9: միջո-ցառում | E9: տարի
D10: ԸՆԴԱՄԵՆԸ | E10: =E12 -> 19605500
D11: այդ թվում՝
D12: ՀՀ պաշտպանության նախարարություն | E12: =E14 -> 19605500
D13: այդ թվում`
B14: 1169 | C14: 31001 | D14: ՀՀ պաշտպանության նախարարության շենքային պայմանների բարելավում | E14: =E16 -> 19605500
D15: այդ թվում` ըստ կատարողների
D16: ՀՀ պաշտպանության նախարարություն | E16: =+'Հ-3 և Հ-4'!H40 -> 19605500

Sheet Հ-9
K1: Հավելված N 5
K2: ='Հ-3 և Հ-4'!H2 -> ՀՀ կառավարության 2025 թվականի
K3: ='Հ-3 և Հ-4'!H3 -> ______________ ի N ___ -Ն որոշման
B5: =+'Հ-3 և Հ-4'!B5:H5 -> ՀԱՅԱՍՏԱՆԻ ՀԱՆՐԱՊԵՏՈՒԹՅԱՆ ԿԱՌԱՎԱՐՈՒԹՅԱՆ 2024 ԹՎԱԿԱՆԻ ԴԵԿՏԵՄԲԵՐԻ 27-Ի N 2060-Ն ՈՐՈՇՄԱՆ
B6: N 9 ՀԱՎԵԼՎԱԾՈՒՄ ԿԱՏԱՐՎՈՂ ՓՈՓՈԽՈՒԹՅՈՒՆՆԵՐԸ
K7: հազար դրամ
B8: ԲԳԿ | C8: Ծրագիր | E8: Միջոցառում | I8: Իրականացնողը/ ակտիվն օգտագործողը/ շահառուի ընտրության չափորոշիչը | J8: Արդյունքային չափորոշիչը | K8: Ցուցանիշների փոփոխությունը (ավելացումները նշված են դրական նշանով, իսկ նվազեցումները՝ փակագծերում)
C9: Դասիչը | D9: Անվա-նումը | E9: Դասիչը | F9: Անվա-նումը | G9: Նկարագրու-թյունը | H9: Տեսակը | K9: տարի
B10: ԸՆԴԱՄԵՆԸ | K10: =K17+K11 -> 0
B11: ՀՀ ֆինանսների նախարարություն | K11: =+K12 -> -19605500
C12: 1006 | D12: Պետական պարտքի կառավարում | K12: =+K13 -> -19605500
E13: 1006 - 13001 | F13: Կառավարության պարտքի սպասարկում | K13: =+'Հ-3 և Հ-4'!H22 -> -19605500
G14: Կառավարության պարտքի սպասարկում (տոկոսավճարներ)
H15: Ֆինանսավորման ծախսերի իրականացում
I16: Միջոցառումն իրականացնողի անվանումը` ՀՀ ֆինանսների նախարարություն
B17: ՀՀ պաշտպանության նախարարություն | K17: =K18 -> 19605500
C18: 1169 | D18: ՀՀ պաշտպանության ապահովում | K18: =K19 -> 19605500
E19: 1169 - 31001 | F19: ՀՀ պաշտպանության նախարարության շենքային պայմանների բարելավում | K19: =+'Հ-3 և Հ-4'!H40 -> 19605500
G20: Պաշտպանության կարիքների համար բնակելի, գրասենյակային և այլ նշանակության շենքերի և շինությունների կառուցում
H21: Պետական մարմինների կողմից օգտագործվող ոչ ֆինանսական ակտիվների հետ գործառնություններ
I22: Ակտիվն օգտագործող կազմակերպության անվանումը` ՀՀ պաշտպանության նախարարություն

Sheet Հ-9.1
K1: Հավելված N 6
K2: ='Հ-3 և Հ-4'!H2 -> ՀՀ կառավարության 2025 թվականի
K3: ='Հ-3 և Հ-4'!H3 -> ______________ ի N ___ -Ն որոշման
B5: =+'Հ-3 և Հ-4'!B5:H5 -> ՀԱՅԱՍՏԱՆԻ ՀԱՆՐԱՊԵՏՈՒԹՅԱՆ ԿԱՌԱՎԱՐՈՒԹՅԱՆ 2024 ԹՎԱԿԱՆԻ ԴԵԿՏԵՄԲԵՐԻ 27-Ի N 2060-Ն ՈՐՈՇՄԱՆ
B6: N 9.1 ՀԱՎԵԼՎԱԾՈՒՄ ԿԱՏԱՐՎՈՂ ՓՈՓՈԽՈՒԹՅՈՒՆՆԵՐԸ
K7: հազար դրամ
B8: ԲՍԿ | C8: Ծրագիր | E8: Միջոցառում | I8: Իրականացնողը/ ակտիվն օգտագործողը/ շահառուի ընտրության չափորոշիչը | J8: Արդյունքային չափորոշիչը | K8: Ցուցանիշների փոփոխությունը (ավելացումները նշված են դրական նշանով, իսկ նվազեցումները՝ փակագծերում)
C9: Դասիչը | D9: Անվա-նումը | E9: Դասիչը | F9: Անվա-նումը | G9: Նկարագրու-թյունը | H9: Տեսակը | K9: տարի
B10: ԸՆԴԱՄԵՆԸ | K10: =K17+K11 -> 0
B11: ՀՀ ֆինանսների նախարարություն | K11: =+K12 -> -19605500
C12: 1006 | D12: Պետական պարտքի կառավարում | K12: =+K13 -> -19605500
E13: 1006 - 13001 | F13: Կառավարության պարտքի սպասարկում | K13: =+'Հ-3 և Հ-4'!H22 -> -19605500
G14: Կառավարության պարտքի սպասարկում (տոկոսավճարներ)
H15: Ֆինանսավորման ծախսերի իրականացում
I16: Միջոցառումն իրականացնողի անվանումը` ՀՀ ֆինանսների նախարարություն
B17: ՀՀ պաշտպանության նախարարություն | K17: =K18 -> 19605500
C18: 1169 | D18: ՀՀ պաշտպանության ապահովում | K18: =K19 -> 19605500
E19: 1169 - 31001 | F19: ՀՀ պաշտպանության նախարարության շենքային պայմանների բարելավում | K19: =+'Հ-3 և Հ-4'!H40 -> 19605500
G20: Պաշտպանության կարիքների համար բնակելի, գրասենյակային և այլ նշանակության շենքերի և շինությունների կառուցում
H21: Պետական մարմինների կողմից օգտագործվող ոչ ֆինանսական ակտիվների հետ գործառնություններ
I22: Ակտիվն օգտագործող կազմակերպության անվանումը` ՀՀ պաշտպանության նախարարություն

Sheet Sheet1
A1: 4239 | B1: 20939.6
A2: 4252 | B2: 4001.2
A3: 4261 | B3: 24221.5
A4: 4264 | B4: 658398.2
A5: 4267 | B5: 51113.2
A6: 4269 | B6: 58135.2
A7: 5121 | B7: 34800
A8: 5122 | B8: 30780.6
A9: 5129 | B9: 165718.2
A10: 5132 | B10: 33.2
