Workbook
Name _tab10: #REF!
Name _tab10: #REF!
Name _tab10: #REF!
Name _tab10: #REF!
Name _tab10: #REF!
Name _tab10: #REF!
Name _tab11: #REF!
Name _tab11: #REF!
Name _tab11: #REF!
Name _tab11: #REF!
Name _tab11: #REF!
Name _tab11: #REF!
Name _tab12: #REF!
Name _tab12: #REF!
Name _tab12: #REF!
Name _tab12: #REF!
Name _tab12: #REF!
Name _tab12: #REF!
Name _tab13: #REF!
Name _tab13: #REF!
Name _tab13: #REF!
Name _tab13: #REF!
Name _tab13: #REF!
Name _tab13: #REF!
Name _tab14: #REF!
Name _tab14: #REF!
Name _tab14: #REF!
Name _tab14: #REF!
Name _tab14: #REF!
Name _tab14: #REF!
Name _tab15: #REF!
Name _tab15: #REF!
Name _tab15: #REF!
Name _tab15: #REF!
Name _tab15: #REF!
Name _tab15: #REF!
Name _tab16: #REF!
Name _tab16: #REF!
Name _tab16: #REF!
Name _tab16: #REF!
Name _tab16: #REF!
Name _tab16: #REF!
Name _tab17: #REF!
Name _tab17: #REF!
Name _tab17: #REF!
Name _tab17: #REF!
Name _tab17: #REF!
Name _tab17: #REF!
Name _tab18: #REF!
Name _tab18: #REF!
Name _tab18: #REF!
Name _tab18: #REF!
Name _tab18: #REF!
Name _tab18: #REF!
Name _tab19: #REF!
Name _tab19: #REF!
Name _tab19: #REF!
Name _tab19: #REF!
Name _tab19: #REF!
Name _tab19: #REF!

Sheet ՕՀ-1 Ա 2 և Հ-5 Ա-1
H1: Հավելված N 1
H2: ='Հ-3 և Հ-4'!H2 -> ՀՀ կառավարության 2025 թվականի
H3: ='Հ-3 և Հ-4'!H3 -> ______________ ի N ___ -Ն որոշման
B5: «ՀԱՅԱՍՏԱՆԻ ՀԱՆՐԱՊԵՏՈՒԹՅԱՆ 2025 ԹՎԱԿԱՆԻ ՊԵՏԱԿԱՆ ԲՅՈՒՋԵԻ ՄԱՍԻՆ» ՀԱՅԱՍՏԱՆԻ ՀԱՆՐԱՊԵՏՈՒԹՅԱՆ ՕՐԵՆՔԻ N 1 ՀԱՎԵԼՎԱԾԻ N 2 ԱՂՅՈՒՍԱԿՈՒՄ
B6: ԿԱՏԱՐՎՈՂ ՎԵՐԱԲԱՇԽՈՒՄԸ ԵՎ ՀԱՅԱՍՏԱՆԻ ՀԱՆՐԱՊԵՏՈՒԹՅԱՆ ԿԱՌԱՎԱՐՈՒԹՅԱՆ 2024 ԹՎԱԿԱՆԻ ԴԵԿՏԵՄԲԵՐԻ 27-Ի N 2060-Ն ՈՐՈՇՄԱՆ
B7: N 5 ՀԱՎԵԼՎԱԾԻ N 1 ԱՂՅՈՒՍԱԿՈՒՄ ԿԱՏԱՐՎՈՂ ՓՈՓՈԽՈՒԹՅՈՒՆՆԵՐԸ
H8: հազար դրամ
B9: ԲԳԿ | C9: Ծրագրային դասիչը | E9: ԲԳԿ/Ծրագրի /միջոցառման անվանումը | F9: Ծրագրի նպատակը/ Միջոցառման նկարագրությունը | G9: Վերջնական արդյունքի նկարագրությունը/ Միջոցառման տեսակը | H9: Ցուցանիշների փոփոխությունը (ավելացումները նշված են դրական նշանով, իսկ նվազեցումները՝ փակագծերում)
C10: ծրագիր | D10: միջոցառում | H10: տարի
B11: ԸՆԴԱՄԵՆԸ | H11: =H17+H12 -> 0.018
B12: ՀՀ ազգային անվտանգության ծառայություն | H12: =+H13 -> -4370636
C13: 1138 | E13: Ազգային անվտանգություն | F13: Ներքին և արտաքին սպառնալիքներից անձի, հասարակության ու պետության անվտանգության ապահովում | G13: Այլ պետությունների կողմից հետախուզական գործունեության կասեցում,պետական սահմանի անձեռնամխելիության ապահովում, կոռուպցիոն ռիսկերի շեշտակի նվազեցում | H13: =H15+H14+H16 -> -4370636
D14: 1138 - 11001 | E14: Հետախուզական, հակահետախուզական, ռազմական հակահետախուզության, հանցագործությունների դեմ պայքարի և պետական սահմանի պահպանության գործունեության կազմակերպում | F14: ՀՀ անվտանգությանը սպառնացող վտանգի մասին տեղեկատվության ստացում, վերլուծում, վտանգի կանխատեսում, վտանգի կանխման ու չեզոքացման վերաբերյալ առաջարկությունների մշակում | G14: Ծառայությունների մատուցում | H14: -3984726
D15: 1138 - 31001 | E15: Ազգային անվտանգության համակարգի տեխնիկական հագեցվածության բարելավում | F15: Ազգային անվտանգության համակարգի ստորաբաժանումների համար վարչական սարքավորումների ձեռքբերում | G15: Պետական մարմինների կողմից օգտագործվող ոչ ֆինանսական ակտիվների հետ գործառնություններ | H15: -297094.8
D16: 1138 - 31002 | E16: Ազգային անվտանգության համակարգի շենքային ապահովվածության բարելավում | F16: Ազգային անվտանգության համակարգի ստորաբաժանումների վարչական շենքերի կառուցում, կապիտալ վերանորոգում, շինարարական և կապիտալ նորոգման օբյեկտների նախագծահետազոտական փաստաթղթերի պատրաստում | G16: Պետական մարմինների կողմից օգտագործվող ոչ ֆինանսական ակտիվների հետ գործառնություններ | H16: -88815.182
B17: ՀՀ պաշտպանության նախարարություն | H17: =H18 -> 4370636
C18: 1169 | E18: ՀՀ պաշտպանության ապահովում | F18: ՀՀ ԶՈւ ռազմավարական ծավալումն ապահովող մարտական պատրաստականության պահպանում, արտաքին թշնամուց ՀՀ պետական սահմանների պաշտպանության ապահովում | G18: ՀՀ ԶՈւ ռազմավարական ծավալումն ապահովող մարտական պատրաստականության պահպանում | H18: =SUM(H19:H19) -> 4370636
D19: 1169 - 31001 | E19: ՀՀ պաշտպանության նախարարության շենքային պայմանների բարելավում | F19: Պաշտպանության կարիքների համար բնակելի, գրասենյակային և այլ նշանակության շենքերի և շինությունների կառուցում | G19: Պետական մարմինների կողմից օգտագործվող ոչ ֆինանսական ակտիվների հետ գործառնություններ | H19: =+'Հ-3 և Հ-4'!H62 -> 4370636

Sheet ՕՀ-1 Ա 3
I1: Հավելված N 2
I2: ՀՀ կառավարության 2025 թվականի
I3: ___________ ___-ի N _______ -Ն որոշման
B5: «ՀԱՅԱՍՏԱՆԻ ՀԱՆՐԱՊԵՏՈՒԹՅԱՆ 2025 ԹՎԱԿԱՆԻ ՊԵՏԱԿԱՆ ԲՅՈՒՋԵԻ ՄԱՍԻՆ» ՀԱՅԱՍՏԱՆԻ ՀԱՆՐԱՊԵՏՈՒԹՅԱՆ ՕՐԵՆՔԻ
B6: N 1 ՀԱՎԵԼՎԱԾԻ N 3 ԱՂՅՈՒՍԱԿՈՒՄ ԿԱՏԱՐՎՈՂ ՓՈՓՈԽՈՒԹՅՈՒՆԸ
I7: հազար դրամ
B8: Ծրագրային դասիչ | D8: Բյուջետային գլխավոր կարգադրիչների, ծրագրերի, միջոցառումների և ուղղությունների անվանումները | E8: Ցուցանիշների փոփոխությունը (ավելացումները նշված են դրական նշանով, իսկ նվազեցումները՝ փակագծերում)
B9: ծրագիր | C9: միջոցառում | E9: ընդամենը | F9: այդ թվում՝
F10: կառուցման աշխատանքներ | G10: վերակառուցման, վերանորոգման և վերականգնման աշխատանքներ | H10: նախագծահե- տազոտական, գեոդեզիա- քարտեզագրա- կան աշխա- տանքներ | I10: ոչ ֆինանսական այլ ակտիվների ձեռքբերում
D11: ԸՆԴԱՄԵՆԸ | E11: =E12+E17 -> 3984726 | F11: =F12+F17 -> 4370636 | G11: =G12+G17 -> -88815.182 | H11: =H12+H17 -> 0 | I11: =I12+I17 -> -297094.8
D12: ՀՀ ազգային անվտանգության ծառայություն | E12: =E14+E15 -> -385909.98 | F12: =F14+F15 -> 0 | G12: =G14+G15 -> -88815.182 | H12: =H14+H15 -> 0 | I12: =I14+I15 -> -297094.8
D13: այդ թվում`
B14: 1138 | C14: 31001 | D14: Ազգային անվտանգության համակարգի տեխնիկական հագեցվածության բարելավում | E14: =SUM(F14:I14) -> -297094.8 | I14: -297094.8
B15: 1138 | C15: 31002 | D15: Ազգային անվտանգության համակարգի շենքային ապահովվածության բարելավում | E15: =SUM(F15:I15) -> -88815.182 | G15: -88815.182
D16: այդ թվում՝
D17: ՀՀ պաշտպանության նախարարություն | E17: =SUM(E19:E19) -> 4370636 | F17: =SUM(F19:F19) -> 4370636 | G17: =SUM(G19:G19) -> 0 | H17: =SUM(H19:H19) -> 0 | I17: =SUM(I19:I19) -> 0
D18: այդ թվում`
B19: 1169 | C19: 31001 | D19: ՀՀ պաշտպանության նախարարության շենքային պայմանների բարելավում | E19: =SUM(F19:I19) -> 4370636 | F19: =+'Հ-3 և Հ-4'!H64 -> 4370636 | G19: 0 | H19: 0 | I19: 0

Sheet Հ-3 և Հ-4
H1: Հավելված N 3
H2: ՀՀ կառավարության 2025 թվականի
H3: ______________ ի N ___ -Ն որոշման
B5: ՀԱՅԱՍՏԱՆԻ ՀԱՆՐԱՊԵՏՈՒԹՅԱՆ ԿԱՌԱՎԱՐՈՒԹՅԱՆ 2024 ԹՎԱԿԱՆԻ ԴԵԿՏԵՄԲԵՐԻ 27-Ի N 2060-Ն ՈՐՈՇՄԱՆ
B6: N 3 և N 4 ՀԱՎԵԼՎԱԾՆԵՐՈՒՄ ԿԱՏԱՐՎՈՂ ՓՈՓՈԽՈՒԹՅՈՒՆՆԵՐԸ
H7: հազար դրամ
B8: Գործառական դասիչը | E8: Ծրագրային դասիչը | G8: Բյուջետային ծախսերի գործառական դասակարգման բաժինների, խմբերի և դասերի, բյուջետային ծրագրերի միջոցառումների, բյուջետային հատկացումների գլխավոր կարգադրիչների անվանումները | H8: Ցուցանիշների փոփոխությունը (ավելացումները նշված են դրական նշանով, իսկ նվազեցումները՝ փակագծերում)
B9: բաժին | C9: խումբ | D9: դաս | E9: ծրագիր | F9: միջոցա-ռում | H9: տարի
G10: ԸՆԴԱՄԵՆԸ ԾԱԽՍԵՐ | H10: =H54+H12 -> 0.018
G11: այդ թվում`
G12: ՀՀ ազգային անվտանգության ծառայություն | H12: =H14 -> -4370636
G13: այդ թվում`
B14: 03 | G14: ՀԱՍԱՐԱԿԱԿԱՆ ԿԱՐԳ, ԱՆՎՏԱՆԳՈՒԹՅՈՒՆ ԵՎ ԴԱՏԱԿԱՆ ԳՈՐԾՈՒՆԵՈՒԹՅՈՒՆ | H14: =H16 -> -4370636
G15: այդ թվում`
C16: 01 | G16: Հասարակական կարգ և անվտանգություն | H16: =H18 -> -4370636
G17: այդ թվում`
D18: 02 | G18: Ազգային անվտանգություն | H18: =H20 -> -4370636
G19: այդ թվում`
E20: 1138 | G20: Ազգային անվտանգություն | H20: =H22+H36+H45 -> -4370636
G21: այդ թվում`
F22: 11001 | G22: Հետախուզական, հակահետախուզական, ռազմական հակահետախուզության, հանցագործությունների դեմ պայքարի և պետական սահմանի պահպանության գործունեության կազմակերպում | H22: =H24 -> -3984726
G23: այդ թվում` ըստ կատարողների
G24: ՀՀ ազգային անվտանգության ծառայություն | H24: =H26 -> -3984726
G25: այդ թվում` բյուջետային ծախսերի տնտեսագիտական դասակարգման հոդվածներ
G26: ԸՆԴԱՄԵՆԸ ԾԱԽՍԵՐ | H26: =H27 -> -3984726
G27: ԸՆԹԱՑԻԿ ԾԱԽՍԵՐ | H27: =H28+H31 -> -3984726
G28: ԱՇԽԱՏԱՆՔԻ ՎԱՐՁԱՏՐՈՒԹՅՈՒՆ | H28: =H29 -> -3900000
G29: ԴՐԱՄՈՎ ՎՃԱՐՎՈՂ ԱՇԽԱՏԱՎԱՐՁԵՐ ԵՎ ՀԱՎԵԼԱՎՃԱՐՆԵՐ | H29: =H30 -> -3900000
G30: - Աշխատողների աշխատավարձեր և հավելավճարներ | H30: -3900000
G31: ԾԱՌԱՅՈՒԹՅՈՒՆՆԵՐԻ ԵՎ ԱՊՐԱՆՔՆԵՐԻ ՁԵՌՔԲԵՐՈՒՄ | H31: =H32+H34 -> -84726
G32: ՇԱՐՈՒՆԱԿԱԿԱՆ ԾԱԽՍԵՐ | H32: =H33 -> -25000
G33: - Կապի ծառայություններ | H33: -25000
G34: ՊԱՅՄԱՆԱԳՐԱՅԻՆ ԱՅԼ ԾԱՌԱՅՈՒԹՅՈՒՆՆԵՐԻ ՁԵՌՔ ԲԵՐՈՒՄ | H34: =H35 -> -59726
G35: - Համակարգչային ծառայություններ | H35: -59726
F36: 31001 | G36: Ազգային անվտանգության համակարգի տեխնիկական հագեցվածության բարելավում | H36: -297094.8
G37: այդ թվում` ըստ կատարողների
G38: ՀՀ ազգային անվտանգության ծառայություն | H38: -297094.8
G39: այդ թվում` բյուջետային ծախսերի տնտեսագիտական դասակարգման հոդվածներ
G40: ԸՆԴԱՄԵՆԸ ԾԱԽՍԵՐ | H40: -297094.8
G41: ՈՉ ՖԻՆԱՆՍԱԿԱՆ ԱԿՏԻՎՆԵՐԻ ԳԾՈՎ ԾԱԽՍԵՐ | H41: -297094.8
...

Sheet Հ-5 Ա 2
E1: Հավելված N 4
E2: ='Հ-3 և Հ-4'!H2 -> ՀՀ կառավարության 2025 թվականի
E3: ='Հ-3 և Հ-4'!H3 -> ______________ ի N ___ -Ն որոշման
B5: ='Հ-3 և Հ-4'!B5:H5 -> ՀԱՅԱՍՏԱՆԻ ՀԱՆՐԱՊԵՏՈՒԹՅԱՆ ԿԱՌԱՎԱՐՈՒԹՅԱՆ 2024 ԹՎԱԿԱՆԻ ԴԵԿՏԵՄԲԵՐԻ 27-Ի N 2060-Ն ՈՐՈՇՄԱՆ
B6: N 5 ՀԱՎԵԼՎԱԾԻ N 2 ԱՂՅՈՒՍԱԿՈՒՄ ԿԱՏԱՐՎՈՂ ՓՈՓՈԽՈՒԹՅՈՒՆՆԵՐԸ
E7: հազար դրամ
B8: Ծրագրային դասիչ | D8: Բյուջետային գլխավոր կարգադրիչների, ծրագրերի, միջոցառումների և ուղղությունների անվանումները | E8: Ցուցանիշների փոփոխությունը (ավելացումները նշված են դրական նշանով, իսկ նվազեցումները՝ փակագծերում)
B9: ծրագիր | C9: միջո-ցառում | E9: տարի
D10: ԸՆԴԱՄԵՆԸ | E10: =E12+E21 -> 3984726
D11: այդ թվում՝
D12: ՀՀ ազգային անվտանգության ծառայություն | E12: =E14+E17 -> -385909.98
D13: այդ թվում՛
B14: 1138 | C14: 31001 | D14: Ազգային անվտանգության համակարգի տեխնիկական հագեցվածության բարելավում | E14: =+E16 -> -297094.8
D15: այդ թվում` ըստ կատարողների
D16: ՀՀ ազգային անվտանգության ծառայություն | E16: -297094.8
B17: 1138 | C17: 31002 | D17: Ազգային անվտանգության համակարգի շենքային ապահովվածության բարելավում | E17: =+E19 -> -88815.182
D18: այդ թվում` ըստ կատարողների
D19: ՀՀ ազգային անվտանգության ծառայություն | E19: -88815.182
D21: ՀՀ պաշտպանության նախարարություն | E21: =E23 -> 4370636
D22: այդ թվում`
B23: 1169 | C23: 31001 | D23: ՀՀ պաշտպանության նախարարության շենքային պայմանների բարելավում | E23: =E25 -> 4370636
D24: այդ թվում` ըստ կատարողների
D25: ՀՀ պաշտպանության նախարարություն | E25: =+'Հ-3 և Հ-4'!H64 -> 4370636

Sheet Հ-9
K1: Հավելված N 5
K2: ='Հ-3 և Հ-4'!H2 -> ՀՀ կառավարության 2025 թվականի
K3: ='Հ-3 և Հ-4'!H3 -> ______________ ի N ___ -Ն որոշման
B6: =+'Հ-3 և Հ-4'!B5:H5 -> ՀԱՅԱՍՏԱՆԻ ՀԱՆՐԱՊԵՏՈՒԹՅԱՆ ԿԱՌԱՎԱՐՈՒԹՅԱՆ 2024 ԹՎԱԿԱՆԻ ԴԵԿՏԵՄԲԵՐԻ 27-Ի N 2060-Ն ՈՐՈՇՄԱՆ
B7: N 9 ՀԱՎԵԼՎԱԾՈՒՄ ԿԱՏԱՐՎՈՂ ՓՈՓՈԽՈՒԹՅՈՒՆՆԵՐԸ
K8: հազար դրամ
B9: ԲԳԿ | C9: Ծրագիր | E9: Միջոցառում | I9: Իրականացնողը/ ակտիվն օգտագործողը/ շահառուի ընտրության չափորոշիչը | J9: Արդյունքային չափորոշիչը | K9: Ցուցանիշների փոփոխությունը (ավելացումները նշված են դրական նշանով, իսկ նվազեցումները՝ փակագծերում)
C10: Դասիչը | D10: Անվա-նումը | E10: Դասիչը | F10: Անվա-նումը | G10: Նկարագրու-թյունը | H10: Տեսակը | K10: տարի
B11: ԸՆԴԱՄԵՆԸ | K11: =K27+K12 -> 0.018
B12: ՀՀ ազգային անվտանգության ծառայություն | K12: =K13 -> -4370636
C13: 1138 | D13: Ազգային անվտանգություն | K13: =K14+K18+K23 -> -4370636
E14: 1138 - 11001 | F14: Հետախուզական, հակահետախուզական, ռազմական հակահետախուզության, հանցագործությունների դեմ պայքարի և պետական սահմանի պահպանության գործունեության կազմակերպում | K14: -3984726
G15: ՀՀ անվտանգությանը սպառնացող վտանգի մասին տեղեկատվության ստացում, վերլուծում, վտանգի կանխատեսում, վտանգի կանխման ու չեզոքացման վերաբերյալ առաջարկությունների մշակում
H16: Ծառայությունների մատուցում
I17: Ծառայությունը մատուցողի անվանումը` ՀՀ ազգային անվտանգության ծառայություն
E18: 1138 - 31001 | F18: Ազգային անվտանգության համակարգի տեխնիկական հագեցվածության բարելավում | K18: -297094.8
G19: Ազգային անվտանգության համակարգի ստորաբաժանումների համար վարչական սարքավորումների ձեռքբերում
H20: Պետական մարմինների կողմից օգտագործվող ոչ ֆինանսական ակտիվների հետ գործառնություններ
I21: Ակտիվն օգտագործող կազմակերպության անվանումը` ՀՀ ազգային անվտանգության ծառայություն
J22: Համակարգչային և տեխնիկական սարքավորումների քանակ, հատ | K22: -50
E23: 1138 - 31002 | F23: Ազգային անվտանգության համակարգի շենքային ապահովվածության բարելավում | K23: -88815.182
G24: Ազգային անվտանգության համակարգի ստորաբաժանումների վարչական շենքերի կառուցում, կապիտալ վերանորոգում, շինարարական և կապիտալ նորոգման օբյեկտների նախագծահետազոտական փաստաթղթերի պատրաստում
H25: Պետական մարմինների կողմից օգտագործվող ոչ ֆինանսական ակտիվների հետ գործառնություններ
I26: Ակտիվն օգտագործող կազմակերպության անվանումը` ՀՀ ազգային անվտանգության ծառայություն
B27: ՀՀ պաշտպանության նախարարություն | K27: =K28 -> 4370636
C28: 1169 | D28: ՀՀ պաշտպանության ապահովում | K28: =K29 -> 4370636
E29: 1169 - 31001 | F29: ՀՀ պաշտպանության նախարարության շենքային պայմանների բարելավում | K29: =+'Հ-3 և Հ-4'!H64 -> 4370636
G30: Պաշտպանության կարիքների համար բնակելի, գրասենյակային և այլ նշանակության շենքերի և շինությունների կառուցում
H31: Պետական մարմինների կողմից օգտագործվող ոչ ֆինանսական ակտիվների հետ գործառնություններ
I32: Ակտիվն օգտագործող կազմակերպության անվանումը` ՀՀ պաշտպանության նախարարություն

Sheet Հ-9.1
K1: Հավելված N 6
K2: ='Հ-3 և Հ-4'!H2 -> ՀՀ կառավարության 2025 թվականի
K3: ='Հ-3 և Հ-4'!H3 -> ______________ ի N ___ -Ն որոշման
B6: =+'Հ-3 և Հ-4'!B5:H5 -> ՀԱՅԱՍՏԱՆԻ ՀԱՆՐԱՊԵՏՈՒԹՅԱՆ ԿԱՌԱՎԱՐՈՒԹՅԱՆ 2024 ԹՎԱԿԱՆԻ ԴԵԿՏԵՄԲԵՐԻ 27-Ի N 2060-Ն ՈՐՈՇՄԱՆ
B7: N 9.1 ՀԱՎԵԼՎԱԾՈՒՄ ԿԱՏԱՐՎՈՂ ՓՈՓՈԽՈՒԹՅՈՒՆՆԵՐԸ
K8: հազար դրամ
B9: ԲՍԿ | C9: Ծրագիր | E9: Միջոցառում | I9: Իրականացնողը/ ակտիվն օգտագործողը/ շահառուի ընտրության չափորոշիչը | J9: Արդյունքային չափորոշիչը | K9: Ցուցանիշների փոփոխությունը (ավելացումները նշված են դրական նշանով, իսկ նվազեցումները՝ փակագծերում)
C10: Դասիչը | D10: Անվա-նումը | E10: Դասիչը | F10: Անվա-նումը | G10: Նկարագրու-թյունը | H10: Տեսակը | K10: տարի
B11: ԸՆԴԱՄԵՆԸ | K11: =K27+K12 -> 0.018
B12: ՀՀ ազգային անվտանգության ծառայություն | K12: =K13 -> -4370636
C13: 1138 | D13: Ազգային անվտանգություն | K13: =K14+K18+K23 -> -4370636
E14: 1138 - 11001 | F14: Հետախուզական, հակահետախուզական, ռազմական հակահետախուզության, հանցագործությունների դեմ պայքարի և պետական սահմանի պահպանության գործունեության կազմակերպում | K14: -3984726
G15: ՀՀ անվտանգությանը սպառնացող վտանգի մասին տեղեկատվության ստացում, վերլուծում, վտանգի կանխատեսում, վտանգի կանխման ու չեզոքացման վերաբերյալ առաջարկությունների մշակում
H16: Ծառայությունների մատուցում
I17: Ծառայությունը մատուցողի անվանումը` ՀՀ ազգային անվտանգության ծառայություն
E18: 1138 - 31001 | F18: Ազգային անվտանգության համակարգի տեխնիկական հագեցվածության բարելավում | K18: -297094.8
G19: Ազգային անվտանգության համակարգի ստորաբաժանումների համար վարչական սարքավորումների ձեռքբերում
H20: Պետական մարմինների կողմից օգտագործվող ոչ ֆինանսական ակտիվների հետ գործառնություններ
I21: Ակտիվն օգտագործող կազմակերպության անվանումը` ՀՀ ազգային անվտանգության ծառայություն
J22: Համակարգչային և տեխնիկական սարքավորումների քանակ, հատ | K22: -50
E23: 1138 - 31002 | F23: Ազգային անվտանգության համակարգի շենքային ապահովվածության բարելավում | K23: -88815.182
G24: Ազգային անվտանգության համակարգի ստորաբաժանումների վարչական շենքերի կառուցում, կապիտալ վերանորոգում, շինարարական և կապիտալ նորոգման օբյեկտների նախագծահետազոտական փաստաթղթերի պատրաստում
H25: Պետական մարմինների կողմից օգտագործվող ոչ ֆինանսական ակտիվների հետ գործառնություններ
I26: Ակտիվն օգտագործող կազմակերպության անվանումը` ՀՀ ազգային անվտանգության ծառայություն
B27: ՀՀ պաշտպանության նախարարություն | K27: =K28 -> 4370636
C28: 1169 | D28: ՀՀ պաշտպանության ապահովում | K28: =K29 -> 4370636
E29: 1169 - 31001 | F29: ՀՀ պաշտպանության նախարարության շենքային պայմանների բարելավում | K29: =+'Հ-3 և Հ-4'!H64 -> 4370636
G30: Պաշտպանության կարիքների համար բնակելի, գրասենյակային և այլ նշանակության շենքերի և շինությունների կառուցում
H31: Պետական մարմինների կողմից օգտագործվող ոչ ֆինանսական ակտիվների հետ գործառնություններ
I32: Ակտիվն օգտագործող կազմակերպության անվանումը` ՀՀ պաշտպանության նախարարություն

Sheet Հ-10
G1: Հավելված 7
G2: ՀՀ կառավարության 2025 թվականի
G3: ___________ ___-ի N _______ -Ն որոշման
A5: ՀԱՅԱՍՏԱՆԻ ՀԱՆՐԱՊԵՏՈՒԹՅԱՆ ԿԱՌԱՎԱՐՈՒԹՅԱՆ 2024 ԹՎԱԿԱՆԻ ԴԵԿՏԵՄԲԵՐԻ 27-Ի N 2060-Ն ՈՐՈՇՄԱՆ N 10 ՀԱՎԵԼՎԱԾՈՒՄ ԿԱՏԱՐՎՈՂ ՓՈՓՈԽՈՒԹՅՈՒՆՆԵՐԸ
A7: Կոդը | B7: Անվանումը | C7: Գնման ձևը | D7: Չափման միավորը | E7: Միավորի գինը (դրամ) | F7: Ցուցանիշների փոփոխությունը (նվազեցումները նշված են փակագծերում)
F8: Քանակը | G8: Գումարը (հազար դրամ)
A9: ՀՀ ազգային անվտանգության ծառայություն | G9: =+G10 -> -12494.8
A10: Բաժին N 03 | B10: Խումբ N 01 | C10: Դաս N 02 | D10: Ազգային անվտանգություն | G10: =G11 -> -12494.8
A11: 1138 31001 | B11: Ազգային անվտանգության համակարգի տեխնիկական հագեցվածության բարելավում | G11: =SUM(G12:G18) -> -12494.8
A12: 32411160/2 | B12: ցանցային երթուղագծիչներ | C12: ԷԱՃ | D12: հատ | E12: 600000 | F12: -4 | G12: =E12*F12/1000 -> -2400
A13: 32541300/1 | B13: հեռախոսային կոմուտատորներ | C13: ԷԱՃ | D13: հատ | E13: 41480 | F13: -10 | G13: =E13*F13/1000 -> -414.8
A14: 32541300/3 | B14: հեռախոսային կոմուտատորներ | C14: ԷԱՃ | D14: հատ | E14: 165000 | F14: -10 | G14: =E14*F14/1000 -> -1650
A15: 32541300/4 | B15: հեռախոսային կոմուտատորներ | C15: ԷԱՃ | D15: հատ | E15: 295000 | F15: -10 | G15: =E15*F15/1000 -> -2950
A16: 32541300/5 | B16: հեռախոսային կոմուտատորներ | C16: ԷԱՃ | D16: հատ | E16: 418000 | F16: -5 | G16: =E16*F16/1000 -> -2090
A17: 32541300/6 | B17: հեռախոսային կոմուտատորներ | C17: ԷԱՃ | D17: հատ | E17: 705000 | F17: -3 | G17: =E17*F17/1000 -> -2115
A18: 32561600/2 | B18: օպտիկամանրաթելային փոխարկիչ | C18: ԷԱՃ | D18: հատ | E18: 175000 | F18: -5 | G18: =E18*F18/1000 -> -875

Sheet Sheet1
A1: 4239 | B1: 20939.6
A2: 4252 | B2: 4001.2
A3: 4261 | B3: 24221.5
A4: 4264 | B4: 658398.2
A5: 4267 | B5: 51113.2
A6: 4269 | B6: 58135.2
A7: 5121 | B7: 34800
A8: 5122 | B8: 30780.6
A9: 5129 | B9: 165718.2
A10: 5132 | B10: 33.2
