Workbook
Name a: #REF!
Name a: #REF!
Name a: #REF!
Name a: #REF!
Name AgencyCode: #REF!
Name AgencyCode: #REF!
Name AgencyCode: #REF!
Name AgencyCode: #REF!
Name AgencyCode: #REF!
Name AgencyCode: #REF!
Name AgencyCode: #REF!
Name AgencyName: #REF!
Name AgencyName: #REF!
Name AgencyName: #REF!
Name AgencyName: #REF!
Name åû: #REF!
Name åû: #REF!
Name davit: #REF!
Name davit: #REF!
Name davit: #REF!
Name Functional1: #REF!
Name Functional1: #REF!
Name Functional1: #REF!
Name Functional1: #REF!
Name ggg: #REF!
Name ggg: #REF!
Name ggg: #REF!
Name hav: #REF!
Name mas: #REF!
Name mas: #REF!
Name mass: #REF!
Name mass: #REF!
Name PANature: #REF!
Name PANature: #REF!
Name PANature: #REF!
Name PANature: #REF!
Name PAType: #REF!
Name PAType: #REF!
Name PAType: #REF!
Name PAType: #REF!
Name Performance2: #REF!
Name Performance2: #REF!
Name Performance2: #REF!
Name Performance2: #REF!
Name PerformanceType: #REF!
Name PerformanceType: #REF!
Name PerformanceType: #REF!
Name PerformanceType: #REF!
Name x: #REF!
Name x: #REF!
Name Հավելված: #REF!
Name Հավելված: #REF!
Name Հավելված: #REF!
Name Հավելված10: #REF!
Name Հավելված10: #REF!
Name Հավելված10: #REF!
Name Հավելված11: #REF!
Name Հավելված11: #REF!
Name Հավելված11: #REF!
Name Հավելված20: #REF!

Sheet Հավելված N 1
F1: Հավելված N 1
F2: ՀՀ կառավարության 2025 թվականի
F3: ______________ ի ___Ն որոշման
A6: «ՀԱՅԱUՏԱՆԻ ՀԱՆՐԱՊԵՏՈՒԹՅԱՆ 2025 ԹՎԱԿԱՆԻ ՊԵՏԱԿԱՆ ԲՅՈՒՋԵԻ ՄԱUԻՆ» ՀԱՅԱUՏԱՆԻ ՀԱՆՐԱՊԵՏՈՒԹՅԱՆ OՐԵՆՔԻ N 1 ՀԱՎԵԼՎԱԾԻ N 2 ԱՂՅՈՒՍԱԿՈՒՄ ԿԱՏԱՐՎՈՂ ՎԵՐԱԲԱՇԽՈՒՄԸ ԵՎ ՀԱՅԱՍՏԱՆԻ ՀԱՆՐԱՊԵՏՈՒԹՅԱՆ ԿԱՌԱՎԱՐՈՒԹՅԱՆ 2024 ԹՎԱԿԱՆԻ ԴԵԿՏԵՄԲԵՐԻ 27-Ի N 2060-Ն ՈՐՈՇՄԱՆ N 5 ՀԱՎԵԼՎԱԾԻ N 1 ԱՂՅՈՒՍԱԿՈՒՄ ԿԱՏԱՐՎՈՂ ՓՈՓՈԽՈՒԹՅՈՒՆՆԵՐԸ ԵՎ ԼՐԱՑՈՒՄՆԵՐԸ
G9: հազ. դրամներով
A10: ԲԳԿ | B10: Ծրագրային դասիչը | D10: ԲԳԿ/Ծրագրի /միջոցառման անվանումը | E10: Ծրագրի նպատակը/Միջոցառման նկարագրությունը | F10: Վերջնական արդյունքի նկարագրությունը/Միջոցառման տեսակը | G10: Ցուցանիշների փոփոխությունը (ավելացումները նշված են դրական նշանով, իսկ նվազեցումները փակագծերում)
G11: Տարի
B12: Ծրագիր | C12: Միջոցառում
A13: ԸՆԴԱՄԵՆԸ | G13: =+G15+G31 -> 0
A14: այդ թվում՝
A15: ՀՀ ԿՐԹՈՒԹՅԱՆ, ԳԻՏՈՒԹՅԱՆ, ՄՇԱԿՈՒՅԹԻ ԵՎ ՍՊՈՐՏԻ ՆԱԽԱՐԱՐՈՒԹՅՈՒՆ | G15: =+G16+G18+G20+G22 -> 500000
B16: 1075 | D16: Մշակութային ժառանգության ծրագիր | E16: Մշակութային ժառանգության պահպանում, օգտագործում, համալրում և հանրահռչակում | F16: Մշակութային ժառանգության շարունակական պահպանում, մշակութային զբոսաշրջության զարգացում և խթանում | G16: =+G17 -> -101726.7
C17: 1075 - 32001 | D17: Ներդրումներ թանգարանների և պատկերասրահների հիմնանորոգման համար | E17: Թանգարանների և պատկերասրահների շենքերի, մասնաշենքերի հիմնանորոգում, համաշինարարական աշխատանքներ, ջեռուցման համակարգի իրականացում, ներքին հարդարում, տարածքի բարեկարգում և նախագծում | F17: Այլ պետական կազմակերպությունների կողմից օգտագործվող ոչ ֆինանսական ակտիվների հետ գործառնություններ | G17: =+'Հավելված N 2'!G26 -> -101726.7
B18: 1183 | D18: Ապահով դպրոց | E18: Դպրոցներին սպառնացող աղետների ռիսկի կառավարման կարողությունների հզորացում, դպրոցի անձնակազմի և աշակերտների անվտանգության ապահովման մակարդակի բարձրացում՛ կիրառելով ներառական և երեխայակենտրոն մոտեցում | F18: Դպրոցական միջավայրի բարելավում | G18: =+G19 -> 55000
C19: 1183 - 11002 | D19: Աջակցություն դպրոցներին «Արագ արձագանքման ֆոնդի» շրջանակում՛ հրատապ խնդիրների լուծման համար | E19: Դպրոցներում արտակարգ իրավիճակների և չնախատեսված հանգամանքների հետևանքով առաջացած խնդիրների լուծման նպատակով ընթացիկ աշխատանքների իրականացում | F19: Ծառայությունների մատուցում | G19: =+'Հավելված N 2'!G78 -> 55000
B20: 1189 | D20: Դպրոցների սեյսմիկ անվտանգության մակարդակի բարձրացման ծրագիր | E20: Նպաստել երկրի սեյսմակայունության ապահովմանը, անհատական և հասարակական անվտանգության մակարդակի բարձրացմանը | F20: Դպրոցական շենքերի սեյսմակայունության մակարդակի բարձրացում | G20: =+G21 -> 10000
C21: 1189 - 11001 | D21: Ասիական զարգացման բանկի աջակցությամբ իրականացվող դպրոցների սեյսմիկ պաշտպանության ծրագրի կառավարում | E21: Դպրոցների սեյսմիկ պաշտպանության ծրագիր` ՀՀ դպրոցների սեյսմիկ անվտանգության բարելավման նպատակով | F21: Ծառայությունների մատուցում | G21: =+'Հավելված N 2'!G165 -> 10000
B22: 1236 | D22: Հանրակրթական և նախադպրոցական հաստատությունների հիմնում, կառուցում, բարելավում | E22: Առնվազն 300 դպրոցի և 500 մանկապարտեզի կառուցման, վերակառուցման, հիմնանորոգման ծրագրերի իրականացում ՀՀ պետական բյուջեի միջոցների շրջանակներում | F22: Կրթական միջավայրի բարելավում | G22: =+G23+G24+G25+G26+G27+G28+G29 -> 536726.7
C23: 1236 - 11001 | D23: Հանրակրթական և նախադպրոցական հաստատությունների կառուցման, վերակառուցման, հիմնանորոգման ծրագրերի համակարգման և մոնիտորինգի ծառայություններ | E23: Հանրակրթական և նախադպրոցական հաստատությունների կառուցման, վերակառուցման, հիմնանորոգման ծրագրերի համակարգման և մոնիտորինգի ծառայությունների ապահովում | F23: Ծառայությունների մատուցում | G23: =+'Հավելված N 2'!G91 -> -38266.2
C24: 1236 - 31001 | D24: Հանրակրթական և նախադպրոցական հաստատությունների կառուցման, վերակառուցման, հիմնանորոգման ծրագրերի համակարգման շրջանակներում Հայաստանի տարածքային զարգացման հիմնադրամի կարողությունների զարգացում և տեխնիկական հագեցվածության ապահովում | E24: Հայաստանի տարածքային զարգացման հիմնադրամի աշխատանքային պայմանների բարելավման համար վարչական սարքավորումների ձեռքբերում | F24: Պետական մարմինների կողմից օգտագործվող ոչ ֆինանսական ակտիվների հետ գործառնություններ | G24: =+'Հավելված N 2'!G100 -> 28266.2
C25: 1236 - 32001 | D25: Մանկապարտեզների նոր շենքերի կառուցում | E25: Նախադպրոցական կրթության հասանելիության ապահովման նպատակով՛ մանկապարտեզների հիմնում, նոր շենքերի (մասնաշենքերի), ներառյալ՛ ,Մոդուլայինե տիպի շենքերի կառուցում և նախագծում | F25: Այլ պետական կազմակերպությունների կողմից օգտագործվող ոչ ֆինանսական ակտիվների հետ գործառնություններ | G25: =+'Հավելված N 2'!G45 -> -484436.8
C26: 1236 - 32002 | D26: Մանկապարտեզների շենքերի վերակառուցում, հիմնանորոգում | E26: Նախադպրոցական կրթության հասանելիության ապահովման նպատակով՛ մանկապարտեզների շենքերի (մասնաշենքերի), վերակառուցում, հիմնանորոգում և նախագծում | F26: Այլ պետական կազմակերպությունների կողմից օգտագործվող ոչ ֆինանսական ակտիվների հետ գործառնություններ | G26: =+'Հավելված N 2'!G54 -> 23054.5
C27: 1236 - 32003 | D27: Հանրակրթական դպրոցների նոր շենքերի կառուցում | E27: ՀՀ մարզերում կրթական որակյալ ծառայությունների հասանելիության ապահովման ծրագրի շրջանակներում հանրակրթական և նախադպրոցական կրթության հասանելիության ապահովման նպատակով կրթական կենտրոնների կառուցում | F27: Այլ պետական կազմակերպությունների կողմից օգտագործվող ոչ ֆինանսական ակտիվների հետ գործառնություններ | G27: =+'Հավելված N 2'!G109 -> -9282.8
C28: 1236 - 32004 | D28: Հանրակրթական դպրոցների շենքերի վերակառուցում, հիմնանորոգում | E28: Դպրոցական պարտադիր կրթության հասանելիության ապահովման նպատակով՛ հանրակրթական դպրոցների շենքերի (մասնաշենքերի), վերակառուցում, հիմնանորոգում և նախագծում | F28: Այլ պետական կազմակերպությունների կողմից օգտագործվող ոչ ֆինանսական ակտիվների հետ գործառնություններ | G28: =+'Հավելված N 2'!G125 -> 1000000
C29: 1236 - 32006 | D29: Հանրակրթական դպրոցների, մանկապարտեզների և կրթահամալիրների գույքով և տեխնիկայով ապահովում | E29: Կրթական ժամանակակից նորմերին և կրթական չափորոշիչներին համապատասխան ուսուցման ծրագրերն իրականացնելու նպատակով հանրակրթական և նախադպրոցական հաստատությունների համար գույքի և տեխնիկայի ձեռքբերում | F29: Այլ պետական կազմակերպությունների կողմից օգտագործվող ոչ ֆինանսական ակտիվների հետ գործառնություններ | G29: =+'Հավելված N 2'!G134 -> 17391.8
A31: ՀՀ ԿԱՌԱՎԱՐՈՒԹՅՈՒՆ | G31: =+G32 -> -500000
B32: 1139 | D32: ՀՀ կառավարության պահուստային ֆոնդ | E32: Պետական բյուջեում չկանխատեսված, ինչպես նաեւ բյուջետային երաշխիքների ապահովման ծախսերի ֆինանսավորման ապահովում | F32: Պահուստային ֆոնդի կառավարման արդյունավետության և թափանցիկության ապահովում | G32: =+G33 -> -500000
C33: 1139 - 11001 | D33: ՀՀ կառավարության պահուստային ֆոնդ | E33: ՀՀ պետական բյուջեում նախատեսված ելքերի լրացուցիչ ֆինանսավորման, պետական բյուջեում չկանխատեսված ելքերի, ինչպես նաև բյուջետային երաշխիքների ապահովման ելքերի ֆինանսավորման ապահովում | F33: Ծառայությունների մատուցում | G33: =+'Հավելված N 2'!G186 -> -500000

Sheet Հավելված N 2
F1: Հավելված N 2
F2: ՀՀ կառավարության 2025 թվականի
F3: ______________ ի ___Ն որոշման
A7: ՀԱՅԱՍՏԱՆԻ ՀԱՆՐԱՊԵՏՈՒԹՅԱՆ ԿԱՌԱՎԱՐՈՒԹՅԱՆ 2024 ԹՎԱԿԱՆԻ ԴԵԿՏԵՄԲԵՐԻ 27-Ի N 2060-Ն ՈՐՈՇՄԱՆ N 3 ԵՎ N 4 ՀԱՎԵԼՎԱԾՆԵՐՈՒՄ ԿԱՏԱՐՎՈՂ ՓՈՓՈԽՈՒԹՅՈՒՆՆԵՐԸ ԵՎ ԼՐԱՑՈՒՄՆԵՐԸ
G10: հազ. դրամներով
A11: Գործառական դասիչը | D11: Ծրագրային դասիչը | F11: Բյուջետային հատկացումների գլխավոր կարգադրիչների, ծրագրերի, միջոցառումների և միջոցառումները կատարող պետական մարմինների անվանումները | G11: Ցուցանիշների փոփոխությունը (ավելացումները նշված են դրական նշանով, իսկ նվազեցումները՝ փակագծերում)
A12: Բաժին | B12: Խումբ | C12: Դաս | D12: Ծրագիր | E12: Միջոցառում | G12: Տարի
F13: ԸՆԴԱՄԵՆԸ | G13: =+G15+G175 -> 0
F14: այդ թվում՝
F15: ՀՀ ԿՐԹՈՒԹՅԱՆ, ԳԻՏՈՒԹՅԱՆ, ՄՇԱԿՈՒՅԹԻ ԵՎ ՍՊՈՐՏԻ ՆԱԽԱՐԱՐՈՒԹՅՈՒՆ | G15: =+G16+G35 -> 500000
A16: 08 | F16: ՀԱՆԳԻՍՏ, ՄՇԱԿՈՒՅԹ ԵՎ ԿՐՈՆ | G16: =+G18 -> -101726.7
F17: այդ թվում`
B18: 02 | F18: Մշակութային ծառայություններ | G18: =+G20 -> -101726.7
F19: այդ թվում`
C20: 02 | F20: Թանգարաններ և ցուցասրահներ | G20: =+G22 -> -101726.7
F21: այդ թվում`
F22: ՀՀ կրթության, գիտության, մշակույթի և սպորտի նախարարություն | G22: =+G24 -> -101726.7
F23: այդ թվում`
D24: 1075 | E24: Մշակութային ժառանգության ծրագիր | G24: =+G26 -> -101726.7
F25: այդ թվում`
E26: 32001 | F26: Ներդրումներ թանգարանների և պատկերասրահների հիմնանորոգման համար | G26: =+G28 -> -101726.7
F27: այդ թվում` ըստ կատարողների
F28: ՀՀ քաղաքաշինության կոմիտե | G28: =+G30 -> -101726.7
F29: այդ թվում՝ բյուջետային ծախսերի տնտեսագիտական դասակարգման հոդվածներ
F30: ԸՆԴԱՄԵՆԸ ԾԱԽՍԵՐ | G30: =G31 -> -101726.7
F31: ՈՉ ՖԻՆԱՆՍԱԿԱՆ ԱԿՏԻՎՆԵՐԻ ԳԾՈՎ ԾԱԽՍԵՐ | G31: =+G32 -> -101726.7
F32: ՀԻՄՆԱԿԱՆ ՄԻՋՈՑՆԵՐ | G32: =+G33 -> -101726.7
F33: ՇԵՆՔԵՐ ԵՎ ՇԻՆՈՒԹՅՈՒՆՆԵՐ | G33: =+G34 -> -101726.7
F34: - Շենքերի և շինությունների կապիտալ վերանորոգում | G34: =+'Հավելված N 4'!E15 -> -101726.7
A35: 09 | F35: ԿՐԹՈՒԹՅՈՒՆ | G35: =+G37+G70+G157 -> 601726.7
F36: այդ թվում`
B37: 01 | F37: Նախադպրոցական և տարրական ընդհանուր կրթություն | G37: =+G39 -> -461382.3
F38: այդ թվում`
C39: 01 | F39: Նախադպրոցական կրթություն | G39: =+G41 -> -461382.3
F40: այդ թվում`
F41: ՀՀ կրթության, գիտության, մշակույթի և սպորտի նախարարություն | G41: =+G43 -> -461382.3
F42: այդ թվում`
D43: 1236 | E43: Հանրակրթական և նախադպրոցական հաստատությունների հիմնում, կառուցում, բարելավում | G43: =+G45+G54 -> -461382.3
F44: այդ թվում`
E45: 32001 | F45: Մանկապարտեզների նոր շենքերի կառուցում | G45: =+G47 -> -484436.8
...

Sheet Հավելված N 3
F1: Հավելված N 3
F2: ՀՀ կառավարության 2025 թվականի
F3: ______________ ի ___Ն որոշման
A5: «ՀԱՅԱUՏԱՆԻ ՀԱՆՐԱՊԵՏՈՒԹՅԱՆ 2025 ԹՎԱԿԱՆԻ ՊԵՏԱԿԱՆ ԲՅՈՒՋԵԻ ՄԱUԻՆ» ՀԱՅԱUՏԱՆԻ ՀԱՆՐԱՊԵՏՈՒԹՅԱՆ OՐԵՆՔԻ N 1 ՀԱՎԵԼՎԱԾԻ N 3 ԱՂՅՈՒՍԱԿՈՒՄ ԿԱՏԱՐՎՈՂ ՓՈՓՈԽՈՒԹՅՈՒՆՆԵՐԸ ԵՎ ԼՐԱՑՈՒՄՆԵՐԸ
G8: հազ. դրամներով
A9: Ծրագրային դասիչ | C9: Բյուջետային գլխավոր կարգադրիչների, ծրագրերի, միջոցառումների, միջոցառումները կատարող պետական մարմինների և ուղղությունների անվանումները | D9: Ընդամենը | E9: Ցուցանիշների փոփոխությունը (ավելացումները նշված են դրական նշանով, իսկ նվազեցումները՝ փակագծերում)
A10: Ծրագիր | B10: Միջոցառում | E10: Կառուցման աշխատանքներ | F10: Վերակառուցման, վերանորոգման և վերականգնման աշխատանքներ | G10: Նախագծահե- տազոտական, գեոդեզիա- քարտեզագրա- կան աշխա- տանքներ | H10: Ոչ ֆինանսական այլ ակտիվների ձեռքբերում
C11: ԸՆԴԱՄԵՆԸ | D11: =SUM(E11:H11) -> 473266.2 | E11: =+E13 -> -493719.6 | F11: =+F13 -> 919457.8 | G11: =+G13 -> 1870 | H11: =+H13 -> 45658
C12: այդ թվում՝
C13: ՀՀ ԿՐԹՈՒԹՅԱՆ, ԳԻՏՈՒԹՅԱՆ, ՄՇԱԿՈՒՅԹԻ ԵՎ ՍՊՈՐՏԻ ՆԱԽԱՐԱՐՈՒԹՅՈՒՆ | D13: =SUM(E13:H13) -> 473266.2 | E13: =+E15+E19+E20+E38+E44+E51+E54 -> -493719.6 | F13: =+F15+F19+F20+F38+F44+F51+F54 -> 919457.8 | G13: =+G15+G19+G20+G38+G44+G51+G54 -> 1870 | H13: =+H15+H19+H20+H38+H44+H51+H54 -> 45658
C14: այդ թվում`
A15: 1075 | B15: 32001 | C15: Ներդրումներ թանգարանների և պատկերասրահների հիմնանորոգման համար | D15: =SUM(E15:H15) -> -101726.7 | E15: =+E17 -> 0 | F15: =+F17 -> -101726.7 | G15: =+G17 -> 0 | H15: =+H17 -> 0
C16: այդ թվում`
C17: Երևան քաղաք | D17: =SUM(E17:H17) -> -101726.7 | E17: =+E18 -> 0 | F17: =+F18 -> -101726.7 | G17: =+G18 -> 0 | H17: =+H18 -> 0
C18: Հայաստանի ազգային պատկերասրահ ՊՈԱԿ-ի Արա Սարգսյանի և Հակոբ Կոջոյանի տուն-թանգարան մասնաճյուղ | D18: =+E18+F18+G18+H18 -> -101726.7 | F18: =+'Հավելված N 9'!I72+'Հավելված N 9'!I74+'Հավելված N 9'!I75 -> -101726.7
A19: 1236 | B19: 31001 | C19: Հանրակրթական և նախադպրոցական հաստատությունների կառուցման, վերակառուցման, հիմնանորոգման ծրագրերի համակարգման շրջանակներում Հայաստանի տարածքային զարգացման հիմնադրամի կարողությունների զարգացում և տեխնիկական հագեցվածության ապահովում | D19: =SUM(E19:H19) -> 28266.2 | E19: 0 | F19: 0 | G19: 0 | H19: =+'Հավելված N 9'!I45 -> 28266.2
A20: 1236 | B20: 32001 | C20: Մանկապարտեզների նոր շենքերի կառուցում | D20: =SUM(E20:H20) -> -484436.8 | E20: =+E22+E24+E27+E29+E31+E36 -> -484436.8 | F20: =+F22+F24+F27+F29+F31+F36 -> 0 | G20: =+G22+G24+G27+G29+G31+G36 -> 0 | H20: =+H22+H24+H27+H29+H31+H36 -> 0
C21: այդ թվում`
C22: ՀՀ Արագածոտնի մարզ | D22: =SUM(E22:H22) -> 2088 | E22: =+E23 -> 2088 | F22: =+F23 -> 0 | G22: =+G23 -> 0 | H22: =+H23 -> 0
C23: Ծաղկահովիտ համայնքի Գեղադիր բնակավայրի մանկապարտեզ | D23: =+E23+F23+G23+H23 -> 2088 | E23: 2088
C24: ՀՀ Արմավիրի մարզ | D24: =SUM(E24:H24) -> -49246.3 | E24: =SUM(E25:E26) -> -49246.3 | F24: =SUM(F25:F26) -> 0 | G24: =SUM(G25:G26) -> 0 | H24: =SUM(H25:H26) -> 0
C25: Խոյ համայնքի Ծաղկունք բնակավայրի մանկապարտեզ | D25: =+E25+F25+G25+H25 -> -1184.3 | E25: -1184.3
C26: Խոյ համայնքի Հովտամեջ բնակավայրի մանկապարտեզ | D26: =+E26+F26+G26+H26 -> -48062 | E26: -48062
C27: ՀՀ Գեղարքունիքի մարզ | D27: =SUM(E27:H27) -> -19306.7 | E27: =+E28 -> -19306.7 | F27: =+F28 -> 0 | G27: =+G28 -> 0 | H27: =+H28 -> 0
C28: Վարդենիս համայնքի Խաչաղբյուր բնակավայրի մանկապարտեզ | D28: =+E28+F28+G28+H28 -> -19306.7 | E28: -19306.7
C29: ՀՀ Կոտայքի մարզ | D29: =SUM(E29:H29) -> -126903 | E29: =+E30 -> -126903 | F29: =+F30 -> 0 | G29: =+G30 -> 0 | H29: =+H30 -> 0
C30: Ակունք համայնքի Զառ բնակավայրի մանկապարտեզ | D30: =+E30+F30+G30+H30 -> -126903 | E30: -126903
C31: ՀՀ Շիրակի մարզ | D31: =SUM(E31:H31) -> -230144.8 | E31: =SUM(E32:E35) -> -230144.8 | F31: =SUM(F32:F35) -> 0 | G31: =SUM(G32:G35) -> 0 | H31: =SUM(H32:H35) -> 0
C32: Անի համայնքի Քարաբերդ բնակավայրի մանկապարտեզ | D32: =+E32+F32+G32+H32 -> -67916.1 | E32: =-147680.9+79764.8 -> -67916.1
C33: Անի համայնքի Մարալիկ բնակավայրի մանկապարտեզ | D33: =+E33+F33+G33+H33 -> -193920 | E33: -193920
C34: Աշոցք համայնքի Ղազանչի բնակավայրի մանկապարտեզ | D34: =+E34+F34+G34+H34 -> -118308.7 | E34: -118308.7
C35: Ախուրյան համայնքի Ղարիբջանյան բնակավայրի մանկապարտեզ | D35: =+E35+F35+G35+H35 -> 150000 | E35: =+'Հավելված N 9'!I24 -> 150000
C36: ՀՀ Տավուշի մարզ | D36: =SUM(E36:H36) -> -60924 | E36: =+E37 -> -60924 | F36: =+F37 -> 0 | G36: =+G37 -> 0 | H36: =+H37 -> 0
C37: Նոյեմբերյան համայնքի Բաղանիս բնակավայրի մանկապարտեզ | D37: =+E37+F37+G37+H37 -> -60924 | E37: -60924
A38: 1236 | B38: 32002 | C38: Մանկապարտեզների շենքերի վերակառուցում, հիմնանորոգում | D38: =SUM(E38:H38) -> 23054.5 | E38: =+E40+E42 -> 0 | F38: =+F40+F42 -> 21184.5 | G38: =+G40+G42 -> 1870 | H38: =+H40+H42 -> 0
C39: այդ թվում`
C40: ՀՀ Գեղարքունիքի մարզ | D40: =SUM(E40:H40) -> 21184.5 | E40: =+E41 -> 0 | F40: =+F41 -> 21184.5 | G40: =+G41 -> 0 | H40: =+H41 -> 0
C41: Վարդենիս համայնքի Գեղամասար բնակավայրի մանկապարտեզ | D41: =+E41+F41+G41+H41 -> 21184.5 | F41: =+'Հավելված N 9'!I108+'Հավելված N 9'!I110+'Հավելված N 9'!I111 -> 21184.5
C42: ՀՀ Լոռու մարզ | D42: =SUM(E42:H42) -> 1870 | E42: =+E43 -> 0 | F42: =+F43 -> 0 | G42: =+G43 -> 1870 | H42: =+H43 -> 0
C43: Վանաձորի թիվ 11 մանկապարտեզ | D43: =+E43+F43+G43+H43 -> 1870 | G43: =+'Հավելված N 9'!I41+'Հավելված N 9'!I42 -> 1870
...

Sheet Հավելված N 4
D1: Հավելված N 4
D2: ՀՀ կառավարության 2025 թվականի
D3: ______________ ի ___Ն որոշման
B6: ՀԱՅԱՍՏԱՆԻ ՀԱՆՐԱՊԵՏՈՒԹՅԱՆ ԿԱՌԱՎԱՐՈՒԹՅԱՆ 2024 ԹՎԱԿԱՆԻ ԴԵԿՏԵՄԲԵՐԻ 27-Ի N 2060-Ն ՈՐՈՇՄԱՆ N 5 ՀԱՎԵԼՎԱԾԻ N 2 ԱՂՅՈՒՍԱԿՈՒՄ ԿԱՏԱՐՎՈՂ ՓՈՓՈԽՈՒԹՅՈՒՆՆԵՐԸ ԵՎ ԼՐԱՑՈՒՄՆԵՐԸ
E8: հազ. դրամներով
B9: Ծրագրային դասիչ | D9: Բյուջետային գլխավոր կարգադրիչների, ծրագրերի, միջոցառումների, միջոցառումները կատարող պետական մարմինների և ուղղությունների անվանումները | E9: Ցուցանիշների փոփոխությունը (ավելացումները նշված են դրական նշանով, իսկ նվազեցումները՝ փակագծերում)
B10: Ծրագիր | C10: Միջոցառում | E10: Տարի
D11: ՀՀ ԿՐԹՈՒԹՅԱՆ, ԳԻՏՈՒԹՅԱՆ, ՄՇԱԿՈՒՅԹԻ ԵՎ ՍՊՈՐՏԻ ՆԱԽԱՐԱՐՈՒԹՅՈՒՆ | E11: =E13+E19+E22+E42+E52+E64+E69 -> 473266.2
D12: այդ թվում՝
B13: 1075 | C13: 32001 | D13: Ներդրումներ թանգարանների և պատկերասրահների հիմնանորոգման համար | E13: =+E15 -> -101726.7
D14: այդ թվում` ըստ կատարողների
D15: ՀՀ քաղաքաշինության կոմիտե | E15: =+E17 -> -101726.7
D16: այդ թվում՝ ըստ ուղղությունների
D17: Երևան քաղաք | E17: =+E18 -> -101726.7
D18: =+'Հավելված N 3'!C18 -> Հայաստանի ազգային պատկերասրահ ՊՈԱԿ-ի Արա Սարգսյանի և Հակոբ Կոջոյանի տուն-թանգարան մասնաճյուղ | E18: =+'Հավելված N 3'!D18 -> -101726.7
B19: 1236 | C19: 31001 | D19: Հանրակրթական և նախադպրոցական հաստատությունների կառուցման, վերակառուցման, հիմնանորոգման ծրագրերի համակարգման շրջանակներում Հայաստանի տարածքային զարգացման հիմնադրամի կարողությունների զարգացում և տեխնիկական հագեցվածության ապահովում | E19: =+E21 -> 28266.2
D20: այդ թվում` ըստ կատարողների
D21: ՀՀ կրթության, գիտության, մշակույթի և սպորտի նախարարություն | E21: =+'Հավելված N 3'!D19 -> 28266.2
B22: 1236 | C22: 32001 | D22: Մանկապարտեզների նոր շենքերի կառուցում | E22: =+E24 -> -484436.8
D23: այդ թվում` ըստ կատարողների
D24: ՀՀ կրթության, գիտության, մշակույթի և սպորտի նախարարություն | E24: =+E26+E28+E31+E33+E35+E40 -> -484436.8
D25: այդ թվում՝ ըստ ուղղությունների
D26: ՀՀ Արագածոտնի մարզ | E26: =+E27 -> 2088
D27: =+'Հավելված N 3'!C23 -> Ծաղկահովիտ համայնքի Գեղադիր բնակավայրի մանկապարտեզ | E27: =+'Հավելված N 3'!D23 -> 2088
D28: ՀՀ Արմավիրի մարզ | E28: =SUM(E29:E30) -> -49246.3
D29: =+'Հավելված N 3'!C25 -> Խոյ համայնքի Ծաղկունք բնակավայրի մանկապարտեզ | E29: =+'Հավելված N 3'!D25 -> -1184.3
D30: =+'Հավելված N 3'!C26 -> Խոյ համայնքի Հովտամեջ բնակավայրի մանկապարտեզ | E30: =+'Հավելված N 3'!D26 -> -48062
D31: ՀՀ Գեղարքունիքի մարզ | E31: =+E32 -> -19306.7
D32: =+'Հավելված N 3'!C28 -> Վարդենիս համայնքի Խաչաղբյուր բնակավայրի մանկապարտեզ | E32: =+'Հավելված N 3'!D28 -> -19306.7
D33: ՀՀ Կոտայքի մարզ | E33: =+E34 -> -126903
D34: =+'Հավելված N 3'!C30 -> Ակունք համայնքի Զառ բնակավայրի մանկապարտեզ | E34: =+'Հավելված N 3'!D30 -> -126903
D35: ՀՀ Շիրակի մարզ | E35: =SUM(E36:E39) -> -230144.8
D36: =+'Հավելված N 3'!C32 -> Անի համայնքի Քարաբերդ բնակավայրի մանկապարտեզ | E36: =+'Հավելված N 3'!D32 -> -67916.1
D37: =+'Հավելված N 3'!C33 -> Անի համայնքի Մարալիկ բնակավայրի մանկապարտեզ | E37: =+'Հավելված N 3'!D33 -> -193920
D38: =+'Հավելված N 3'!C34 -> Աշոցք համայնքի Ղազանչի բնակավայրի մանկապարտեզ | E38: =+'Հավելված N 3'!D34 -> -118308.7
D39: =+'Հավելված N 3'!C35 -> Ախուրյան համայնքի Ղարիբջանյան բնակավայրի մանկապարտեզ | E39: =+'Հավելված N 3'!D35 -> 150000
D40: ՀՀ Տավուշի մարզ | E40: =+E41 -> -60924
D41: =+'Հավելված N 3'!C37 -> Նոյեմբերյան համայնքի Բաղանիս բնակավայրի մանկապարտեզ | E41: =+'Հավելված N 3'!D37 -> -60924
B42: 1236 | C42: 32002 | D42: Մանկապարտեզների շենքերի վերակառուցում, հիմնանորոգում | E42: =+E44+E48 -> 23054.5
D43: այդ թվում` ըստ կատարողների
...

Sheet Հավելված N 5 
D1: Հավելված N 5
D2: ՀՀ կառավարության 2025 թվականի
D3: ______________ ի ___Ն որոշման
A6: «ՀԱՅԱՍՏԱՆԻ ՀԱՆՐԱՊԵՏՈՒԹՅԱՆ 2025 ԹՎԱԿԱՆԻ ՊԵՏԱԿԱՆ ԲՅՈՒՋԵԻ ՄԱՍԻՆ» ՕՐԵՆՔԻ N 1 ՀԱՎԵԼՎԱԾԻ N 4 ԱՂՅՈՒՍԱԿՈՒՄ ԵՎ ՀԱՅԱՍՏԱՆԻ ՀԱՆՐԱՊԵՏՈՒԹՅԱՆ ԿԱՌԱՎԱՐՈՒԹՅԱՆ 2024 ԹՎԱԿԱՆԻ ԴԵԿՏԵՄԲԵՐԻ 27-Ի N 2060-Ն ՈՐՈՇՄԱՆ N 5 ՀԱՎԵԼՎԱԾԻ N 3 ԱՂՅՈՒՍԱԿՈՒՄ ԿԱՏԱՐՎՈՂ ԼՐԱՑՈՒՄԸ
F8: հազ. դրամներով
A9: Ծրագրային դասիչը | C9: Բյուջետային հատկացումների գլխավոր կարգադրիչների, ծրագրերի, միջոցառումների և միջոցառումները կատարող պետական մարմինների անվանումները | D9: Ցուցանիշների փոփոխությունը (ավելացումները նշված են դրական նշանով, իսկ նվազեցումները՝ փակագծերում)
D10: Տարի
D11: Ընդամենը | E11: այդ թվում`
A12: Ծրագիր | B12: Միջոցառում | E12: Վարկային միջոցներ | F12: Համաֆինան սավորում
C13: ԸՆԴԱՄԵՆԸ | D13: =+E13+F13 -> 10000 | E13: =+E15 -> 0 | F13: =+F15 -> 10000
C14: այդ թվում`
C15: ՈՉ ՖԻՆԱՆՍԱԿԱՆ ԱԿՏԻՎՆԵՐԻ ԳԾՈՎ ԾԱԽՍԵՐ | D15: =+E15+F15 -> 10000 | E15: =+E16 -> 0 | F15: =+F16 -> 10000
C16: ՀՀ կրթության, գիտության, մշակույթի և սպորտի նախարարություն | D16: =+E16+F16 -> 10000 | E16: =+E18 -> 0 | F16: =+F18 -> 10000
C17: այդ թվում`
A18: 1189 | C18: Դպրոցների սեյսմիկ անվտանգության մակարդակի բարձրացման ծրագիր | D18: =+E18+F18 -> 10000 | E18: =+E20 -> 0 | F18: =+F20 -> 10000
C19: այդ թվում`
B20: 11001 | C20: Ասիական զարգացման բանկի աջակցությամբ իրականացվող դպրոցների սեյսմիկ պաշտպանության ծրագրի կառավարում | D20: =+E20+F20 -> 10000 | E20: =+E22 -> 0 | F20: =+F22 -> 10000
C21: այդ թվում` ըստ կատարողների
C22: ՀՀ տարածքային կառավարման և ենթակառուցվածքների նախարարություն | D22: =+E22+F22 -> 10000 | E22: =+E24 -> 0 | F22: =+F24 -> 10000
C23: այդ թվում` բյուջետային ծախսերի տնտեսագիտական դասակարգման հոդվածներ
C24: ԸՆԴԱՄԵՆԸ ԾԱԽՍԵՐ | D24: =+E24+F24 -> 10000 | E24: =+E25 -> 0 | F24: =+F25 -> 10000
C25: ԸՆԹԱՑԻԿ ԾԱԽՍԵՐ | D25: =+E25+F25 -> 10000 | E25: =+E26 -> 0 | F25: =+F26 -> 10000
C26: ԱՅԼ ԾԱԽՍԵՐ | D26: =+E26+F26 -> 10000 | E26: =+E27 -> 0 | F26: =+F27 -> 10000
C27: ՀԱՐԿԵՐ, ՊԱՐՏԱԴԻՐ ՎՃԱՐՆԵՐ ԵՎ ՏՈՒՅԺԵՐ, ՈՐՈՆՔ ԿԱՌԱՎԱՐՄԱՆ ՏԱՐԲԵՐ ՄԱԿԱՐԴԱԿՆԵՐԻ ԿՈՂՄԻՑ ԿԻՐԱՌՎՈՒՄ ԵՆ ՄԻՄՅԱՆՑ ՆԿԱՏՄԱՄԲ | D27: =+E27+F27 -> 10000 | E27: =+E28 -> 0 | F27: =+F28 -> 10000
C28: - Պարտադիր վճարներ | D28: =+E28+F28 -> 10000 | F28: 10000

Sheet Հավելված N 6
F1: Հավելված 6
F2: ՀՀ կառավարության 2025 թվականի
F3: ______________ ի ___Ն որոշման
A6: ՀԱՅԱՍՏԱՆԻ ՀԱՆՐԱՊԵՏՈՒԹՅԱՆ ԿԱՌԱՎԱՐՈՒԹՅԱՆ 2024 ԹՎԱԿԱՆԻ ԴԵԿՏԵՄԲԵՐԻ 27-Ի N 2060-Ն ՈՐՈՇՄԱՆ N 5 ՀԱՎԵԼՎԱԾԻ N 7 ԱՂՅՈՒՍԱԿՈՒՄ ԿԱՏԱՐՎՈՂ ԼՐԱՑՈՒՄԸ
A7: հազար դրամ
A8: Ծրագրային դասիչը | D8: Բյուջետային հատկացումների գլխավոր կարգադրիչների, ծրագրերի, միջոցառումների և միջոցառումները կատարող պետական մարմինների անվանումները | F8: Միջոցառումները կատարող պետական մարմինների և դրամաշնորհ ստացող տնտեսվարող սուբյեկտների անվանումները | G8: Ցուցանիշների փոփոխությունը (ավելացումները նշված են դրական նշանով)
A9: Ծրագիր | B9: Միջոցառում | G9: Տարի
A10: ՀՀ կրթության, գիտության, մշակույթի և սպորտի նախարարություն | G10: =+G11 -> 55000
A11: 1183 | B11: Ապահով դպրոց | G11: =+G12 -> 55000
B12: 11002 | C12: Աջակցություն դպրոցներին «Արագ արձագանքման ֆոնդի» շրջանակում հրատապ խնդիրների լուծման համար | F12: ՀՀ կրթության, գիտության, մշակույթի և սպորտի նախարարություն | G12: =+G13 -> 55000
F13: Հանրակրթական դպրոցներ | G13: 55000

Sheet Հավելված N 7
I1: Հավելված N 7
I2: ՀՀ կառավարության 2025 թվականի
I3: ______________ ի ___Ն որոշման
A6: ՀԱՅԱՍՏԱՆԻ ՀԱՆՐԱՊԵՏՈՒԹՅԱՆ ԿԱՌԱՎԱՐՈՒԹՅԱՆ 2024 ԹՎԱԿԱՆԻ ԴԵԿՏԵՄԲԵՐԻ 27-Ի N 2060-Ն ՈՐՈՇՄԱՆ N 9 ՀԱՎԵԼՎԱԾՈՒՄ ԿԱՏԱՐՎՈՂ ՓՈՓՈԽՈՒԹՅՈՒՆՆԵՐԸ ԵՎ ԼՐԱՑՈՒՄՆԵՐԸ
J8: հազար դրամներով
A9: ԲԳԿ | B9: Ծրագիր | D9: Միջոցառում | H9: Իրականացնողը/ ակտիվն օգտագործողը/ շահառուի ընտրության չափորոշիչը | I9: Արդյունքային չափորոշիչը | J9: Ցուցանիշների փոփոխությունը (ավելացումները նշված են դրական նշանով, իսկ նվազեցումները՝ փակագծերում)
B10: Դասիչը | C10: Անվանումը | D10: Դասիչը | E10: Անվանումը | F10: Նկարագրությունը | G10: Տեսակը | J10: Տարի
A11: ԸՆԴԱՄԵՆԸ | J11: =+J13+J66 -> 0
A12: այդ թվում՝
A13: ՀՀ ԿՐԹՈՒԹՅԱՆ, ԳԻՏՈՒԹՅԱՆ, ՄՇԱԿՈԻՅԹԻ ԵՎ ՍՊՈՐՏԻ ՆԱԽԱՐԱՐՈՒԹՅՈՒՆ | J13: =+J14+J20+J27+J33 -> 500000
B14: 1075 | C14: Մշակութային ժառանգության ծրագիր | J14: =+J15 -> -101726.7
D15: 1075 - 32001 | E15: Ներդրումներ թանգարանների և պատկերասրահների հիմնանորոգման համար | J15: =+'Հավելված N 1'!G17 -> -101726.7
F16: Թանգարանների և պատկերասրահների շենքերի, մասնաշենքերի հիմնանորոգում, համաշինարարական աշխատանքներ, ջեռուցման համակարգի իրականացում, ներքին հարդարում, տարածքի բարեկարգում և նախագծում
G17: Այլ պետական կազմակերպությունների կողմից օգտագործվող ոչ ֆինանսական ակտիվների հետ գործառնություններ
H18: Ակտիվն օգտագործող կազմակերպության անվանումը` Թանգարաններ և պատկերասրահներ
I19: Հիմնանորոգվող Թանգարաններ և պատկերասրահներ քանակ, հատ | J19: -1
B20: 1183 | C20: Ապահով դպրոց | J20: =+J21 -> 55000
D21: 1183 - 11002 | E21: Աջակցություն դպրոցներին «Արագ արձագանքման ֆոնդի» շրջանակում՛ հրատապ խնդիրների լուծման համար | J21: =+'Հավելված N 1'!G19 -> 55000
F22: Դպրոցներում արտակարգ իրավիճակների և չնախատեսված հանգամանքների հետևանքով առաջացած խնդիրների լուծման նպատակով ընթացիկ աշխատանքների իրականացում
G23: Ծառայությունների մատուցում
H24: Ծառայությունը մատուցողի անվանումը` Մասնագիտացված կազմակերպություններ
I25: Շահառու դպրոցների թիվը | J25: 5
B27: 1189 | C27: Դպրոցների սեյսմիկ անվտանգության մակարդակի բարձրացման ծրագիր | J27: =+J28 -> 10000
D28: 1189 - 11001 | E28: Ասիական զարգացման բանկի աջակցությամբ իրականացվող դպրոցների սեյսմիկ պաշտպանության ծրագրի կառավարում | J28: =+'Հավելված N 1'!G21 -> 10000
F29: Դպրոցների սեյսմիկ պաշտպանության ծրագիր` ՀՀ դպրոցների սեյսմիկ անվտանգության բարելավման նպատակով
G30: Ծառայությունների մատուցում
H31: Ծառայությունը մատուցողի անվանումը` Մասնագիտացված կազմակերպություն
B33: 1236 | C33: Հանրակրթական և նախադպրոցական հաստատությունների հիմնում, կառուցում, բարելավում | J33: =+J34+J38+J43+J47+J52+J57+J61 -> 536726.7
D34: 1236 - 11001 | E34: Հանրակրթական և նախադպրոցական հաստատությունների կառուցման, վերակառուցման, հիմնանորոգման ծրագրերի համակարգման և մոնիտորինգի ծառայություններ | J34: =+'Հավելված N 1'!G23 -> -38266.2
F35: Հանրակրթական և նախադպրոցական հաստատություններիկառուցման, վերակառուցման, հիմնանորոգման ծրագրերիհամակարգման և մոնիտորինգի ծառայությունների ապահովում
G36: Ծառայությունների մատուցում
H37: Միջոցառումն իրականացնողի անվանումը՝ Մասնագիտացված միավոր
D38: 1236 - 31001 | E38: Հանրակրթական և նախադպրոցական հաստատությունների կառուցման, վերակառուցման, հիմնանորոգման ծրագրերի համակարգման շրջանակներում Հայաստանի տարածքային զարգացման հիմնադրամի կարողությունների զարգացում և տեխնիկական հագեցվածության ապահովում | J38: =+'Հավելված N 1'!G24 -> 28266.2
F39: Հայաստանի տարածքային զարգացման հիմնադրամի աշխատանքային պայմանների բարելավման համար վարչական սարքավորումների ձեռքբերում
G40: Պետական մարմինների կողմից օգտագործվող ոչ ֆինանսական ակտիվների հետ գործառնություններ
H41: Միջոցառումն իրականացնողի անվանումը՝ Մասնագիտացված միավոր
I42: Շինարարական աշխատանքների տեխնիկական հսկողության իրականացման համար սարքեր և սարքավորումներ, հատ | J42: =-80+159 -> 79
D43: 1236 - 32001 | E43: Մանկապարտեզների նոր շենքերի կառուցում | J43: =+'Հավելված N 1'!G25 -> -484436.8
F44: Նախադպրոցական կրթության հասանելիության ապահովման նպատակով՛ մանկապարտեզների հիմնում, նոր շենքերի (մասնաշենքերի), ներառյալ՛ ,Մոդուլայինե տիպի շենքերի կառուցում և նախագծում
G45: Այլ պետական կազմակերպությունների կողմից օգտագործվող ոչ ֆինանսական ակտիվների հետ գործառնություններ
...

Sheet Հավելված N 8
I1: Հավելված N 8
I2: ՀՀ կառավարության 2025 թվականի
I3: ______________ ի ___Ն որոշման
A6: ՀԱՅԱՍՏԱՆԻ ՀԱՆՐԱՊԵՏՈՒԹՅԱՆ ԿԱՌԱՎԱՐՈՒԹՅԱՆ 2024 ԹՎԱԿԱՆԻ ԴԵԿՏԵՄԲԵՐԻ 27-Ի N 2060-Ն ՈՐՈՇՄԱՆ N 9.1 ՀԱՎԵԼՎԱԾՈՒՄ ԿԱՏԱՐՎՈՂ ՓՈՓՈԽՈՒԹՅՈՒՆՆԵՐԸ ԵՎ ԼՐԱՑՈՒՄՆԵՐԸ
A9: ԲՍԿ | B9: Ծրագիր | D9: Միջոցառում | H9: Իրականացնողը/ ակտիվն օգտագործողը/ շահառուի ընտրության չափորոշիչը | I9: Արդյունքային չափորոշիչը | J9: Ցուցանիշների փոփոխությունը (ավելացումները նշված են դրական նշանով, իսկ նվազեցումները՝ փակագծերում)
B10: Դասիչը | C10: Անվանումը | D10: Դասիչը | E10: Անվանումը | F10: Նկարագրությունը | G10: Տեսակը | J10: Տարի
A11: ԸՆԴԱՄԵՆԸ | J11: =+J13+J49+J56+J71+J78+J89+J96 -> 0
A12: այդ թվում՝
A13: ՀՀ ԿՐԹՈՒԹՅԱՆ, ԳԻՏՈՒԹՅԱՆ, ՄՇԱԿՈԻՅԹԻ ԵՎ ՍՊՈՐՏԻ ՆԱԽԱՐԱՐՈՒԹՅՈՒՆ | J13: =+J14+J21 -> 951423.7
B14: 1183 | C14: Ապահով դպրոց | J14: =+J15 -> 55000
D15: 1183 - 11002 | E15: Աջակցություն դպրոցներին «Արագ արձագանքման ֆոնդի» շրջանակում՛ հրատապ խնդիրների լուծման համար | J15: =+'Հավելված N 2'!G80 -> 55000
F16: Դպրոցներում արտակարգ իրավիճակների և չնախատեսված հանգամանքների հետևանքով առաջացած խնդիրների լուծման նպատակով ընթացիկ աշխատանքների իրականացում
G17: Ծառայությունների մատուցում
H18: Ծառայությունը մատուցողի անվանումը` Մասնագիտացված կազմակերպություններ
I19: Շահառու դպրոցների թիվը | J19: 5
B21: 1236 | C21: Հանրակրթական և նախադպրոցական հաստատությունների հիմնում, կառուցում, բարելավում | J21: =+J22+J26+J31+J35+J40+J44 -> 896423.7
D22: 1236 - 11001 | E22: Հանրակրթական և նախադպրոցական հաստատությունների կառուցման, վերակառուցման, հիմնանորոգման ծրագրերի համակարգման և մոնիտորինգի ծառայություններ | J22: =+'Հավելված N 2'!G93 -> -38266.2
F23: Հանրակրթական և նախադպրոցական հաստատություններիկառուցման, վերակառուցման, հիմնանորոգման ծրագրերիհամակարգման և մոնիտորինգի ծառայությունների ապահովում
G24: Ծառայությունների մատուցում
H25: Միջոցառումն իրականացնողի անվանումը՝ Մասնագիտացված միավոր
D26: 1236 - 31001 | E26: Հանրակրթական և նախադպրոցական հաստատությունների կառուցման, վերակառուցման, հիմնանորոգման ծրագրերի համակարգման շրջանակներում Հայաստանի տարածքային զարգացման հիմնադրամի կարողությունների զարգացում և տեխնիկական հագեցվածության ապահովում | J26: =+'Հավելված N 2'!G102 -> 28266.2
F27: Հայաստանի տարածքային զարգացման հիմնադրամի աշխատանքային պայմանների բարելավման համար վարչական սարքավորումների ձեռքբերում
G28: Պետական մարմինների կողմից օգտագործվող ոչ ֆինանսական ակտիվների հետ գործառնություններ
H29: Միջոցառումն իրականացնողի անվանումը՝ Մասնագիտացված միավոր
I30: Շինարարական աշխատանքների տեխնիկական հսկողության իրականացման համար սարքեր և սարքավորումներ, հատ | J30: =-80+159 -> 79
D31: 1236 - 32001 | E31: Մանկապարտեզների նոր շենքերի կառուցում | J31: =+'Հավելված N 2'!G47 -> -484436.8
F32: Նախադպրոցական կրթության հասանելիության ապահովման նպատակով՛ մանկապարտեզների հիմնում, նոր շենքերի (մասնաշենքերի), ներառյալ՛ ,Մոդուլայինե տիպի շենքերի կառուցում և նախագծում
G33: Այլ պետական կազմակերպությունների կողմից օգտագործվող ոչ ֆինանսական ակտիվների հետ գործառնություններ
H34: Շահառուների ընտրության չափորոշիչները` Նախադպրոցական կրթություն իրականացնող ուսումնական հաստատություններ
D35: 1236 - 32002 | E35: Մանկապարտեզների շենքերի վերակառուցում, հիմնանորոգում | J35: =+'Հավելված N 2'!G56 -> 1870
F36: Նախադպրոցական կրթության հասանելիության ապահովման նպատակով՛ մանկապարտեզների շենքերի (մասնաշենքերի), վերակառուցում, հիմնանորոգում և նախագծում
G37: Այլ պետական կազմակերպությունների կողմից օգտագործվող ոչ ֆինանսական ակտիվների հետ գործառնություններ
H38: Ակտիվն օգտագործող կազմակերպության անվանումը` Նախադպրոցական կրթություն իրականացնող ուսումնական հաստատություններ
I39: Նախագծանախահաշվային փաստաթղթերի քանակ, հատ | J39: 1
D40: 1236 - 32003 | E40: Հանրակրթական դպրոցների նոր շենքերի կառուցում | J40: =+'Հավելված N 2'!G111 -> 388990.5
F41: ՀՀ մարզերում կրթական որակյալ ծառայությունների հասանելիության ապահովման ծրագրի շրջանակներում հանրակրթական և նախադպրոցական կրթության հասանելիության ապահովման նպատակով կրթական կենտրոնների կառուցում
G42: Այլ պետական կազմակերպությունների կողմից օգտագործվող ոչ ֆինանսական ակտիվների հետ գործառնություններ
H43: Ակտիվն օգտագործող կազմակերպությունների անվանումները` Հանրակրթական դպրոցներ
D44: 1236 - 32004 | E44: Հանրակրթական դպրոցների շենքերի վերակառուցում, հիմնանորոգում | J44: =+'Հավելված N 2'!G127 -> 1000000
F45: Դպրոցական պարտադիր կրթության հասանելիության ապահովման նպատակով՛ հանրակրթական դպրոցների շենքերի (մասնաշենքերի), վերակառուցում, հիմնանորոգում և նախագծում
...

Sheet Հավելված N 9
H1: Հավելված N 9
H2: ՀՀ կառավարության 2025 թվականի
H3: ______________ ի ___Ն որոշման
A6: ՀԱՅԱՍՏԱՆԻ ՀԱՆՐԱՊԵՏՈՒԹՅԱՆ ԿԱՌԱՎԱՐՈՒԹՅԱՆ 2024 ԹՎԱԿԱՆԻ ԴԵԿՏԵՄԲԵՐԻ 27-Ի N 2060-Ն N 10 ՀԱՎԵԼՎԱԾՈՒՄ ԿԱՏԱՐՎՈՂ ՓՈՓՈԽՈՒԹՅՈՒՆՆԵՐԸ ԵՎ ԼՐԱՑՈՒՄՆԵՐԸ
A10: Կոդը | B10: Անվանումը | E10: Գնման ձևը | F10: Չափման միավորը | G10: Միավորի գինը | H10: Ցուցանիշների փոփոխությունը (ավելացումները նշված են դրական նշանով, իսկ նվազեցումները՝ փակագծերում)
H11: Քանակը | I11: Գումարը (հազար դրամ)
A12: 1 | B12: 2 | E12: 3 | F12: 4 | G12: 5 | H12: 6 | I12: 7
A13: ՀՀ կրթության, գիտության, մշակույթի և սպորտի նախարարություն | I13: =+I14+I43 -> -636321.8
A14: Բաժին N 09 | B14: Խումբ N 01 | C14: Դաս N 01 | D14: Նախադպրոցական կրթություն | I14: =+I15+I39 -> -484588
A15: 1236-32001 | B15: Մանկապարտեզների նոր շենքերի կառուցում | I15: =+I16+I26 -> -486458
B16: ՄԱՍ II. ԱՇԽԱՏԱՆՔՆԵՐ | I16: =SUM(I17:I25) -> -467210.8
A17: 45211228-507 | B17: շինարարական աշխատանքներ մանկապարտեզների համար | E17: ՀԲՄ | F17: դրամ | I17: 32456.8
A18: 45211228-508 | B18: շինարարական աշխատանքներ մանկապարտեզների համար | E18: ՀԲՄ | F18: դրամ | I18: -50000
A19: 45211228-509 | B19: շինարարական աշխատանքներ մանկապարտեզների համար | E19: ՀԲՄ | F19: դրամ | I19: -21644.7
A20: 45211228-503 | B20: շինարարական աշխատանքներ մանկապարտեզների համար | E20: ՀԲՄ | F20: դրամ | I20: -127851
A21: 45211228-506 | B21: շինարարական աշխատանքներ մանկապարտեզների համար | E21: ԲՄ | F21: դրամ | I21: =-150000+79764.8 -> -70235.2
A22: 45211228-501 | B22: շինարարական աշխատանքներ մանկապարտեզների համար | E22: ՀԲՄ | F22: դրամ | I22: -196896
A23: 45211228-504 | B23: շինարարական աշխատանքներ մանկապարտեզների համար | E23: ՀԲՄ | F23: դրամ | I23: -120246.7
A24: 45211228-516 | B24: շինարարական աշխատանքներ մանկապարտեզների համար | E24: ՀԲՄ | F24: դրամ | G24: 150000000 | H24: 1 | I24: =+ROUNDUP(G24*H24/1000,1) -> 150000
A25: 45211228-11 | B25: շինարարական աշխատանքներ մանկապարտեզների համար | E25: ՀԲՄ | F25: դրամ | I25: -62794
B26: ՄԱՍ III. ԾԱՌԱՅՈՒԹՅՈՒՆՆԵՐ | I26: =SUM(I27:I38) -> -19247.2
A27: 71351540-255 | B27: տեխնիկական հսկողության ծառայություններ | E27: ՀՄԱ | F27: դրամ | I27: -5050
A28: 71351540-509 | B28: տեխնիկական հսկողության ծառայություններ | E28: ՀԲՄ | F28: դրամ | I28: -876
A29: 71351540-287 | B29: տեխնիկական հսկողության ծառայություններ | E29: ՀՄԱ | F29: դրամ | I29: -2800
A30: 71351540-308 | B30: տեխնիկական հսկողության ծառայություններ | E30: ՀՄԱ | F30: դրամ | I30: -2800
A31: 71351540-254 | B31: տեխնիկական հսկողության ծառայություններ | E31: ՀՄԱ | F31: դրամ | I31: -6190
A32: 71351540-675 | B32: տեխնիկական հսկողության ծառայություններ | E32: ՀԲՄ | F32: դրամ | I32: 4260
A33: 71351540-676 | B33: տեխնիկական հսկողության ծառայություններ | E33: ՀԲՄ | F33: դրամ | I33: 5960
A34: 71351540-310 | B34: տեխնիկական հսկողության ծառայություններ | E34: ՀՄԱ | F34: դրամ | I34: -3200
A35: 71351540-680 | B35: տեխնիկական հսկողության ծառայություններ | E35: ՀԲՄ | F35: դրամ | I35: -924
A36: 98111140-1 | B36: հեղինակային հսկողության ծառայություններ | E36: ՄԱ | F36: դրամ | I36: -2834.3
A37: 98111140-2 | B37: հեղինակային հսկողության ծառայություններ | E37: ՄԱ | F37: դրամ | I37: -1888.9
A38: 98111140-3 | B38: հեղինակային հսկողության ծառայություններ | E38: ՄԱ | F38: դրամ | I38: -2904
A39: 1236-32002 | B39: Մանկապարտեզների շենքերի վերակառուցում, հիմնանորոգում | I39: =+I40 -> 1870
B40: ՄԱՍ III. ԾԱՌԱՅՈՒԹՅՈՒՆՆԵՐ | I40: =SUM(I41:I42) -> 1870
A41: 71241200 | B41: նախագծերի պատրաստում, ծախսերի գնահատում | E41: ՀԲՄ | F41: դրամ | G41: 1700000 | H41: 1 | I41: =+ROUNDUP(H41*G41/1000,1) -> 1700
A42: 50531140 | B42: փորձաքննության ծառայություններ | E42: ՀԲՄ | F42: դրամ | G42: 170000 | H42: 1 | I42: =+ROUNDUP(H42*G42/1000,1) -> 170
A43: Բաժին N 09 | B43: Խումբ N 02 | C43: Դաս N 01 | D43: Հիմնական ընդհանուր կրթություն | I43: =+I44+I64 -> -151733.8
A44: 1236-31001 | B44: Հանրակրթական և նախադպրոցական հաստատությունների կառուցման, վերակառուցման, հիմնանորոգման ծրագրերի համակարգման շրջանակներում Հայաստանի տարածքային զարգացման հիմնադրամի կարողությունների զարգացում և տեխնիկական հագեցվածության ապահովում | I44: =+I45 -> 28266.2
B45: ՄԱՍ I. ԱՊՐԱՆՔՆԵՐ | I45: =SUM(I46:I63) -> 28266.2
...
