Workbook

Sheet Հավելված 1
G1: Հավելված N 1
G2: ՀՀ կառավարության 2025 թվականի
G3: ___________ ___-ի N _______ որոշման
A4: «ՀԱՅԱՍՏԱՆԻ ՀԱՆՐԱՊԵՏՈՒԹՅԱՆ 2025 ԹՎԱԿԱՆԻ ՊԵՏԱԿԱՆ ԲՅՈՒՋԵԻ ՄԱՍԻՆ» ՀԱՅԱՍՏԱՆԻ ՀԱՆՐԱՊԵՏՈՒԹՅԱՆ ՕՐԵՆՔԻ N 1 ՀԱՎԵԼՎԱԾԻ N 2 ԱՂՅՈՒՍԱԿՈՒՄ ԿԱՏԱՐՎՈՂ ՎԵՐԱԲԱՇԽՈՒՄԸ, ՓՈՓՈԽՈՒԹՅՈՒՆՆԵՐԸ ԵՎ ՀԱՅԱՍՏԱՆԻ ՀԱՆՐԱՊԵՏՈՒԹՅԱՆ ԿԱՌԱՎԱՐՈՒԹՅԱՆ 2024 ԹՎԱԿԱՆԻ ԴԵԿՏԵՄԲԵՐԻ 27-Ի N 2060-Ն ՈՐՈՇՄԱՆ N 5 ՀԱՎԵԼՎԱԾԻ N 1 ԱՂՅՈՒՍԱԿՈՒՄ ԿԱՏԱՐՎՈՂ ՓՈՓՈԽՈՒԹՅՈՒՆՆԵՐԸ
G5: հազար դրամներով
A6: ԲԳԿ | B6: Ծրագրային դասիչը | D6: ԲԳԿ/Ծրագրի /միջոցառման անվանումը | E6: Ծրագրի նպատակը/Միջոցառման նկարագրությունը | F6: Վերջնական արդյունքի նկարագրությունը/Միջոցառման տեսակը | G6: Ցուցանիշների փոփոխությունը (ավելացումները նշված են դրական նշանով, իսկ նվազեցումները՝ փակագծերում)
G7: Տարի
B8: Ծրագիր | C8: Միջոցառում
A9: ԸՆԴԱՄԵՆԸ | G9: =G10+G13 -> 0
A10: ՀՀ պաշտպանության նախարարություն | G10: =G11 -> -20002.7
B11: 1169 | D11: ՀՀ պաշտպանության ապահովում | E11: ՀՀ ԶՈւ ռազմավարական ծավալումն ապահովող մարտական պատրաստականության պահպանում, արտաքին թշնամուց ՀՀ պետական սահմանների պաշտպանության ապահովում | F11: ՀՀ ԶՈւ ռազմավարական ծավալումն ապահովող մարտական պատրաստականության պահպանում | G11: =G12 -> -20002.7
C12: 1169 - 31001 | D12: ՀՀ պաշտպանության նախարարության շենքային պայմանների բարելավում | E12: Պաշտպանության կարիքների համար բնակելի, գրասենյակային և այլ նշանակության շենքերի և շինությունների կառուցում | F12: Պետական մարմինների կողմից օգտագործվող ոչ ֆինանսական ակտիվների հետ գործառնություններ | G12: ='Հավելված 3'!G66 -> -20002.7
A13: ՀՀ պետական եկամուտների կոմիտե | G13: =G14 -> 20002.7
B14: 1023 | D14: Հարկային և մաքսային ծառայություններ | E14: Հարկային և մաքսային միասնական պետական քաղաքականության իրականացում, հարկային և մաքսային օրենսդրության ամբողջական և համահավասար կիրառում | F14: Արդյունավետ հարկային և մաքսային հսկողության իրականացում, պետական բյուջեի եկամուտների ապահովում | G14: =SUM(G15:G16) -> 20002.7
C15: 1023 - 11001 | D15: Հարկային և մաքսային ծառայություններ | E15: Հարկային և մաքսային քաղաքականության մշակման, պլանավորման, մոնիտորինգի, ծրագրերի համակարգման, գանձման, վերահսկողության և աջակցության ծառայություններ | F15: Ծառայությունների մատուցում | G15: ='Հավելված 3'!G21 -> -49002.4
C16: 1023 - 31001 | D16: ՀՀ պետական եկամուտների կոմիտեի տեխնիկական հագեցվածության բարելավում | E16: ՀՀ պետական եկամուտների կոմիտեի տեխնիկական հագեցվածության բարելավում | F16: Պետական մարմինների կողմից օգտագործվող ոչ ֆինանսական ակտիվների հետ գործառնություններ | G16: ='Հավելված 3'!G35 -> 69005.1

Sheet Հավելված 2
H1: Հավելված N 2
H2: ՀՀ կառավարության 2025 թվականի
H3: ___________ ___-ի N _______ որոշման
A4: «ՀԱՅԱՍՏԱՆԻ ՀԱՆՐԱՊԵՏՈՒԹՅԱՆ 2025 ԹՎԱԿԱՆԻ ՊԵՏԱԿԱՆ ԲՅՈՒՋԵԻ ՄԱՍԻՆ» ՀԱՅԱՍՏԱՆԻ ՀԱՆՐԱՊԵՏՈՒԹՅԱՆ ՕՐԵՆՔԻ N 1 ՀԱՎԵԼՎԱԾԻ N 3 ԱՂՅՈՒՍԱԿՈՒՄ ԿԱՏԱՐՎՈՂ ՓՈՓՈԽՈՒԹՅՈՒՆՆԵՐԸ ԵՎ ԼՐԱՑՈՒՄՆԵՐԸ
H5: հազար դրամներով
A6: Ծրագրային դասիչ | C6: Բյուջետային գլխավոր կարգադրիչների, ծրագրերի, միջոցառումների և ուղղությունների անվանումները | D6: Ցուցանիշների փոփոխությունը (ավելացումները նշված են դրական նշանով, իսկ նվազեցումները՝ փակագծերում)
D7: Ընդամենը | E7: այդ թվում՝
E8: Կառուցման աշխատանքներ | F8: Վերակառուցման, վերանորոգման և վերականգնման աշխատանքներ | G8: Նախագծահետազոտական, գեոդեզա-քարտեզագրական աշխատանքներ | H8: Ոչ ֆինանսական այլ ակտիվների ձեռքբերում
A9: Ծրագիր | B9: Միջոցառում
C10: ԸՆԴԱՄԵՆԸ | D10: =D11+D14 -> 49002.4 | E10: =E11+E14 -> -45317.9 | F10: =F11+F14 -> 0 | G10: =G11+G14 -> 25315.2 | H10: =H11+H14 -> 69005.1
C11: ՀՀ պաշտպանության նախարարություն | D11: =D13 -> -20002.7 | E11: =E13 -> -20002.7 | F11: =F13 -> 0 | G11: =G13 -> 0 | H11: =H13 -> 0
C12: այդ թվում՛
A13: 1169 | B13: 31001 | C13: ՀՀ պաշտպանության նախարարության շենքային պայմանների բարելավում | D13: =E13+F13+G13+H13 -> -20002.7 | E13: ='Հավելված 3'!G66 -> -20002.7 | F13: 0 | G13: 0 | H13: 0
C14: ՀՀ պետական եկամուտների կոմիտե | D14: =D16+D17 -> 69005.1 | E14: =E16+E17 -> -25315.2 | F14: =F16+F17 -> 0 | G14: =G16+G17 -> 25315.2 | H14: =H16+H17 -> 69005.1
C15: այդ թվում`
A16: 1023 | B16: 31001 | C16: ՀՀ պետական եկամուտների կոմիտեի տեխնիկական հագեցվածության բարելավում | D16: =E16+F16+G16+H16 -> 69005.1 | E16: 0 | F16: 0 | G16: 0 | H16: ='Հավելված 3'!G35 -> 69005.1
A17: 1023 | B17: 31003 | C17: ՀՀ պետական եկամուտների կոմիտեի շենքային ապահովվածության բարելավում | D17: =E17+F17+G17+H17 -> 0 | E17: =+'Հավելված 3'!G53 -> -25315.2 | G17: =+'Հավելված 3'!G55 -> 25315.2

Sheet Հավելված 3
G1: Հավելված N 3
G2: ՀՀ կառավարության 2025 թվականի
G3: ___________ ___-ի N _______ որոշման
A4: ՀԱՅԱՍՏԱՆԻ ՀԱՆՐԱՊԵՏՈՒԹՅԱՆ ԿԱՌԱՎԱՐՈՒԹՅԱՆ 2024 ԹՎԱԿԱՆԻ ԴԵԿՏԵՄԲԵՐԻ 27-Ի N 2060-Ն ՈՐՈՇՄԱՆ NN 3 ԵՎ 4 ՀԱՎԵԼՎԱԾՆԵՐՈՒՄ ԿԱՏԱՐՎՈՂ ՓՈՓՈԽՈՒԹՅՈՒՆՆԵՐԸ
G6: հազար դրամներով
A7: Գործառնական դասիչը | D7: Ծրագրային դասիչը | F7: Բյուջետային ծախսերի գործառնական դասակարգման բաժինների, խմբերի և դասերի, բյուջետային ծրագրերի միջոցառումների, բյուջետային հատկացումների գլխավոր կարգադրիչների անվանումները | G7: Ցուցանիշների փոփոխությունը (ավելացումները նշված են դրական նշանով, իսկ նվազեցումները՝ փակագծերում)
A8: բաժին | B8: խումբ | C8: դաս | D8: ծրագիր | E8: միջոցառում | G8: Տարի
F9: ԸՆԴԱՄԵՆԸ ԾԱԽՍԵՐ | G9: =G11+G56 -> 0
F10: այդ թվում՝
A11: 01 | F11: ԸՆԴՀԱՆՈՒՐ ԲՆՈՒՅԹԻ ՀԱՆՐԱՅԻՆ ԾԱՌԱՅՈՒԹՅՈՒՆՆԵՐ | G11: =G13 -> 20002.7
F12: այդ թվում՝
B13: 01 | F13: Օրենսդիր և գործադիր մարմիններ, պետական կառավարում, ֆինանսական և հարկաբյուջետային հարաբերություններ, արտաքին հարաբերություններ | G13: =G15 -> 20002.7
F14: այդ թվում՝
C15: 02 | F15: Ֆինանսական և հարկաբյուջետային հարաբերություններ | G15: =G17 -> 20002.7
F16: այդ թվում՝
F17: ՀՀ պետական եկամուտների կոմիտե | G17: =G19 -> 20002.7
F18: այդ թվում`
D19: 1023 | F19: Հարկային և մաքսային ծառայություններ | G19: =G21+G35+G45 -> 20002.7
F20: այդ թվում՝
E21: 11001 | F21: Հարկային և մաքսային ծառայություններ | G21: =G23 -> -49002.4
F22: այդ թվում` ըստ կատարողների
F23: ՀՀ պետական եկամուտների կոմիտե | G23: =G25 -> -49002.4
F24: այդ թվում` բյուջետային ծախսերի տնտեսագիտական դասակարգման հոդվածներ
F25: ԸՆԴԱՄԵՆԸ ԾԱԽՍԵՐ | G25: =G26 -> -49002.4
F26: ԸՆԹԱՑԻԿ ԾԱԽՍԵՐ | G26: =G27 -> -49002.4
F27: ԾԱՌԱՅՈՒԹՅՈՒՆՆԵՐԻ ԵՎ ԱՊՐԱՆՔՆԵՐԻ ՁԵՌՔԲԵՐՈՒՄ | G27: =G28+G31+G33 -> -49002.4
F28: Պայմանագրային այլ ծառայությունների ձեռքբերում | G28: =G29+G30 -> -43841
F29: - Կենցաղային և հանրային սննդի ծառայություններ | G29: -194
F30: - Ընդհանուր բնույթի այլ ծառայություններ | G30: =+-3000-40647 -> -43647
F31: Այլ մասնագիտական ծառայությունների ձեռքբերում | G31: =G32 -> -775.4
F32: - Մասնագիտական ծառայություններ | G32: -775.4
F33: Նյութեր (Ապրանքներ) | G33: =G34 -> -4386
F34: - Հատուկ նպատակային այլ նյութեր | G34: -4386
E35: 31001 | F35: ՀՀ պետական եկամուտների կոմիտեի տեխնիկական հագեցվածության բարելավում | G35: =G37 -> 69005.1
F36: այդ թվում` ըստ կատարողների
F37: ՀՀ պետական եկամուտների կոմիտե | G37: =G39 -> 69005.1
F38: այդ թվում` բյուջետային ծախսերի տնտեսագիտական դասակարգման հոդվածներ
F39: ԸՆԴԱՄԵՆԸ ԾԱԽՍԵՐ | G39: =G40 -> 69005.1
F40: ՈՉ ՖԻՆԱՆՍԱԿԱՆ ԱԿՏԻՎՆԵՐԻ ԳԾՈՎ ԾԱԽՍԵՐ | G40: =G41 -> 69005.1
F41: ՀԻՄՆԱԿԱՆ ՄԻՋՈՑՆԵՐ | G41: =G42 -> 69005.1
...

Sheet Հավելված 4
D1: Հավելված N 4
D2: ՀՀ կառավարության 2025 թվականի
D3: ___________ ___-ի N _______ որոշման
A4: ՀԱՅԱՍՏԱՆԻ ՀԱՆՐԱՊԵՏՈՒԹՅԱՆ ԿԱՌԱՎԱՐՈՒԹՅԱՆ 2024 ԹՎԱԿԱՆԻ ԴԵԿՏԵՄԲԵՐԻ 27-Ի N 2060-Ն ՈՐՈՇՄԱՆ N 5 ՀԱՎԵԼՎԱԾԻ N 2 ԱՂՅՈՒՍԱԿՈՒՄ ԿԱՏԱՐՎՈՂ ՓՈՓՈԽՈՒԹՅՈՒՆՆԵՐԸ ԵՎ ԼՐԱՑՈՒՄՆԵՐԸ
D5: հազար դրամներով
A6: Ծրագրային դասիչը | C6: Բյուջետային գլխավոր կարգադրիչների, ծրագրերի, միջոցառումների, միջոցառումները կատարող պետական մարմինների և ուղղությունների անվանումները | D6: Ցուցանիշների փոփոխությունը (ավելացումները նշված են դրական նշանով, իսկ նվազեցումները՝ փակագծերում)
A7: Ծրագիրը | B7: Միջոցառումը | D7: Տարի
C8: ԸՆԴԱՄԵՆԸ | D8: =D10+D15 -> 49002.4
C9: այդ թվում՝
C10: ՀՀ պաշտպանության նախարարություն | D10: =D12 -> -20002.7
C11: այդ թվում՛
A12: 1169 | B12: 31001 | C12: ՀՀ պաշտպանության նախարարության շենքային պայմանների բարելավում | D12: =D14 -> -20002.7
C13: այդ թվում` ըստ կատարողների
C14: ՀՀ պաշտպանության նախարարություն | D14: ='Հավելված 3'!G66 -> -20002.7
C15: ՀՀ պետական եկամուտների կոմիտե | D15: =D17+D20 -> 69005.1
C16: այդ թվում`
A17: 1023 | B17: 31001 | C17: ՀՀ պետական եկամուտների կոմիտեի տեխնիկական հագեցվածության բարելավում | D17: =D19 -> 69005.1
C18: այդ թվում` ըստ կատարողների
C19: ՀՀ պետական եկամուտների կոմիտե | D19: ='Հավելված 3'!G35 -> 69005.1
A20: 1023 | B20: 31003 | C20: ՀՀ պետական եկամուտների կոմիտեի շենքային ապահովվածության բարելավում | D20: =D22 -> 0
C21: այդ թվում` ըստ կատարողների
C22: ՀՀ պետական եկամուտների կոմիտե | D22: =D24+D25 -> 0
C23: այդ թվում` ըստ ուղղությունների
C24: Արևելյան մաքսատան-վարչության Բագրատաշենի մաքսային կետ-բաժնի ենթակառուցվածքների վերակառուցման աշխատանքներ | D24: ='Հավելված 3'!G53 -> -25315.2
C25: ՀՀ պետական սահմանի Բագրատաշենի նախագծանախահաշվային փաստաթղթերի կազմման աշխատանքներ | D25: ='Հավելված 3'!G55 -> 25315.2

Sheet Հավելված 5 
J1: Հավելված N 5
J2: ՀՀ կառավարության 2025 թվականի
J3: ___________ ___-ի N _______ որոշման
A4: ՀԱՅԱՍՏԱՆԻ ՀԱՆՐԱՊԵՏՈՒԹՅԱՆ ԿԱՌԱՎԱՐՈՒԹՅԱՆ 2024 ԹՎԱԿԱՆԻ ԴԵԿՏԵՄԲԵՐԻ 27-Ի N 2060-Ն ՈՐՈՇՄԱՆ N 9 ՀԱՎԵԼՎԱԾՈՒՄ ԿԱՏԱՐՎՈՂ ՓՈՓՈԽՈՒԹՅՈՒՆՆԵՐԸ ԵՎ ԼՐԱՑՈՒՄՆԵՐԸ
J5: հազար դրամներով
A6: ԲԳԿ | B6: Ծրագիր | D6: Միջոցառում | H6: Իրականացնողը/ ակտիվն օգտագործողը/ շահառուի ընտրության չափորոշիչը | I6: Արդյունքային չափորոշիչը | J6: Ցուցանիշների փոփոխությունը (ավելացումները նշված են դրական նշանով, իսկ նվազեցումները՝ փակագծերում)
B7: Դասիչը | C7: Անվանումը | D7: Դասիչը | E7: Անվա-նումը | F7: Նկարագրու-թյունը | G7: Տեսակը | J7: Տարի
A8: ԸՆԴԱՄԵՆԸ | J8: =J9+J15 -> 0
A9: ՀՀ պաշտպանության նախարարություն | J9: =J10 -> -20002.7
B10: 1169 | C10: ՀՀ պաշտպանության ապահովում | J10: =J11 -> -20002.7
D11: 1169 - 31001 | E11: ՀՀ պաշտպանության նախարարության շենքային պայմանների բարելավում | J11: ='Հավելված 3'!G66 -> -20002.7
F12: Պաշտպանության կարիքների համար բնակելի, գրասենյակային և այլ նշանակության շենքերի և շինությունների կառուցում
G13: Պետական մարմինների կողմից օգտագործվող ոչ ֆինանսական ակտիվների հետ գործառնություններ
H14: Ակտիվն օգտագործող կազմակերպության անվանումը` ՀՀ պաշտպանության նախարարություն
A15: ՀՀ պետական եկամուտների կոմիտե | J15: =J16 -> 20002.7
B16: 1023 | C16: Հարկային և մաքսային ծառայություններ | J16: =J17+J21+J28 -> 20002.7
D17: 1023 - 11001 | E17: Հարկային և մաքսային ծառայություններ | J17: ='Հավելված 3'!G21 -> -49002.4
F18: Հարկային և մաքսային քաղաքականության մշակման, պլանավորման, մոնիտորինգի, ծրագրերի համակարգման, գանձման, վերահսկողության և աջակցության ծառայություններ
G19: Ծառայությունների մատուցում
H20: Ծառայությունը մատուցողի անվանումը` ՀՀ պետական եկամուտների կոմիտե
D21: 1023 - 31001 | E21: ՀՀ պետական եկամուտների կոմիտեի տեխնիկական հագեցվածության բարելավում | J21: ='Հավելված 3'!G35 -> 69005.1
F22: ՀՀ պետական եկամուտների կոմիտեի տեխնիկական հագեցվածության բարելավում
G23: Պետական մարմինների կողմից օգտագործվող ոչ ֆինանսական ակտիվների հետ գործառնություններ
H24: Ակտիվն օգտագործող կազմակերպության անվանումը` ՀՀ պետական եկամուտների կոմիտե
I25: Համակարգչային սարքավորումների քանակ, հատ | J25: =+'Հավելված 7'!F47 -> 2
I26: Գրասենյակային գույքի միավոր քանակ, հատ | J26: ='Հավելված 7'!F53+'Հավելված 7'!F54+'Հավելված 7'!F55+'Հավելված 7'!F56+'Հավելված 7'!F57+'Հավելված 7'!F58+'Հավելված 7'!F59+'Հավելված 7'!F61+'Հավելված 7'!F62 -> -1417
I27: Այլ սարքավորումների քանակ, հատ | J27: ='Հավելված 7'!F42+'Հավելված 7'!F43+'Հավելված 7'!F44+'Հավելված 7'!F45+'Հավելված 7'!F46+'Հավելված 7'!F48+'Հավելված 7'!F49+'Հավելված 7'!F50+'Հավելված 7'!F51+'Հավելված 7'!F52 -> 32
D28: 1023 - 31003 | E28: ՀՀ պետական եկամուտների կոմիտեի շենքային ապահովվածության բարելավում | J28: ='Հավելված 3'!G45 -> 0
F29: ՀՀ պետական եկամուտների կոմիտեի նոր շենքերի և շինությունների շինարարություն, նախագծային աշխատանքների ձեռքբերում
G30: Պետական մարմինների կողմից օգտագործվող ոչ ֆինանսական ակտիվների հետ գործառնություններ
H31: Պետական մարմինների կողմից օգտագործվող ոչ ֆինանսական ակտիվների հետ գործառնություններ
I32: Բյուջետային տարում կառուցապատման մակերես, ք/մ | J32: -32
I33: Նախագծահետազոտական փաստաթղթերի թիվ, հատ | J33: 1
I34: Նախագծվոց մակերես, ք/մ | J34: 3774
I35: Նախագծվող աշխատանքների ավարտվածության աստիճանը, տոկոս | J35: 100

Sheet Հավելված 6
J1: Հավելված N 6
J2: ՀՀ կառավարության 2025 թվականի
J3: ___________ ___-ի N _______ որոշման
A4: ՀԱՅԱՍՏԱՆԻ ՀԱՆՐԱՊԵՏՈՒԹՅԱՆ ԿԱՌԱՎԱՐՈՒԹՅԱՆ 2024 ԹՎԱԿԱՆԻ ԴԵԿՏԵՄԲԵՐԻ 27-Ի N 2060-Ն ՈՐՈՇՄԱՆ N 9.1 ՀԱՎԵԼՎԱԾՈՒՄ ԿԱՏԱՐՎՈՂ ՓՈՓՈԽՈՒԹՅՈՒՆՆԵՐԸ ԵՎ ԼՐԱՑՈՒՄՆԵՐԸ
J5: հազար դրամներով
A6: ԲԳԿ | B6: Ծրագիր | D6: Միջոցառում | H6: Իրականացնողը/ ակտիվն օգտագործողը/ շահառուի ընտրության չափորոշիչը | I6: Արդյունքային չափորոշիչը | J6: Ցուցանիշների փոփոխությունը (ավելացումները նշված են դրական նշանով, իսկ նվազեցումները՝ փակագծերում)
B7: Դասիչը | C7: Անվանումը | D7: Դասիչը | E7: Անվա-նումը | F7: Նկարագրու-թյունը | G7: Տեսակը | J7: Տարի
A8: ԸՆԴԱՄԵՆԸ | J8: =J9+J15 -> 0
A9: ՀՀ պաշտպանության նախարարություն | J9: =J10 -> -20002.7
B10: 1169 | C10: ՀՀ պաշտպանության ապահովում | J10: =J11 -> -20002.7
D11: 1169 - 31001 | E11: ՀՀ պաշտպանության նախարարության շենքային պայմանների բարելավում | J11: ='Հավելված 3'!G66 -> -20002.7
F12: Պաշտպանության կարիքների համար բնակելի, գրասենյակային և այլ նշանակության շենքերի և շինությունների կառուցում
G13: Պետական մարմինների կողմից օգտագործվող ոչ ֆինանսական ակտիվների հետ գործառնություններ
H14: Ակտիվն օգտագործող կազմակերպության անվանումը` ՀՀ պաշտպանության նախարարություն
A15: ՀՀ պետական եկամուտների կոմիտե | J15: =J16 -> 20002.7
B16: 1023 | C16: Հարկային և մաքսային ծառայություններ | J16: =J17+J21+J28 -> 20002.7
D17: 1023 - 11001 | E17: Հարկային և մաքսային ծառայություններ | J17: ='Հավելված 3'!G21 -> -49002.4
F18: Հարկային և մաքսային քաղաքականության մշակման, պլանավորման, մոնիտորինգի, ծրագրերի համակարգման, գանձման, վերահսկողության և աջակցության ծառայություններ
G19: Ծառայությունների մատուցում
H20: Ծառայությունը մատուցողի անվանումը` ՀՀ պետական եկամուտների կոմիտե
D21: 1023 - 31001 | E21: ՀՀ պետական եկամուտների կոմիտեի տեխնիկական հագեցվածության բարելավում | J21: ='Հավելված 3'!G35 -> 69005.1
F22: ՀՀ պետական եկամուտների կոմիտեի տեխնիկական հագեցվածության բարելավում
G23: Պետական մարմինների կողմից օգտագործվող ոչ ֆինանսական ակտիվների հետ գործառնություններ
H24: Ակտիվն օգտագործող կազմակերպության անվանումը` ՀՀ պետական եկամուտների կոմիտե
I25: Համակարգչային սարքավորումների քանակ, հատ | J25: =+'Հավելված 7'!F47 -> 2
I26: Գրասենյակային գույքի միավոր քանակ, հատ | J26: ='Հավելված 7'!F53+'Հավելված 7'!F54+'Հավելված 7'!F55+'Հավելված 7'!F56+'Հավելված 7'!F57+'Հավելված 7'!F58+'Հավելված 7'!F59+'Հավելված 7'!F61+'Հավելված 7'!F62 -> -1417
I27: Այլ սարքավորումների քանակ, հատ | J27: ='Հավելված 7'!F42+'Հավելված 7'!F43+'Հավելված 7'!F44+'Հավելված 7'!F45+'Հավելված 7'!F46+'Հավելված 7'!F48+'Հավելված 7'!F49+'Հավելված 7'!F50+'Հավելված 7'!F51+'Հավելված 7'!F52 -> 32
D28: 1023 - 31003 | E28: ՀՀ պետական եկամուտների կոմիտեի շենքային ապահովվածության բարելավում | J28: ='Հավելված 3'!G45 -> 0
F29: ՀՀ պետական եկամուտների կոմիտեի նոր շենքերի և շինությունների շինարարություն, նախագծային աշխատանքների ձեռքբերում
G30: Պետական մարմինների կողմից օգտագործվող ոչ ֆինանսական ակտիվների հետ գործառնություններ
H31: Պետական մարմինների կողմից օգտագործվող ոչ ֆինանսական ակտիվների հետ գործառնություններ
I32: Բյուջետային տարում կառուցապատման մակերես, ք/մ | J32: -32
I33: Նախագծահետազոտական փաստաթղթերի թիվ, հատ | J33: 1
I34: Նախագծվոց մակերես, ք/մ | J34: 3774
I35: Նախագծվող աշխատանքների ավարտվածության աստիճանը, տոկոս | J35: 100

Sheet Հավելված 7
G1: Հավելված N 7
F2: ՀՀ կառավարության 2025 թվականի
F3: ___________ ___-ի N _______ որոշման
A5: ՀԱՅԱՍՏԱՆԻ ՀԱՆՐԱՊԵՏՈՒԹՅԱՆ ԿԱՌԱՎԱՐՈՒԹՅԱՆ 2024 ԹՎԱԿԱՆԻ ԴԵԿՏԵՄԲԵՐԻ 27-Ի N 2060-Ն ՈՐՈՇՄԱՆ N 10 ՀԱՎԵԼՎԱԾՈՒՄ ԿԱՏԱՐՎՈՂ ՓՈՓՈԽՈՒԹՅՈՒՆՆԵՐԸ ԵՎ ԼՐԱՑՈՒՄՆԵՐԸ
A7: Գնման առարկայի | E7: Ցուցանիշների փոփոխությունը (ավելացումները նշված են դրական նշանով, իսկ նվազեցումները՝ փակագծում)
A8: կոդը | B8: անվանումը | C8: գնման ձևը | D8: չափի միավորը | E8: միավորի գինը | F8: քանակը | G8: Գումարը (հազար դրամ)
A9: ՀՀ պաշտպանության նախարարություն | G9: =G10 -> -20002.657
A10: Բաժին N 02 | B10: Խումբ N 01 | C10: Դաս N 01 | D10: Ռազմական պաշտպանություն | G10: =G11 -> -20002.657
A11: 1169 31001 | B11: ՀՀ պաշտպանության նախարարության շենքային պայմանների բարելավում | G11: =G12 -> -20002.657
B12: ՄԱՍ I. Ա Պ Ր Ա Ն Ք Ն Ե Ր | G12: =SUM(G13:G26) -> -20002.657
A13: 30211220/3 | B13: սեղանի համակարգիչներ | C13: ԳՀ | D13: հատ | G13: -720
A14: 30211220/8 | B14: սեղանի համակարգիչներ | C14: ԳՀ | D14: հատ | G14: -2500
A15: 39111280/2 | B15: աթոռակ` լամինատե նստատեղով | C15: ԳՀ | D15: հատ | G15: -209.853
A16: 39111330/1 | B16: ոտնդիր (ոտքերը վրան դնելու հարմարանք) | C16: ԳՀ | D16: հատ | G16: -90.15
A17: 39121100/3 | B17: գրասեղաններ | C17: ԳՀ | D17: հատ | G17: -73.2
A18: 39121100/4 | B18: գրասեղաններ | C18: ԳՀ | D18: հատ | G18: -97.9
A19: 39121520/3 | B19: գրապահարաններ | C19: ԳՀ | D19: հատ | G19: -70.18
A20: 39132220/4 | B20: կախիչներ | C20: ԳՀ | D20: հատ | G20: -357
A21: 39141120/6 | B21: դարակներով պահարաններ | C21: ԳՀ | D21: հատ | G21: -3000
A22: 39141120/9 | B22: դարակներով պահարաններ | C22: ԳՀ | D22: հատ | G22: -42.12
A23: 39141170/8 | B23: ննջասենյակի կահույք | C23: ԳՀ | D23: հատ | G23: -903
A24: 39141170/9 | B24: ննջասենյակի կահույք | C24: ԳՀ | D24: հատ | G24: -11601.1
... A26: 39224344/2 | B26: աղբարկղ` թիթեղյա | C26: ԳՀ | D26: հատ | G26: -30
A27: ՀՀ պետական եկամուտների կոմիտե | G27: =G28 -> 20002.688
A28: Բաժին N 01 | B28: Խումբ N 01 | C28: Դաս N 02 | D28: Ֆինանսական և հարկաբյուջետային հարաբերություններ | G28: =G29+G40+G63 -> 20002.688
A29: 1023 11001 | B29: Հարկային և մաքսային ծառայություններ | G29: =+G30+G32 -> -49002.412
B30: ՄԱՍ I. Ա Պ Ր Ա Ն Ք Ն Ե Ր | G30: =+G31 -> -4386
A31: 35121150-1 | B31: կապարակնիքներ | C31: ԷԱՃ | D31: հատ | E31: 87.72 | F31: -50000 | G31: =+F31*E31/1000 -> -4386
B32: ՄԱՍ III. ԾԱՌԱՅՈՒԹՅՈՒՆՆԵՐ | G32: =SUM(G33:G39) -> -44616.412
A33: 98311130-1 | B33: տեքստիլի մաքրման ծառայություններ | C33: ԷԱՃ | D33: դրամ | G33: =-194000/1000 -> -194
A34: 50431300-1 | B34: տրամաչափարկման (կալիբրավորման) ծառայություններ | C34: ՄԱ | D34: դրամ | E34: 528000 | F34: -1 | G34: =+F34*E34/1000 -> -528
A35: 50421300-5 | B35: ռենտգեն սարքերի վերանորոգման ― պահպանման ծառայություններ | C35: ԲՄ | D35: դրամ | E35: 200000 | F35: -1 | G35: =+F35*E35/1000 -> -200
A36: 50421300-7 | B36: ռենտգեն սարքերի վերանորոգման ― պահպանման ծառայություններ | C36: ՀԲՄ | D36: դրամ | E36: 39104100 | F36: -1 | G36: =+F36*E36/1000 -> -39104.1
A37: 50421300-8 | B37: ռենտգեն սարքերի վերանորոգման ― պահպանման ծառայություններ | C37: ՀԲՄ | D37: դրամ | G37: =-814900/1000 -> -814.9
A38: 71631100-1 | B38: տեխնիկական ստուգման ծառայություններ | C38: ԳՀ | D38: դրամ | E38: 3000000 | F38: -1 | G38: =+E38*F38/1000 -> -3000
A39: 50531140-2 | B39: փորձաքննության ծառայություններ | C39: ԳՀ | D39: դրամ | G39: =-775412/1000 -> -775.412
A40: 1023 31001 | B40: ՀՀ պետական եկամուտների կոմիտեի տեխնիկական հագեցվածության բարելավում | G40: =G41 -> 69005.1
B41: ՄԱՍ I. Ա Պ Ր Ա Ն Ք Ն Ե Ր | G41: =SUM(G42:G62) -> 69005.1
A42: 33111100-504 | B42: ռենտգեն սարքեր | C42: ՀՄԱ | D42: հատ | E42: 41000000 | F42: 1 | G42: =E42*F42/1000 -> 41000
A43: 33111100-505 | B43: ռենտգեն սարքեր | C43: ՀՄԱ | D43: հատ | E43: 30800000 | F43: 1 | G43: =E43*F43/1000 -> 30800
...
