Workbook

Sheet 1
B1: Հավելված N 1
B2: ՀՀ կառավարության 2025 թվականի
B3: ______________ ի ___Ն որոշման
B6: «ՀԱՅԱՍՏԱՆԻ ՀԱՆՐԱՊԵՏՈՒԹՅԱՆ 2025 ԹՎԱԿԱՆԻ ՊԵՏԱԿԱՆ ԲՅՈՒՋԵԻ ՄԱՍԻՆ» ՕՐԵՆՔԻ 2-ՐԴ ՀՈԴՎԱԾԻ ԱՂՅՈՒՍԱԿՈՒՄ ԿԱՏԱՐՎՈՂ ՓՈՓՈԽՈՒԹՅՈՒՆՆԵՐԸ
C8: հազար դրամներով
C9: Ցուցանիշների փոփոխությունը (նվազեցումները նշված են փակագծերում)
B10: 1. Եկամուտների գծով | C10: -2314149.1
B11: 2. Ծախսերի գծով | C11: -9994547.3
B12: 3. Դեֆիցիտը (պակասուրդը) | C12: -7680398.2
B16: ՀԱՅԱՍՏԱՆԻ ՀԱՆՐԱՊԵՏՈՒԹՅԱՆ ՎԱՐՉԱՊԵՏԻ ԱՇԽԱՏԱԿԱԶՄԻ ՂԵԿԱՎԱՐ | C16: Ա. ՀԱՐՈՒԹՅՈՒՆՅԱՆ

Sheet 2.
D1: Հավելված N 2
D2: ՀՀ կառավարության 2025 թվականի
D3: ______________ ի ___Ն որոշման
A5: «ՀԱՅԱUՏԱՆԻ ՀԱՆՐԱՊԵՏՈՒԹՅԱՆ 2025 ԹՎԱԿԱՆԻ ՊԵՏԱԿԱՆ ԲՅՈՒՋԵԻ ՄԱUԻՆ» ՕՐԵՆՔԻ 3-ՐԴ ՀՈԴՎԱԾԻ ԱՂՅՈՒՍԱԿՈՒՄ, N 3 ՀԱՎԵԼՎԱԾԻ N 1 ԱՂՅՈՒՍԱԿՈՒՄ ԵՎ ՀԱՅԱՍՏԱՆԻ ՀԱՆՐԱՊԵՏՈՒԹՅԱՆ ԿԱՌԱՎԱՐՈՒԹՅԱՆ 2024 ԹՎԱԿԱՆԻ ԴԵԿՏԵՄԲԵՐԻ 27-Ի N 2060-Ն ՈՐՈՇՄԱՆ N 1 ՀԱՎԵԼՎԱԾԻ N 1 ԱՂՅՈՒՍԱԿՈՒՄ ԿԱՏԱՐՎՈՂ ՓՈՓՈԽՈՒԹՅՈՒՆՆԵՐԸ
C6: հազար դրամներով
B7: Պետական բյուջեի դեֆիցիտի ֆինանսավորման աղբյուրներն ու դրանց տարրերի անվանումները | C7: Ցուցանիշների փոփոխությունը ( նվազեցումները նշված են փակագծերում)
C8: Տարի
B9: ԸՆԴԱՄԵՆԸ | C9: -7680398.2
B10: Բ. Արտաքին աղբյուրներ - ընդամենը | C10: -7680398.2
B11: այդ թվում
B12: 1. Փոխառու զուտ միջոցներ | C12: -7680398.2
B13: այդ թվում՝
B14: 1.1. Վարկերի և փոխատվությունների ստացում | C14: -7680398.2
B15: որից`
B16: նպատակային վարկերի գծով | C16: -7680398.2
B20: ՀԱՅԱՍՏԱՆԻ ՀԱՆՐԱՊԵՏՈՒԹՅԱՆ ՎԱՐՉԱՊԵՏԻ ԱՇԽԱՏԱԿԱԶՄԻ ՂԵԿԱՎԱՐ | C20: Ա. ՀԱՐՈՒԹՅՈՒՆՅԱՆ

Sheet 3.
B1: Հավելված N 3
B2: ՀՀ կառավարության 2025 թվականի
B3: ______________ ի ___Ն որոշման
B5: «ՀԱՅԱՍՏԱՆԻ ՀԱՆՐԱՊԵՏՈՒԹՅԱՆ 2025 ԹՎԱԿԱՆԻ ՊԵՏԱԿԱՆ ԲՅՈՒՋԵԻ ՄԱՍԻՆ» ՕՐԵՆՔԻ 6-ՐԴ ՀՈԴՎԱԾԻ ԱՂՅՈՒՍԱԿՈՒՄ ԵՎ ՀԱՅԱՍՏԱՆԻ ՀԱՆՐԱՊԵՏՈՒԹՅԱՆ ԿԱՌԱՎԱՐՈՒԹՅԱՆ 2024 ԹՎԱԿԱՆԻ ԴԵԿՏԵՄԲԵՐԻ 27-Ի N 2060-Ն ՈՐՈՇՄԱՆ N 2 ՀԱՎԵԼՎԱԾՈՒՄ ԿԱՏԱՐՎՈՂ ՓՈՓՈԽՈՒԹՅՈՒՆՆԵՐԸ
C7: հազար դրամներով
B8: Եկամտատեսակ | C8: Ցուցանիշների փոփոխությունը (նվազեցումները նշված են փակագծերում)
C9: Տարի
B10: ՊԵՏԱԿԱՆ ԲՅՈՒՋԵԻ ԵԿԱՄՈՒՏՆԵՐ | C10: -2314149.1
B11: այդ թվում՝
B12: Պաշտոնական դրամաշնորհներ | C12: -2314149.1
B16: ՀԱՅԱՍՏԱՆԻ ՀԱՆՐԱՊԵՏՈՒԹՅԱՆ ՎԱՐՉԱՊԵՏԻ ԱՇԽԱՏԱԿԱԶՄԻ ՂԵԿԱՎԱՐ | C16: Ա. ՀԱՐՈՒԹՅՈՒՆՅԱՆ

Sheet 4
A1: Հավելված N 4
A2: ՀՀ կառավարության 2025 թվականի
A3: ______________ ի ___Ն որոշման
B4: ՀԱՅԱՍՏԱՆԻ ՀԱՆՐԱՊԵՏՈՒԹՅԱՆ 2025 ԹՎԱԿԱՆԻ ՊԵՏԱԿԱՆ ԲՅՈՒՋԵԻ ՄԱՍԻՆ» ՕՐԵՆՔԻ N 1 ՀԱՎԵԼՎԱԾԻ N 2 ԱՂՅՈՒՍԱԿՈՒՄ ԿԱՏԱՐՎՈՂ ՎԵՐԱԲԱՇԽՈՒՄԸ ԵՎ ՀԱՅԱՍՏԱՆԻ ՀԱՆՐԱՊԵՏՈՒԹՅԱՆ ԿԱՌԱՎԱՐՈՒԹՅԱՆ 2024 ԹՎԱԿԱՆԻ ԴԵԿՏԵՄԲԵՐԻ 27-Ի N 2060-Ն ՈՐՈՇՄԱՆ N 5 ՀԱՎԵԼՎԱԾԻ N 1 ԱՂՅՈՒՍԱԿՈՒՄ ԿԱՏԱՐՎՈՂ ՓՈՓՈԽՈՒԹՅՈՒՆՆԵՐԸ ԵՎ ԼՐԱՑՈՒՄՆԵՐԸ
H5: հազար դրամներով
B6: ԲԳԿ | C6: Ծրագրային դասիչը | E6: ԲԳԿ/Ծրագրի /միջոցառման անվանումը | F6: Ծրագրի նպատակը/Միջոցառման նկարագրությունը | G6: Վերջնական արդյունքի նկարագրությունը/Միջոցառման տեսակը | H6: Ցուցանիշների փոփոխությունը (ավելացումները նշված են դրական նշանով, իսկ նվազեցումները` փակագծերում)
C7: Ծրագիր | D7: Միջոցառում | H7: Տարի
B8: ԸՆԴԱՄԵՆԸ | H8: -9994547.3
B9: ՀՀ տարածքային կառավարման և ենթակառուցվածքների նախարարություն | H9: -10353577
C10: 1004 | E10: Ոռոգման համակարգի առողջացում | F10: Ոռոգման ծառայությունների հասանելիության և մատչելիության ապահովում | G10: Ոռոգման ջրի մատակարարման արդյունավետության և հասանելիության բարելավում, կորուստների կրճատում | H10: -2773269.1
D11: 1004 - 11009 | E11: Գերմանիայի զարգացման վարկերի բանկի աջակցությամբ իրականացվող Ախուրյան գետի ջրային ռեսուրսների ինտեգրացված կառավարման դրամաշնորհային ծրագիր | F11: Գերմանիայի զարգացման վարկերի բանկի աջակցությամբ իրականացվող Ախուրյան գետի ջրային ռեսուրսների ինտեգրացված կառավարման դրամաշնորհային ծրագրի համակարգում և ղեկավարում | G11: Ծառայությունների մատուցում | H11: -41482.5
D12: 1004 - 11011 | E12: Զարգացման ֆրանսիական գործակալության աջակցությամբ իրականացվող ոռոգման ոլորտի ֆինանսական կայունության և ոռոգման կառավարման կարողությունների բարելավման դրամաշնորհային ծրագրի խորհրդատվություն և կառավարում | F12: Զարգացման ֆրանսիական գործակալության աջակցությամբ իրականացվող ոռոգման ոլորտի ֆինանսական կայունության և ոռոգման կառավարման կարողությունների բարելավման ծրագրի համակարգում և ղեկավարում | G12: Ծառայությունների մատուցում | H12: -83000
D13: 1004 - 31006 | E13: Գերմանիայի զարգացման վարկերի բանկի աջակցությամբ իրականացվող Ախուրյան գետի ջրային ռեսուրսների ինտեգրացված կառավարման ծրագրի երկրորդ փուլի շրջանակներում ջրային տնտեսության ենթակառուցվածքների հիմնանորոգում | F13: Գերմանիայի զարգացման վարկերի բանկի աջակցությամբ իրականացվող Ախուրյան գետի ջրային ռեսուրսների ինտեգրացված կառավարման ծրագրի երկրորդ փուլ | G13: Պետական մարմինների կողմից օգտագործվող ոչ ֆինանսական ակտիվների հետ գործառնություններ | H13: -648786.6
D14: 1004 - 31022 | E14: Համաշխարհային բանկի աջակցության շրջանակներում ոռոգման, ջրամատակարարման և ջրահետացման ծրագրերի իրականացում | F14: Համաշխարհային բանկի աջակցության շրջանակներում ոռոգման, ջրամատակարարման և ջրահեռացման ծրագրերի իրականացման խորհրդատվական ծառայությունների ձեռքբերում, վերակառուցման աշխատանքների իրականացում | G14: Պետական մարմինների կողմից օգտագործվող ոչ ֆինանսական ակտիվների հետ գործառնություններ | H14: -2000000
C15: 1019 | E15: Սոցիալական ներդրումների և տեղական զարգացման ծրագիր | F15: Նպաստել տարածքներում բնակչության նյութական և ոչ նյութական բարեկեցության աճին | G15: Համայնքային և միջհամայնքային ենթակառուցվածքների և որակի հասանելիության բարելավում, ինստիտուցիոնալ և ֆինանասական կարողությունների հզորացում | H15: 13105
D16: 1019 - 12004 | E16: Համաշխարհային բանկի աջակցությամբ իրականացվող Սոցիալական ներդրումների և տեղական զարգացման ծրագրի լրացուցիչ ֆինանսավորման վարկի շրջանակներում ՀՀ համայնքային և միջհամայնքային ենթակառուցվածքների որակի, օգտագործման և հասանելիության բարելավում: | F16: Ջրագծերի, առողջապահության, կրթության օբյեկտների, մշակույթային տների, ծերանոցների, մանկատների, հատուկ դպրոցների, մանկապարտզների և կոյուղու օբյեկտնրի հիմն. և շինարարություն., գույքի և սարքավորումների տրամադրում շահառու ենթածրագրերի համար: | G16: Տրանսֆերտների տրամադրում | H16: 13105
C17: 1049 | E17: Ճանապարհային ցանցի բարելավում | F17: Ճանապարհային ցանցի բարելավում և անվտանգ երթևեկության ապահովում | G17: Ճանապարհների ծածկի որակի և փոխադրումների արդյունավետության բարելավում, ճանապարհների վիճակով պայմանավորված պատահարների նվազում | H17: 1008445.8
D18: 1049 - 11016 | E18: Ասիական զարգացման բանկի աջակցությամբ իրականացվող Հյուսիս-հարավ ճանապարհային միջանցքի զարգացման ծրագրի Սիսիան-Քաջարան 60կմ-ի ճանապարհի Հյուսիսային ենթահատվածի համակարգում և կառավարում | F18: Խորհրդատվական ծառայություններ և պահպանման ծախսեր | G18: Ծառայությունների մատուցում | H18: -294140
D19: 1049 - 11020 | E19: Հյուսիս-հարավ ճանապարհային միջանցքի զարգացման ծրագրի Գյումրու շրջանցիկ ճանապարհի համակարգում և կառավարում, Տրանշ 5 | F19: Հյուսիս-հարավ ճանապարհային միջանցքի զարգացման ծրագրի Գյումրու շրջանցիկ ճանապարհի շրջանակներում հողերի օտարում | G19: Ծառայությունների մատուցում | H19: -100000
D20: 1049 - 21001 | E20: Պետական նշանակության ավտոճանապարհների հիմնանորոգում | F20: Միջպետական, հանրապետական և մարզային նշանակության ավտոճոնապարհների քայքայված ծածկի վերանորոգում, մաշված ծածկի փոխարինում | G20: Հանրության կողմից անմիջականորեն օգտագործվող ակտիվների հետ կապված միջոցառումներ | H20: 3265375.6
D21: 1049 - 21002 | E21: Տրանսպորտային օբյեկտների հիմնանորոգում | F21: Ավտոմոբիլային ճանապարհների վրա գտնվող կամուրջների հիմնանորոգում | G21: Հանրության կողմից անմիջականորեն օգտագործվող ակտիվների հետ կապված միջոցառումներ | H21: -939767.8
D22: 1049 - 21009 | E22: Եվրոպական ներդրումային բանկի աջակցությամբ իրականացվող Հյուսիս-հարավ միջանցքի զարգացման վարկային ծրագիր, Տրանշ 3 | F22: Լանջիկ-Գյումրի 27.47 կմ երկարությամբ ճանապարհային հատվածի կառուցում | G22: Հանրության կողմից անմիջականորեն օգտագործվող ակտիվների հետ կապված միջոցառումներ | H22: -923022
C23: 1072 | E23: Ջրամատակարարաման և ջրահեռացման բարելավում | F23: Ջրամատակարարման ծառայությունների հասանելիության և մատչելիության ապահովում | G23: Խմելու ջրի մատակարարման և ջրահեռացման համակարգի բարելավում, կորուստների կրճատում | H23: -872000
D24: 1072 - 12001 | E24: Գերմանիայի զարգացման և Եվրոպական միության հարևանության ներդրումային բանկի աջակցությամբ իրականացվող ջրամատակարարման և ջրահեռացման ենթակառուցվածքների դրամաշնորհային ծրագիր` երրորդ փուլ | F24: 579 գյուղական բնակավայրերից ընտրված որոշ համայնքների ջրամատակարարման և ջրահեռացման համակարգերի հատվածների հրատապ վերականգնման աշխատանքների իրականացում ինչպես նաև՛ Արմավիրի կեղտաջրերի մաքրման կայանի կառուցում | G24: Տրանսֆերտների տրամադրում | H24: -872000
C25: 1157 | E25: Քաղաքային զարգացում | F25: Քաղաքային ենթակառուցվածքների զարգացում | G25: Քաղաքային ենթակառուցվածքների արդիականացում և բարելավում | H25: -4725094.3
D26: 1157 - 12003 | E26: Արևելյան եվրոպայի էներգախնայողության և բնապահպանական գործընկերության ֆոնդի աջակցությամբ իրականացվող Երևանի քաղաքային լուսավորության դրամաշնորհային ծրագրի կատարման ապահովում | F26: Երևանի քաղաքային լուսավորության ենթակառուցվածքի բարելավման համար տրամադրվող աջակցություն և ծառայություն | G26: Տրանսֆերտների տրամադրում | H26: -405158.8
D27: 1157 - 12004 | E27: Վերակառուցման և զարգացման եվրոպական բանկի աջակցությամբ իրականացվող Երևանի քաղաքային լուսավորության դրամաշնորհային ծրագրի կատարման ապահովում | F27: Երևանի քաղաքային լուսավորության ենթակառուցվածքի բարելավման համար տրամադրվող աջակցություն և ծառայություն | G27: Տրանսֆերտների տրամադրում | H27: -38841.7
D28: 1157 - 12017 | E28: Վերակառուցման և զարգացման եվրոպական բանկի աջակցությամբ իրականացվող Գյումրու քաղաքային ճանապարհների ծրագիր | F28: Գյումրու Անի և Ավստրիական թաղամասերի փողոցների (ներառյալ հետիոտնային անցումների ցանցը և ջրահեռացման համակարգը) հիմնանորոգում | G28: Տրանսֆերտների տրամադրում | H28: -897502.9
D29: 1157 - 12018 | E29: Վերակառուցման և զարգացման եվրոպական բանկի աջակցությամբ իրականացվող Գյումրու քաղաքային ճանապարհների դրամաշնորհային ծրագիր (Տրանշ Ա, Բ, Գ) | F29: Գյումրու Անի և Ավստրիական թաղամասերի փողոցների (ներառյալ հետիոտնային անցումների ցանցը և ջրահեռացման համակարգը) հիմնանորոգում | G29: Տրանսֆերտների տրամադրում | H29: -432957.1
D30: 1157 - 12029 | E30: Ասիական զարգացման բանկի աջակցությամբ իրականացվող քաղաքային զարգացման ներդրումային ծրագրի համակարգում և կառավարում | F30: Քաղաքային զարգացման ներդրումային ծրագրի շրջանակներում համակարգում և կառավարում | G30: Տրանսֆերտների տրամադրում | H30: -446589.9
D31: 1157 - 12030 | E31: Ասիական զարգացման բանկի աջակցությամբ իրականացվող քաղաքային զարգացման ներդրումային ծրագրի շրջանակներում ճանապարհային շինարարություն | F31: Քաղաքային զարգացման ներդրումային ծրագրի շրջանակներում ճանապարհային շինարարություն | G31: Տրանսֆերտների տրամադրում | H31: -2287062.3
D32: 1157 - 12031 | E32: Վերակառուցման և զարգացման եվրոպական բանկի աջակցությամբ իրականացվող Գյումրու քաղաքային ճանապարհների տեխնիկական համագործակցության դրամաշնորհային ծրագրի շրջանակներում ճանապարհների վերակառուցման և փողոցների լուսավորության արդիականացում | F32: Գյումրու ճանապարհների վերակառուցման և փողոցների լուսավորության արդիականացման աշխատանքներ | G32: Տրանսֆերտների տրամադրում | H32: -108490.8
D33: 1157 - 12032 | E33: Վերակառուցման և զարգացման եվրոպական բանկի աջակցությամբ իրականացվող Գյումրու քաղաքային ճանապարհների տեխնիկական համագործակցության վարկային ծրագիր | F33: Գյումրու ճանապարհների վերակառուցման և փողոցների լուսավորության արդիականացման աշխատանքներԳյումրու ճանապարհների վերակառուցման և փողոցների լուսավորության արդիականացման աշխատանքներ | G33: Տրանսֆերտների տրամադրում | H33: -108490.8
C34: 1232 | E34: Էներգաարդյունավետության ծրագիր | F34: Էներգախնայողության և վերականգնվող էներգետիկայի ներուժի առավելագույն իրացում | G34: Էներգախնայողության մակարդակի բարձրացում և վերականգնվող էներգետիկայի մասնաբաժնի աճ | H34: -3004764.8
D35: 1232 - 12001 | E35: Եվրոպական ներդրումային բանկի աջակցությամբ իրականացվող Երևանի էներգաարդյունավետության դրամաշնորհային ծրագրի երկրորդ փուլ (մանկապարտեզների և այլ հանրային շենքերի էներգարդյունավետվության բարելավում) | F35: Էներգաարդյունավետության և էներգախնայողությանն ուղղված միջոցառումների իրականացում հանրային (այդ թվում` մանկապարտեզների) շենքերում | G35: Տրանսֆերտների տրամադրում | H35: -863948.2
D36: 1232 - 12003 | E36: Եվրոպական ներդրումային բանկի աջակցությամբ իրականացվող Երևանի էներգաարդյունավետության ծրագրի երկրորդ փուլ (մանկապարտեզների և այլ հանրային շենքերի էներգարդյունավետվության բարելավում) | F36: Էներգաարդյունավետության և էներգախնայողությանն ուղղված միջոցառումների իրականացում հանրային (այդ թվում` մանկապարտեզների) շենքերում | G36: Տրանսֆերտների տրամադրում | H36: -2140816.6
B37: ՀՀ կառավարություն | H37: 359030.1
C38: 1139 | E38: ՀՀ կառավարության պահուստային ֆոնդ | F38: Պետական բյուջեում չկանխատեսված, ինչպես նաեւ բյուջետային երաշխիքների ապահովման ծախսերի ֆինանսավորման ապահովում | G38: Պահուստային ֆոնդի կառավարման արդյունավետության և թափանցիկության ապահովում | H38: 359030.1
D39: 1139 - 11001 | E39: ՀՀ կառավարության պահուստային ֆոնդ | F39: ՀՀ պետական բյուջեում նախատեսված ելքերի լրացուցիչ ֆինանսավորման, պետական բյուջեում չկանխատեսված ելքերի, ինչպես նաև բյուջետային երաշխիքների ապահովման ելքերի ֆինանսավորման ապահովում | G39: Ծառայությունների մատուցում | H39: 359030.1
D41: ՀԱՅԱՍՏԱՆԻ ՀԱՆՐԱՊԵՏՈՒԹՅԱՆ ՎԱՐՉԱՊԵՏԻ ԱՇԽԱՏԱԿԱԶՄԻ ՂԵԿԱՎԱՐ՝ | F41: Ա.ՀԱՐՈՒԹՅՈՒՆՅԱՆ

Sheet 5.
H1: Հավելված N 5
H2: ՀՀ կառավարության 2025 թվականի
H3: ______________ ի ___Ն որոշման
B5: ՀԱՅԱՍՏԱՆԻ ՀԱՆՐԱՊԵՏՈՒԹՅԱՆ ԿԱՌԱՎԱՐՈՒԹՅԱՆ 2024 ԹՎԱԿԱՆԻ ԴԵԿՏԵՄԲԵՐԻ 27-Ի N 2060-Ն ՈՐՈՇՄԱՆ NN 3 ԵՎ 4 ՀԱՎԵԼՎԱԾՆԵՐՈՒՄ ԿԱՏԱՐՎՈՂ ՓՈՓՈԽՈՒԹՅՈՒՆՆԵՐԸ ԵՎ ԼՐԱՑՈՒՄՆԵՐԸ
H7: հազար դրամներով
B8: Գործառական դասիչը | E8: Ծրագրային դասիչը | G8: Բյուջետային հատկացումների գլխավոր կարգադրիչների, ծրագրերի, միջոցառումների և միջոցառումները կատարող պետական մարմինների անվանումները | H8: Ցուցանիշների փոփոխությունը (ավելացումները նշված են դրական նշանով, իսկ նվազեցումները` փակագծերում)
B9: Բաժին | C9: Խումբ | D9: Դաս | E9: Ծրագիր | F9: Միջոցառում | H9: Տարի
G10: ԸՆԴԱՄԵՆԸ | H10: -9994547.3
G11: այդ թվում`
G12: ՀՀ տարածքային կառավարման և ենթակառուցվածքների նախարարություն | H12: -10353577
G13: այդ թվում`
B14: 04 | G14: ՏՆՏԵՍԱԿԱՆ ՀԱՐԱԲԵՐՈՒԹՅՈՒՆՆԵՐ | H14: -9037576.9
G15: այդ թվում`
C16: 01 | G16: Ընդհանուր բնույթի տնտեսական, առևտրային և աշխատանքի գծով հարաբերություններ | H16: -3004764.8
G17: այդ թվում`
D18: 01 | G18: Ընդհանուր բնույթի տնտեսական և առևտրային հարաբերություններ | H18: -3004764.8
G19: այդ թվում`
E20: 1232 | G20: Էներգաարդյունավետության ծրագիր | H20: -3004764.8
G21: այդ թվում`
F22: 12001 | G22: Եվրոպական ներդրումային բանկի աջակցությամբ իրականացվող Երևանի էներգաարդյունավետության դրամաշնորհային ծրագրի երկրորդ փուլ (մանկապարտեզների և այլ հանրային շենքերի էներգարդյունավետվության բարելավում) | H22: -863948.2
G23: այդ թվում` ըստ կատարողների
G24: ՀՀ տարածքային կառավարման և ենթակառուցվածքների նախարարություն | H24: -863948.2
G25: այդ թվում` բյուջետային ծախսերի տնտեսագիտական դասակարգման հոդվածներ
G26: ԸՆԴԱՄԵՆԸ ԾԱԽՍԵՐ | H26: -863948.2
G27: ՈՉ ՖԻՆԱՆՍԱԿԱՆ ԱԿՏԻՎՆԵՐԻ ԳԾՈՎ ԾԱԽՍԵՐ | H27: -863948.2
G28: ՀԻՄՆԱԿԱՆ ՄԻՋՈՑՆԵՐ | H28: -863948.2
G29: ՇԵՆՔԵՐ ԵՎ ՇԻՆՈՒԹՅՈՒՆՆԵՐ | H29: -858188.4
G30: - Շենքերի և շինությունների շինարարություն | H30: -858188.4
G31: ԱՅԼ ՀԻՄՆԱԿԱՆ ՄԻՋՈՑՆԵՐ | H31: -5759.8
G32: - Նախագծահետազոտական ծախսեր | H32: -5759.8
F33: 12003 | G33: Եվրոպական ներդրումային բանկի աջակցությամբ իրականացվող Երևանի էներգաարդյունավետության ծրագրի երկրորդ փուլ (մանկապարտեզների և այլ հանրային շենքերի էներգարդյունավետվության բարելավում) | H33: -2140816.6
G34: այդ թվում` ըստ կատարողների
G35: ՀՀ տարածքային կառավարման և ենթակառուցվածքների նախարարություն | H35: -2140816.6
G36: այդ թվում` բյուջետային ծախսերի տնտեսագիտական դասակարգման հոդվածներ
G37: ԸՆԴԱՄԵՆԸ ԾԱԽՍԵՐ | H37: -2140816.6
G38: ՈՉ ՖԻՆԱՆՍԱԿԱՆ ԱԿՏԻՎՆԵՐԻ ԳԾՈՎ ԾԱԽՍԵՐ | H38: -2140816.6
G39: ՀԻՄՆԱԿԱՆ ՄԻՋՈՑՆԵՐ | H39: -2140816.6
G40: ՇԵՆՔԵՐ ԵՎ ՇԻՆՈՒԹՅՈՒՆՆԵՐ | H40: -2126545.8
G41: - Շենքերի և շինությունների շինարարություն | H41: -2126545.8
G42: ԱՅԼ ՀԻՄՆԱԿԱՆ ՄԻՋՈՑՆԵՐ | H42: -14270.8
...

Sheet 6
I1: Հավելված N 6
I2: ՀՀ կառավարության 2025 թվականի
I3: ______________ ի ___Ն որոշման
B5: «ՀԱՅԱՍՏԱՆԻ ՀԱՆՐԱՊԵՏՈՒԹՅԱՆ 2025 ԹՎԱԿԱՆԻ ՊԵՏԱԿԱՆ ԲՅՈՒՋԵԻ ՄԱՍԻՆ» ՕՐԵՆՔԻ N 1 ՀԱՎԵԼՎԱԾԻ N 3 ԱՂՅՈՒՍԱԿՈՒՄ ԿԱՏԱՐՎՈՂ ՓՈՓՈԽՈՒԹՅՈՒՆՆԵՐԸ ԵՎ ԼՐԱՑՈՒՄՆԵՐԸ
H6: հազար դրամներով
B7: Ծրագրային դասիչ | D7: Բյուջետային գլխավոր կարգադրիչների, ծրագրերի, միջոցառումների և ուղղությունների անվանումները | E7: Ցուցանիշների փոփոխությունը (ավելացումները նշված են դրական նշանով, իսկ նվազեցումները` փակագծերում)
E8: Ընդամենը, | F8: այդ թվում՝
B9: Ծրագիր | C9: Միջոցառում | F9: Կառուցման աշխատանքներ | G9: Վերակառուցման, վերանորոգման և վերականգնման աշխատանքներ | H9: Նախագծահե- տազոտական, գեոդեզիա- քարտեզագրական աշխատանքներ | I9: Ոչ ֆինանսական այլ ակտիվների ձեռքբերում
D10: ԸՆԴԱՄԵՆԸ | E10: =+F10+G10+H10+I10 -> 2325607.8 | F10: =+F12 -> 0 | G10: =+G12 -> 2263205.8 | H10: =+H12 -> 62402 | I10: =+I12 -> 0
D11: այդ թվում՝
D12: ՀՀ ՏԱՐԱԾՔԱՅԻՆ ԿԱՌԱՎԱՐՄԱՆ ԵՎ ԵՆԹԱԿԱՌՈՒՑՎԱԾՔՆԵՐԻ ՆԱԽԱՐԱՐՈՒԹՅՈՒՆ | E12: =+F12+G12+H12+I12 -> 2325607.8 | F12: =F14+F75 -> 0 | G12: =G14+G75 -> 2263205.8 | H12: =H14+H75 -> 62402 | I12: =I14+I75 -> 0
D13: այդ թվում`
B14: 1049 | C14: 21001 | D14: Պետական նշանակության ավտոճանապարհների հիմնանորոգում | E14: =+F14+G14+H14+I14 -> 3265375.6 | F14: =+F16+F40+F27 -> 0 | G14: =+G16+G40+G27 -> 3219190.1 | H14: =+H16+H40+H27 -> 46185.5 | I14: =+I16+I40+I27 -> 0
D15: այդ թվում`
C16: 1 | D16: Միջպետական նշանակության ավտոճանապարհներ, այդ թվում | E16: =+F16+G16+H16+I16 -> 173151.4 | F16: =SUM(F17:F26) -> 0 | G16: =SUM(G17:G26) -> 168599 | H16: =SUM(H17:H26) -> 4552.4 | I16: =SUM(I17:I26) -> 0
D17: Մ-2, Երևան-Երասխ-Նորավան- Տաթև-Կապան-Մեղրի-ՀՀ սահման (նախկին՝ Մ-2 ,Երևան-Երասխ-Գորիս-Մեղրի-ՀՀ սահման) միջպետական նշանակության ավտոճանապարհի կմ91+600 - կմ98+000 հատվածի հիմնանորոգում | E17: =+F17+G17+H17+I17 -> -146988.9 | F17: 0 | G17: -146988.9 | H17: 0 | I17: 0
D18: Մ-2, Երևան-Երասխ-Նորավան- Տաթև-Կապան-Մեղրի-ՀՀ սահման (նախկին՝ Մ-2 ,Երևան-Երասխ-Գորիս-Մեղրի-ՀՀ սահման) միջպետական նշանակության ավտոճանապարհի կմ91+600 - կմ98+000 հատվածի հիմնանորոգում | E18: =+F18+G18+H18+I18 -> 146592 | F18: 0 | G18: 146592 | H18: 0 | I18: 0
D19: Մ-2, Երևան-Երասխ-Նորավան- Տաթև-Կապան-Մեղրի-ՀՀ սահման (նախկին՝ Մ-2 ,Երևան-Երասխ-Գորիս-Մեղրի-ՀՀ սահման) միջպետական նշանակության ավտոճանապարհի կմ108+400 - կմ126+100 հատվածի հիմնանորոգում | E19: =F19+G19+H19+I19 -> 135966.1 | F19: 0 | G19: 135966.1 | H19: 0 | I19: 0
D20: Մ-2, Երևան-Երասխ-Նորավան- Տաթև-Կապան-Մեղրի-ՀՀ սահման (նախկին՝ Մ-2 ,Երևան-Երասխ-Գորիս-Մեղրի-ՀՀ սահման) միջպետական նշանակության ավտոճանապարհի կմ181+250 - կմ181+750 հատվածի վերակառուցում | E20: =+F20+G20+H20+I20 -> -6139.4 | F20: 0 | G20: -6139.4 | H20: 0 | I20: 0
D21: Մ-2 միջպետական նշանակության ավտոմոբիլային ճանապարհի կմ 198+000 – կմ 199+000 հարակից հատվածում ծանրաքարշ և մեծ եզրաչափերով տրանսպորտային միջոցների անշարժ կշռման նոր հենակետին մոտեցնող ավտոճանապարհի կառուցում | E21: =+F21+G21+H21+I21 -> 2298 | F21: 0 | G21: 0 | H21: 2298 | I21: 0
D22: Մ-3, ՀՀ սահման-Մարգարա-Վանաձոր-Տաշիր-ՀՀ սահման միջպետական նշանակության ավտոճանապարհի կմ22+152 -կմ27+000 հատվածի հիմնանորոգում | E22: =+F22+G22+H22+I22 -> 2254.4 | F22: 0 | G22: 0 | H22: 2254.4 | I22: 0
D23: Մ-3,ՀՀ սահման-Մարգարա-Վանաձոր-Տաշիր-ՀՀ սահման միջպետական նշանակության ավտոճանապարհի կմ35+535-կմ39+500 հատվածի հիմնանորոգում | E23: =+F23+G23+H23+I23 -> -11673.8 | F23: 0 | G23: -11673.8 | H23: 0 | I23: 0
D24: Մ-3, ՀՀ սահման-Մարգարա-Վանաձոր-Տաշիր-ՀՀ սահման (նախկին՝ Մ-3, Թուրքիայի սահման-Մարգարա-Վանաձոր-Տաշիր-Վրաստանի սահման) միջպետական նշանակության ավտոճանապարհի կմ154+000-կմ176+900 հատվածի հիմնանորոգում | E24: =F24+G24+H24+I24 -> 84540.5 | F24: 0 | G24: 84540.5 | H24: 0 | I24: 0
D25: Մ-10, Սևան-Մարտունի-Գետափ միջպետական նշանակության ավտոճանապարհի կմ79+060-կմ80+590 հատվածի վերակառուցում | E25: =+F25+G25+H25+I25 -> -22345.4 | F25: 0 | G25: -22345.4 | H25: 0 | I25: 0
D26: Մ-10, Սևան-Մարտունի-Գետափ միջպետական նշանակության ավտոճանապարհի կմ80+590-կմ94+590 հատվածի հիմնանորոգում | E26: =+F26+G26+H26+I26 -> -11352.1 | F26: 0 | G26: -11352.1 | H26: 0 | I26: 0
C27: 2 | D27: Հանրապետական նշանակության ավտոճանապարհներ, այդ թվում | E27: =+F27+G27+H27+I27 -> 529563.7 | F27: =SUM(F28:F39) -> 0 | G27: =SUM(G28:G39) -> 522238 | H27: =SUM(H28:H39) -> 7325.7 | I27: =SUM(I28:I39) -> 0
D28: Հ-1, Վ. Պտղնու տրանսպորտային հանգույց -Աբովյան - Ֆանտան -Ալափարս-Հ-5 (նախկին՝ Հ-1, Վ. Պտղնու տրանսպորտային հանգույց - Ջրաբեր-Հրազդան -Հրազդանի քրեակատարողական հիմնարկ) հանրապետական նշանակության ավտոճանապարհի կմ0+000 - կմ5+023 հատվածի հիմնանորոգում | E28: =+F28+G28+H28+I28 -> 127991 | F28: 0 | G28: 127991 | H28: 0 | I28: 0
D29: Հ-2, /Հ-1/(Աբովյան) -Արզնի -/Հ-6/Նոր Գեղի հանրապետական նշանակության ավտոճանապարհի կմ1+400 -կմ8+088 հատվածի հիմնանորոգում | E29: =+F29+G29+H29+I29 -> 2546 | F29: 0 | G29: 0 | H29: 2546 | I29: 0
D30: Հ-4, Երևան -Եղվարդ -Արագյուղ -Հարթավան - /Մ-3/ հանրապետական նշանակության ավտոճանապարհի կմ 15+600-կմ28+000 հատվածի հիմնանորոգում | E30: =+F30+G30+H30+I30 -> 1048.6 | F30: 0 | G30: 0 | H30: 1048.6 | I30: 0
D31: Հ-22, /Մ-6/ - Դսեղ – /Հ-70/ հանրապետական նշանակության ավտոճանապարհի կմ 8+000-կմ 13+900 հատվածի հիմնանորոգում | E31: =+F31+G31+H31+I31 -> -38454.6 | F31: 0 | G31: -38454.6 | H31: 0 | I31: 0
D32: Հ-22, /Մ-6/ - Դսեղ – /Հ-70/ հանրապետական նշանակության ավտոճանապարհի կմ 8+000-կմ 13+900 հատվածի հիմնանորոգում | E32: =+F32+G32+H32+I32 -> 24003.3 | F32: 0 | G32: 24003.3 | H32: 0 | I32: 0
D33: Հ-30, /Մ-4/ - Ճամբարակ- /Հ-7/ հանրապետական նշանակության ավտոճանապարհի 19-րդ և 51-րդ կմ-երում գտնվող սողանքային տեղամասերում ճանապարհամերձ հողաշերտի բեռնաթափման, ճանապարհի անցանելիության ապահովման միջոցառումների իրականացում | E33: =+F33+G33+H33+I33 -> 55948.9 | F33: 0 | G33: 55948.9 | H33: 0 | I33: 0
D34: Հ-36, /Մ-4/ (Իջևան) - Նավուր - Բերդ - Այգեպար հանրապետական նշանակության ավտոճանապարհի կմ 42+100(40+606)-կմ 51+900 հատվածի հիմնանորոգում | E34: =+F34+G34+H34+I34 -> 230.3 | F34: 0 | G34: 0 | H34: 230.3 | I34: 0
D35: Հ-36, /Մ-4/ (Իջևան) - Նավուր - Բերդ - Այգեպար հանրապետական նշանակության ավտոճանապարհի կմ 51+900 -կմ 56+460 հատվածի հիմնանորոգում | E35: =+F35+G35+H35+I35 -> 168.3 | F35: 0 | G35: 0 | H35: 168.3 | I35: 0
D36: Հ-37,/Մ-4/ - Այգեհովիտ - Վազաշեն - Պառավաքար - Այգեպար հանրապետական նշանակության ավտոճանապարհի կմ0+000 - կմ22+300 հատվածի հիմնանորոգում | E36: =+F36+G36+H36+I36 -> 367.5 | F36: 0 | G36: 0 | H36: 367.5 | I36: 0
D37: Հ-56,/Մ-3/ - Մուղնի - Օհանավան - /Մ-3/ հանրապետական նշանակության ավտոճանապարհի կմ0+000-կմ5+300 հատվածի հիմնանորոգում | E37: =+F37+G37+H37+I37 -> 352749.4 | F37: 0 | G37: 352749.4 | H37: 0 | I37: 0
D38: Հ-58, /Մ-4/ -Ոսկեպար-Նոյեմբերյան- /Մ-6/ հանրապետական նշանակության ավտոճանապարհի Կիրանց գյուղով անցնող հատվածում լուսավորության համակարգի կառուցում | E38: =+F38+G38+H38+I38 -> 1440 | F38: 0 | G38: 0 | H38: 1440 | I38: 0
D39: Հ-67, /Հ-32/ (Ամասիա) -Բերդաշեն- /Հ-66/ հանրապետական նշանակության ավտոճանապարհի Բերդաշեն բնակավայրով անցնող 1.5 կմ երկարությամբ տարանցիկ հատվածի հիմնանորոգում | E39: =+F39+G39+H39+I39 -> 1525 | F39: 0 | G39: 0 | H39: 1525 | I39: 0
C40: 3 | D40: Մարզային նշանակության ավտոճանապարհներ, այդ թվում | E40: =+F40+G40+H40+I40 -> 2562660.5 | F40: =SUM(F57:F73) -> 0 | G40: =SUM(G41:G74) -> 2528353.1 | H40: =SUM(H41:H74) -> 34307.4 | I40: =SUM(I41:I74) -> 0
D41: Տ-1-35, /Հ-81/ (Հացաշեն) - Սորիկ ավտոճանապարհի կմ0+000 - կմ5+100 հատվածի հիմնանորոգում | E41: =+F41+G41+H41+I41 -> -2487.4 | F41: 0 | G41: -2487.4 | H41: 0 | I41: 0
...

Sheet 7v
G1: Հավելված N7
G2: ՀՀ կառավարության 2025 թվականի
G3: ______________ ի ___Ն որոշման
B5: «ՀԱՅԱՍՏԱՆԻ ՀԱՆՐԱՊԵՏՈՒԹՅԱՆ 2025 ԹՎԱԿԱՆԻ ՊԵՏԱԿԱՆ ԲՅՈՒՋԵԻ ՄԱՍԻՆ» ՀԱՅԱՍՏԱՆԻ ՀԱՆՐԱՊԵՏՈՒԹՅԱՆ ՕՐԵՆՔԻ N 1 ՀԱՎԵԼՎԱԾԻ N 4 ԱՂՅՈՒՍԱԿՈՒՄ ԵՎ ՀԱՅԱՍՏԱՆԻ ՀԱՆՐԱՊԵՏՈՒԹՅԱՆ ԿԱՌԱՎԱՐՈՒԹՅԱՆ 2024 ԹՎԱԿԱՆԻ ԴԵԿՏԵՄԲԵՐԻ 27-Ի N 2060-Ն ՈՐՈՇՄԱՆ N 5 ՀԱՎԵԼՎԱԾԻ N 3 ԱՂՅՈՒՍԱԿՈՒՄ ԿԱՏԱՐՎՈՂ ՓՈՓՈԽՈՒԹՅՈՒՆՆԵՐԸ ԵՎ ԼՐԱՑՈՒՄՆԵՐԸ
G7: հազար դրամներով
B8: Ծրագրային դասիչը | D8: Բյուջետային հատկացումների գլխավոր կարգադրիչների, ծրագրերի, միջոցառումների և միջոցառումները կատարող պետական մարմինների անվանումները | E8: Ցուցանիշների փոփոխությունը (ավելացումները նշված են դրական նշանով, իսկ նվազեցումները` փակագծերում)
E10: Տարի
B11: ծրագիրը | C11: միջոցառումը | E11: ընդամենը | F11: այդ թվում՝
F12: վարկային միջոցներ | G12: համաֆինան_x000D_ սավորում
D13: ԸՆԴԱՄԵՆԸ | E13: -9833306.1 | F13: -7680398.2 | G13: -2152907.9
D14: այդ թվում`
D15: - ԸՆԹԱՑԻԿ ԾԱԽՍԵՐ | E15: -840729.9 | F15: -111885.1 | G15: -728844.8
D16: - ՈՉ ՖԻՆԱՆՍԱԿԱՆ ԱԿՏԻՎՆԵՐԻ ԳԾՈՎ ԾԱԽՍԵՐ | E16: -8992576.2 | F16: -7568513.1 | G16: -1424063.1
D17: ՀՀ տարածքային կառավարման և ենթակառուցվածքների նախարարություն | E17: -9833306.1 | F17: -7680398.2 | G17: -2152907.9
D18: այդ թվում`
B19: 1004 | D19: Ոռոգման համակարգի առողջացում | E19: -2648786.6 | F19: -2166430.7 | G19: -482355.9
D20: այդ թվում`
C21: 31006 | D21: Գերմանիայի զարգացման վարկերի բանկի աջակցությամբ իրականացվող Ախուրյան գետի ջրային ռեսուրսների ինտեգրացված կառավարման ծրագրի երկրորդ փուլի շրջանակներում ջրային տնտեսության ենթակառուցվածքների հիմնանորոգում | E21: -648786.6 | F21: -566430.7 | G21: -82355.9
D22: այդ թվում` ըստ կատարողների
D23: ՀՀ տարածքային կառավարման և ենթակառուցվածքների նախարարության ջրային կոմիտե | E23: -648786.6 | F23: -566430.7 | G23: -82355.9
D24: այդ թվում` բյուջետային ծախսերի տնտեսագիտական դասակարգման հոդվածներ
D25: ԸՆԴԱՄԵՆԸ ԾԱԽՍԵՐ | E25: -648786.6 | F25: -566430.7 | G25: -82355.9
D26: ՈՉ ՖԻՆԱՆՍԱԿԱՆ ԱԿՏԻՎՆԵՐԻ ԳԾՈՎ ԾԱԽՍԵՐ | E26: -648786.6 | F26: -566430.7 | G26: -82355.9
D27: ՀԻՄՆԱԿԱՆ ՄԻՋՈՑՆԵՐ | E27: -648786.6 | F27: -566430.7 | G27: -82355.9
D28: ՇԵՆՔԵՐ ԵՎ ՇԻՆՈՒԹՅՈՒՆՆԵՐ | E28: -648786.6 | F28: -566430.7 | G28: -82355.9
D29: - Շենքերի և շինությունների շինարարություն | E29: -648786.6 | F29: -566430.7 | G29: -82355.9
C30: 31022 | D30: Համաշխարհային բանկի աջակցության շրջանակներում ոռոգման, ջրամատակարարման և ջրահետացման ծրագրերի իրականացում | E30: -2000000 | F30: -1600000 | G30: -400000
D31: այդ թվում` ըստ կատարողների
D32: ՀՀ տարածքային կառավարման և ենթակառուցվածքների նախարարության ջրային կոմիտե | E32: -2000000 | F32: -1600000 | G32: -400000
D33: այդ թվում` բյուջետային ծախսերի տնտեսագիտական դասակարգման հոդվածներ
D34: ԸՆԴԱՄԵՆԸ ԾԱԽՍԵՐ | E34: -2000000 | F34: -1600000 | G34: -400000
D35: ՈՉ ՖԻՆԱՆՍԱԿԱՆ ԱԿՏԻՎՆԵՐԻ ԳԾՈՎ ԾԱԽՍԵՐ | E35: -2000000 | F35: -1600000 | G35: -400000
D36: ՀԻՄՆԱԿԱՆ ՄԻՋՈՑՆԵՐ | E36: -2000000 | F36: -1600000 | G36: -400000
D37: ՇԵՆՔԵՐ ԵՎ ՇԻՆՈՒԹՅՈՒՆՆԵՐ | E37: -2000000 | F37: -1600000 | G37: -400000
D38: - Շենքերի և շինությունների կապիտալ վերանորոգում | E38: -2000000 | F38: -1600000 | G38: -400000
B39: 1019 | D39: Սոցիալական ներդրումների և տեղական զարգացման ծրագիր | E39: 13105 | F39: 0 | G39: 13105
D40: այդ թվում`
C41: 12004 | D41: Համաշխարհային բանկի աջակցությամբ իրականացվող Սոցիալական ներդրումների և տեղական զարգացման ծրագրի լրացուցիչ ֆինանսավորման վարկի շրջանակներում ՀՀ համայնքային և միջհամայնքային ենթակառուցվածքների որակի, օգտագործման և հասանելիության բարելավում: | E41: 13105 | F41: 0 | G41: 13105
D42: այդ թվում` ըստ կատարողների
D43: ՀՀ տարածքային կառավարման և ենթակառուցվածքների նախարարություն | E43: 13105 | F43: 0 | G43: 13105
...

Sheet 8d
A1: Հավելված 8
A2: ՀՀ կառավարության 2025 թվականի
A3: -----------------ի N -----------Ն որոշման
A5: «ՀԱՅԱՍՏԱՆԻ ՀԱՆՐԱՊԵՏՈՒԹՅԱՆ 2025 ԹՎԱԿԱՆԻ ՊԵՏԱԿԱՆ ԲՅՈՒՋԵԻ ՄԱՍԻՆ» ՀԱՅԱՍՏԱՆԻ ՀԱՆՐԱՊԵՏՈՒԹՅԱՆ ՕՐԵՆՔԻ N 1 ՀԱՎԵԼՎԱԾԻ N 5 ԱՂՅՈՒՍԱԿՈՒՄ ԵՎ ՀԱՅԱՍՏԱՆԻ ՀԱՆՐԱՊԵՏՈՒԹՅԱՆ ԿԱՌԱՎԱՐՈՒԹՅԱՆ 2024 ԹՎԱԿԱՆԻ ԴԵԿՏԵՄԲԵՐԻ 27-Ի N 2060-Ն ՈՐՈՇՄԱՆ N 5 ՀԱՎԵԼՎԱԾԻ N 4 ԱՂՅՈՒՍԱԿՈՒՄ ԿԱՏԱՐՎՈՂ ՓՈՓՈԽՈՒԹՅՈՒՆՆԵՐԸ ԵՎ ԼՐԱՑՈՒՄՆԵՐԸ
F7: հազար դրամներով
A8: Ծրագրային դասիչը | C8: Բյուջետային հատկացումների գլխավոր կարգադրիչների, ծրագրերի, միջոցառումների և միջոցառումները կատարող պետական մարմինների անվանումները | D8: Ցուցանիշների փոփոխությունը (ավելացումները նշված են դրական նշանով, իսկ նվազեցումները` փակագծերում)
D9: Տարի
A10: Ծրագիր | B10: Միջոցառում | D10: Ընդամենը | E10: այդ թվում՝
E11: Դրամաշնորհային միջոցներ | F11: համաֆինանսավորում
C12: ԸՆԴԱՄԵՆԸ | D12: -2845879.1 | E12: -2314149.1 | F12: -531730
C13: այդ թվում`
C14: - ԸՆԹԱՑԻԿ ԾԱԽՍԵՐ | D14: -163324.2 | E14: -125021.8 | F14: -38302.4
C15: -ՈՉ ՖԻՆԱՆՍԱԿԱՆ ԱԿՏԻՎՆԵՐԻ ԳԾՈՎ ԾԱԽՍԵՐ | D15: -2682554.9 | E15: -2189127.3 | F15: -493427.6
C16: ՀՀ տարածքային կառավարման և ենթակառուցվածքների նախարարություն | D16: -2845879.1 | E16: -2314149.1 | F16: -531730
A17: 1004 | C17: Ոռոգման համակարգի առողջացում | D17: -124482.5 | E17: -92642.5 | F17: -31840
C18: այդ թվում`
B19: 11009 | C19: Գերմանիայի զարգացման վարկերի բանկի աջակցությամբ իրականացվող Ախուրյան գետի ջրային ռեսուրսների ինտեգրացված կառավարման դրամաշնորհային ծրագիր | D19: -41482.5 | E19: -34642.5 | F19: -6840
C20: այդ թվում` ըստ կատարողների
C21: ՀՀ տարածքային կառավարման և ենթակառուցվածքների նախարարության ջրային կոմիտե | D21: -41482.5 | E21: -34642.5 | F21: -6840
C22: այդ թվում` բյուջետային ծախսերի տնտեսագիտական դասակարգման հոդվածներ
C23: ԸՆԴԱՄԵՆԸ ԾԱԽՍԵՐ | D23: -41482.5 | E23: -34642.5 | F23: -6840
C24: ԸՆԹԱՑԻԿ ԾԱԽՍԵՐ | D24: -41482.5 | E24: -34642.5 | F24: -6840
C25: ԱՅԼ ԾԱԽՍԵՐ | D25: -41482.5 | E25: -34642.5 | F25: -6840
C26: Այլ ծախսեր | D26: -41482.5 | E26: -34642.5 | F26: -6840
B27: 11011 | C27: Զարգացման ֆրանսիական գործակալության աջակցությամբ իրականացվող ոռոգման ոլորտի ֆինանսական կայունության և ոռոգման կառավարման կարողությունների բարելավման դրամաշնորհային ծրագրի խորհրդատվություն և կառավարում | D27: -83000 | E27: -58000 | F27: -25000
C28: այդ թվում` ըստ կատարողների
C29: ՀՀ տարածքային կառավարման և ենթակառուցվածքների նախարարության ջրային կոմիտե | D29: -83000 | E29: -58000 | F29: -25000
C30: այդ թվում` բյուջետային ծախսերի տնտեսագիտական դասակարգման հոդվածներ
C31: ԸՆԴԱՄԵՆԸ ԾԱԽՍԵՐ | D31: -83000 | E31: -58000 | F31: -25000
C32: ԸՆԹԱՑԻԿ ԾԱԽՍԵՐ | D32: -83000 | E32: -58000 | F32: -25000
C33: ԱՅԼ ԾԱԽՍԵՐ | D33: -83000 | E33: -58000 | F33: -25000
C34: Այլ ծախսեր | D34: -83000 | E34: -58000 | F34: -25000
A35: 1072 | C35: Ջրամատակարարաման և ջրահեռացման բարելավում | D35: -872000 | E35: -660000 | F35: -212000
C36: այդ թվում`
B37: 12001 | C37: Գերմանիայի զարգացման և Եվրոպական միության հարևանության ներդրումային բանկի աջակցությամբ իրականացվող ջրամատակարարման և ջրահեռացման ենթակառուցվածքների դրամաշնորհային ծրագիր` երրորդ փուլ | D37: -872000 | E37: -660000 | F37: -212000
C38: այդ թվում` ըստ կատարողների
C39: ՀՀ տարածքային կառավարման և ենթակառուցվածքների նախարարության ջրային կոմիտե | D39: -872000 | E39: -660000 | F39: -212000
C40: այդ թվում` բյուջետային ծախսերի տնտեսագիտական դասակարգման հոդվածներ
C41: ԸՆԴԱՄԵՆԸ ԾԱԽՍԵՐ | D41: -872000 | E41: -660000 | F41: -212000
C42: ՈՉ ՖԻՆԱՆՍԱԿԱՆ ԱԿՏԻՎՆԵՐԻ ԳԾՈՎ ԾԱԽՍԵՐ | D42: -872000 | E42: -660000 | F42: -212000
...

Sheet 9
E1: Հավելված N 9
E2: ՀՀ կառավարության 2025 թվականի
E3: ______________ ի ___Ն որոշման
A5: ՀԱՅԱՍՏԱՆԻ ՀԱՆՐԱՊԵՏՈՒԹՅԱՆ ԿԱՌԱՎԱՐՈՒԹՅԱՆ 2024 ԹՎԱԿԱՆԻ ԴԵԿՏԵՄԲԵՐԻ 27-Ի N 2060-Ն ՈՐՈՇՄԱՆ N 5 ՀԱՎԵԼՎԱԾԻ N 2 ԱՂՅՈՒՍԱԿՈՒՄ ԿԱՏԱՐՎՈՂ ՓՈՓՈԽՈՒԹՅՈՒՆՆԵՐԸ ԵՎ ԼՐԱՑՈՒՄՆԵՐԸ
E7: հազար դրամներով
B8: Ծրագրային դասիչը | D8: Հատկացումների տրամադրման նպատակները և բյուջետային գլխավոր կարգադրիչների, ծրագրերի, միջոցառումների և կատարող պետական մարմնի անվանումները | E8: Ցուցանիշների փոփոխությունը (ավելացումները նշված են դրական նշանով, իսկ նվազեցումները` փակագծերում)
B9: Ծրագիր | C9: Միջոցառում | E9: Տարի
D10: ԸՆԴԱՄԵՆԸ | E10: =E12 -> 2325607.8
D11: այդ թվում՝
D12: ՀՀ ՏԱՐԱԾՔԱՅԻՆ ԿԱՌԱՎԱՐՄԱՆ ԵՎ ԵՆԹԱԿԱՌՈՒՑՎԱԾՔՆԵՐԻ ՆԱԽԱՐԱՐՈՒԹՅՈՒՆ | E12: =E14+E77 -> 2325607.8
D13: այդ թվում`
B14: 1049 | C14: 21001 | D14: Պետական նշանակության ավտոճանապարհների հիմնանորոգում | E14: =E16 -> 3265375.6
D15: այդ թվում` ըստ կատարողների
D16: ՀՀ տարածքային կառավարման և ենթակառուցվածքների նախարարություն | E16: =E18+E29+E42 -> 3265375.6
D17: այդ թվում՝ ըստ ուղղությունների
C18: 1 | D18: Միջպետական նշանակության ավտոճանապարհներ, այդ թվում | E18: =+E19+E20+E22+E23+E24+E25+E27+E28+E21+E26 -> 173151.4
D19: Մ-2, Երևան-Երասխ-Նորավան- Տաթև-Կապան-Մեղրի-ՀՀ սահման (նախկին՝ Մ-2 ,Երևան-Երասխ-Գորիս-Մեղրի-ՀՀ սահման) միջպետական նշանակության ավտոճանապարհի կմ91+600 - կմ98+000 հատվածի հիմնանորոգում | E19: ='6'!E17 -> -146988.9
D20: Մ-2, Երևան-Երասխ-Նորավան- Տաթև-Կապան-Մեղրի-ՀՀ սահման (նախկին՝ Մ-2 ,Երևան-Երասխ-Գորիս-Մեղրի-ՀՀ սահման) միջպետական նշանակության ավտոճանապարհի կմ91+600 - կմ98+000 հատվածի հիմնանորոգում | E20: ='6'!E18 -> 146592
D21: Մ-2, Երևան-Երասխ-Նորավան- Տաթև-Կապան-Մեղրի-ՀՀ սահման (նախկին՝ Մ-2 ,Երևան-Երասխ-Գորիս-Մեղրի-ՀՀ սահման) միջպետական նշանակության ավտոճանապարհի կմ108+400 - կմ126+100 հատվածի հիմնանորոգում | E21: ='6'!E19 -> 135966.1
D22: Մ-2, Երևան-Երասխ-Նորավան- Տաթև-Կապան-Մեղրի-ՀՀ սահման (նախկին՝ Մ-2 ,Երևան-Երասխ-Գորիս-Մեղրի-ՀՀ սահման) միջպետական նշանակության ավտոճանապարհի կմ181+250 - կմ181+750 հատվածի վերակառուցում | E22: ='6'!E20 -> -6139.4
D23: Մ-2 միջպետական նշանակության ավտոմոբիլային ճանապարհի կմ 198+000 – կմ 199+000 հարակից հատվածում ծանրաքարշ և մեծ եզրաչափերով տրանսպորտային միջոցների անշարժ կշռման նոր հենակետին մոտեցնող ավտոճանապարհի կառուցում | E23: ='6'!E21 -> 2298
D24: Մ-3, ՀՀ սահման-Մարգարա-Վանաձոր-Տաշիր-ՀՀ սահման միջպետական նշանակության ավտոճանապարհի կմ22+152 -կմ27+000 հատվածի հիմնանորոգում | E24: ='6'!E22 -> 2254.4
D25: Մ-3,ՀՀ սահման-Մարգարա-Վանաձոր-Տաշիր-ՀՀ սահման միջպետական նշանակության ավտոճանապարհի կմ35+535-կմ39+500 հատվածի հիմնանորոգում | E25: ='6'!E23 -> -11673.8
D26: Մ-3, ՀՀ սահման-Մարգարա-Վանաձոր-Տաշիր-ՀՀ սահման (նախկին՝ Մ-3, Թուրքիայի սահման-Մարգարա-Վանաձոր-Տաշիր-Վրաստանի սահման) միջպետական նշանակության ավտոճանապարհի կմ154+000-կմ176+900 հատվածի հիմնանորոգում | E26: ='6'!E24 -> 84540.5
D27: Մ-10, Սևան-Մարտունի-Գետափ միջպետական նշանակության ավտոճանապարհի կմ79+060-կմ80+590 հատվածի վերակառուցում | E27: ='6'!E25 -> -22345.4
D28: Մ-10, Սևան-Մարտունի-Գետափ միջպետական նշանակության ավտոճանապարհի կմ80+590-կմ94+590 հատվածի հիմնանորոգում | E28: ='6'!E26 -> -11352.1
C29: 2 | D29: Հանրապետական նշանակության ավտոճանապարհներ, այդ թվում | E29: =E30+E31+E32+E33+E34+E35+E36+E37+E38+E39+E40+E41 -> 529563.7
D30: Հ-1, Վ. Պտղնու տրանսպորտային հանգույց -Աբովյան - Ֆանտան -Ալափարս-Հ-5 (նախկին՝ Հ-1, Վ. Պտղնու տրանսպորտային հանգույց - Ջրաբեր-Հրազդան -Հրազդանի քրեակատարողական հիմնարկ) հանրապետական նշանակության ավտոճանապարհի կմ0+000 - կմ5+023 հատվածի հիմնանորոգում | E30: ='6'!E28 -> 127991
D31: Հ-2, /Հ-1/(Աբովյան) -Արզնի -/Հ-6/Նոր Գեղի հանրապետական նշանակության ավտոճանապարհի կմ1+400 -կմ8+088 հատվածի հիմնանորոգում | E31: ='6'!E29 -> 2546
D32: Հ-4, Երևան -Եղվարդ -Արագյուղ -Հարթավան - /Մ-3/ հանրապետական նշանակության ավտոճանապարհի կմ 15+600-կմ28+000 հատվածի հիմնանորոգում | E32: ='6'!E30 -> 1048.6
D33: Հ-22, /Մ-6/ - Դսեղ – /Հ-70/ հանրապետական նշանակության ավտոճանապարհի կմ 8+000-կմ 13+900 հատվածի հիմնանորոգում | E33: ='6'!E31 -> -38454.6
D34: Հ-22, /Մ-6/ - Դսեղ – /Հ-70/ հանրապետական նշանակության ավտոճանապարհի կմ 8+000-կմ 13+900 հատվածի հիմնանորոգում | E34: ='6'!E32 -> 24003.3
D35: Հ-30, /Մ-4/ - Ճամբարակ- /Հ-7/ հանրապետական նշանակության ավտոճանապարհի 19-րդ և 51-րդ կմ-երում գտնվող սողանքային տեղամասերում ճանապարհամերձ հողաշերտի բեռնաթափման, ճանապարհի անցանելիության ապահովման միջոցառումների իրականացում | E35: ='6'!E33 -> 55948.9
D36: Հ-36, /Մ-4/ (Իջևան) - Նավուր - Բերդ - Այգեպար հանրապետական նշանակության ավտոճանապարհի կմ 42+100(40+606)-կմ 51+900 հատվածի հիմնանորոգում | E36: ='6'!E34 -> 230.3
D37: Հ-36, /Մ-4/ (Իջևան) - Նավուր - Բերդ - Այգեպար հանրապետական նշանակության ավտոճանապարհի կմ 51+900 -կմ 56+460 հատվածի հիմնանորոգում | E37: ='6'!E35 -> 168.3
D38: Հ-37,/Մ-4/ - Այգեհովիտ - Վազաշեն - Պառավաքար - Այգեպար հանրապետական նշանակության ավտոճանապարհի կմ0+000 - կմ22+300 հատվածի հիմնանորոգում | E38: ='6'!E36 -> 367.5
D39: Հ-56,/Մ-3/ - Մուղնի - Օհանավան - /Մ-3/ հանրապետական նշանակության ավտոճանապարհի կմ0+000-կմ5+300 հատվածի հիմնանորոգում | E39: ='6'!E37 -> 352749.4
D40: Հ-58, /Մ-4/ -Ոսկեպար-Նոյեմբերյան- /Մ-6/ հանրապետական նշանակության ավտոճանապարհի Կիրանց գյուղով անցնող հատվածում լուսավորության համակարգի կառուցում | E40: ='6'!E38 -> 1440
D41: Հ-67, /Հ-32/ (Ամասիա) -Բերդաշեն- /Հ-66/ հանրապետական նշանակության ավտոճանապարհի Բերդաշեն բնակավայրով անցնող 1.5 կմ երկարությամբ տարանցիկ հատվածի հիմնանորոգում | E41: ='6'!E39 -> 1525
C42: 3 | D42: Մարզային նշանակության ավտոճանապարհներ, այդ թվում | E42: =E43+E44+E45+E46+E47+E48+E49+E50+E51+E52+E53+E54+E55+E56+E57+E58+E59+E60+E61+E62+E63+E64+E65+E66+E67+E68+E69+E70+E71+E72+E73+E74+E75+E76 -> 2562660.5
...

Sheet 10
E1: Հավելված N 10
D2: ՀՀ կառավարության 2025 թվականի
D3: ______________ ի ___Ն որոշման
B5: ՀԱՅԱՍՏԱՆԻ ՀԱՆՐԱՊԵՏՈՒԹՅԱՆ ԿԱՌԱՎԱՐՈՒԹՅԱՆ 2024 ԹՎԱԿԱՆԻ ԴԵԿՏԵՄԲԵՐԻ 27-Ի N 2060-Ն ՈՐՈՇՄԱՆ N 8 ՀԱՎԵԼՎԱԾՈՒՄ ԿԱՏԱՐՎՈՂ ՓՈՓՈԽՈՒԹՅՈՒՆՆԵՐԸ
E6: հազար դրամներով
B7: Ծրագրային դասիչը | D7: Բյուջետային հատակացումների ծրագրերի, միջոցառումների անվանումները | E7: Ցուցանիշների փոփոխությունը (նվազեցումները նշված են փակագծերում)
B8: Ծրագիր | C8: Միջոցառում
D9: ԸՆԴԱՄԵՆԸ ԾԱԽՍԵՐ | E9: -6182417.5
D10: այդ թվում՝
B11: 1157 | D11: Քաղաքային զարգացում | E11: -3177652.7
C12: 12003 | D12: Արևելյան եվրոպայի էներգախնայողության և բնապահպանական գործընկերության ֆոնդի աջակցությամբ իրականացվող Երևանի քաղաքային լուսավորության դրամաշնորհային ծրագրի կատարման ապահովում | E12: -405158.8
C13: 12004 | D13: Վերակառուցման և զարգացման եվրոպական բանկի աջակցությամբ իրականացվող Երևանի քաղաքային լուսավորության դրամաշնորհային ծրագրի կատարման ապահովում | E13: -38841.7
C14: 12029 | D14: Ասիական զարգացման բանկի աջակցությամբ իրականացվող քաղաքային զարգացման ներդրումային ծրագրի համակարգում և կառավարում | E14: -446589.9
C15: 12030 | D15: Ասիական զարգացման բանկի աջակցությամբ իրականացվող քաղաքային զարգացման ներդրումային ծրագրի շրջանակներում ճանապարհային շինարարություն | E15: -2287062.3
B16: 1232 | D16: Էներգաարդյունավետության ծրագիր | E16: -3004764.8
C17: 12001 | D17: Եվրոպական ներդրումային բանկի աջակցությամբ իրականացվող Երևանի էներգաարդյունավետության դրամաշնորհային ծրագրի երկրորդ փուլ (մանկապարտեզների և այլ հանրային շենքերի էներգարդյունավետվության բարելավում) | E17: -863948.2
C18: 12003 | D18: Եվրոպական ներդրումային բանկի աջակցությամբ իրականացվող Երևանի էներգաարդյունավետության ծրագրի երկրորդ փուլ (մանկապարտեզների և այլ հանրային շենքերի էներգարդյունավետվության բարելավում) | E18: -2140816.6
B22: ՀԱՅԱՍՏԱՆԻ ՀԱՆՐԱՊԵՏՈՒԹՅԱՆ
B23: ՎԱՐՉԱՊԵՏԻ ԱՇԽԱՏԱԿԱԶՄԻ
C24: ՂԵԿԱՎԱՐ ՝ Ա. ՀԱՐՈՒԹՅՈՒՆՅԱՆ

Sheet 11
K1: Հավելված N 11
K2: ՀՀ կառավարության 2025 թվականի
K3: ______________ ի ___Ն որոշման
B5: ՀԱՅԱՍՏԱՆԻ ՀԱՆՐԱՊԵՏՈՒԹՅԱՆ ԿԱՌԱՎԱՐՈՒԹՅԱՆ 2024 ԹՎԱԿԱՆԻ ԴԵԿՏԵՄԲԵՐԻ 27-Ի № 2060-Ն ՈՐՈՇՄԱՆ № 9 ՀԱՎԵԼՎԱԾԻ ԱՂՅՈՒՍԱԿՆԵՐՈՒՄ ԿԱՏԱՐՎՈՂ ՓՈՓՈԽՈՒԹՅՈՒՆՆԵՐԸ ԵՎ ԼՐԱՑՈՒՄՆԵՐԸ
K7: հազար դրամներով
B8: ԲԳԿ | C8: Ծրագիր | E8: Միջոցառում | I8: Իրականացնողը/ ակտիվն օգտագործողը/ շահառուի ընտրության չափորոշիչը | J8: Արդյունքային չափորոշիչը | K8: Ցուցանիշների փոփոխությունը (ավելացումները նշված են դրական նշանով
C9: Դասիչը | D9: Անվանումը | E9: Դասիչը | F9: Անվանումը | G9: Նկարագրությունը | H9: Տեսակը | K9: Տարի
B10: ԸՆԴԱՄԵՆԸ | K10: =K11+K142 -> -9994547.3
B11: ՀՀ տարածքային կառավարման և ենթակառուցվածքների նախարարություն | K11: =K12+K31+K36+K67+K73+K127 -> -10353577
C12: 1004 | D12: Ոռոգման համակարգի առողջացում | K12: =K13+K17+K21+K27 -> -2773269.1
E13: 1004 - 11009 | F13: Գերմանիայի զարգացման վարկերի բանկի աջակցությամբ իրականացվող Ախուրյան գետի ջրային ռեսուրսների ինտեգրացված կառավարման դրամաշնորհային ծրագիր | K13: ='4'!H11 -> -41482.5
G14: Գերմանիայի զարգացման վարկերի բանկի աջակցությամբ իրականացվող Ախուրյան գետի ջրային ռեսուրսների ինտեգրացված կառավարման դրամաշնորհային ծրագրի համակարգում և ղեկավարում
H15: Ծառայությունների մատուցում
I16: Ծառայությունը մատուցողի անվանումը` Մասնագիտացված միավոր
E17: 1004 - 11011 | F17: Զարգացման ֆրանսիական գործակալության աջակցությամբ իրականացվող ոռոգման ոլորտի ֆինանսական կայունության և ոռոգման կառավարման կարողությունների բարելավման դրամաշնորհային ծրագրի խորհրդատվություն և կառավարում | K17: ='4'!H12 -> -83000
G18: Զարգացման ֆրանսիական գործակալության աջակցությամբ իրականացվող ոռոգման ոլորտի ֆինանսական կայունության և ոռոգման կառավարման կարողությունն»րի բար»լավման ծրագրի համակարգում և ղ»կավարում
H19: Ծառայությունների մատուցում
I20: Ծառայությունը մատուցողի անվանումը` Մասնագիտացված միավոր
E21: 1004 - 31006 | F21: Գերմանիայի զարգացման վարկերի բանկի աջակցությամբ իրականացվող Ախուրյան գետի ջրային ռեսուրսների ինտեգրացված կառավարման ծրագրի երկրորդ փուլի շրջանակներում ջրային տնտեսության ենթակառուցվածքների հիմնանորոգում | K21: ='4'!H13 -> -648786.6
G22: Գերմանիայի զարգացման վարկերի բանկի աջակցությամբ իրականացվող Ախուրյան գետի ջրային ռեսուրսների ինտեգրացված կառավարման ծրագրի երկրորդ փուլ
H23: Պետական մարմինների կողմից օգտագործվող ոչ ֆինանսական ակտիվների հետ գործառնություններ
I24: Ակտիվն օգտագործող կազմակերպության անվանումը` Մասնագիտացված միավոր
J25: Թունելների վերակառուցում, մ | K25: -40
J26: Վարարային ջրհեռի կառուցում | K26: -45
E27: 1004 - 31022 | F27: Համաշխարհային բանկի աջակցության շրջանակներում ոռոգման, ջրամատակարարման և ջրահետացման ծրագրերի իրականացում | K27: ='4'!H14 -> -2000000
G28: Համաշխարհային բանկի աջակցության շրջանակներում ոռոգման, ջրամատակարարման և ջրահեռացման ծրագրերի իրականացման խորհրդատվական ծառայությունների ձեռքբերում, վերակառուցման աշխատանքների իրականացում
H29: Պետական մարմինների կողմից օգտագործվող ոչ ֆինանսական ակտիվների հետ գործառնություններ
I30: Ակտիվն օգտագործող կազմակերպության անվանումը` ՀՀ ՏԿԵՆ ջրային կոմիտե
C31: 1019 | D31: Սոցիալական ներդրումների և տեղական զարգացման ծրագիր | K31: =K32 -> 13105
E32: 1019 - 12004 | F32: Համաշխարհային բանկի աջակցությամբ իրականացվող Սոցիալական ներդրումների և տեղական զարգացման ծրագրի լրացուցիչ ֆինանսավորման վարկի շրջանակներում ՀՀ համայնքային և միջհամայնքային ենթակառուցվածքների որակի, օգտագործման և հասանելիության բարելավում: | K32: ='4'!H16 -> 13105
G33: Ջրագծերի, առողջապահության, կրթության օբյեկտների, մշակույթային տների, ծերանոցների, մանկատների, հատուկ դպրոցների, մանկապարտզների և կոյուղու օբյեկտնրի հիմն. և շինարարություն., գույքի և սարքավորումների տրամադրում շահառու ենթածրագրերի համար:
H34: Տրանսֆերտների տրամադրում
I35: Շահառուների ընտրության չափորոշիչները` Մասնագիտացված միավոր
C36: 1049 | D36: Ճանապարհային ցանցի բարելավում | K36: =K37+K42+K47+K55+K61 -> 1008445.8
E37: 1049 - 11016 | F37: Ասիական զարգացման բանկի աջակցությամբ իրականացվող Հյուսիս-հարավ ճանապարհային միջանցքի զարգացման ծրագրի Սիսիան-Քաջարան 60կմ-ի ճանապարհի Հյուսիսային ենթահատվածի համակարգում և կառավարում | K37: ='4'!H18 -> -294140
G38: Խորհրդատվական ծառայություններ և պահպանման ծախսեր
H39: Ծառայությունների մատուցում
I40: Ծառայությունը մատուցողի անվանումը` Մասնագիտացված միավոր
J41: Հողերի օտարում, շահառուների քանակ | K41: -40
E42: 1049 - 11020 | F42: Հյուսիս-հարավ ճանապարհային միջանցքի զարգացման ծրագրի Գյումրու շրջանցիկ ճանապարհի համակարգում և կառավարում, Տրանշ 5 | K42: ='4'!H19 -> -100000
...

Sheet 12
K1: Հավելված N 12
K2: ՀՀ կառավարության 2025 թվականի
K3: ______________ ի ___Ն որոշման
B5: ՀԱՅԱՍՏԱՆԻ ՀԱՆՐԱՊԵՏՈՒԹՅԱՆ ԿԱՌԱՎԱՐՈՒԹՅԱՆ 2024 ԹՎԱԿԱՆԻ ԴԵԿՏԵՄԲԵՐԻ 27-Ի № 2060-Ն ՈՐՈՇՄԱՆ № 9.1 ՀԱՎԵԼՎԱԾԻ ԱՂՅՈՒՍԱԿՆԵՐՈՒՄ ԿԱՏԱՐՎՈՂ ՓՈՓՈԽՈՒԹՅՈՒՆՆԵՐԸ ԵՎ ԼՐԱՑՈՒՄՆԵՐԸ
K6: հազար դրամներով
B7: ԲՍԿ | C7: Ծրագիր | E7: Միջոցառում | I7: Իրականացնողը/ ակտիվն օգտագործողը/ շահառուի ընտրության չափորոշիչը | J7: Արդյունքային չափորոշիչը | K7: Ցուցանիշների փոփոխությունը (ավելացումները նշված են դրական նշանով, իսկ նվազեցումները` փակագծերում)
C8: Դասիչը | D8: Անվանումը | E8: Դասիչը | F8: Անվանումը | G8: Նկարագրությունը | H8: Տեսակը | K8: Տարի
B9: ԸՆԴԱՄԵՆԸ | K9: =K10+K116+K142 -> -9994547.3
B10: ՀՀ տարածքային կառավարման և ենթակառուցվածքների նախարարություն | K10: =K16+K11+K47+K101 -> -5669408.4
C11: 1019 | D11: Սոցիալական ներդրումների և տեղական զարգացման ծրագիր | K11: =K12 -> 13105
E12: 1019 - 12004 | F12: Համաշխարհային բանկի աջակցությամբ իրականացվող Սոցիալական ներդրումների և տեղական զարգացման ծրագրի լրացուցիչ ֆինանսավորման վարկի շրջանակներում ՀՀ համայնքային և միջհամայնքային ենթակառուցվածքների որակի, օգտագործման և հասանելիության բարելավում: | K12: ='5.'!H238 -> 13105
G13: Ջրագծերի, առողջապահության, կրթության օբյեկտների, մշակույթային տների, ծերանոցների, մանկատների, հատուկ դպրոցների, մանկապարտզների և կոյուղու օբյեկտնրի հիմն. և շինարարություն., գույքի և սարքավորումների տրամադրում շահառու ենթածրագրերի համար:
H14: Տրանսֆերտների տրամադրում
I15: Շահառուների ընտրության չափորոշիչները` Մասնագիտացված միավոր
C16: 1049 | D16: Ճանապարհային ցանցի բարելավում | K16: =K27+K35+K17+K22+K41 -> 2047345.7
E17: 1049 - 11016 | F17: Ասիական զարգացման բանկի աջակցությամբ իրականացվող Հյուսիս-հարավ ճանապարհային միջանցքի զարգացման ծրագրի Սիսիան-Քաջարան 60կմ-ի ճանապարհի Հյուսիսային ենթահատվածի համակարգում և կառավարում | K17: ='11'!K37 -> -294140
G18: Խորհրդատվական ծառայություններ և պահպանման ծախսեր
H19: Ծառայությունների մատուցում
I20: Ծառայությունը մատուցողի անվանումը` Մասնագիտացված միավոր
J21: Հողերի օտարում, շահառուների քանակ | K21: -40
E22: 1049 - 11020 | F22: Հյուսիս-հարավ ճանապարհային միջանցքի զարգացման ծրագրի Գյումրու շրջանցիկ ճանապարհի համակարգում և կառավարում, Տրանշ 5 | K22: ='5.'!H114 -> -100000
G23: Հյուսիս-հարավ ճանապարհային միջանցքի զարգացման ծրագրի Գյումրու շրջանցիկ ճանապարհի շրջանակներում հողերի օտարում
H24: Ծառայությունների մատուցում
I25: Ծառայությունը մատուցողի անվանումը` Մասնագիտացված միավոր
J26: Հողերի օտարում, շահառուների քանակ | K26: -300
E27: 1049 - 21001 | F27: Պետական նշանակության ավտոճանապարհների հիմնանորոգում | K27: ='5.'!H127 -> 3265375.6
G28: Միջպետական, հանրապետական և մարզային նշանակության ավտոճոնապարհների քայքայված ծածկի վերանորոգում, մաշված ծածկի փոխարինում
H29: Հանրության կողմից անմիջականորեն օգտագործվող ակտիվների հետ կապված միջոցառումներ
I30: Միջոցառումն իրականացնողի անվանումը` Մասնագիտացված միավոր
J31: Պետական նշանակության ավտոճանապարհներ, կիլոմետր | K31: =K32+K33 -> 4.2
J32: Հանրապետական նշանակության ավտոճանապարհներ, կիլոմետր | K32: 1
J33: Մարզային նշանակության ավտոճանապարհներ, կիլոմետր | K33: 3.2
J34: Նախագծանախահաշվային փաստաթղթերի քանակ, հատ | K34: 46
E35: 1049 - 21002 | F35: Տրանսպորտային օբյեկտների հիմնանորոգում | K35: ='5.'!H145 -> 99132.1
G36: Ավտոմոբիլային ճանապարհների վրա գտնվող կամուրջների հիմնանորոգում
H37: Հանրության կողմից անմիջականորեն օգտագործվող ակտիվների հետ կապված միջոցառումներ
I38: Միջոցառումն իրականացնողի անվանումը` Մասնագիտացված միավոր
J39: Հիմնանորոգվող տրանսպորտային օբյեկտների թիվը, այդ թվում | K39: 2
J40: Նախագծանախահաշվային փաստաթղթերի քանակ, հատ | K40: 10
E41: 1049 - 21009 | F41: Եվրոպական ներդրումային բանկի աջակցությամբ իրականացվող Հյուսիս-հարավ միջանցքի զարգացման վարկային ծրագիր, Տրանշ 3 | K41: ='11'!K61 -> -923022
...

Sheet 13
I1: Հավելված N 13
I2: ՀՀ կառավարության 2025 թվականի
I3: ______________ ի ___Ն որոշման
C5: ՀԱՅԱՍՏԱՆԻ ՀԱՆՐԱՊԵՏՈՒԹՅԱՆ ԿԱՌԱՎԱՐՈՒԹՅԱՆ 2024 ԹՎԱԿԱՆԻ ԴԵԿՏԵՄԲԵՐԻ 27-Ի N 2060-Ն ՈՐՈՇՄԱՆ N 10 ՀԱՎԵԼՎԱԾՈՒՄ ԿԱՏԱՐՎՈՂ ՓՈՓՈԽՈՒԹՅՈՒՆՆԵՐԸ ԵՎ ԼՐԱՑՈՒՄՆԵՐԸ
C7: Կոդը | D7: Անվանումը | E7: Գնման ձևը | F7: Չափման միավորը | G7: Միավորի գինը | H7: Ցուցանիշների փոփոխությունը (ավելացումները նշված են դրական նշանով)
H8: Քանակը | I8: Գումարը (հազար դրամով)
C9: ՀՀ տարածքային կառավարման և ենթակառուցվածքների նախարարություն | I9: =+I10 -> 3128413.3
C10: Բաժին N 04 | D10: Խումբ N 05 | E10: Դաս N 01 | F10: Ճանապարհային տրանսպորտ | I10: =+I11+I107 -> 3128413.3
C11: 1049 21001 | D11: Պետական նշանակության ավտոճանապարհների հիմնանորոգում | I11: =I12+I41 -> 3031098.4
D12: ՄԱՍ II. ԱՇԽԱՏԱՆՔՆԵՐ | I12: =SUM(I13:I40) -> 2962327.7
C13: 45231177/2 | D13: ճանապարհների վերանորոգման աշխատանքներ | E13: ԲՄ | F13: դրամ | I13: -146988.94
C14: 45231177/2 | D14: ճանապարհների վերանորոգման աշխատանքներ | E14: ԲՄ | F14: դրամ | I14: =146592 -> 146592
C15: 45231177/3 | D15: ճանապարհների վերանորոգման աշխատանքներ | E15: ԲՄ | F15: դրամ | I15: -6139.4
C16: 45231177/46 | D16: ճանապարհների վերանորոգման աշխատանքներ | E16: ԲՄ | F16: դրամ | I16: -11673.8
C17: 45231177/91 | D17: ճանապարհների վերանորոգման աշխատանքներ | E17: ԲՄ | F17: դրամ | I17: -22345.4
C18: 45231177/93 | D18: ճանապարհների վերանորոգման աշխատանքներ | E18: ԲՄ | F18: դրամ | I18: -11352.1
C19: 45231177/559 | D19: ճանապարհների վերանորոգման աշխատանքներ | E19: ՀԲՄ | F19: դրամ | G19: 126311300 | H19: 1 | I19: =+H19*G19/1000 -> 126311.3
C20: 45231177/623 | D20: ճանապարհների վերանորոգման աշխատանքներ | E20: ԲՄ | F20: դրամ | I20: -38454.6
C21: 45231177/623 | D21: ճանապարհների վերանորոգման աշխատանքներ | E21: ԲՄ | F21: դրամ | I21: 24003.3
C22: 45231172/503 | D22: ճանապարհների վերանորոգման աշխատանքներ | E22: ՀԲՄ | F22: դրամ | G22: 54749900 | H22: 1 | I22: =+H22*G22/1000 -> 54749.9
C23: 45231177/565 | D23: ճանապարհների վերանորոգման աշխատանքներ | E23: ՀԲՄ | F23: դրամ | G23: 348014300 | H23: 1 | I23: =+H23*G23/1000 -> 348014.3
C24: 45231177/81 | D24: ճանապարհների վերանորոգման աշխատանքներ | E24: ԲՄ | F24: դրամ | I24: -2487.4
C25: 45231177/11 | D25: ճանապարհների վերանորոգման աշխատանքներ | E25: ԲՄ | F25: դրամ | I25: -6262.5
C26: 45231177/13 | D26: ճանապարհների վերանորոգման աշխատանքներ | E26: ԲՄ | F26: դրամ | I26: -17942.9
C27: 45231177/621 | D27: ճանապարհների վերանորոգման աշխատանքներ | E27: ԲՄ | F27: դրամ | I27: -4956.9
C28: 45231177/563 | D28: ճանապարհների վերանորոգման աշխատանքներ | E28: ՀԲՄ | F28: դրամ | G28: 301037253 | H28: 1 | I28: =+H28*G28/1000 -> 301037.25
C29: 45231177/588 | D29: ճանապարհների վերանորոգման աշխատանքներ | E29: ԲՄ | F29: դրամ | I29: -8633.7
C30: 45231177/98 | D30: ճանապարհների վերանորոգման աշխատանքներ | E30: ՀԲՄ | F30: դրամ | I30: 34955.6
C31: 45231177/561 | D31: ճանապարհների վերանորոգման աշխատանքներ | E31: ՀԲՄ | F31: դրամ | G31: 276000000 | H31: 1 | I31: =+H31*G31/1000 -> 276000
C32: 45231177/56 | D32: ճանապարհների վերանորոգման աշխատանքներ | E32: ԲՄ | F32: դրամ | I32: -5791
C33: 45231177/539 | D33: ճանապարհների վերանորոգման աշխատանքներ | E33: ԲՄ | F33: դրամ | I33: -774218.3
C34: 45231177/578 | D34: ճանապարհների վերանորոգման աշխատանքներ | E34: ՀԲՄ | F34: դրամ | G34: 23075684 | H34: 1 | I34: 23075.684
C35: 45231177/582 | D35: ճանապարհների վերանորոգման աշխատանքներ | E35: ԲՄ | F35: դրամ | I35: -19580.6
C36: 45231177/54 | D36: ճանապարհների վերանորոգման աշխատանքներ | E36: ԲՄ | F36: դրամ | I36: -31420.2
C37: 45231177/571 | D37: ճանապարհների վերանորոգման աշխատանքներ | E37: ՀԲՄ | F37: դրամ | G37: 419637000 | H37: 1 | I37: =+H37*G37/1000 -> 419637
C38: 45231177/64 | D38: ճանապարհների վերանորոգման աշխատանքներ | E38: ՀՄԱ | F38: դրամ | I38: -38233.1
C39: 45231177/ | D39: ճանապարհների վերանորոգման աշխատանքներ | E39: ՀՄԱ | F39: դրամ | G39: 2356625500 | H39: 1 | I39: 2356625.5
C40: 45231177/49 | D40: ճանապարհների վերանորոգման աշխատանքներ | E40: ՀԲՄ | F40: դրամ | I40: -2193.317
C41: ՄԱՍ III. ԾԱՌԱՅՈՒԹՅՈՒՆՆԵՐ | I41: =SUM(I42:I106) -> 68770.76
C42: 71351540/552 | D42: տեխնիկական հսկողության ծառայություններ | E42: ՀԲՄ | F42: դրամ | G42: =I42*1000 -> 567300 | H42: 1 | I42: 567.3
...
