Workbook

Sheet 1
B1: Հավելված N 1
B2: ՀՀ կառավարության 2025 թվականի
B3: ______________ ի ___Ն որոշման
B6: «ՀԱՅԱՍՏԱՆԻ ՀԱՆՐԱՊԵՏՈՒԹՅԱՆ 2025 ԹՎԱԿԱՆԻ ՊԵՏԱԿԱՆ ԲՅՈՒՋԵԻ ՄԱՍԻՆ» ՕՐԵՆՔԻ 2-ՐԴ ՀՈԴՎԱԾԻ ԱՂՅՈՒՍԱԿՈՒՄ ԿԱՏԱՐՎՈՂ ՓՈՓՈԽՈՒԹՅՈՒՆՆԵՐԸ
C8: հազար դրամներով
C9: Ցուցանիշների փոփոխությունը (նվազեցումները նշված են փակագծերում)
B10: 1. Եկամուտների գծով | C10: -2314149.1
B11: 2. Ծախսերի գծով | C11: -9994547.3
B12: 3. Դեֆիցիտը (պակասուրդը) | C12: -7680398.2
B16: ՀԱՅԱՍՏԱՆԻ ՀԱՆՐԱՊԵՏՈՒԹՅԱՆ ՎԱՐՉԱՊԵՏԻ ԱՇԽԱՏԱԿԱԶՄԻ ՂԵԿԱՎԱՐ | C16: Ա. ՀԱՐՈՒԹՅՈՒՆՅԱՆ

Sheet 2.
D1: Հավելված N 2
D2: ՀՀ կառավարության 2025 թվականի
D3: ______________ ի ___Ն որոշման
A5: «ՀԱՅԱUՏԱՆԻ ՀԱՆՐԱՊԵՏՈՒԹՅԱՆ 2025 ԹՎԱԿԱՆԻ ՊԵՏԱԿԱՆ ԲՅՈՒՋԵԻ ՄԱUԻՆ» ՕՐԵՆՔԻ 3-ՐԴ ՀՈԴՎԱԾԻ ԱՂՅՈՒՍԱԿՈՒՄ, N 3 ՀԱՎԵԼՎԱԾԻ N 1 ԱՂՅՈՒՍԱԿՈՒՄ ԵՎ ՀԱՅԱՍՏԱՆԻ ՀԱՆՐԱՊԵՏՈՒԹՅԱՆ ԿԱՌԱՎԱՐՈՒԹՅԱՆ 2024 ԹՎԱԿԱՆԻ ԴԵԿՏԵՄԲԵՐԻ 27-Ի N 2060-Ն ՈՐՈՇՄԱՆ N 1 ՀԱՎԵԼՎԱԾԻ N 1 ԱՂՅՈՒՍԱԿՈՒՄ ԿԱՏԱՐՎՈՂ ՓՈՓՈԽՈՒԹՅՈՒՆՆԵՐԸ
C6: հազար դրամներով
B7: Պետական բյուջեի դեֆիցիտի ֆինանսավորման աղբյուրներն ու դրանց տարրերի անվանումները | C7: Ցուցանիշների փոփոխությունը ( նվազեցումները նշված են փակագծերում)
C8: Տարի
B9: ԸՆԴԱՄԵՆԸ | C9: -7680398.2
B10: Բ. Արտաքին աղբյուրներ - ընդամենը | C10: -7680398.2
B11: այդ թվում
B12: 1. Փոխառու զուտ միջոցներ | C12: -7680398.2
B13: այդ թվում՝
B14: 1.1. Վարկերի և փոխատվությունների ստացում | C14: -7680398.2
B15: որից`
B16: նպատակային վարկերի գծով | C16: -7680398.2
B20: ՀԱՅԱՍՏԱՆԻ ՀԱՆՐԱՊԵՏՈՒԹՅԱՆ ՎԱՐՉԱՊԵՏԻ ԱՇԽԱՏԱԿԱԶՄԻ ՂԵԿԱՎԱՐ | C20: Ա. ՀԱՐՈՒԹՅՈՒՆՅԱՆ

Sheet 3.
B1: Հավելված N 3
B2: ՀՀ կառավարության 2025 թվականի
B3: ______________ ի ___Ն որոշման
B5: «ՀԱՅԱՍՏԱՆԻ ՀԱՆՐԱՊԵՏՈՒԹՅԱՆ 2025 ԹՎԱԿԱՆԻ ՊԵՏԱԿԱՆ ԲՅՈՒՋԵԻ ՄԱՍԻՆ» ՕՐԵՆՔԻ 6-ՐԴ ՀՈԴՎԱԾԻ ԱՂՅՈՒՍԱԿՈՒՄ ԵՎ ՀԱՅԱՍՏԱՆԻ ՀԱՆՐԱՊԵՏՈՒԹՅԱՆ ԿԱՌԱՎԱՐՈՒԹՅԱՆ 2024 ԹՎԱԿԱՆԻ ԴԵԿՏԵՄԲԵՐԻ 27-Ի N 2060-Ն ՈՐՈՇՄԱՆ N 2 ՀԱՎԵԼՎԱԾՈՒՄ ԿԱՏԱՐՎՈՂ ՓՈՓՈԽՈՒԹՅՈՒՆՆԵՐԸ
C7: հազար դրամներով
B8: Եկամտատեսակ | C8: Ցուցանիշների փոփոխությունը (նվազեցումները նշված են փակագծերում)
C9: Տարի
B10: ՊԵՏԱԿԱՆ ԲՅՈՒՋԵԻ ԵԿԱՄՈՒՏՆԵՐ | C10: -2314149.1
B11: այդ թվում՝
B12: Պաշտոնական դրամաշնորհներ | C12: -2314149.1
B16: ՀԱՅԱՍՏԱՆԻ ՀԱՆՐԱՊԵՏՈՒԹՅԱՆ ՎԱՐՉԱՊԵՏԻ ԱՇԽԱՏԱԿԱԶՄԻ ՂԵԿԱՎԱՐ | C16: Ա. ՀԱՐՈՒԹՅՈՒՆՅԱՆ

Sheet 4
A1: Հավելված N 4
A2: ՀՀ կառավարության 2025 թվականի
A3: ______________ ի ___Ն որոշման
B4: ՀԱՅԱՍՏԱՆԻ ՀԱՆՐԱՊԵՏՈՒԹՅԱՆ 2025 ԹՎԱԿԱՆԻ ՊԵՏԱԿԱՆ ԲՅՈՒՋԵԻ ՄԱՍԻՆ» ՕՐԵՆՔԻ N 1 ՀԱՎԵԼՎԱԾԻ N 2 ԱՂՅՈՒՍԱԿՈՒՄ ԿԱՏԱՐՎՈՂ ՎԵՐԱԲԱՇԽՈՒՄԸ ԵՎ ՀԱՅԱՍՏԱՆԻ ՀԱՆՐԱՊԵՏՈՒԹՅԱՆ ԿԱՌԱՎԱՐՈՒԹՅԱՆ 2024 ԹՎԱԿԱՆԻ ԴԵԿՏԵՄԲԵՐԻ 27-Ի N 2060-Ն ՈՐՈՇՄԱՆ N 5 ՀԱՎԵԼՎԱԾԻ N 1 ԱՂՅՈՒՍԱԿՈՒՄ ԿԱՏԱՐՎՈՂ ՓՈՓՈԽՈՒԹՅՈՒՆՆԵՐԸ ԵՎ ԼՐԱՑՈՒՄՆԵՐԸ
H5: հազար դրամներով
B6: ԲԳԿ | C6: Ծրագրային դասիչը | E6: ԲԳԿ/Ծրագրի /միջոցառման անվանումը | F6: Ծրագրի նպատակը/Միջոցառման նկարագրությունը | G6: Վերջնական արդյունքի նկարագրությունը/Միջոցառման տեսակը | H6: Ցուցանիշների փոփոխությունը (ավելացումները նշված են դրական նշանով, իսկ նվազեցումները` փակագծերում)
C7: Ծրագիր | D7: Միջոցառում | H7: Տարի
B8: ԸՆԴԱՄԵՆԸ | H8: -9994547.3
B9: ՀՀ տարածքային կառավարման և ենթակառուցվածքների նախարարություն | H9: -10353577
C10: 1004 | E10: Ոռոգման համակարգի առողջացում | F10: Ոռոգման ծառայությունների հասանելիության և մատչելիության ապահովում | G10: Ոռոգման ջրի մատակարարման արդյունավետության և հասանելիության բարելավում, կորուստների կրճատում | H10: -2773269.1
D11: 1004 - 11009 | E11: Գերմանիայի զարգացման վարկերի բանկի աջակցությամբ իրականացվող Ախուրյան գետի ջրային ռեսուրսների ինտեգրացված կառավարման դրամաշնորհային ծրագիր | F11: Գերմանիայի զարգացման վարկերի բանկի աջակցությամբ իրականացվող Ախուրյան գետի ջրային ռեսուրսների ինտեգրացված կառավարման դրամաշնորհային ծրագրի համակարգում և ղեկավարում | G11: Ծառայությունների մատուցում | H11: -41482.5
D12: 1004 - 11011 | E12: Զարգացման ֆրանսիական գործակալության աջակցությամբ իրականացվող ոռոգման ոլորտի ֆինանսական կայունության և ոռոգման կառավարման կարողությունների բարելավման դրամաշնորհային ծրագրի խորհրդատվություն և կառավարում | F12: Զարգացման ֆրանսիական գործակալության աջակցությամբ իրականացվող ոռոգման ոլորտի ֆինանսական կայունության և ոռոգման կառավարման կարողությունների բարելավման ծրագրի համակարգում և ղեկավարում | G12: Ծառայությունների մատուցում | H12: -83000
D13: 1004 - 31006 | E13: Գերմանիայի զարգացման վարկերի բանկի աջակցությամբ իրականացվող Ախուրյան գետի ջրային ռեսուրսների ինտեգրացված կառավարման ծրագրի երկրորդ փուլի շրջանակներում ջրային տնտեսության ենթակառուցվածքների հիմնանորոգում | F13: Գերմանիայի զարգացման վարկերի բանկի աջակցությամբ իրականացվող Ախուրյան գետի ջրային ռեսուրսների ինտեգրացված կառավարման ծրագրի երկրորդ փուլ | G13: Պետական մարմինների կողմից օգտագործվող ոչ ֆինանսական ակտիվների հետ գործառնություններ | H13: -648786.6
D14: 1004 - 31022 | E14: Համաշխարհային բանկի աջակցության շրջանակներում ոռոգման, ջրամատակարարման և ջրահետացման ծրագրերի իրականացում | F14: Համաշխարհային բանկի աջակցության շրջանակներում ոռոգման, ջրամատակարարման և ջրահեռացման ծրագրերի իրականացման խորհրդատվական ծառայությունների ձեռքբերում, վերակառուցման աշխատանքների իրականացում | G14: Պետական մարմինների կողմից օգտագործվող ոչ ֆինանսական ակտիվների հետ գործառնություններ | H14: -2000000
C15: 1019 | E15: Սոցիալական ներդրումների և տեղական զարգացման ծրագիր | F15: Նպաստել տարածքներում բնակչության նյութական և ոչ նյութական բարեկեցության աճին | G15: Համայնքային և միջհամայնքային ենթակառուցվածքների և որակի հասանելիության բարելավում, ինստիտուցիոնալ և ֆինանասական կարողությունների հզորացում | H15: 13105
D16: 1019 - 12004 | E16: Համաշխարհային բանկի աջակցությամբ իրականացվող Սոցիալական ներդրումների և տեղական զարգացման ծրագրի լրացուցիչ ֆինանսավորման վարկի շրջանակներում ՀՀ համայնքային և միջհամայնքային ենթակառուցվածքների որակի, օգտագործման և հասանելիության բարելավում: | F16: Ջրագծերի, առողջապահության, կրթության օբյեկտների, մշակույթային տների, ծերանոցների, մանկատների, հատուկ դպրոցների, մանկապարտզների և կոյուղու օբյեկտնրի հիմն. և շինարարություն., գույքի և սարքավորումների տրամադրում շահառու ենթածրագրերի համար: | G16: Տրանսֆերտների տրամադրում | H16: 13105
C17: 1049 | E17: Ճանապարհային ցանցի բարելավում | F17: Ճանապարհային ցանցի բարելավում և անվտանգ երթևեկության ապահովում | G17: Ճանապարհների ծածկի որակի և փոխադրումների արդյունավետության բարելավում, ճանապարհների վիճակով պայմանավորված պատահարների նվազում | H17: 1008445.8
D18: 1049 - 11016 | E18: Ասիական զարգացման բանկի աջակցությամբ իրականացվող Հյուսիս-հարավ ճանապարհային միջանցքի զարգացման ծրագրի Սիսիան-Քաջարան 60կմ-ի ճանապարհի Հյուսիսային ենթահատվածի համակարգում և կառավարում | F18: Խորհրդատվական ծառայություններ և պահպանման ծախսեր | G18: Ծառայությունների մատուցում | H18: -294140
D19: 1049 - 11020 | E19: Հյուսիս-հարավ ճանապարհային միջանցքի զարգացման ծրագրի Գյումրու շրջանցիկ ճանապարհի համակարգում և կառավարում, Տրանշ 5 | F19: Հյուսիս-հարավ ճանապարհային միջանցքի զարգացման ծրագրի Գյումրու շրջանցիկ ճանապարհի շրջանակներում հողերի օտարում | G19: Ծառայությունների մատուցում | H19: -100000
D20: 1049 - 21001 | E20: Պետական նշանակության ավտոճանապարհների հիմնանորոգում | F20: Միջպետական, հանրապետական և մարզային նշանակության ավտոճոնապարհների քայքայված ծածկի վերանորոգում, մաշված ծածկի փոխարինում | G20: Հանրության կողմից անմիջականորեն օգտագործվող ակտիվների հետ կապված միջոցառումներ | H20: 3265375.6
D21: 1049 - 21002 | E21: Տրանսպորտային օբյեկտների հիմնանորոգում | F21: Ավտոմոբիլային ճանապարհների վրա գտնվող կամուրջների հիմնանորոգում | G21: Հանրության կողմից անմիջականորեն օգտագործվող ակտիվների հետ կապված միջոցառումներ | H21: -939767.8
D22: 1049 - 21009 | E22: Եվրոպական ներդրումային բանկի աջակցությամբ իրականացվող Հյուսիս-հարավ միջանցքի զարգացման վարկային ծրագիր, Տրանշ 3 | F22: Լանջիկ-Գյումրի 27.47 կմ երկարությամբ ճանապարհային հատվածի կառուցում | G22: Հանրության կողմից անմիջականորեն օգտագործվող ակտիվների հետ կապված միջոցառումներ | H22: -923022
C23: 1072 | E23: Ջրամատակարարաման և ջրահեռացման բարելավում | F23: Ջրամատակարարման ծառայությունների հասանելիության և մատչելիության ապահովում | G23: Խմելու ջրի մատակարարման և ջրահեռացման համակարգի բարելավում, կորուստների կրճատում | H23: -872000
D24: 1072 - 12001 | E24: Գերմանիայի զարգացման և Եվրոպական միության հարևանության ներդրումային բանկի աջակցությամբ իրականացվող ջրամատակարարման և ջրահեռացման ենթակառուցվածքների դրամաշնորհային ծրագիր` երրորդ փուլ | F24: 579 գյուղական բնակավայրերից ընտրված որոշ համայնքների ջրամատակարարման և ջրահեռացման համակարգերի հատվածների հրատապ վերականգնման աշխատանքների իրականացում ինչպես նաև՛ Արմավիրի կեղտաջրերի մաքրման կայանի կառուցում | G24: Տրանսֆերտների տրամադրում | H24: -872000
C25: 1157 | E25: Քաղաքային զարգացում | F25: Քաղաքային ենթակառուցվածքների զարգացում | G25: Քաղաքային ենթակառուցվածքների արդիականացում և բարելավում | H25: -4725094.3
D26: 1157 - 12003 | E26: Արևելյան եվրոպայի էներգախնայողության և բնապահպանական գործընկերության ֆոնդի աջակցությամբ իրականացվող Երևանի քաղաքային լուսավորության դրամաշնորհային ծրագրի կատարման ապահովում | F26: Երևանի քաղաքային լուսավորության ենթակառուցվածքի բարելավման համար տրամադրվող աջակցություն և ծառայություն | G26: Տրանսֆերտների տրամադրում | H26: -405158.8
D27: 1157 - 12004 | E27: Վերակառուցման և զարգացման եվրոպական բանկի աջակցությամբ իրականացվող Երևանի քաղաքային լուսավորության դրամաշնորհային ծրագրի կատարման ապահովում | F27: Երևանի քաղաքային լուսավորության ենթակառուցվածքի բարելավման համար տրամադրվող աջակցություն և ծառայություն | G27: Տրանսֆերտների տրամադրում | H27: -38841.7
D28: 1157 - 12017 | E28: Վերակառուցման և զարգացման եվրոպական բանկի աջակցությամբ իրականացվող Գյումրու քաղաքային ճանապարհների ծրագիր | F28: Գյումրու Անի և Ավստրիական թաղամասերի փողոցների (ներառյալ հետիոտնային անցումների ցանցը և ջրահեռացման համակարգը) հիմնանորոգում | G28: Տրանսֆերտների տրամադրում | H28: -897502.9
D29: 1157 - 12018 | E29: Վերակառուցման և զարգացման եվրոպական բանկի աջակցությամբ իրականացվող Գյումրու քաղաքային ճանապարհների դրամաշնորհային ծրագիր (Տրանշ Ա, Բ, Գ) | F29: Գյումրու Անի և Ավստրիական թաղամասերի փողոցների (ներառյալ հետիոտնային անցումների ցանցը և ջրահեռացման համակարգը) հիմնանորոգում | G29: Տրանսֆերտների տրամադրում | H29: -432957.1
D30: 1157 - 12029 | E30: Ասիական զարգացման բանկի աջակցությամբ իրականացվող քաղաքային զարգացման ներդրումային ծրագրի համակարգում և կառավարում | F30: Քաղաքային զարգացման ներդրումային ծրագրի շրջանակներում համակարգում և կառավարում | G30: Տրանսֆերտների տրամադրում | H30: -446589.9
D31: 1157 - 12030 | E31: Ասիական զարգացման բանկի աջակցությամբ իրականացվող քաղաքային զարգացման ներդրումային ծրագրի շրջանակներում ճանապարհային շինարարություն | F31: Քաղաքային զարգացման ներդրումային ծրագրի շրջանակներում ճանապարհային շինարարություն | G31: Տրանսֆերտների տրամադրում | H31: -2287062.3
D32: 1157 - 12031 | E32: Վերակառուցման և զարգացման եվրոպական բանկի աջակցությամբ իրականացվող Գյումրու քաղաքային ճանապարհների տեխնիկական համագործակցության դրամաշնորհային ծրագրի շրջանակներում ճանապարհների վերակառուցման և փողոցների լուսավորության արդիականացում | F32: Գյումրու ճանապարհների վերակառուցման և փողոցների լուսավորության արդիականացման աշխատանքներ | G32: Տրանսֆերտների տրամադրում | H32: -108490.8
D33: 1157 - 12032 | E33: Վերակառուցման և զարգացման եվրոպական բանկի աջակցությամբ իրականացվող Գյումրու քաղաքային ճանապարհների տեխնիկական համագործակցության վարկային ծրագիր | F33: Գյումրու ճանապարհների վերակառուցման և փողոցների լուսավորության արդիականացման աշխատանքներԳյումրու ճանապարհների վերակառուցման և փողոցների լուսավորության արդիականացման աշխատանքներ | G33: Տրանսֆերտների տրամադրում | H33: -108490.8
C34: 1232 | E34: Էներգաարդյունավետության ծրագիր | F34: Էներգախնայողության և վերականգնվող էներգետիկայի ներուժի առավելագույն իրացում | G34: Էներգախնայողության մակարդակի բարձրացում և վերականգնվող էներգետիկայի մասնաբաժնի աճ | H34: -3004764.8
D35: 1232 - 12001 | E35: Եվրոպական ներդրումային բանկի աջակցությամբ իրականացվող Երևանի էներգաարդյունավետության դրամաշնորհային ծրագրի երկրորդ փուլ (մանկապարտեզների և այլ հանրային շենքերի էներգարդյունավետվության բարելավում) | F35: Էներգաարդյունավետության և էներգախնայողությանն ուղղված միջոցառումների իրականացում հանրային (այդ թվում` մանկապարտեզների) շենքերում | G35: Տրանսֆերտների տրամադրում | H35: -863948.2
D36: 1232 - 12003 | E36: Եվրոպական ներդրումային բանկի աջակցությամբ իրականացվող Երևանի էներգաարդյունավետության ծրագրի երկրորդ փուլ (մանկապարտեզների և այլ հանրային շենքերի էներգարդյունավետվության բարելավում) | F36: Էներգաարդյունավետության և էներգախնայողությանն ուղղված միջոցառումների իրականացում հանրային (այդ թվում` մանկապարտեզների) շենքերում | G36: Տրանսֆերտների տրամադրում | H36: -2140816.6
B37: ՀՀ կառավարություն | H37: 359030.1
C38: 1139 | E38: ՀՀ կառավարության պահուստային ֆոնդ | F38: Պետական բյուջեում չկանխատեսված, ինչպես նաեւ բյուջետային երաշխիքների ապահովման ծախսերի ֆինանսավորման ապահովում | G38: Պահուստային ֆոնդի կառավարման արդյունավետության և թափանցիկության ապահովում | H38: 359030.1
D39: 1139 - 11001 | E39: ՀՀ կառավարության պահուստային ֆոնդ | F39: ՀՀ պետական բյուջեում նախատեսված ելքերի լրացուցիչ ֆինանսավորման, պետական բյուջեում չկանխատեսված ելքերի, ինչպես նաև բյուջետային երաշխիքների ապահովման ելքերի ֆինանսավորման ապահովում | G39: Ծառայությունների մատուցում | H39: 359030.1
D41: ՀԱՅԱՍՏԱՆԻ ՀԱՆՐԱՊԵՏՈՒԹՅԱՆ ՎԱՐՉԱՊԵՏԻ ԱՇԽԱՏԱԿԱԶՄԻ ՂԵԿԱՎԱՐ՝ | F41: Ա.ՀԱՐՈՒԹՅՈՒՆՅԱՆ

Sheet 5.
H1: Հավելված N 5
H2: ՀՀ կառավարության 2025 թվականի
H3: ______________ ի ___Ն որոշման
B5: ՀԱՅԱՍՏԱՆԻ ՀԱՆՐԱՊԵՏՈՒԹՅԱՆ ԿԱՌԱՎԱՐՈՒԹՅԱՆ 2024 ԹՎԱԿԱՆԻ ԴԵԿՏԵՄԲԵՐԻ 27-Ի N 2060-Ն ՈՐՈՇՄԱՆ NN 3 ԵՎ 4 ՀԱՎԵԼՎԱԾՆԵՐՈՒՄ ԿԱՏԱՐՎՈՂ ՓՈՓՈԽՈՒԹՅՈՒՆՆԵՐԸ ԵՎ ԼՐԱՑՈՒՄՆԵՐԸ
H7: հազար դրամներով
B8: Գործառական դասիչը | E8: Ծրագրային դասիչը | G8: Բյուջետային հատկացումների գլխավոր կարգադրիչների, ծրագրերի, միջոցառումների և միջոցառումները կատարող պետական մարմինների անվանումները | H8: Ցուցանիշների փոփոխությունը (ավելացումները նշված են դրական նշանով, իսկ նվազեցումները` փակագծերում)
B9: Բաժին | C9: Խումբ | D9: Դաս | E9: Ծրագիր | F9: Միջոցառում | H9: Տարի
G10: ԸՆԴԱՄԵՆԸ | H10: -9994547.3
G11: այդ թվում`
G12: ՀՀ տարածքային կառավարման և ենթակառուցվածքների նախարարություն | H12: -10353577
G13: այդ թվում`
B14: 04 | G14: ՏՆՏԵՍԱԿԱՆ ՀԱՐԱԲԵՐՈՒԹՅՈՒՆՆԵՐ | H14: -9037576.9
G15: այդ թվում`
C16: 01 | G16: Ընդհանուր բնույթի տնտեսական, առևտրային և աշխատանքի գծով հարաբերություններ | H16: -3004764.8
G17: այդ թվում`
D18: 01 | G18: Ընդհանուր բնույթի տնտեսական և առևտրային հարաբերություններ | H18: -3004764.8
G19: այդ թվում`
E20: 1232 | G20: Էներգաարդյունավետության ծրագիր | H20: -3004764.8
G21: այդ թվում`
F22: 12001 | G22: Եվրոպական ներդրումային բանկի աջակցությամբ իրականացվող Երևանի էներգաարդյունավետության դրամաշնորհային ծրագրի երկրորդ փուլ (մանկապարտեզների և այլ հանրային շենքերի էներգարդյունավետվության բարելավում) | H22: -863948.2
G23: այդ թվում` ըստ կատարողների
G24: ՀՀ տարածքային կառավարման և ենթակառուցվածքների նախարարություն | H24: -863948.2
G25: այդ թվում` բյուջետային ծախսերի տնտեսագիտական դասակարգման հոդվածներ
G26: ԸՆԴԱՄԵՆԸ ԾԱԽՍԵՐ | H26: -863948.2
G27: ՈՉ ՖԻՆԱՆՍԱԿԱՆ ԱԿՏԻՎՆԵՐԻ ԳԾՈՎ ԾԱԽՍԵՐ | H27: -863948.2
G28: ՀԻՄՆԱԿԱՆ ՄԻՋՈՑՆԵՐ | H28: -863948.2
G29: ՇԵՆՔԵՐ ԵՎ ՇԻՆՈՒԹՅՈՒՆՆԵՐ | H29: -858188.4
G30: - Շենքերի և շինությունների շինարարություն | H30: -858188.4
G31: ԱՅԼ ՀԻՄՆԱԿԱՆ ՄԻՋՈՑՆԵՐ | H31: -5759.8
G32: - Նախագծահետազոտական ծախսեր | H32: -5759.8
F33: 12003 | G33: Եվրոպական ներդրումային բանկի աջակցությամբ իրականացվող Երևանի էներգաարդյունավետության ծրագրի երկրորդ փուլ (մանկապարտեզների և այլ հանրային շենքերի էներգարդյունավետվության բարելավում) | H33: -2140816.6
G34: այդ թվում` ըստ կատարողների
G35: ՀՀ տարածքային կառավարման և ենթակառուցվածքների նախարարություն | H35: -2140816.6
G36: այդ թվում` բյուջետային ծախսերի տնտեսագիտական դասակարգման հոդվածներ
G37: ԸՆԴԱՄԵՆԸ ԾԱԽՍԵՐ | H37: -2140816.6
G38: ՈՉ ՖԻՆԱՆՍԱԿԱՆ ԱԿՏԻՎՆԵՐԻ ԳԾՈՎ ԾԱԽՍԵՐ | H38: -2140816.6
G39: ՀԻՄՆԱԿԱՆ ՄԻՋՈՑՆԵՐ | H39: -2140816.6
G40: ՇԵՆՔԵՐ ԵՎ ՇԻՆՈՒԹՅՈՒՆՆԵՐ | H40: -2126545.8
G41: - Շենքերի և շինությունների շինարարություն | H41: -2126545.8
G42: ԱՅԼ ՀԻՄՆԱԿԱՆ ՄԻՋՈՑՆԵՐ | H42: -14270.8
G43: - Նախագծահետազոտական ծախսեր | H43: -14270.8
C44: 02 | G44: Գյուղատնտեսություն, անտառային տնտեսություն, ձկնորսություն և որսորդություն | H44: -2773269.1
G45: այդ թվում`
D46: 04 | G46: Ոռոգում | H46: -2773269.1
G47: այդ թվում`
G48: ՀՀ տարածքային կառավարման և ենթակառուցվածքների նախարարություն | H48: -2773269.1
G49: այդ թվում`
E50: 1004 | G50: Ոռոգման համակարգի առողջացում | H50: -2773269.1
G51: այդ թվում`
F52: 11009 | G52: Գերմանիայի զարգացման վարկերի բանկի աջակցությամբ իրականացվող Ախուրյան գետի ջրային ռեսուրսների ինտեգրացված կառավարման դրամաշնորհային ծրագիր | H52: -41482.5
G53: այդ թվում` ըստ կատարողների
G54: ՀՀ տարածքային կառավարման և ենթակառուցվածքների նախարարության ջրային կոմիտե | H54: -41482.5
G55: այդ թվում` բյուջետային ծախսերի տնտեսագիտական դասակարգման հոդվածներ
G56: ԸՆԴԱՄԵՆԸ ԾԱԽՍԵՐ | H56: -41482.5
G57: ԸՆԹԱՑԻԿ ԾԱԽՍԵՐ | H57: -41482.5
G58: ԱՅԼ ԾԱԽՍԵՐ | H58: -41482.5
G59: Այլ ծախսեր | H59: -41482.5
F60: 11011 | G60: Զարգացման ֆրանսիական գործակալության աջակցությամբ իրականացվող ոռոգման ոլորտի ֆինանսական կայունության և ոռոգման կառավարման կարողությունների բարելավման դրամաշնորհային ծրագրի խորհրդատվություն և կառավարում | H60: -83000
G61: այդ թվում` ըստ կատարողների
G62: ՀՀ տարածքային կառավարման և ենթակառուցվածքների նախարարության ջրային կոմիտե | H62: -83000
G63: այդ թվում` բյուջետային ծախսերի տնտեսագիտական դասակարգման հոդվածներ
G64: ԸՆԴԱՄԵՆԸ ԾԱԽՍԵՐ | H64: -83000
G65: ԸՆԹԱՑԻԿ ԾԱԽՍԵՐ | H65: -83000
G66: ԱՅԼ ԾԱԽՍԵՐ | H66: -83000
G67: Այլ ծախսեր | H67: -83000
F68: 31006 | G68: Գերմանիայի զարգացման վարկերի բանկի աջակցությամբ իրականացվող Ախուրյան գետի ջրային ռեսուրսների ինտեգրացված կառավարման ծրագրի երկրորդ փուլի շրջանակներում ջրային տնտեսության ենթակառուցվածքների հիմնանորոգում | H68: -648786.6
G69: այդ թվում` ըստ կատարողների
G70: ՀՀ տարածքային կառավարման և ենթակառուցվածքների նախարարության ջրային կոմիտե | H70: -648786.6
G71: այդ թվում` բյուջետային ծախսերի տնտեսագիտական դասակարգման հոդվածներ
G72: ԸՆԴԱՄԵՆԸ ԾԱԽՍԵՐ | H72: -648786.6
G73: ՈՉ ՖԻՆԱՆՍԱԿԱՆ ԱԿՏԻՎՆԵՐԻ ԳԾՈՎ ԾԱԽՍԵՐ | H73: -648786.6
G74: ՀԻՄՆԱԿԱՆ ՄԻՋՈՑՆԵՐ | H74: -648786.6
G75: ՇԵՆՔԵՐ ԵՎ ՇԻՆՈՒԹՅՈՒՆՆԵՐ | H75: -648786.6
G76: - Շենքերի և շինությունների շինարարություն | H76: -648786.6
F77: 31022 | G77: Համաշխարհային բանկի աջակցության շրջանակներում ոռոգման, ջրամատակարարման և ջրահետացման ծրագրերի իրականացում | H77: -2000000
G78: այդ թվում` ըստ կատարողների
G79: ՀՀ տարածքային կառավարման և ենթակառուցվածքների նախարարության ջրային կոմիտե | H79: -2000000
G80: այդ թվում` բյուջետային ծախսերի տնտեսագիտական դասակարգման հոդվածներ
G81: ԸՆԴԱՄԵՆԸ ԾԱԽՍԵՐ | H81: -2000000
G82: ՈՉ ՖԻՆԱՆՍԱԿԱՆ ԱԿՏԻՎՆԵՐԻ ԳԾՈՎ ԾԱԽՍԵՐ | H82: -2000000
G83: ՀԻՄՆԱԿԱՆ ՄԻՋՈՑՆԵՐ | H83: -2000000
G84: ՇԵՆՔԵՐ ԵՎ ՇԻՆՈՒԹՅՈՒՆՆԵՐ | H84: -2000000
G85: - Շենքերի և շինությունների կապիտալ վերանորոգում | H85: -2000000
C86: 05 | G86: ՏՐԱՆՍՊՈՐՏ | H86: -3272648
G87: այդ թվում`
D88: 01 | G88: Ճանապարհային տրանսպորտ | H88: -3272648
G89: այդ թվում`
G90: ՀՀ տարածքային կառավարման և ենթակառուցվածքների նախարարություն | H90: -3272648
G91: այդ թվում`
E92: 1049 | G92: Ճանապարհային ցանցի բարելավում | H92: 1008445.8
G93: այդ թվում`
F94: 11016 | G94: Ասիական զարգացման բանկի աջակցությամբ իրականացվող Հյուսիս-հարավ ճանապարհային միջանցքի զարգացման ծրագրի Սիսիան-Քաջարան 60կմ-ի ճանապարհի Հյուսիսային ենթահատվածի համակարգում և կառավարում | H94: -294140
G95: այդ թվում` ըստ կատարողների
G96: ՀՀ տարածքային կառավարման և ենթակառուցվածքների նախարարություն | H96: -294140
G97: այդ թվում` բյուջետային ծախսերի տնտեսագիտական դասակարգման հոդվածներ
G98: ԸՆԴԱՄԵՆԸ ԾԱԽՍԵՐ | H98: -294140
G99: ԸՆԹԱՑԻԿ ԾԱԽՍԵՐ | H99: -294140
G100: ԱՇԽԱՏԱՆՔԻ ՎԱՐՁԱՏՐՈՒԹՅՈՒՆ | H100: -37300
G101: Դրամով վճարվող աշխատավարձեր և հավելավճարներ | H101: -37300
G102: - Աշխատողների աշխատավարձեր և հավելավճարներ | H102: -34300
...

Sheet 6
I1: Հավելված N 6
I2: ՀՀ կառավարության 2025 թվականի
I3: ______________ ի ___Ն որոշման
B5: «ՀԱՅԱՍՏԱՆԻ ՀԱՆՐԱՊԵՏՈՒԹՅԱՆ 2025 ԹՎԱԿԱՆԻ ՊԵՏԱԿԱՆ ԲՅՈՒՋԵԻ ՄԱՍԻՆ» ՕՐԵՆՔԻ N 1 ՀԱՎԵԼՎԱԾԻ N 3 ԱՂՅՈՒՍԱԿՈՒՄ ԿԱՏԱՐՎՈՂ ՓՈՓՈԽՈՒԹՅՈՒՆՆԵՐԸ ԵՎ ԼՐԱՑՈՒՄՆԵՐԸ
H6: հազար դրամներով
B7: Ծրագրային դասիչ | D7: Բյուջետային գլխավոր կարգադրիչների, ծրագրերի, միջոցառումների և ուղղությունների անվանումները | E7: Ցուցանիշների փոփոխությունը (ավելացումները նշված են դրական նշանով, իսկ նվազեցումները` փակագծերում)
E8: Ընդամենը, | F8: այդ թվում՝
B9: Ծրագիր | C9: Միջոցառում | F9: Կառուցման աշխատանքներ | G9: Վերակառուցման, վերանորոգման և վերականգնման աշխատանքներ | H9: Նախագծահե- տազոտական, գեոդեզիա- քարտեզագրական աշխատանքներ | I9: Ոչ ֆինանսական այլ ակտիվների ձեռքբերում
D10: ԸՆԴԱՄԵՆԸ | E10: =+F10+G10+H10+I10 -> 2325607.8 | F10: =+F12 -> 0 | G10: =+G12 -> 2263205.8 | H10: =+H12 -> 62402 | I10: =+I12 -> 0
D11: այդ թվում՝
D12: ՀՀ ՏԱՐԱԾՔԱՅԻՆ ԿԱՌԱՎԱՐՄԱՆ ԵՎ ԵՆԹԱԿԱՌՈՒՑՎԱԾՔՆԵՐԻ ՆԱԽԱՐԱՐՈՒԹՅՈՒՆ | E12: =+F12+G12+H12+I12 -> 2325607.8 | F12: =F14+F75 -> 0 | G12: =G14+G75 -> 2263205.8 | H12: =H14+H75 -> 62402 | I12: =I14+I75 -> 0
D13: այդ թվում`
B14: 1049 | C14: 21001 | D14: Պետական նշանակության ավտոճանապարհների հիմնանորոգում | E14: =+F14+G14+H14+I14 -> 3265375.6 | F14: =+F16+F40+F27 -> 0 | G14: =+G16+G40+G27 -> 3219190.1 | H14: =+H16+H40+H27 -> 46185.5 | I14: =+I16+I40+I27 -> 0
D15: այդ թվում`
C16: 1 | D16: Միջպետական նշանակության ավտոճանապարհներ, այդ թվում | E16: =+F16+G16+H16+I16 -> 173151.4 | F16: =SUM(F17:F26) -> 0 | G16: =SUM(G17:G26) -> 168599 | H16: =SUM(H17:H26) -> 4552.4 | I16: =SUM(I17:I26) -> 0
D17: Մ-2, Երևան-Երասխ-Նորավան- Տաթև-Կապան-Մեղրի-ՀՀ սահման (նախկին՝ Մ-2 ,Երևան-Երասխ-Գորիս-Մեղրի-ՀՀ սահման) միջպետական նշանակության ավտոճանապարհի կմ91+600 - կմ98+000 հատվածի հիմնանորոգում | E17: =+F17+G17+H17+I17 -> -146988.9 | F17: 0 | G17: -146988.9 | H17: 0 | I17: 0
D18: Մ-2, Երևան-Երասխ-Նորավան- Տաթև-Կապան-Մեղրի-ՀՀ սահման (նախկին՝ Մ-2 ,Երևան-Երասխ-Գորիս-Մեղրի-ՀՀ սահման) միջպետական նշանակության ավտոճանապարհի կմ91+600 - կմ98+000 հատվածի հիմնանորոգում | E18: =+F18+G18+H18+I18 -> 146592 | F18: 0 | G18: 146592 | H18: 0 | I18: 0
D19: Մ-2, Երևան-Երասխ-Նորավան- Տաթև-Կապան-Մեղրի-ՀՀ սահման (նախկին՝ Մ-2 ,Երևան-Երասխ-Գորիս-Մեղրի-ՀՀ սահման) միջպետական նշանակության ավտոճանապարհի կմ108+400 - կմ126+100 հատվածի հիմնանորոգում | E19: =F19+G19+H19+I19 -> 135966.1 | F19: 0 | G19: 135966.1 | H19: 0 | I19: 0
D20: Մ-2, Երևան-Երասխ-Նորավան- Տաթև-Կապան-Մեղրի-ՀՀ սահման (նախկին՝ Մ-2 ,Երևան-Երասխ-Գորիս-Մեղրի-ՀՀ սահման) միջպետական նշանակության ավտոճանապարհի կմ181+250 - կմ181+750 հատվածի վերակառուցում | E20: =+F20+G20+H20+I20 -> -6139.4 | F20: 0 | G20: -6139.4 | H20: 0 | I20: 0
D21: Մ-2 միջպետական նշանակության ավտոմոբիլային ճանապարհի կմ 198+000 – կմ 199+000 հարակից հատվածում ծանրաքարշ և մեծ եզրաչափերով տրանսպորտային միջոցների անշարժ կշռման նոր հենակետին մոտեցնող ավտոճանապարհի կառուցում | E21: =+F21+G21+H21+I21 -> 2298 | F21: 0 | G21: 0 | H21: 2298 | I21: 0
D22: Մ-3, ՀՀ սահման-Մարգարա-Վանաձոր-Տաշիր-ՀՀ սահման միջպետական նշանակության ավտոճանապարհի կմ22+152 -կմ27+000 հատվածի հիմնանորոգում | E22: =+F22+G22+H22+I22 -> 2254.4 | F22: 0 | G22: 0 | H22: 2254.4 | I22: 0
D23: Մ-3,ՀՀ սահման-Մարգարա-Վանաձոր-Տաշիր-ՀՀ սահման միջպետական նշանակության ավտոճանապարհի կմ35+535-կմ39+500 հատվածի հիմնանորոգում | E23: =+F23+G23+H23+I23 -> -11673.8 | F23: 0 | G23: -11673.8 | H23: 0 | I23: 0
D24: Մ-3, ՀՀ սահման-Մարգարա-Վանաձոր-Տաշիր-ՀՀ սահման (նախկին՝ Մ-3, Թուրքիայի սահման-Մարգարա-Վանաձոր-Տաշիր-Վրաստանի սահման) միջպետական նշանակության ավտոճանապարհի կմ154+000-կմ176+900 հատվածի հիմնանորոգում | E24: =F24+G24+H24+I24 -> 84540.5 | F24: 0 | G24: 84540.5 | H24: 0 | I24: 0
D25: Մ-10, Սևան-Մարտունի-Գետափ միջպետական նշանակության ավտոճանապարհի կմ79+060-կմ80+590 հատվածի վերակառուցում | E25: =+F25+G25+H25+I25 -> -22345.4 | F25: 0 | G25: -22345.4 | H25: 0 | I25: 0
D26: Մ-10, Սևան-Մարտունի-Գետափ միջպետական նշանակության ավտոճանապարհի կմ80+590-կմ94+590 հատվածի հիմնանորոգում | E26: =+F26+G26+H26+I26 -> -11352.1 | F26: 0 | G26: -11352.1 | H26: 0 | I26: 0
C27: 2 | D27: Հանրապետական նշանակության ավտոճանապարհներ, այդ թվում | E27: =+F27+G27+H27+I27 -> 529563.7 | F27: =SUM(F28:F39) -> 0 | G27: =SUM(G28:G39) -> 522238 | H27: =SUM(H28:H39) -> 7325.7 | I27: =SUM(I28:I39) -> 0
D28: Հ-1, Վ. Պտղնու տրանսպորտային հանգույց -Աբովյան - Ֆանտան -Ալափարս-Հ-5 (նախկին՝ Հ-1, Վ. Պտղնու տրանսպորտային հանգույց - Ջրաբեր-Հրազդան -Հրազդանի քրեակատարողական հիմնարկ) հանրապետական նշանակության ավտոճանապարհի կմ0+000 - կմ5+023 հատվածի հիմնանորոգում | E28: =+F28+G28+H28+I28 -> 127991 | F28: 0 | G28: 127991 | H28: 0 | I28: 0
D29: Հ-2, /Հ-1/(Աբովյան) -Արզնի -/Հ-6/Նոր Գեղի հանրապետական նշանակության ավտոճանապարհի կմ1+400 -կմ8+088 հատվածի հիմնանորոգում | E29: =+F29+G29+H29+I29 -> 2546 | F29: 0 | G29: 0 | H29: 2546 | I29: 0
D30: Հ-4, Երևան -Եղվարդ -Արագյուղ -Հարթավան - /Մ-3/ հանրապետական նշանակության ավտոճանապարհի կմ 15+600-կմ28+000 հատվածի հիմնանորոգում | E30: =+F30+G30+H30+I30 -> 1048.6 | F30: 0 | G30: 0 | H30: 1048.6 | I30: 0
D31: Հ-22, /Մ-6/ - Դսեղ – /Հ-70/ հանրապետական նշանակության ավտոճանապարհի կմ 8+000-կմ 13+900 հատվածի հիմնանորոգում | E31: =+F31+G31+H31+I31 -> -38454.6 | F31: 0 | G31: -38454.6 | H31: 0 | I31: 0
D32: Հ-22, /Մ-6/ - Դսեղ – /Հ-70/ հանրապետական նշանակության ավտոճանապարհի կմ 8+000-կմ 13+900 հատվածի հիմնանորոգում | E32: =+F32+G32+H32+I32 -> 24003.3 | F32: 0 | G32: 24003.3 | H32: 0 | I32: 0
D33: Հ-30, /Մ-4/ - Ճամբարակ- /Հ-7/ հանրապետական նշանակության ավտոճանապարհի 19-րդ և 51-րդ կմ-երում գտնվող սողանքային տեղամասերում ճանապարհամերձ հողաշերտի բեռնաթափման, ճանապարհի անցանելիության ապահովման միջոցառումների իրականացում | E33: =+F33+G33+H33+I33 -> 55948.9 | F33: 0 | G33: 55948.9 | H33: 0 | I33: 0
D34: Հ-36, /Մ-4/ (Իջևան) - Նավուր - Բերդ - Այգեպար հանրապետական նշանակության ավտոճանապարհի կմ 42+100(40+606)-կմ 51+900 հատվածի հիմնանորոգում | E34: =+F34+G34+H34+I34 -> 230.3 | F34: 0 | G34: 0 | H34: 230.3 | I34: 0
D35: Հ-36, /Մ-4/ (Իջևան) - Նավուր - Բերդ - Այգեպար հանրապետական նշանակության ավտոճանապարհի կմ 51+900 -կմ 56+460 հատվածի հիմնանորոգում | E35: =+F35+G35+H35+I35 -> 168.3 | F35: 0 | G35: 0 | H35: 168.3 | I35: 0
D36: Հ-37,/Մ-4/ - Այգեհովիտ - Վազաշեն - Պառավաքար - Այգեպար հանրապետական նշանակության ավտոճանապարհի կմ0+000 - կմ22+300 հատվածի հիմնանորոգում | E36: =+F36+G36+H36+I36 -> 367.5 | F36: 0 | G36: 0 | H36: 367.5 | I36: 0
D37: Հ-56,/Մ-3/ - Մուղնի - Օհանավան - /Մ-3/ հանրապետական նշանակության ավտոճանապարհի կմ0+000-կմ5+300 հատվածի հիմնանորոգում | E37: =+F37+G37+H37+I37 -> 352749.4 | F37: 0 | G37: 352749.4 | H37: 0 | I37: 0
D38: Հ-58, /Մ-4/ -Ոսկեպար-Նոյեմբերյան- /Մ-6/ հանրապետական նշանակության ավտոճանապարհի Կիրանց գյուղով անցնող հատվածում լուսավորության համակարգի կառուցում | E38: =+F38+G38+H38+I38 -> 1440 | F38: 0 | G38: 0 | H38: 1440 | I38: 0
D39: Հ-67, /Հ-32/ (Ամասիա) -Բերդաշեն- /Հ-66/ հանրապետական նշանակության ավտոճանապարհի Բերդաշեն բնակավայրով անցնող 1.5 կմ երկարությամբ տարանցիկ հատվածի հիմնանորոգում | E39: =+F39+G39+H39+I39 -> 1525 | F39: 0 | G39: 0 | H39: 1525 | I39: 0
C40: 3 | D40: Մարզային նշանակության ավտոճանապարհներ, այդ թվում | E40: =+F40+G40+H40+I40 -> 2562660.5 | F40: =SUM(F57:F73) -> 0 | G40: =SUM(G41:G74) -> 2528353.1 | H40: =SUM(H41:H74) -> 34307.4 | I40: =SUM(I41:I74) -> 0
D41: Տ-1-35, /Հ-81/ (Հացաշեն) - Սորիկ ավտոճանապարհի կմ0+000 - կմ5+100 հատվածի հիմնանորոգում | E41: =+F41+G41+H41+I41 -> -2487.4 | F41: 0 | G41: -2487.4 | H41: 0 | I41: 0
D42: Տ-2-3,Ներքին Չարբախ-Դարակերտ-Հ-13 (Դաշտավան) տեղական նշանակության ավտոճանապարհի կմ 0+000-կմ 2+200 հատվածի հիմնանորագում | E42: =+F42+G42+H42+I42 -> -2490 | F42: 0 | G42: 0 | H42: -2490 | I42: 0
D43: Տ-2-21,Հ-8 /Մրգավետ/ - Արևշատ (Տ-2-25) մարզային նշանակության ավտոճանապարհի կմ 4+000-կմ 6+400 հատվածի հիմնանորագում | E43: =+F43+G43+H43+I43 -> -3650.4 | F43: 0 | G43: 0 | H43: -3650.4 | I43: 0
D44: Տ-2-35, /Տ-2-32/ (Վերին Արտաշատ) - Այգեպատ (Տ-2-42) մարզային նշանակության ավտոճանապարհի կմ0+000-կմ4+300 հատվածի հիմնանորագում | E44: =+F44+G44+H44+I44 -> -6540.3 | F44: 0 | G44: 0 | H44: -6540.3 | I44: 0
D45: Տ-2-52, /Հ-10/ (Վեդի) - Գոռավան-Արարատ - /Հ-8/ տեղական նշանակության ավտոճանապարհի կմ0+000-կմ7+500 հատվածի հմնանորոգում | E45: =+F45+G45+H45+I45 -> 189.9 | F45: 0 | G45: 0 | H45: 189.9 | I45: 0
D46: Տ-3-6, /Մ-5/ (Մեծամոր)-Ակնալիճ- /Հ-76/ տեղական նշանակության ավտոճանապարհի կմ0+000-կմ2+000 հատվածի հիմնանորոգում | E46: =+F46+G46+H46+I46 -> 69.3 | F46: 0 | G46: 0 | H46: 69.3 | I46: 0
D47: Տ-3-8, /Մ-5/ - Մայիսյան /Տ-3-47/ տեղական նշանակության ավտոճանապարհի կմ3+400 - կմ4+900 հատվածի հիմնանորոգում | E47: =+F47+G47+H47+I47 -> 1280 | F47: 0 | G47: 0 | H47: 1280 | I47: 0
D48: Տ-3-14/Մ-5/-Մրգաշատ-Ալաշկերտ-գ․Արմավիր (Տ-3-16) տեղական նշնակության ավտոճանապարհի կմ6+200 - կմ7+400 հատվածի հիմնանորոգում | E48: =+F48+G48+H48+I48 -> -6262.5 | F48: 0 | G48: -6262.5 | H48: 0 | I48: 0
D49: Տ-3-27,/Մ-3/ -Արարատի մարզի սահման տեղական նշանակության ավտոճանապարհի կմ 0+000- կմ 3+200 հատվածի հիմնանորոգում | E49: =+F49+G49+H49+I49 -> 96.3 | F49: 0 | G49: 0 | H49: 96.3 | I49: 0
D50: Տ-3-29, /Մ-5/(Զվարթնոց թաղամաս)-/Հ-13/ 4,4կմ ընդհանուր երկարության կմ0+000-կմ4+400 հատվածի հիմնանորոգում | E50: =+F50+G50+H50+I50 -> -17942.9 | F50: 0 | G50: -17942.9 | H50: 0 | I50: 0
D51: Տ-3-37,/Մ-5/ - Մերձավան-Այգեկ - /Մ-5/ տեղական նշանակության ավտոճանապարհի կմ 0+000- կմ 10+200 հատվածի հիմնանորոգում | E51: =+F51+G51+H51+I51 -> 1615 | F51: 0 | G51: 0 | H51: 1615 | I51: 0
D52: Տ-3-41, /Մ-3/(Լուսագյուղ)-Ջրառատ ավտոճանապարհի կմ0+500-կմ2+600 հատվածի հիմնանորոգում | E52: =+F52+G52+H52+I52 -> -4956.9 | F52: 0 | G52: -4956.9 | H52: 0 | I52: 0
... D69: Տ-8-90,/Մ-2/ - Վաղատին- /Մ-2/ տեղական նշանակության ավտոճանապարհի կմ 0+000-կմ 1+500 հատվածի հիմնանորոգում | E69: =+F69+G69+H69+I69 -> 424714.4 | F69: 0 | G69: 424714.4 | H69: 0 | I69: 0
D70: Տ-8-93, Լծեն-Տաթև ավտոճանապարհի վերակառուցում (Քարաթափման կանխարգելիչ միջոցառումներ) | E70: =F70+G70+H70+I70 -> -38233.1 | F70: =F69 -> 0 | G70: -38233.1 | H70: =H69 -> 0 | I70: =I69 -> 0
D71: Որոտան-Խոտ ավտոճանապարհի վերակառուցում | E71: =+F71+G71+H71+I71 -> 2379425.5 | F71: 0 | G71: 2379425.5 | H71: 0 | I71: 0
D72: /Մ-12/ - Խնձորեսկ - Ներքին Խնձորեսկ ավտոճանապարհի կմ0+000 - կմ10+100 հատվածի հիմնանորոգում | E72: =+F72+G72+H72+I72 -> -2193.3 | F72: 0 | G72: -2193.3 | H72: 0 | I72: 0
D73: Ուրցաձորից դեպի Մարտունի տանող ավտոճանապարհի կառուցում | E73: =+F73+G73+H73+I73 -> 15829 | F73: 0 | G73: 0 | H73: 15829 | I73: 0
D74: ՀՀ Արագածոտնի մարզի Լուսագյուղ գյուղից դեպի Հանքավան տանող ավտոճանապարհի կառուցում | E74: =F74+G74+H74+I74 -> 18399 | F74: 0 | G74: 0 | H74: 18399 | I74: 0
B75: 1049 | C75: 21002 | D75: Տրանսպորտային օբյեկտների հիմնանորոգում | E75: =+F75+G75+H75+I75 -> -939767.8 | F75: =F77+F78+F80+F81+F82+F83+F84+F85+F86+F87+F88+F89+F90+F91 -> 0 | G75: =G77+G78+G80+G81+G82+G83+G84+G85+G86+G87+G88+G89+G90+G91+G79 -> -955984.3 | H75: =H77+H78+H80+H81+H82+H83+H84+H85+H86+H87+H88+H89+H90+H91+H79 -> 16216.5 | I75: =I77+I78+I80+I81+I82+I83+I84+I85+I86+I87+I88+I89+I90+I91+I79 -> 0
D76: այդ թվում`
D77: Մ-2, Երևան-Երասխ-Նորավան- Տաթև-Կապան-Մեղրի-ՀՀ սահման միջպետական նշանակության ավտոճանապարհի Ոսկետափի տրանսպորտային հանգույցի ապամոնտաժում | E77: =F77+G77+H77+I77 -> 100107.8 | F77: 0 | G77: 100107.8 | H77: 0 | I77: 0
D78: Մ-3,ՀՀ սահման (Մարգարա)-Վանաձոր-Տաշիր-ՀՀ սահման միջպետական նշանակության ավտոճանապարհի Վաղարշապատի շրջանցի կմ 2+100-ում գտնվող կամուրջի հիմնանորոգում | E78: =F78+G78+H78+I78 -> 3420 | F78: 0 | G78: 0 | H78: 3420 | I78: 0
D79: Մ-3, ՀՀ սահման-Մարգարա-Վանաձոր-Տաշիր-ՀՀ սահման միջպետական նշանակության ավտոճանապարհի կմ65+383 հատվածում գտնվող ուղեանցի հիմնանորոգում | E79: =F79+G79+H79+I79 -> -35827 | F79: 0 | G79: -35827 | H79: 0 | I79: 0
D80: Մ-3, ՀՀ սահման(Մարգարա) - Վանաձոր – Տաշիր – ՀՀ սահման միջպետական նշանակության ավտոճանապարհի 97-րդ կմ-ի հողային պաստառի փլուզված հատվածի վերականգնում | E80: =F80+G80+H80+I80 -> 751.5 | F80: 0 | G80: 0 | H80: 751.5 | I80: 0
D81: Մ-4, Երևան-Սևան-Իջևան-ՀՀ սահման միջպետական նշանակության ավտոճանապարհի կմ105+000 և կմ106+300 - կմ106+700 հատվածներում բացակայող պարապետերի վերականգնում և կմ105+700 հատվածի փլուզված հողային պաստառի շեպի և կողնակի վերականգնում | E81: =F81+G81+H81+I81 -> 1060.6 | F81: 0 | G81: 1060.6 | H81: 0 | I81: 0
D82: Մ-4, Երևան - Սևան - Իջևան - ՀՀ սահման միջպետական նշանակության ավտոճանապարհի կմ105+600 - կմ105+610, կմ108+850 - կմ108+900 և կմ111+550- կմ111+595 հատվածներում ստորին հենապատերի կառուցում | E82: =F82+G82+H82+I82 -> 756.5 | F82: 0 | G82: 756.5 | H82: 0 | I82: 0
D83: Մ-5, Երևան-Արմավիր-ՀՀ սահման միջպետական նշանակության ավտոճանապարհի 43-րդ կմ-ում գտնվող ուղեանցի հիմնանորոգում | E83: =F83+G83+H83+I83 -> 9198 | F83: 0 | G83: 0 | H83: 9198 | I83: 0
D84: Հ-1,Վ․Պտղնու տրանսպորտային հանգույց-Աբովյան-Ֆանտան-Ալափարս-Հ-5 հանրապետական նշանակության ավտոճանապարհի կմ 31+220-կմ 31+270 հատվածում փլուզված հենապատի վերակառուցում | E84: =F84+G84+H84+I84 -> 627 | F84: 0 | G84: 0 | H84: 627 | I84: 0
D85: ՀՀ Լոռու մարզի Վանաձոր քաղաքի Բաղրամյան էստակադայի հիմնանորոգում | E85: =F85+G85+H85+I85 -> -31557.8 | F85: 0 | G85: -31557.8 | H85: 0 | I85: 0
D86: ՀՀ Լոռու մարզի Վանաձոր քաղաքի Բաղրամյան էստակադայի հիմնանորոգում | E86: =F86+G86+H86+I86 -> 3364 | F86: 0 | G86: 3364 | H86: 0 | I86: 0
D87: Հ-58, /Մ-4/ -Ոսկեպար-Նոյեմբերյան- /Մ-6/ հանրապետական նշանակության ավտոճանապարհի կմ 43+100-ում գտնվող փլուզված հատվածի վերականգնում | E87: =F87+G87+H87+I87 -> 1260 | F87: 0 | G87: 0 | H87: 1260 | I87: 0
D88: Հ-30, /Մ-4/ - Ճամբարակ- /Հ-7/ հանրապետական նշանակության ավտոճանապարհի 20-րդ կմ-ում (Այգուտ բնակավայր 1-ին փողոց թիվ 92 տան հարակից հատված) հողային պաստառի շեպի ամրացում | E88: =F88+G88+H88+I88 -> 960 | F88: 0 | G88: 0 | H88: 960 | I88: 0
... D90: Մ-10, Սևան-Մարտունի-Վարդենիս-ՀՀ սահման (նախկին՝ Մ-10, Սևան-Մարտունի-Գետափ-/Մ-2/) միջպետական նշանակության ավտոճանապարհի կմ21+500-ում գտնվող փլուզված հողային պաստառի շեպի վերականգնում | E90: =F90+G90+H90+I90 -> 20454.8 | F90: 0 | G90: 20454.8 | H90: 0 | I90: 0
D91: Չբաշխված | E91: =F91+G91+H91+I91 -> -1038899.9 | G91: ='5.'!H138 -> -1038899.9 | H91: 0 | I91: 0
D95: ՀԱՅԱՍՏԱՆԻ ՀԱՆՐԱՊԵՏՈՒԹՅԱՆ ՎԱՐՉԱՊԵՏԻ ԱՇԽԱՏԱԿԱԶՄԻ ՂԵԿԱՎԱՐ՝ | G95: Ա.ՀԱՐՈՒԹՅՈՒՆՅԱՆ

Sheet 7v
G1: Հավելված N7
G2: ՀՀ կառավարության 2025 թվականի
G3: ______________ ի ___Ն որոշման
B5: «ՀԱՅԱՍՏԱՆԻ ՀԱՆՐԱՊԵՏՈՒԹՅԱՆ 2025 ԹՎԱԿԱՆԻ ՊԵՏԱԿԱՆ ԲՅՈՒՋԵԻ ՄԱՍԻՆ» ՀԱՅԱՍՏԱՆԻ ՀԱՆՐԱՊԵՏՈՒԹՅԱՆ ՕՐԵՆՔԻ N 1 ՀԱՎԵԼՎԱԾԻ N 4 ԱՂՅՈՒՍԱԿՈՒՄ ԵՎ ՀԱՅԱՍՏԱՆԻ ՀԱՆՐԱՊԵՏՈՒԹՅԱՆ ԿԱՌԱՎԱՐՈՒԹՅԱՆ 2024 ԹՎԱԿԱՆԻ ԴԵԿՏԵՄԲԵՐԻ 27-Ի N 2060-Ն ՈՐՈՇՄԱՆ N 5 ՀԱՎԵԼՎԱԾԻ N 3 ԱՂՅՈՒՍԱԿՈՒՄ ԿԱՏԱՐՎՈՂ ՓՈՓՈԽՈՒԹՅՈՒՆՆԵՐԸ ԵՎ ԼՐԱՑՈՒՄՆԵՐԸ
G7: հազար դրամներով
B8: Ծրագրային դասիչը | D8: Բյուջետային հատկացումների գլխավոր կարգադրիչների, ծրագրերի, միջոցառումների և միջոցառումները կատարող պետական մարմինների անվանումները | E8: Ցուցանիշների փոփոխությունը (ավելացումները նշված են դրական նշանով, իսկ նվազեցումները` փակագծերում)
E10: Տարի
B11: ծրագիրը | C11: միջոցառումը | E11: ընդամենը | F11: այդ թվում՝
F12: վարկային միջոցներ | G12: համաֆինան_x000D_ սավորում
D13: ԸՆԴԱՄԵՆԸ | E13: -9833306.1 | F13: -7680398.2 | G13: -2152907.9
D14: այդ թվում`
D15: - ԸՆԹԱՑԻԿ ԾԱԽՍԵՐ | E15: -840729.9 | F15: -111885.1 | G15: -728844.8
D16: - ՈՉ ՖԻՆԱՆՍԱԿԱՆ ԱԿՏԻՎՆԵՐԻ ԳԾՈՎ ԾԱԽՍԵՐ | E16: -8992576.2 | F16: -7568513.1 | G16: -1424063.1
D17: ՀՀ տարածքային կառավարման և ենթակառուցվածքների նախարարություն | E17: -9833306.1 | F17: -7680398.2 | G17: -2152907.9
D18: այդ թվում`
B19: 1004 | D19: Ոռոգման համակարգի առողջացում | E19: -2648786.6 | F19: -2166430.7 | G19: -482355.9
D20: այդ թվում`
C21: 31006 | D21: Գերմանիայի զարգացման վարկերի բանկի աջակցությամբ իրականացվող Ախուրյան գետի ջրային ռեսուրսների ինտեգրացված կառավարման ծրագրի երկրորդ փուլի շրջանակներում ջրային տնտեսության ենթակառուցվածքների հիմնանորոգում | E21: -648786.6 | F21: -566430.7 | G21: -82355.9
D22: այդ թվում` ըստ կատարողների
D23: ՀՀ տարածքային կառավարման և ենթակառուցվածքների նախարարության ջրային կոմիտե | E23: -648786.6 | F23: -566430.7 | G23: -82355.9
D24: այդ թվում` բյուջետային ծախսերի տնտեսագիտական դասակարգման հոդվածներ
D25: ԸՆԴԱՄԵՆԸ ԾԱԽՍԵՐ | E25: -648786.6 | F25: -566430.7 | G25: -82355.9
D26: ՈՉ ՖԻՆԱՆՍԱԿԱՆ ԱԿՏԻՎՆԵՐԻ ԳԾՈՎ ԾԱԽՍԵՐ | E26: -648786.6 | F26: -566430.7 | G26: -82355.9
D27: ՀԻՄՆԱԿԱՆ ՄԻՋՈՑՆԵՐ | E27: -648786.6 | F27: -566430.7 | G27: -82355.9
D28: ՇԵՆՔԵՐ ԵՎ ՇԻՆՈՒԹՅՈՒՆՆԵՐ | E28: -648786.6 | F28: -566430.7 | G28: -82355.9
D29: - Շենքերի և շինությունների շինարարություն | E29: -648786.6 | F29: -566430.7 | G29: -82355.9
C30: 31022 | D30: Համաշխարհային բանկի աջակցության շրջանակներում ոռոգման, ջրամատակարարման և ջրահետացման ծրագրերի իրականացում | E30: -2000000 | F30: -1600000 | G30: -400000
D31: այդ թվում` ըստ կատարողների
D32: ՀՀ տարածքային կառավարման և ենթակառուցվածքների նախարարության ջրային կոմիտե | E32: -2000000 | F32: -1600000 | G32: -400000
D33: այդ թվում` բյուջետային ծախսերի տնտեսագիտական դասակարգման հոդվածներ
D34: ԸՆԴԱՄԵՆԸ ԾԱԽՍԵՐ | E34: -2000000 | F34: -1600000 | G34: -400000
D35: ՈՉ ՖԻՆԱՆՍԱԿԱՆ ԱԿՏԻՎՆԵՐԻ ԳԾՈՎ ԾԱԽՍԵՐ | E35: -2000000 | F35: -1600000 | G35: -400000
D36: ՀԻՄՆԱԿԱՆ ՄԻՋՈՑՆԵՐ | E36: -2000000 | F36: -1600000 | G36: -400000
D37: ՇԵՆՔԵՐ ԵՎ ՇԻՆՈՒԹՅՈՒՆՆԵՐ | E37: -2000000 | F37: -1600000 | G37: -400000
D38: - Շենքերի և շինությունների կապիտալ վերանորոգում | E38: -2000000 | F38: -1600000 | G38: -400000
B39: 1019 | D39: Սոցիալական ներդրումների և տեղական զարգացման ծրագիր | E39: 13105 | F39: 0 | G39: 13105
D40: այդ թվում`
C41: 12004 | D41: Համաշխարհային բանկի աջակցությամբ իրականացվող Սոցիալական ներդրումների և տեղական զարգացման ծրագրի լրացուցիչ ֆինանսավորման վարկի շրջանակներում ՀՀ համայնքային և միջհամայնքային ենթակառուցվածքների որակի, օգտագործման և հասանելիության բարելավում: | E41: 13105 | F41: 0 | G41: 13105
D42: այդ թվում` ըստ կատարողների
D43: ՀՀ տարածքային կառավարման և ենթակառուցվածքների նախարարություն | E43: 13105 | F43: 0 | G43: 13105
D44: այդ թվում` բյուջետային ծախսերի տնտեսագիտական դասակարգման հոդվածներ
D45: ԸՆԴԱՄԵՆԸ ԾԱԽՍԵՐ | E45: 13105 | F45: 0 | G45: 13105
D46: ՈՉ ՖԻՆԱՆՍԱԿԱՆ ԱԿՏԻՎՆԵՐԻ ԳԾՈՎ ԾԱԽՍԵՐ | E46: 13105 | F46: 0 | G46: 13105
D47: ՀԻՄՆԱԿԱՆ ՄԻՋՈՑՆԵՐ | E47: 13105 | F47: 0 | G47: 13105
D48: ՇԵՆՔԵՐ ԵՎ ՇԻՆՈՒԹՅՈՒՆՆԵՐ | E48: 13105 | F48: 0 | G48: 13105
D49: - Շենքերի և շինությունների շինարարություն | E49: 13105 | F49: 0 | G49: 13105
B50: 1049 | D50: Ճանապարհային ցանցի բարելավում | E50: -1317162 | F50: -913162 | G50: -404000
D51: այդ թվում`
C52: 11016 | D52: Ասիական զարգացման բանկի աջակցությամբ իրականացվող Հյուսիս-հարավ ճանապարհային միջանցքի զարգացման ծրագրի Սիսիան-Քաջարան 60կմ-ի ճանապարհի Հյուսիսային ենթահատվածի համակարգում և կառավարում | E52: -294140 | F52: -40140 | G52: -254000
D53: այդ թվում` ըստ կատարողների
D54: ՀՀ տարածքային կառավարման և ենթակառուցվածքների նախարարություն | E54: -294140 | F54: -40140 | G54: -254000
D55: այդ թվում` բյուջետային ծախսերի տնտեսագիտական դասակարգման հոդվածներ
D56: ԸՆԴԱՄԵՆԸ ԾԱԽՍԵՐ | E56: -294140 | F56: -40140 | G56: -254000
D57: ԸՆԹԱՑԻԿ ԾԱԽՍԵՐ | E57: -294140 | F57: -40140 | G57: -254000
D58: ԱՇԽԱՏԱՆՔԻ ՎԱՐՁԱՏՐՈՒԹՅՈՒՆ | E58: -37300 | F58: -37300 | G58: 0
D59: Դրամով վճարվող աշխատավարձեր և հավելավճարներ | E59: -37300 | F59: -37300 | G59: 0
D60: - Աշխատողների աշխատավարձեր և հավելավճարներ | E60: =F60 -> -34300 | F60: -34300 | G60: 0
D61: - Պարգևատրումներ, դրամական խրախուսումներ և հատուկ վճարներ | E61: -3000 | F61: -3000 | G61: 0
D62: ԾԱՌԱՅՈՒԹՅՈՒՆՆԵՐԻ ԵՎ ԱՊՐԱՆՔՆԵՐԻ ՁԵՌՔԲԵՐՈՒՄ | E62: -2840 | F62: -2840 | G62: 0
D63: Շարունակական ծախսեր | E63: -840 | F63: -840 | G63: 0
D64: - Ապահովագրական ծախսեր | E64: -840 | F64: -840 | G64: 0
D65: Ծառայողական գործուղումների գծով ծախսեր | E65: -2000 | F65: -2000 | G65: 0
D66: - Ներքին գործուղումներ | E66: -2000 | F66: -2000 | G66: 0
D67: ԴՐԱՄԱՇՆՈՐՀՆԵՐ | E67: -155000 | F67: 0 | G67: -155000
D68: Կապիտալ դրամաշնորհներ պետական հատվածի այլ մակարդակներին | E68: -155000 | F68: 0 | G68: -155000
D69: - Այլ կապիտալ դրամաշնորհներ | E69: -155000 | F69: 0 | G69: -155000
D70: ԱՅԼ ԾԱԽՍԵՐ | E70: -99000 | F70: 0 | G70: -99000
D71: Հարկեր, պարտադիր վճարներ և տույժեր, որոնք կառավարման տարբեր մակարդակների կողմից կիրառվում են միմյանց նկատմամբ | E71: -99000 | F71: 0 | G71: -99000
C72: 11020 | D72: Հյուսիս-հարավ ճանապարհային միջանցքի զարգացման ծրագրի Գյումրու շրջանցիկ ճանապարհի համակարգում և կառավարում, Տրանշ 5 | E72: -100000 | F72: 0 | G72: -100000
D73: այդ թվում` ըստ կատարողների
D74: ՀՀ տարածքային կառավարման և ենթակառուցվածքների նախարարություն | E74: -100000 | F74: 0 | G74: -100000
D75: այդ թվում` բյուջետային ծախսերի տնտեսագիտական դասակարգման հոդվածներ
D76: ԸՆԴԱՄԵՆԸ ԾԱԽՍԵՐ | E76: -100000 | F76: 0 | G76: -100000
D77: ԸՆԹԱՑԻԿ ԾԱԽՍԵՐ | E77: -100000 | F77: 0 | G77: -100000
D78: ԴՐԱՄԱՇՆՈՐՀՆԵՐ | E78: -80000 | F78: 0 | G78: -80000
D79: Կապիտալ դրամաշնորհներ պետական հատվածի այլ մակարդակներին | E79: -80000 | F79: 0 | G79: -80000
D80: - Այլ կապիտալ դրամաշնորհներ | E80: -80000 | F80: 0 | G80: -80000
D81: ԱՅԼ ԾԱԽՍԵՐ | E81: -20000 | F81: 0 | G81: -20000
D82: Այլ ծախսեր | E82: -20000 | F82: 0 | G82: -20000
C83: 21009 | D83: Եվրոպական ներդրումային բանկի աջակցությամբ իրականացվող Հյուսիս-հարավ միջանցքի զարգացման վարկային ծրագիր, Տրանշ 3 | E83: -923022 | F83: -873022 | G83: -50000
D84: այդ թվում` ըստ կատարողների
D85: ՀՀ տարածքային կառավարման և ենթակառուցվածքների նախարարություն | E85: -923022 | F85: -873022 | G85: -50000
D86: այդ թվում` բյուջետային ծախսերի տնտեսագիտական դասակարգման հոդվածներ
D87: ԸՆԴԱՄԵՆԸ ԾԱԽՍԵՐ | E87: -923022 | F87: -873022 | G87: -50000
D88: ՈՉ ՖԻՆԱՆՍԱԿԱՆ ԱԿՏԻՎՆԵՐԻ ԳԾՈՎ ԾԱԽՍԵՐ | E88: -923022 | F88: -873022 | G88: -50000
D89: ՀԻՄՆԱԿԱՆ ՄԻՋՈՑՆԵՐ | E89: -923022 | F89: -873022 | G89: -50000
D90: ՇԵՆՔԵՐ ԵՎ ՇԻՆՈՒԹՅՈՒՆՆԵՐ | E90: -1062322 | F90: -997022 | G90: -65300
D91: - Շենքերի և շինությունների շինարարություն | E91: -1062322 | F91: -997022 | G91: -65300
D92: ԱՅԼ ՀԻՄՆԱԿԱՆ ՄԻՋՈՑՆԵՐ | E92: 139300 | F92: 124000 | G92: 15300
D93: - Նախագծահետազոտական ծախսեր | E93: 139300 | F93: 124000 | G93: 15300
B94: 1157 | D94: Քաղաքային զարգացում | E94: -3739645.9 | F94: -2816791.8 | G94: -922854.1
D95: այդ թվում`
C96: 12017 | D96: Վերակառուցման և զարգացման եվրոպական բանկի աջակցությամբ իրականացվող Գյումրու քաղաքային ճանապարհների ծրագիր | E96: -897502.9 | F96: -747919.1 | G96: -149583.8
D97: այդ թվում` ըստ կատարողների
D98: ՀՀ տարածքային կառավարման և ենթակառուցվածքների նախարարություն | E98: -897502.9 | F98: -747919.1 | G98: -149583.8
D99: այդ թվում` բյուջետային ծախսերի տնտեսագիտական դասակարգման հոդվածներ
D100: ԸՆԴԱՄԵՆԸ ԾԱԽՍԵՐ | E100: -897502.9 | F100: -747919.1 | G100: -149583.8
D101: ՈՉ ՖԻՆԱՆՍԱԿԱՆ ԱԿՏԻՎՆԵՐԻ ԳԾՈՎ ԾԱԽՍԵՐ | E101: -897502.9 | F101: -747919.1 | G101: -149583.8
D102: ՀԻՄՆԱԿԱՆ ՄԻՋՈՑՆԵՐ | E102: -897502.9 | F102: -747919.1 | G102: -149583.8
D103: ՇԵՆՔԵՐ ԵՎ ՇԻՆՈՒԹՅՈՒՆՆԵՐ | E103: -897502.9 | F103: -747919.1 | G103: -149583.8
...

Sheet 8d
A1: Հավելված 8
A2: ՀՀ կառավարության 2025 թվականի
A3: -----------------ի N -----------Ն որոշման
A5: «ՀԱՅԱՍՏԱՆԻ ՀԱՆՐԱՊԵՏՈՒԹՅԱՆ 2025 ԹՎԱԿԱՆԻ ՊԵՏԱԿԱՆ ԲՅՈՒՋԵԻ ՄԱՍԻՆ» ՀԱՅԱՍՏԱՆԻ ՀԱՆՐԱՊԵՏՈՒԹՅԱՆ ՕՐԵՆՔԻ N 1 ՀԱՎԵԼՎԱԾԻ N 5 ԱՂՅՈՒՍԱԿՈՒՄ ԵՎ ՀԱՅԱՍՏԱՆԻ ՀԱՆՐԱՊԵՏՈՒԹՅԱՆ ԿԱՌԱՎԱՐՈՒԹՅԱՆ 2024 ԹՎԱԿԱՆԻ ԴԵԿՏԵՄԲԵՐԻ 27-Ի N 2060-Ն ՈՐՈՇՄԱՆ N 5 ՀԱՎԵԼՎԱԾԻ N 4 ԱՂՅՈՒՍԱԿՈՒՄ ԿԱՏԱՐՎՈՂ ՓՈՓՈԽՈՒԹՅՈՒՆՆԵՐԸ ԵՎ ԼՐԱՑՈՒՄՆԵՐԸ
F7: հազար դրամներով
A8: Ծրագրային դասիչը | C8: Բյուջետային հատկացումների գլխավոր կարգադրիչների, ծրագրերի, միջոցառումների և միջոցառումները կատարող պետական մարմինների անվանումները | D8: Ցուցանիշների փոփոխությունը (ավելացումները նշված են դրական նշանով, իսկ նվազեցումները` փակագծերում)
D9: Տարի
A10: Ծրագիր | B10: Միջոցառում | D10: Ընդամենը | E10: այդ թվում՝
E11: Դրամաշնորհային միջոցներ | F11: համաֆինանսավորում
C12: ԸՆԴԱՄԵՆԸ | D12: -2845879.1 | E12: -2314149.1 | F12: -531730
C13: այդ թվում`
C14: - ԸՆԹԱՑԻԿ ԾԱԽՍԵՐ | D14: -163324.2 | E14: -125021.8 | F14: -38302.4
C15: -ՈՉ ՖԻՆԱՆՍԱԿԱՆ ԱԿՏԻՎՆԵՐԻ ԳԾՈՎ ԾԱԽՍԵՐ | D15: -2682554.9 | E15: -2189127.3 | F15: -493427.6
C16: ՀՀ տարածքային կառավարման և ենթակառուցվածքների նախարարություն | D16: -2845879.1 | E16: -2314149.1 | F16: -531730
A17: 1004 | C17: Ոռոգման համակարգի առողջացում | D17: -124482.5 | E17: -92642.5 | F17: -31840
C18: այդ թվում`
B19: 11009 | C19: Գերմանիայի զարգացման վարկերի բանկի աջակցությամբ իրականացվող Ախուրյան գետի ջրային ռեսուրսների ինտեգրացված կառավարման դրամաշնորհային ծրագիր | D19: -41482.5 | E19: -34642.5 | F19: -6840
C20: այդ թվում` ըստ կատարողների
C21: ՀՀ տարածքային կառավարման և ենթակառուցվածքների նախարարության ջրային կոմիտե | D21: -41482.5 | E21: -34642.5 | F21: -6840
C22: այդ թվում` բյուջետային ծախսերի տնտեսագիտական դասակարգման հոդվածներ
C23: ԸՆԴԱՄԵՆԸ ԾԱԽՍԵՐ | D23: -41482.5 | E23: -34642.5 | F23: -6840
C24: ԸՆԹԱՑԻԿ ԾԱԽՍԵՐ | D24: -41482.5 | E24: -34642.5 | F24: -6840
C25: ԱՅԼ ԾԱԽՍԵՐ | D25: -41482.5 | E25: -34642.5 | F25: -6840
C26: Այլ ծախսեր | D26: -41482.5 | E26: -34642.5 | F26: -6840
B27: 11011 | C27: Զարգացման ֆրանսիական գործակալության աջակցությամբ իրականացվող ոռոգման ոլորտի ֆինանսական կայունության և ոռոգման կառավարման կարողությունների բարելավման դրամաշնորհային ծրագրի խորհրդատվություն և կառավարում | D27: -83000 | E27: -58000 | F27: -25000
C28: այդ թվում` ըստ կատարողների
C29: ՀՀ տարածքային կառավարման և ենթակառուցվածքների նախարարության ջրային կոմիտե | D29: -83000 | E29: -58000 | F29: -25000
C30: այդ թվում` բյուջետային ծախսերի տնտեսագիտական դասակարգման հոդվածներ
C31: ԸՆԴԱՄԵՆԸ ԾԱԽՍԵՐ | D31: -83000 | E31: -58000 | F31: -25000
C32: ԸՆԹԱՑԻԿ ԾԱԽՍԵՐ | D32: -83000 | E32: -58000 | F32: -25000
C33: ԱՅԼ ԾԱԽՍԵՐ | D33: -83000 | E33: -58000 | F33: -25000
C34: Այլ ծախսեր | D34: -83000 | E34: -58000 | F34: -25000
A35: 1072 | C35: Ջրամատակարարաման և ջրահեռացման բարելավում | D35: -872000 | E35: -660000 | F35: -212000
C36: այդ թվում`
B37: 12001 | C37: Գերմանիայի զարգացման և Եվրոպական միության հարևանության ներդրումային բանկի աջակցությամբ իրականացվող ջրամատակարարման և ջրահեռացման ենթակառուցվածքների դրամաշնորհային ծրագիր` երրորդ փուլ | D37: -872000 | E37: -660000 | F37: -212000
C38: այդ թվում` ըստ կատարողների
C39: ՀՀ տարածքային կառավարման և ենթակառուցվածքների նախարարության ջրային կոմիտե | D39: -872000 | E39: -660000 | F39: -212000
C40: այդ թվում` բյուջետային ծախսերի տնտեսագիտական դասակարգման հոդվածներ
C41: ԸՆԴԱՄԵՆԸ ԾԱԽՍԵՐ | D41: -872000 | E41: -660000 | F41: -212000
C42: ՈՉ ՖԻՆԱՆՍԱԿԱՆ ԱԿՏԻՎՆԵՐԻ ԳԾՈՎ ԾԱԽՍԵՐ | D42: -872000 | E42: -660000 | F42: -212000
C43: ՀԻՄՆԱԿԱՆ ՄԻՋՈՑՆԵՐ | D43: -872000 | E43: -660000 | F43: -212000
C44: ՇԵՆՔԵՐ ԵՎ ՇԻՆՈՒԹՅՈՒՆՆԵՐ | D44: -800000 | E44: -600000 | F44: -200000
C45: - Շենքերի և շինությունների շինարարություն | D45: -800000 | E45: -600000 | F45: -200000
C46: ԱՅԼ ՀԻՄՆԱԿԱՆ ՄԻՋՈՑՆԵՐ | D46: -72000 | E46: -60000 | F46: -12000
C47: - Նախագծահետազոտական ծախսեր | D47: -72000 | E47: -60000 | F47: -12000
A48: 1157 | C48: Քաղաքային զարգացում | D48: -985448.4 | E48: -841551.3 | F48: -143897.1
C49: այդ թվում`
B50: 12003 | C50: Արևելյան եվրոպայի էներգախնայողության և բնապահպանական գործընկերության ֆոնդի աջակցությամբ իրականացվող Երևանի քաղաքային լուսավորության դրամաշնորհային ծրագրի կատարման ապահովում | D50: -405158.8 | E50: -357965.4 | F50: -47193.4
C51: այդ թվում` ըստ կատարողների
C52: ՀՀ տարածքային կառավարման և ենթակառուցվածքների նախարարություն | D52: -405158.8 | E52: -357965.4 | F52: -47193.4
C53: այդ թվում` բյուջետային ծախսերի տնտեսագիտական դասակարգման հոդվածներ
C54: ԸՆԴԱՄԵՆԸ ԾԱԽՍԵՐ | D54: -405158.8 | E54: -357965.4 | F54: -47193.4
C55: ՈՉ ՖԻՆԱՆՍԱԿԱՆ ԱԿՏԻՎՆԵՐԻ ԳԾՈՎ ԾԱԽՍԵՐ | D55: -405158.8 | E55: -357965.4 | F55: -47193.4
C56: ՀԻՄՆԱԿԱՆ ՄԻՋՈՑՆԵՐ | D56: -405158.8 | E56: -357965.4 | F56: -47193.4
C57: ՇԵՆՔԵՐ ԵՎ ՇԻՆՈՒԹՅՈՒՆՆԵՐ | D57: -405158.8 | E57: -357965.4 | F57: -47193.4
C58: - Շենքերի և շինությունների շինարարություն | D58: -405158.8 | E58: -357965.4 | F58: -47193.4
B59: 12004 | C59: Վերակառուցման և զարգացման եվրոպական բանկի աջակցությամբ իրականացվող Երևանի քաղաքային լուսավորության դրամաշնորհային ծրագրի կատարման ապահովում | D59: -38841.7 | E59: -32379.3 | F59: -6462.4
C60: այդ թվում` ըստ կատարողների
C61: ՀՀ տարածքային կառավարման և ենթակառուցվածքների նախարարություն | D61: -38841.7 | E61: -32379.3 | F61: -6462.4
C62: այդ թվում` բյուջետային ծախսերի տնտեսագիտական դասակարգման հոդվածներ
C63: ԸՆԴԱՄԵՆԸ ԾԱԽՍԵՐ | D63: -38841.7 | E63: -32379.3 | F63: -6462.4
C64: ԸՆԹԱՑԻԿ ԾԱԽՍԵՐ | D64: -38841.7 | E64: -32379.3 | F64: -6462.4
C65: ԱՅԼ ԾԱԽՍԵՐ | D65: -38841.7 | E65: -32379.3 | F65: -6462.4
C66: Այլ ծախսեր | D66: -38841.7 | E66: -32379.3 | F66: -6462.4
B67: 12018 | C67: Վերակառուցման և զարգացման եվրոպական բանկի աջակցությամբ իրականացվող Գյումրու քաղաքային ճանապարհների դրամաշնորհային ծրագիր (Տրանշ Ա, Բ, Գ) | D67: -432957.1 | E67: -360797.6 | F67: -72159.5
C68: այդ թվում` ըստ կատարողների
C69: ՀՀ տարածքային կառավարման և ենթակառուցվածքների նախարարություն | D69: -432957.1 | E69: -360797.6 | F69: -72159.5
C70: այդ թվում` բյուջետային ծախսերի տնտեսագիտական դասակարգման հոդվածներ
C71: ԸՆԴԱՄԵՆԸ ԾԱԽՍԵՐ | D71: -432957.1 | E71: -360797.6 | F71: -72159.5
C72: ՈՉ ՖԻՆԱՆՍԱԿԱՆ ԱԿՏԻՎՆԵՐԻ ԳԾՈՎ ԾԱԽՍԵՐ | D72: -432957.1 | E72: -360797.6 | F72: -72159.5
C73: ՀԻՄՆԱԿԱՆ ՄԻՋՈՑՆԵՐ | D73: -432957.1 | E73: -360797.6 | F73: -72159.5
C74: ՇԵՆՔԵՐ ԵՎ ՇԻՆՈՒԹՅՈՒՆՆԵՐ | D74: -432957.1 | E74: -360797.6 | F74: -72159.5
C75: - Շենքերի և շինությունների շինարարություն | D75: -432957.1 | E75: -360797.6 | F75: -72159.5
B76: 12031 | C76: Վերակառուցման և զարգացման եվրոպական բանկի աջակցությամբ իրականացվող Գյումրու քաղաքային ճանապարհների տեխնիկական համագործակցության դրամաշնորհային ծրագրի շրջանակներում ճանապարհների վերակառուցման և փողոցների լուսավորության արդիականացում | D76: -108490.8 | E76: -90409 | F76: -18081.8
C77: այդ թվում` ըստ կատարողների
C78: ՀՀ տարածքային կառավարման և ենթակառուցվածքների նախարարություն | D78: -108490.8 | E78: -90409 | F78: -18081.8
C79: այդ թվում` բյուջետային ծախսերի տնտեսագիտական դասակարգման հոդվածներ
C80: ԸՆԴԱՄԵՆԸ ԾԱԽՍԵՐ | D80: -108490.8 | E80: -90409 | F80: -18081.8
C81: ՈՉ ՖԻՆԱՆՍԱԿԱՆ ԱԿՏԻՎՆԵՐԻ ԳԾՈՎ ԾԱԽՍԵՐ | D81: -108490.8 | E81: -90409 | F81: -18081.8
C82: ՀԻՄՆԱԿԱՆ ՄԻՋՈՑՆԵՐ | D82: -108490.8 | E82: -90409 | F82: -18081.8
C83: ՇԵՆՔԵՐ ԵՎ ՇԻՆՈՒԹՅՈՒՆՆԵՐ | D83: -37846.1 | E83: -32058.1 | F83: -5788
C84: - Շենքերի և շինությունների շինարարություն | D84: -37846.1 | E84: -32058.1 | F84: -5788
C85: ԱՅԼ ՀԻՄՆԱԿԱՆ ՄԻՋՈՑՆԵՐ | D85: -70644.7 | E85: -58350.9 | F85: -12293.8
C86: - Նախագծահետազոտական ծախսեր | D86: -70644.7 | E86: -58350.9 | F86: -12293.8
A87: 1232 | C87: Էներգաարդյունավետության ծրագիր | D87: -863948.2 | E87: -719955.3 | F87: -143992.9
C88: այդ թվում`
B89: 12001 | C89: Եվրոպական ներդրումային բանկի աջակցությամբ իրականացվող Երևանի էներգաարդյունավետության դրամաշնորհային ծրագրի երկրորդ փուլ (մանկապարտեզների և այլ հանրային շենքերի էներգարդյունավետվության բարելավում) | D89: -863948.2 | E89: -719955.3 | F89: -143992.9
C90: այդ թվում` ըստ կատարողների
C91: ՀՀ տարածքային կառավարման և ենթակառուցվածքների նախարարություն | D91: -863948.2 | E91: -719955.3 | F91: -143992.9
C92: այդ թվում` բյուջետային ծախսերի տնտեսագիտական դասակարգման հոդվածներ
C93: ԸՆԴԱՄԵՆԸ ԾԱԽՍԵՐ | D93: -863948.2 | E93: -719955.3 | F93: -143992.9
C94: ՈՉ ՖԻՆԱՆՍԱԿԱՆ ԱԿՏԻՎՆԵՐԻ ԳԾՈՎ ԾԱԽՍԵՐ | D94: -863948.2 | E94: -719955.3 | F94: -143992.9
C95: ՀԻՄՆԱԿԱՆ ՄԻՋՈՑՆԵՐ | D95: -863948.2 | E95: -719955.3 | F95: -143992.9
C96: ՇԵՆՔԵՐ ԵՎ ՇԻՆՈՒԹՅՈՒՆՆԵՐ | D96: -858188.4 | E96: -715155.5 | F96: -143032.9
C97: - Շենքերի և շինությունների շինարարություն | D97: -858188.4 | E97: -715155.5 | F97: -143032.9
C98: ԱՅԼ ՀԻՄՆԱԿԱՆ ՄԻՋՈՑՆԵՐ | D98: -5759.8 | E98: -4799.8 | F98: -960
C99: - Նախագծահետազոտական ծախսեր | D99: -5759.8 | E99: -4799.8 | F99: -960
C103: ՀԱՅԱՍՏԱՆԻ ՀԱՆՐԱՊԵՏՈՒԹՅԱՆ ՎԱՐՉԱՊԵՏԻ ԱՇԽԱՏԱԿԱԶՄԻ ՂԵԿԱՎԱՐ | D103: Ա. ՀԱՐՈՒԹՅՈՒՆՅԱՆ

Sheet 9
E1: Հավելված N 9
E2: ՀՀ կառավարության 2025 թվականի
E3: ______________ ի ___Ն որոշման
A5: ՀԱՅԱՍՏԱՆԻ ՀԱՆՐԱՊԵՏՈՒԹՅԱՆ ԿԱՌԱՎԱՐՈՒԹՅԱՆ 2024 ԹՎԱԿԱՆԻ ԴԵԿՏԵՄԲԵՐԻ 27-Ի N 2060-Ն ՈՐՈՇՄԱՆ N 5 ՀԱՎԵԼՎԱԾԻ N 2 ԱՂՅՈՒՍԱԿՈՒՄ ԿԱՏԱՐՎՈՂ ՓՈՓՈԽՈՒԹՅՈՒՆՆԵՐԸ ԵՎ ԼՐԱՑՈՒՄՆԵՐԸ
E7: հազար դրամներով
B8: Ծրագրային դասիչը | D8: Հատկացումների տրամադրման նպատակները և բյուջետային գլխավոր կարգադրիչների, ծրագրերի, միջոցառումների և կատարող պետական մարմնի անվանումները | E8: Ցուցանիշների փոփոխությունը (ավելացումները նշված են դրական նշանով, իսկ նվազեցումները` փակագծերում)
B9: Ծրագիր | C9: Միջոցառում | E9: Տարի
D10: ԸՆԴԱՄԵՆԸ | E10: =E12 -> 2325607.8
D11: այդ թվում՝
D12: ՀՀ ՏԱՐԱԾՔԱՅԻՆ ԿԱՌԱՎԱՐՄԱՆ ԵՎ ԵՆԹԱԿԱՌՈՒՑՎԱԾՔՆԵՐԻ ՆԱԽԱՐԱՐՈՒԹՅՈՒՆ | E12: =E14+E77 -> 2325607.8
D13: այդ թվում`
B14: 1049 | C14: 21001 | D14: Պետական նշանակության ավտոճանապարհների հիմնանորոգում | E14: =E16 -> 3265375.6
D15: այդ թվում` ըստ կատարողների
D16: ՀՀ տարածքային կառավարման և ենթակառուցվածքների նախարարություն | E16: =E18+E29+E42 -> 3265375.6
D17: այդ թվում՝ ըստ ուղղությունների
C18: 1 | D18: Միջպետական նշանակության ավտոճանապարհներ, այդ թվում | E18: =+E19+E20+E22+E23+E24+E25+E27+E28+E21+E26 -> 173151.4
D19: Մ-2, Երևան-Երասխ-Նորավան- Տաթև-Կապան-Մեղրի-ՀՀ սահման (նախկին՝ Մ-2 ,Երևան-Երասխ-Գորիս-Մեղրի-ՀՀ սահման) միջպետական նշանակության ավտոճանապարհի կմ91+600 - կմ98+000 հատվածի հիմնանորոգում | E19: ='6'!E17 -> -146988.9
D20: Մ-2, Երևան-Երասխ-Նորավան- Տաթև-Կապան-Մեղրի-ՀՀ սահման (նախկին՝ Մ-2 ,Երևան-Երասխ-Գորիս-Մեղրի-ՀՀ սահման) միջպետական նշանակության ավտոճանապարհի կմ91+600 - կմ98+000 հատվածի հիմնանորոգում | E20: ='6'!E18 -> 146592
D21: Մ-2, Երևան-Երասխ-Նորավան- Տաթև-Կապան-Մեղրի-ՀՀ սահման (նախկին՝ Մ-2 ,Երևան-Երասխ-Գորիս-Մեղրի-ՀՀ սահման) միջպետական նշանակության ավտոճանապարհի կմ108+400 - կմ126+100 հատվածի հիմնանորոգում | E21: ='6'!E19 -> 135966.1
D22: Մ-2, Երևան-Երասխ-Նորավան- Տաթև-Կապան-Մեղրի-ՀՀ սահման (նախկին՝ Մ-2 ,Երևան-Երասխ-Գորիս-Մեղրի-ՀՀ սահման) միջպետական նշանակության ավտոճանապարհի կմ181+250 - կմ181+750 հատվածի վերակառուցում | E22: ='6'!E20 -> -6139.4
D23: Մ-2 միջպետական նշանակության ավտոմոբիլային ճանապարհի կմ 198+000 – կմ 199+000 հարակից հատվածում ծանրաքարշ և մեծ եզրաչափերով տրանսպորտային միջոցների անշարժ կշռման նոր հենակետին մոտեցնող ավտոճանապարհի կառուցում | E23: ='6'!E21 -> 2298
D24: Մ-3, ՀՀ սահման-Մարգարա-Վանաձոր-Տաշիր-ՀՀ սահման միջպետական նշանակության ավտոճանապարհի կմ22+152 -կմ27+000 հատվածի հիմնանորոգում | E24: ='6'!E22 -> 2254.4
D25: Մ-3,ՀՀ սահման-Մարգարա-Վանաձոր-Տաշիր-ՀՀ սահման միջպետական նշանակության ավտոճանապարհի կմ35+535-կմ39+500 հատվածի հիմնանորոգում | E25: ='6'!E23 -> -11673.8
D26: Մ-3, ՀՀ սահման-Մարգարա-Վանաձոր-Տաշիր-ՀՀ սահման (նախկին՝ Մ-3, Թուրքիայի սահման-Մարգարա-Վանաձոր-Տաշիր-Վրաստանի սահման) միջպետական նշանակության ավտոճանապարհի կմ154+000-կմ176+900 հատվածի հիմնանորոգում | E26: ='6'!E24 -> 84540.5
D27: Մ-10, Սևան-Մարտունի-Գետափ միջպետական նշանակության ավտոճանապարհի կմ79+060-կմ80+590 հատվածի վերակառուցում | E27: ='6'!E25 -> -22345.4
D28: Մ-10, Սևան-Մարտունի-Գետափ միջպետական նշանակության ավտոճանապարհի կմ80+590-կմ94+590 հատվածի հիմնանորոգում | E28: ='6'!E26 -> -11352.1
C29: 2 | D29: Հանրապետական նշանակության ավտոճանապարհներ, այդ թվում | E29: =E30+E31+E32+E33+E34+E35+E36+E37+E38+E39+E40+E41 -> 529563.7
D30: Հ-1, Վ. Պտղնու տրանսպորտային հանգույց -Աբովյան - Ֆանտան -Ալափարս-Հ-5 (նախկին՝ Հ-1, Վ. Պտղնու տրանսպորտային հանգույց - Ջրաբեր-Հրազդան -Հրազդանի քրեակատարողական հիմնարկ) հանրապետական նշանակության ավտոճանապարհի կմ0+000 - կմ5+023 հատվածի հիմնանորոգում | E30: ='6'!E28 -> 127991
D31: Հ-2, /Հ-1/(Աբովյան) -Արզնի -/Հ-6/Նոր Գեղի հանրապետական նշանակության ավտոճանապարհի կմ1+400 -կմ8+088 հատվածի հիմնանորոգում | E31: ='6'!E29 -> 2546
D32: Հ-4, Երևան -Եղվարդ -Արագյուղ -Հարթավան - /Մ-3/ հանրապետական նշանակության ավտոճանապարհի կմ 15+600-կմ28+000 հատվածի հիմնանորոգում | E32: ='6'!E30 -> 1048.6
D33: Հ-22, /Մ-6/ - Դսեղ – /Հ-70/ հանրապետական նշանակության ավտոճանապարհի կմ 8+000-կմ 13+900 հատվածի հիմնանորոգում | E33: ='6'!E31 -> -38454.6
D34: Հ-22, /Մ-6/ - Դսեղ – /Հ-70/ հանրապետական նշանակության ավտոճանապարհի կմ 8+000-կմ 13+900 հատվածի հիմնանորոգում | E34: ='6'!E32 -> 24003.3
D35: Հ-30, /Մ-4/ - Ճամբարակ- /Հ-7/ հանրապետական նշանակության ավտոճանապարհի 19-րդ և 51-րդ կմ-երում գտնվող սողանքային տեղամասերում ճանապարհամերձ հողաշերտի բեռնաթափման, ճանապարհի անցանելիության ապահովման միջոցառումների իրականացում | E35: ='6'!E33 -> 55948.9
D36: Հ-36, /Մ-4/ (Իջևան) - Նավուր - Բերդ - Այգեպար հանրապետական նշանակության ավտոճանապարհի կմ 42+100(40+606)-կմ 51+900 հատվածի հիմնանորոգում | E36: ='6'!E34 -> 230.3
D37: Հ-36, /Մ-4/ (Իջևան) - Նավուր - Բերդ - Այգեպար հանրապետական նշանակության ավտոճանապարհի կմ 51+900 -կմ 56+460 հատվածի հիմնանորոգում | E37: ='6'!E35 -> 168.3
D38: Հ-37,/Մ-4/ - Այգեհովիտ - Վազաշեն - Պառավաքար - Այգեպար հանրապետական նշանակության ավտոճանապարհի կմ0+000 - կմ22+300 հատվածի հիմնանորոգում | E38: ='6'!E36 -> 367.5
D39: Հ-56,/Մ-3/ - Մուղնի - Օհանավան - /Մ-3/ հանրապետական նշանակության ավտոճանապարհի կմ0+000-կմ5+300 հատվածի հիմնանորոգում | E39: ='6'!E37 -> 352749.4
D40: Հ-58, /Մ-4/ -Ոսկեպար-Նոյեմբերյան- /Մ-6/ հանրապետական նշանակության ավտոճանապարհի Կիրանց գյուղով անցնող հատվածում լուսավորության համակարգի կառուցում | E40: ='6'!E38 -> 1440
D41: Հ-67, /Հ-32/ (Ամասիա) -Բերդաշեն- /Հ-66/ հանրապետական նշանակության ավտոճանապարհի Բերդաշեն բնակավայրով անցնող 1.5 կմ երկարությամբ տարանցիկ հատվածի հիմնանորոգում | E41: ='6'!E39 -> 1525
C42: 3 | D42: Մարզային նշանակության ավտոճանապարհներ, այդ թվում | E42: =E43+E44+E45+E46+E47+E48+E49+E50+E51+E52+E53+E54+E55+E56+E57+E58+E59+E60+E61+E62+E63+E64+E65+E66+E67+E68+E69+E70+E71+E72+E73+E74+E75+E76 -> 2562660.5
D43: Տ-1-35, /Հ-81/ (Հացաշեն) - Սորիկ ավտոճանապարհի կմ0+000 - կմ5+100 հատվածի հիմնանորոգում | E43: ='6'!E41 -> -2487.4
D44: Տ-2-3,Ներքին Չարբախ-Դարակերտ-Հ-13 (Դաշտավան) տեղական նշանակության ավտոճանապարհի կմ 0+000-կմ 2+200 հատվածի հիմնանորագում | E44: ='6'!E42 -> -2490
D45: Տ-2-21,Հ-8 /Մրգավետ/ - Արևշատ (Տ-2-25) մարզային նշանակության ավտոճանապարհի կմ 4+000-կմ 6+400 հատվածի հիմնանորագում | E45: ='6'!E43 -> -3650.4
D46: Տ-2-35, /Տ-2-32/ (Վերին Արտաշատ) - Այգեպատ (Տ-2-42) մարզային նշանակության ավտոճանապարհի կմ0+000-կմ4+300 հատվածի հիմնանորագում | E46: ='6'!E44 -> -6540.3
D47: Տ-2-52, /Հ-10/ (Վեդի) - Գոռավան-Արարատ - /Հ-8/ տեղական նշանակության ավտոճանապարհի կմ0+000-կմ7+500 հատվածի հմնանորոգում | E47: ='6'!E45 -> 189.9
D48: Տ-3-6, /Մ-5/ (Մեծամոր)-Ակնալիճ- /Հ-76/ տեղական նշանակության ավտոճանապարհի կմ0+000-կմ2+000 հատվածի հիմնանորոգում | E48: ='6'!E46 -> 69.3
D49: Տ-3-8, /Մ-5/ - Մայիսյան /Տ-3-47/ տեղական նշանակության ավտոճանապարհի կմ3+400 - կմ4+900 հատվածի հիմնանորոգում | E49: ='6'!E47 -> 1280
D50: Տ-3-14/Մ-5/-Մրգաշատ-Ալաշկերտ-գ․Արմավիր (Տ-3-16) տեղական նշնակության ավտոճանապարհի կմ6+200 - կմ7+400 հատվածի հիմնանորոգում | E50: ='6'!E48 -> -6262.5
D51: Տ-3-27,/Մ-3/ -Արարատի մարզի սահման տեղական նշանակության ավտոճանապարհի կմ 0+000- կմ 3+200 հատվածի հիմնանորոգում | E51: ='6'!E49 -> 96.3
D52: Տ-3-29, /Մ-5/(Զվարթնոց թաղամաս)-/Հ-13/ 4,4կմ ընդհանուր երկարության կմ0+000-կմ4+400 հատվածի հիմնանորոգում | E52: ='6'!E50 -> -17942.9
D53: Տ-3-37,/Մ-5/ - Մերձավան-Այգեկ - /Մ-5/ տեղական նշանակության ավտոճանապարհի կմ 0+000- կմ 10+200 հատվածի հիմնանորոգում | E53: ='6'!E51 -> 1615
D54: Տ-3-41, /Մ-3/(Լուսագյուղ)-Ջրառատ ավտոճանապարհի կմ0+500-կմ2+600 հատվածի հիմնանորոգում | E54: ='6'!E52 -> -4956.9
... D76: ՀՀ Արագածոտնի մարզի Լուսագյուղ գյուղից դեպի Հանքավան տանող ավտոճանապարհի կառուցում | E76: ='6'!E74 -> 18399
B77: 1049 | C77: 21002 | D77: Տրանսպորտային օբյեկտների հիմնանորոգում | E77: =E80+E79 -> -939767.8
D78: այդ թվում` ըստ կատարողների
D79: ՀՀ կառավարություն | E79: ='5.'!H138 -> -1038899.9
D80: ՀՀ տարածքային կառավարման և ենթակառուցվածքների նախարարություն | E80: =E82+E83+E85+E86+E87+E88+E89+E90+E91+E92+E93+E94+E95+E84 -> 99132.1
D81: այդ թվում՝ ըստ ուղղությունների
D82: Մ-2, Երևան-Երասխ-Նորավան- Տաթև-Կապան-Մեղրի-ՀՀ սահման միջպետական նշանակության ավտոճանապարհի Ոսկետափի տրանսպորտային հանգույցի ապամոնտաժում | E82: ='6'!E77 -> 100107.8
D83: Մ-3,ՀՀ սահման (Մարգարա)-Վանաձոր-Տաշիր-ՀՀ սահման միջպետական նշանակության ավտոճանապարհի Վաղարշապատի շրջանցի կմ 2+100-ում գտնվող կամուրջի հիմնանորոգում | E83: ='6'!E78 -> 3420
D84: Մ-3, ՀՀ սահման-Մարգարա-Վանաձոր-Տաշիր-ՀՀ սահման միջպետական նշանակության ավտոճանապարհի կմ65+383 հատվածում գտնվող ուղեանցի հիմնանորոգում | E84: ='6'!G79 -> -35827
D85: Մ-3, ՀՀ սահման(Մարգարա) - Վանաձոր – Տաշիր – ՀՀ սահման միջպետական նշանակության ավտոճանապարհի 97-րդ կմ-ի հողային պաստառի փլուզված հատվածի վերականգնում | E85: ='6'!E80 -> 751.5
D86: Մ-4, Երևան-Սևան-Իջևան-ՀՀ սահման միջպետական նշանակության ավտոճանապարհի կմ105+000 և կմ106+300 - կմ106+700 հատվածներում բացակայող պարապետերի վերականգնում և կմ105+700 հատվածի փլուզված հողային պաստառի շեպի և կողնակի վերականգնում | E86: ='6'!E81 -> 1060.6
D87: Մ-4, Երևան - Սևան - Իջևան - ՀՀ սահման միջպետական նշանակության ավտոճանապարհի կմ105+600 - կմ105+610, կմ108+850 - կմ108+900 և կմ111+550- կմ111+595 հատվածներում ստորին հենապատերի կառուցում | E87: ='6'!E82 -> 756.5
D88: Մ-5, Երևան-Արմավիր-ՀՀ սահման միջպետական նշանակության ավտոճանապարհի 43-րդ կմ-ում գտնվող ուղեանցի հիմնանորոգում | E88: ='6'!E83 -> 9198
D89: Հ-1,Վ․Պտղնու տրանսպորտային հանգույց-Աբովյան-Ֆանտան-Ալափարս-Հ-5 հանրապետական նշանակության ավտոճանապարհի կմ 31+220-կմ 31+270 հատվածում փլուզված հենապատի վերակառուցում | E89: ='6'!E84 -> 627
D90: ՀՀ Լոռու մարզի Վանաձոր քաղաքի Բաղրամյան էստակադայի հիմնանորոգում | E90: ='6'!E85 -> -31557.8
D91: ՀՀ Լոռու մարզի Վանաձոր քաղաքի Բաղրամյան էստակադայի հիմնանորոգում | E91: ='6'!E86 -> 3364
D92: Հ-58, /Մ-4/ -Ոսկեպար-Նոյեմբերյան- /Մ-6/ հանրապետական նշանակության ավտոճանապարհի կմ 43+100-ում գտնվող փլուզված հատվածի վերականգնում | E92: ='6'!E87 -> 1260
D93: Հ-30, /Մ-4/ - Ճամբարակ- /Հ-7/ հանրապետական նշանակության ավտոճանապարհի 20-րդ կմ-ում (Այգուտ բնակավայր 1-ին փողոց թիվ 92 տան հարակից հատված) հողային պաստառի շեպի ամրացում | E93: ='6'!E88 -> 960
D94: Տ-3-18, Ակնալիճ(Տ-3-6)-Զարթոնք-Արևիկ(Տ-3-50) ավտոճանապարհի ՊԿ27+96-ում և ՊԿ30+94-ում կամուրջների հիմնանորոգում | E94: ='6'!E89 -> 24556.7
D95: Մ-10, Սևան-Մարտունի-Վարդենիս-ՀՀ սահման (նախկին՝ Մ-10, Սևան-Մարտունի-Գետափ-/Մ-2/) միջպետական նշանակության ավտոճանապարհի կմ21+500-ում գտնվող փլուզված հողային պաստառի շեպի վերականգնում | E95: ='6'!E90 -> 20454.8
D97: ՀԱՅԱՍՏԱՆԻ ՀԱՆՐԱՊԵՏՈՒԹՅԱՆ ՎԱՐՉԱՊԵՏԻ ԱՇԽԱՏԱԿԱԶՄԻ ՂԵԿԱՎԱՐ՝ | E97: Ա.ՀԱՐՈՒԹՅՈՒՆՅԱՆ

Sheet 10
E1: Հավելված N 10
D2: ՀՀ կառավարության 2025 թվականի
D3: ______________ ի ___Ն որոշման
B5: ՀԱՅԱՍՏԱՆԻ ՀԱՆՐԱՊԵՏՈՒԹՅԱՆ ԿԱՌԱՎԱՐՈՒԹՅԱՆ 2024 ԹՎԱԿԱՆԻ ԴԵԿՏԵՄԲԵՐԻ 27-Ի N 2060-Ն ՈՐՈՇՄԱՆ N 8 ՀԱՎԵԼՎԱԾՈՒՄ ԿԱՏԱՐՎՈՂ ՓՈՓՈԽՈՒԹՅՈՒՆՆԵՐԸ
E6: հազար դրամներով
B7: Ծրագրային դասիչը | D7: Բյուջետային հատակացումների ծրագրերի, միջոցառումների անվանումները | E7: Ցուցանիշների փոփոխությունը (նվազեցումները նշված են փակագծերում)
B8: Ծրագիր | C8: Միջոցառում
D9: ԸՆԴԱՄԵՆԸ ԾԱԽՍԵՐ | E9: -6182417.5
D10: այդ թվում՝
B11: 1157 | D11: Քաղաքային զարգացում | E11: -3177652.7
C12: 12003 | D12: Արևելյան եվրոպայի էներգախնայողության և բնապահպանական գործընկերության ֆոնդի աջակցությամբ իրականացվող Երևանի քաղաքային լուսավորության դրամաշնորհային ծրագրի կատարման ապահովում | E12: -405158.8
C13: 12004 | D13: Վերակառուցման և զարգացման եվրոպական բանկի աջակցությամբ իրականացվող Երևանի քաղաքային լուսավորության դրամաշնորհային ծրագրի կատարման ապահովում | E13: -38841.7
C14: 12029 | D14: Ասիական զարգացման բանկի աջակցությամբ իրականացվող քաղաքային զարգացման ներդրումային ծրագրի համակարգում և կառավարում | E14: -446589.9
C15: 12030 | D15: Ասիական զարգացման բանկի աջակցությամբ իրականացվող քաղաքային զարգացման ներդրումային ծրագրի շրջանակներում ճանապարհային շինարարություն | E15: -2287062.3
B16: 1232 | D16: Էներգաարդյունավետության ծրագիր | E16: -3004764.8
C17: 12001 | D17: Եվրոպական ներդրումային բանկի աջակցությամբ իրականացվող Երևանի էներգաարդյունավետության դրամաշնորհային ծրագրի երկրորդ փուլ (մանկապարտեզների և այլ հանրային շենքերի էներգարդյունավետվության բարելավում) | E17: -863948.2
C18: 12003 | D18: Եվրոպական ներդրումային բանկի աջակցությամբ իրականացվող Երևանի էներգաարդյունավետության ծրագրի երկրորդ փուլ (մանկապարտեզների և այլ հանրային շենքերի էներգարդյունավետվության բարելավում) | E18: -2140816.6
B22: ՀԱՅԱՍՏԱՆԻ ՀԱՆՐԱՊԵՏՈՒԹՅԱՆ
B23: ՎԱՐՉԱՊԵՏԻ ԱՇԽԱՏԱԿԱԶՄԻ
C24: ՂԵԿԱՎԱՐ ՝ Ա. ՀԱՐՈՒԹՅՈՒՆՅԱՆ

Sheet 11
K1: Հավելված N 11
K2: ՀՀ կառավարության 2025 թվականի
K3: ______________ ի ___Ն որոշման
B5: ՀԱՅԱՍՏԱՆԻ ՀԱՆՐԱՊԵՏՈՒԹՅԱՆ ԿԱՌԱՎԱՐՈՒԹՅԱՆ 2024 ԹՎԱԿԱՆԻ ԴԵԿՏԵՄԲԵՐԻ 27-Ի № 2060-Ն ՈՐՈՇՄԱՆ № 9 ՀԱՎԵԼՎԱԾԻ ԱՂՅՈՒՍԱԿՆԵՐՈՒՄ ԿԱՏԱՐՎՈՂ ՓՈՓՈԽՈՒԹՅՈՒՆՆԵՐԸ ԵՎ ԼՐԱՑՈՒՄՆԵՐԸ
K7: հազար դրամներով
B8: ԲԳԿ | C8: Ծրագիր | E8: Միջոցառում | I8: Իրականացնողը/ ակտիվն օգտագործողը/ շահառուի ընտրության չափորոշիչը | J8: Արդյունքային չափորոշիչը | K8: Ցուցանիշների փոփոխությունը (ավելացումները նշված են դրական նշանով
C9: Դասիչը | D9: Անվանումը | E9: Դասիչը | F9: Անվանումը | G9: Նկարագրությունը | H9: Տեսակը | K9: Տարի
B10: ԸՆԴԱՄԵՆԸ | K10: =K11+K142 -> -9994547.3
B11: ՀՀ տարածքային կառավարման և ենթակառուցվածքների նախարարություն | K11: =K12+K31+K36+K67+K73+K127 -> -10353577
C12: 1004 | D12: Ոռոգման համակարգի առողջացում | K12: =K13+K17+K21+K27 -> -2773269.1
E13: 1004 - 11009 | F13: Գերմանիայի զարգացման վարկերի բանկի աջակցությամբ իրականացվող Ախուրյան գետի ջրային ռեսուրսների ինտեգրացված կառավարման դրամաշնորհային ծրագիր | K13: ='4'!H11 -> -41482.5
G14: Գերմանիայի զարգացման վարկերի բանկի աջակցությամբ իրականացվող Ախուրյան գետի ջրային ռեսուրսների ինտեգրացված կառավարման դրամաշնորհային ծրագրի համակարգում և ղեկավարում
H15: Ծառայությունների մատուցում
I16: Ծառայությունը մատուցողի անվանումը` Մասնագիտացված միավոր
E17: 1004 - 11011 | F17: Զարգացման ֆրանսիական գործակալության աջակցությամբ իրականացվող ոռոգման ոլորտի ֆինանսական կայունության և ոռոգման կառավարման կարողությունների բարելավման դրամաշնորհային ծրագրի խորհրդատվություն և կառավարում | K17: ='4'!H12 -> -83000
G18: Զարգացման ֆրանսիական գործակալության աջակցությամբ իրականացվող ոռոգման ոլորտի ֆինանսական կայունության և ոռոգման կառավարման կարողությունն»րի բար»լավման ծրագրի համակարգում և ղ»կավարում
H19: Ծառայությունների մատուցում
I20: Ծառայությունը մատուցողի անվանումը` Մասնագիտացված միավոր
E21: 1004 - 31006 | F21: Գերմանիայի զարգացման վարկերի բանկի աջակցությամբ իրականացվող Ախուրյան գետի ջրային ռեսուրսների ինտեգրացված կառավարման ծրագրի երկրորդ փուլի շրջանակներում ջրային տնտեսության ենթակառուցվածքների հիմնանորոգում | K21: ='4'!H13 -> -648786.6
G22: Գերմանիայի զարգացման վարկերի բանկի աջակցությամբ իրականացվող Ախուրյան գետի ջրային ռեսուրսների ինտեգրացված կառավարման ծրագրի երկրորդ փուլ
H23: Պետական մարմինների կողմից օգտագործվող ոչ ֆինանսական ակտիվների հետ գործառնություններ
I24: Ակտիվն օգտագործող կազմակերպության անվանումը` Մասնագիտացված միավոր
J25: Թունելների վերակառուցում, մ | K25: -40
J26: Վարարային ջրհեռի կառուցում | K26: -45
E27: 1004 - 31022 | F27: Համաշխարհային բանկի աջակցության շրջանակներում ոռոգման, ջրամատակարարման և ջրահետացման ծրագրերի իրականացում | K27: ='4'!H14 -> -2000000
G28: Համաշխարհային բանկի աջակցության շրջանակներում ոռոգման, ջրամատակարարման և ջրահեռացման ծրագրերի իրականացման խորհրդատվական ծառայությունների ձեռքբերում, վերակառուցման աշխատանքների իրականացում
H29: Պետական մարմինների կողմից օգտագործվող ոչ ֆինանսական ակտիվների հետ գործառնություններ
I30: Ակտիվն օգտագործող կազմակերպության անվանումը` ՀՀ ՏԿԵՆ ջրային կոմիտե
C31: 1019 | D31: Սոցիալական ներդրումների և տեղական զարգացման ծրագիր | K31: =K32 -> 13105
E32: 1019 - 12004 | F32: Համաշխարհային բանկի աջակցությամբ իրականացվող Սոցիալական ներդրումների և տեղական զարգացման ծրագրի լրացուցիչ ֆինանսավորման վարկի շրջանակներում ՀՀ համայնքային և միջհամայնքային ենթակառուցվածքների որակի, օգտագործման և հասանելիության բարելավում: | K32: ='4'!H16 -> 13105
G33: Ջրագծերի, առողջապահության, կրթության օբյեկտների, մշակույթային տների, ծերանոցների, մանկատների, հատուկ դպրոցների, մանկապարտզների և կոյուղու օբյեկտնրի հիմն. և շինարարություն., գույքի և սարքավորումների տրամադրում շահառու ենթածրագրերի համար:
H34: Տրանսֆերտների տրամադրում
I35: Շահառուների ընտրության չափորոշիչները` Մասնագիտացված միավոր
C36: 1049 | D36: Ճանապարհային ցանցի բարելավում | K36: =K37+K42+K47+K55+K61 -> 1008445.8
E37: 1049 - 11016 | F37: Ասիական զարգացման բանկի աջակցությամբ իրականացվող Հյուսիս-հարավ ճանապարհային միջանցքի զարգացման ծրագրի Սիսիան-Քաջարան 60կմ-ի ճանապարհի Հյուսիսային ենթահատվածի համակարգում և կառավարում | K37: ='4'!H18 -> -294140
G38: Խորհրդատվական ծառայություններ և պահպանման ծախսեր
H39: Ծառայությունների մատուցում
I40: Ծառայությունը մատուցողի անվանումը` Մասնագիտացված միավոր
J41: Հողերի օտարում, շահառուների քանակ | K41: -40
E42: 1049 - 11020 | F42: Հյուսիս-հարավ ճանապարհային միջանցքի զարգացման ծրագրի Գյումրու շրջանցիկ ճանապարհի համակարգում և կառավարում, Տրանշ 5 | K42: ='4'!H19 -> -100000
G43: Հյուսիս-հարավ ճանապարհային միջանցքի զարգացման ծրագրի Գյումրու շրջանցիկ ճանապարհի շրջանակներում հողերի օտարում
H44: Ծառայությունների մատուցում
I45: Ծառայությունը մատուցողի անվանումը` Մասնագիտացված միավոր
J46: Հողերի օտարում, շահառուների քանակ | K46: -300
E47: 1049 - 21001 | F47: Պետական նշանակության ավտոճանապարհների հիմնանորոգում | K47: ='4'!H20 -> 3265375.6
G48: Միջպետական, հանրապետական և մարզային նշանակության ավտոճոնապարհների քայքայված ծածկի վերանորոգում, մաշված ծածկի փոխարինում
H49: Հանրության կողմից անմիջականորեն օգտագործվող ակտիվների հետ կապված միջոցառումներ
I50: Միջոցառումն իրականացնողի անվանումը` Մասնագիտացված միավոր
J51: Պետական նշանակության ավտոճանապարհներ, կիլոմետր | K51: =K52+K53 -> 4.2
J52: Հանրապետական նշանակության ավտոճանապարհներ, կիլոմետր | K52: 1
J53: Մարզային նշանակության ավտոճանապարհներ, կիլոմետր | K53: 3.2
J54: Նախագծանախահաշվային փաստաթղթերի քանակ, հատ | K54: ='12'!K34 -> 46
E55: 1049 - 21002 | F55: Տրանսպորտային օբյեկտների հիմնանորոգում | K55: ='4'!H21 -> -939767.8
G56: Ավտոմոբիլային ճանապարհների վրա գտնվող կամուրջների հիմնանորոգում
H57: Հանրության կողմից անմիջականորեն օգտագործվող ակտիվների հետ կապված միջոցառումներ
I58: Միջոցառումն իրականացնողի անվանումը` Մասնագիտացված միավոր
J59: Հիմնանորոգվող տրանսպորտային օբյեկտների թիվը, այդ թվում | K59: -3
J60: Նախագծանախահաշվային փաստաթղթերի քանակ, հատ | K60: ='12'!K40 -> 10
E61: 1049 - 21009 | F61: Եվրոպական ներդրումային բանկի աջակցությամբ իրականացվող Հյուսիս-հարավ միջանցքի զարգացման վարկային ծրագիր, Տրանշ 3 | K61: ='7v'!E83 -> -923022
G62: Լանջիկ-Գյումրի 27.47 կմ երկարությամբ ճանապարհային հատվածի կառուցում
H63: Հանրության կողմից անմիջականորեն օգտագործվող ակտիվների հետ կապված միջոցառումներ
I64: Միջոցառումն իրականացնողի անվանումը` Մասնագիտացված միավոր
J65: Կառուցվող ճանապարհահատված, հետերաշխիքային գումար, տոկոս | K65: -10
J66: Կահավորման աշխատանքների, տոկոս (ընդհանուրի մեջ) | K66: 1
C67: 1072 | D67: Ջրամատակարարաման և ջրահեռացման բարելավում | K67: =K68 -> -872000
E68: 1072 - 12001 | F68: Գերմանիայի զարգացման և Եվրոպական միության հարևանության ներդրումային բանկի աջակցությամբ իրականացվող ջրամատակարարման և ջրահեռացման ենթակառուցվածքների դրամաշնորհային ծրագիր` երրորդ փուլ | K68: ='4'!H24 -> -872000
G69: 579 գյուղական բնակավայրերից ընտրված որոշ համայնքների ջրամատակարարման և ջրահեռացման համակարգերի հատվածների հրատապ վերականգնման աշխատանքների իրականացում ինչպես նաև՛ Արմավիրի կեղտաջրերի մաքրման կայանի կառուցում
H70: Տրանսֆերտների տրամադրում
I71: Շահառուների ընտրության չափորոշիչները` Մասնագիտացված միավոր
J72: Նորոգվող կոյուղագծերի երկարություն, կմ | K72: -16
C73: 1157 | D73: Քաղաքային զարգացում | K73: =K74+K79+K101+K85+K93+K115+K121+K108 -> -4725094.3
E74: 1157 - 12003 | F74: Արևելյան եվրոպայի էներգախնայողության և բնապահպանական գործընկերության ֆոնդի աջակցությամբ իրականացվող Երևանի քաղաքային լուսավորության դրամաշնորհային ծրագրի կատարման ապահովում | K74: ='4'!H26 -> -405158.8
G75: Երևանի քաղաքային լուսավորության ենթակառուցվածքի բարելավման համար տրամադրվող աջակցություն և ծառայություն
H76: Տրանսֆերտների տրամադրում
I77: Շահառուների ընտրության չափորոշիչները` ՀՀ բնակչություն
J78: Երևան քաղաքի թվով 28 փողոցների արտաքին լուսավորության ցանցի արդիականացման աշխատանքներ, տոկոս | K78: -66
E79: 1157 - 12004 | F79: Վերակառուցման և զարգացման եվրոպական բանկի աջակցությամբ իրականացվող Երևանի քաղաքային լուսավորության դրամաշնորհային ծրագրի կատարման ապահովում | K79: ='4'!H27 -> -38841.7
G80: Երևանի քաղաքային լուսավորության ենթակառուցվածքի բարելավման համար տրամադրվող աջակցություն և ծառայություն
H81: Տրանսֆերտների տրամադրում
I82: Շահառուների ընտրության չափորոշիչները` ՀՀ բնակչություն
J83: Ավարտական հաշվետվություն ներկայացում խորհրդատուի կողմից, հատ | K83: -1
J84: Երևան քաղաքի արտաքին լուսավորության արդիականացման ծրագրի տեխնիկական հսկողություն, ամիս | K84: -12
E85: 1157 - 12017 | F85: Վերակառուցման և զարգացման եվրոպական բանկի աջակցությամբ իրականացվող Գյումրու քաղաքային ճանապարհների ծրագիր | K85: ='5.'!H167 -> -897502.9
G86: Գյումրու Անի և Ավստրիական թաղամասերի փողոցների (ներառյալ հետիոտնային անցումների ցանցը և ջրահեռացման համակարգը) հիմնանորոգում
H87: Տրանսֆերտների տրամադրում
I88: Շահառուների ընտրության չափորոշիչները` Ընտրությունը կատարվել է իրագործելիության ուսումնասիրությունների հիման վրա
J89: Գյումրի քաղաքի հարակից մայթերով (միջինում 6մ լայնությամբ) հիմնանորոգման ենթակա փողոցներ՛ մ | K89: -250
J90: Գյումրի քաղաքի հարակից մայթերով (միջինում 14-20մ լայնությամբ) հիմնանորոգման ենթակա փողոցներ՛ մ | K90: -696
J91: Գյումրի քաղաքի փողոցների անձրևաջրերի հեռացման համակարգի հիմնանորոգում° փողոցներ, հատ | K91: -2
J92: Գյումրի քաղաքի հարակից մայթերով (միջինում 8-10մ լայնությամբ) հիմնանորոգման ենթակա փողոցներ | K92: -800
E93: 1157 - 12018 | F93: Վերակառուցման և զարգացման եվրոպական բանկի աջակցությամբ իրականացվող Գյումրու քաղաքային ճանապարհների դրամաշնորհային ծրագիր (Տրանշ Ա, Բ, Գ) | K93: ='8d'!D67 -> -432957.1
G94: Գյումրու Անի և Ավստրիական թաղամասերի փողոցների (ներառյալ հետիոտնային անցումների ցանցը և ջրահեռացման համակարգը) հիմնանորոգում
H95: Տրանսֆերտների տրամադրում
I96: Շահառուների ընտրության չափորոշիչները` Ընտրությունը կատարվել է իրագործելիության ուսումնասիրությունների հիման վրա
J97: Գյումրի քաղաքի հարակից մայթերով (միջինում 6մ լայնությամբ) հիմնանորոգման ենթակա փողոցներ՛, մ | K97: -81
J98: Գյումրի քաղաքի հարակից մայթերով (միջինում 14-20մ լայնությամբ) հիմնանորոգման ենթակա փողոցներ մ | K98: -148
J99: Գյումրի քաղաքի փողոցների անձրևաջրերի հեռացման համակարգի հիմնանորոգում° փողոցներ, հատ | K99: -1
J100: Գյումրի քաղաքի հարակից մայթերով (միջինում 8-10մ լայնությամբ) հիմնանորոգման ենթակա փողոցներ | K100: -400
E101: 1157 - 12029 | F101: Ասիական զարգացման բանկի աջակցությամբ իրականացվող քաղաքային զարգացման ներդրումային ծրագրի համակարգում և կառավարում | K101: ='4'!H30 -> -446589.9
G102: Քաղաքային զարգացման ներդրումային ծրագրի շրջանակներում համակարգում և կառավարում
...

Sheet 12
K1: Հավելված N 12
K2: ՀՀ կառավարության 2025 թվականի
K3: ______________ ի ___Ն որոշման
B5: ՀԱՅԱՍՏԱՆԻ ՀԱՆՐԱՊԵՏՈՒԹՅԱՆ ԿԱՌԱՎԱՐՈՒԹՅԱՆ 2024 ԹՎԱԿԱՆԻ ԴԵԿՏԵՄԲԵՐԻ 27-Ի № 2060-Ն ՈՐՈՇՄԱՆ № 9.1 ՀԱՎԵԼՎԱԾԻ ԱՂՅՈՒՍԱԿՆԵՐՈՒՄ ԿԱՏԱՐՎՈՂ ՓՈՓՈԽՈՒԹՅՈՒՆՆԵՐԸ ԵՎ ԼՐԱՑՈՒՄՆԵՐԸ
K6: հազար դրամներով
B7: ԲՍԿ | C7: Ծրագիր | E7: Միջոցառում | I7: Իրականացնողը/ ակտիվն օգտագործողը/ շահառուի ընտրության չափորոշիչը | J7: Արդյունքային չափորոշիչը | K7: Ցուցանիշների փոփոխությունը (ավելացումները նշված են դրական նշանով, իսկ նվազեցումները` փակագծերում)
C8: Դասիչը | D8: Անվանումը | E8: Դասիչը | F8: Անվանումը | G8: Նկարագրությունը | H8: Տեսակը | K8: Տարի
B9: ԸՆԴԱՄԵՆԸ | K9: =K10+K116+K142 -> -9994547.3
B10: ՀՀ տարածքային կառավարման և ենթակառուցվածքների նախարարություն | K10: =K16+K11+K47+K101 -> -5669408.4
C11: 1019 | D11: Սոցիալական ներդրումների և տեղական զարգացման ծրագիր | K11: =K12 -> 13105
E12: 1019 - 12004 | F12: Համաշխարհային բանկի աջակցությամբ իրականացվող Սոցիալական ներդրումների և տեղական զարգացման ծրագրի լրացուցիչ ֆինանսավորման վարկի շրջանակներում ՀՀ համայնքային և միջհամայնքային ենթակառուցվածքների որակի, օգտագործման և հասանելիության բարելավում: | K12: ='5.'!H238 -> 13105
G13: Ջրագծերի, առողջապահության, կրթության օբյեկտների, մշակույթային տների, ծերանոցների, մանկատների, հատուկ դպրոցների, մանկապարտզների և կոյուղու օբյեկտնրի հիմն. և շինարարություն., գույքի և սարքավորումների տրամադրում շահառու ենթածրագրերի համար:
H14: Տրանսֆերտների տրամադրում
I15: Շահառուների ընտրության չափորոշիչները` Մասնագիտացված միավոր
C16: 1049 | D16: Ճանապարհային ցանցի բարելավում | K16: =K27+K35+K17+K22+K41 -> 2047345.7
E17: 1049 - 11016 | F17: Ասիական զարգացման բանկի աջակցությամբ իրականացվող Հյուսիս-հարավ ճանապարհային միջանցքի զարգացման ծրագրի Սիսիան-Քաջարան 60կմ-ի ճանապարհի Հյուսիսային ենթահատվածի համակարգում և կառավարում | K17: ='11'!K37 -> -294140
G18: Խորհրդատվական ծառայություններ և պահպանման ծախսեր
H19: Ծառայությունների մատուցում
I20: Ծառայությունը մատուցողի անվանումը` Մասնագիտացված միավոր
J21: Հողերի օտարում, շահառուների քանակ | K21: -40
E22: 1049 - 11020 | F22: Հյուսիս-հարավ ճանապարհային միջանցքի զարգացման ծրագրի Գյումրու շրջանցիկ ճանապարհի համակարգում և կառավարում, Տրանշ 5 | K22: ='5.'!H114 -> -100000
G23: Հյուսիս-հարավ ճանապարհային միջանցքի զարգացման ծրագրի Գյումրու շրջանցիկ ճանապարհի շրջանակներում հողերի օտարում
H24: Ծառայությունների մատուցում
I25: Ծառայությունը մատուցողի անվանումը` Մասնագիտացված միավոր
J26: Հողերի օտարում, շահառուների քանակ | K26: -300
E27: 1049 - 21001 | F27: Պետական նշանակության ավտոճանապարհների հիմնանորոգում | K27: ='5.'!H127 -> 3265375.6
G28: Միջպետական, հանրապետական և մարզային նշանակության ավտոճոնապարհների քայքայված ծածկի վերանորոգում, մաշված ծածկի փոխարինում
H29: Հանրության կողմից անմիջականորեն օգտագործվող ակտիվների հետ կապված միջոցառումներ
I30: Միջոցառումն իրականացնողի անվանումը` Մասնագիտացված միավոր
J31: Պետական նշանակության ավտոճանապարհներ, կիլոմետր | K31: =K32+K33 -> 4.2
J32: Հանրապետական նշանակության ավտոճանապարհներ, կիլոմետր | K32: 1
J33: Մարզային նշանակության ավտոճանապարհներ, կիլոմետր | K33: 3.2
J34: Նախագծանախահաշվային փաստաթղթերի քանակ, հատ | K34: 46
E35: 1049 - 21002 | F35: Տրանսպորտային օբյեկտների հիմնանորոգում | K35: ='5.'!H145 -> 99132.1
G36: Ավտոմոբիլային ճանապարհների վրա գտնվող կամուրջների հիմնանորոգում
H37: Հանրության կողմից անմիջականորեն օգտագործվող ակտիվների հետ կապված միջոցառումներ
I38: Միջոցառումն իրականացնողի անվանումը` Մասնագիտացված միավոր
J39: Հիմնանորոգվող տրանսպորտային օբյեկտների թիվը, այդ թվում | K39: 2
J40: Նախագծանախահաշվային փաստաթղթերի քանակ, հատ | K40: 10
E41: 1049 - 21009 | F41: Եվրոպական ներդրումային բանկի աջակցությամբ իրականացվող Հյուսիս-հարավ միջանցքի զարգացման վարկային ծրագիր, Տրանշ 3 | K41: ='11'!K61 -> -923022
G42: Լանջիկ-Գյումրի 27.47 կմ երկարությամբ ճանապարհային հատվածի կառուցում
H43: Հանրության կողմից անմիջականորեն օգտագործվող ակտիվների հետ կապված միջոցառումներ
I44: Միջոցառումն իրականացնողի անվանումը` Մասնագիտացված միավոր
J45: Կառուցվող ճանապարհահատված, հետերաշխիքային գումար, տոկոս | K45: -10
J46: Կահավորման աշխատանքների, տոկոս (ընդհանուրի մեջ) | K46: 1
C47: 1157 | D47: Քաղաքային զարգացում | K47: =K48+K53+K75+K59+K67+K89+K82+K95 -> -4725094.3
E48: 1157 - 12003 | F48: Արևելյան եվրոպայի էներգախնայողության և բնապահպանական գործընկերության ֆոնդի աջակցությամբ իրականացվող Երևանի քաղաքային լուսավորության դրամաշնորհային ծրագրի կատարման ապահովում | K48: ='11'!K74 -> -405158.8
G49: Երևանի քաղաքային լուսավորության ենթակառուցվածքի բարելավման համար տրամադրվող աջակցություն և ծառայություն
H50: Տրանսֆերտների տրամադրում
I51: Շահառուների ընտրության չափորոշիչները` ՀՀ բնակչություն
J52: Երևան քաղաքի թվով 28 փողոցների արտաքին լուսավորության ցանցի արդիականացման աշխատանքներ, տոկոս | K52: -66
E53: 1157 - 12004 | F53: Վերակառուցման և զարգացման եվրոպական բանկի աջակցությամբ իրականացվող Երևանի քաղաքային լուսավորության դրամաշնորհային ծրագրի կատարման ապահովում | K53: ='11'!K79 -> -38841.7
G54: Երևանի քաղաքային լուսավորության ենթակառուցվածքի բարելավման համար տրամադրվող աջակցություն և ծառայություն
H55: Տրանսֆերտների տրամադրում
I56: Շահառուների ընտրության չափորոշիչները` ՀՀ բնակչություն
J57: Ավարտական հաշվետվություն ներկայացում խորհրդատուի կողմից, հատ | K57: -1
J58: Երևան քաղաքի արտաքին լուսավորության արդիականացման ծրագրի տեխնիկական հսկողություն, ամիս | K58: -12
E59: 1157 - 12017 | F59: Վերակառուցման և զարգացման եվրոպական բանկի աջակցությամբ իրականացվող Գյումրու քաղաքային ճանապարհների ծրագիր | K59: ='5.'!H167 -> -897502.9
G60: Գյումրու Անի և Ավստրիական թաղամասերի փողոցների (ներառյալ հետիոտնային անցումների ցանցը և ջրահեռացման համակարգը) հիմնանորոգում
H61: Տրանսֆերտների տրամադրում
I62: Շահառուների ընտրության չափորոշիչները` Ընտրությունը կատարվել է իրագործելիության ուսումնասիրությունների հիման վրա
J63: Գյումրի քաղաքի հարակից մայթերով (միջինում 6մ լայնությամբ) հիմնանորոգման ենթակա փողոցներ՛ մ | K63: -250
J64: Գյումրի քաղաքի հարակից մայթերով (միջինում 14-20մ լայնությամբ) հիմնանորոգման ենթակա փողոցներ՛ մ | K64: -696
J65: Գյումրի քաղաքի փողոցների անձրևաջրերի հեռացման համակարգի հիմնանորոգում° փողոցներ, հատ | K65: -2
J66: Գյումրի քաղաքի հարակից մայթերով (միջինում 8-10մ լայնությամբ) հիմնանորոգման ենթակա փողոցներ | K66: -800
E67: 1157 - 12018 | F67: Վերակառուցման և զարգացման եվրոպական բանկի աջակցությամբ իրականացվող Գյումրու քաղաքային ճանապարհների դրամաշնորհային ծրագիր (Տրանշ Ա, Բ, Գ) | K67: ='8d'!D67 -> -432957.1
G68: Գյումրու Անի և Ավստրիական թաղամասերի փողոցների (ներառյալ հետիոտնային անցումների ցանցը և ջրահեռացման համակարգը) հիմնանորոգում
H69: Տրանսֆերտների տրամադրում
I70: Շահառուների ընտրության չափորոշիչները` Ընտրությունը կատարվել է իրագործելիության ուսումնասիրությունների հիման վրա
J71: Գյումրի քաղաքի հարակից մայթերով (միջինում 6մ լայնությամբ) հիմնանորոգման ենթակա փողոցներ՛, մ | K71: -81
J72: Գյումրի քաղաքի հարակից մայթերով (միջինում 14-20մ լայնությամբ) հիմնանորոգման ենթակա փողոցներ մ | K72: -148
J73: Գյումրի քաղաքի փողոցների անձրևաջրերի հեռացման համակարգի հիմնանորոգում° փողոցներ, հատ | K73: -1
J74: Գյումրի քաղաքի հարակից մայթերով (միջինում 8-10մ լայնությամբ) հիմնանորոգման ենթակա փողոցներ | K74: -400
E75: 1157 - 12029 | F75: Ասիական զարգացման բանկի աջակցությամբ իրականացվող քաղաքային զարգացման ներդրումային ծրագրի համակարգում և կառավարում | K75: ='11'!K101 -> -446589.9
G76: Քաղաքային զարգացման ներդրումային ծրագրի շրջանակներում համակարգում և կառավարում
H77: Տրանսֆերտների տրամադրում
I78: Շահառուների ընտրության չափորոշիչները` ՀՀ բնակչություն
J79: Ֆինանսական աուդիտ, հատ | K79: -1
J80: ՀՕՏԾ արտաքին մոնիտորինգ, տոկոս | K80: -40
J81: Ռազմավարական հաղորդակցության էկոհամակարգի ստեղծում, տոկոս | K81: 30
E82: 1157 - 12030 | F82: Ասիական զարգացման բանկի աջակցությամբ իրականացվող քաղաքային զարգացման ներդրումային ծրագրի շրջանակներում ճանապարհային շինարարություն | K82: ='11'!K108 -> -2287062.3
G83: Քաղաքային զարգացման ներդրումային ծրագրի շրջանակներում ճանապարհային շինարարություն
H84: Տրանսֆերտների տրամադրում
I85: Շահառուների ընտրության չափորոշիչները` ՀՀ բնակչություն
J86: Իսակով-Արշակունյաց ճանապարհահատվածի կառուցման տեխնիկական հսկողություն, ամիս | K86: -3
J87: Իսակով-Արշակունյաց ճանապարհահատվածի կառուցում, տոկոս | K87: -20
J88: Կոմիտասի անվան զբոսայգու նախագծային աշխատանքներ, տոկոս | K88: -10
E89: 1157 - 12031 | F89: Վերակառուցման և զարգացման եվրոպական բանկի աջակցությամբ իրականացվող Գյումրու քաղաքային ճանապարհների տեխնիկական համագործակցության դրամաշնորհային ծրագրի շրջանակներում ճանապարհների վերակառուցման և փողոցների լուսավորության արդիականացում | K89: ='8d'!D76 -> -108490.8
G90: Գյումրու ճանապարհների վերակառուցման և փողոցների լուսավորության արդիականացման աշխատանքներ
H91: Տրանսֆերտների տրամադրում
I92: Շահառուների ընտրության չափորոշիչները` ՀՀ բնակչություն
J93: Ընտրված փողոցների շին աշխատանքների տեխնիկական և հեղինակային հսկողություն, հատ | K93: -13
J94: Ընտրված փողոցների մշակվող նախագծանախահաշվային փաստաթղթերի պայմանագրի կատարման մաս, տոկոս | K94: -70
E95: 1157 - 12032 | F95: Վերակառուցման և զարգացման եվրոպական բանկի աջակցությամբ իրականացվող Գյումրու քաղաքային ճանապարհների տեխնիկական համագործակցության վարկային ծրագիր | K95: ='7v'!E130 -> -108490.8
G96: Գյումրու ճանապարհների վերակառուցման և փողոցների լուսավորության արդիականացման աշխատանքներԳյումրու ճանապարհների վերակառուցման և փողոցների լուսավորության արդիականացման աշխատանքներ
H97: Տրանսֆերտների տրամադրում
I98: Շահառուների ընտրության չափորոշիչները` ՀՀ բնակչություն
J99: Ընտրված փողոցների շին աշխատանքների տեխնիկական և հեղինակային հսկողություն, հատ | K99: -13
J100: Ընտրված փողոցների մշակվող նախագծանախահաշվային փաստաթղթերի պայմանագրի կատարման մաս, տոկոս | K100: -70
C101: 1232 | D101: Էներգաարդյունավետության ծրագիր | K101: =K102+K109 -> -3004764.8
...

Sheet 13
I1: Հավելված N 13
I2: ՀՀ կառավարության 2025 թվականի
I3: ______________ ի ___Ն որոշման
C5: ՀԱՅԱՍՏԱՆԻ ՀԱՆՐԱՊԵՏՈՒԹՅԱՆ ԿԱՌԱՎԱՐՈՒԹՅԱՆ 2024 ԹՎԱԿԱՆԻ ԴԵԿՏԵՄԲԵՐԻ 27-Ի N 2060-Ն ՈՐՈՇՄԱՆ N 10 ՀԱՎԵԼՎԱԾՈՒՄ ԿԱՏԱՐՎՈՂ ՓՈՓՈԽՈՒԹՅՈՒՆՆԵՐԸ ԵՎ ԼՐԱՑՈՒՄՆԵՐԸ
C7: Կոդը | D7: Անվանումը | E7: Գնման ձևը | F7: Չափման միավորը | G7: Միավորի գինը | H7: Ցուցանիշների փոփոխությունը (ավելացումները նշված են դրական նշանով)
H8: Քանակը | I8: Գումարը (հազար դրամով)
C9: ՀՀ տարածքային կառավարման և ենթակառուցվածքների նախարարություն | I9: =+I10 -> 3128413.3
C10: Բաժին N 04 | D10: Խումբ N 05 | E10: Դաս N 01 | F10: Ճանապարհային տրանսպորտ | I10: =+I11+I107 -> 3128413.3
C11: 1049 21001 | D11: Պետական նշանակության ավտոճանապարհների հիմնանորոգում | I11: =I12+I41 -> 3031098.4
D12: ՄԱՍ II. ԱՇԽԱՏԱՆՔՆԵՐ | I12: =SUM(I13:I40) -> 2962327.7
C13: 45231177/2 | D13: ճանապարհների վերանորոգման աշխատանքներ | E13: ԲՄ | F13: դրամ | I13: -146988.94
C14: 45231177/2 | D14: ճանապարհների վերանորոգման աշխատանքներ | E14: ԲՄ | F14: դրամ | I14: =146592 -> 146592
C15: 45231177/3 | D15: ճանապարհների վերանորոգման աշխատանքներ | E15: ԲՄ | F15: դրամ | I15: -6139.4
C16: 45231177/46 | D16: ճանապարհների վերանորոգման աշխատանքներ | E16: ԲՄ | F16: դրամ | I16: -11673.8
C17: 45231177/91 | D17: ճանապարհների վերանորոգման աշխատանքներ | E17: ԲՄ | F17: դրամ | I17: -22345.4
C18: 45231177/93 | D18: ճանապարհների վերանորոգման աշխատանքներ | E18: ԲՄ | F18: դրամ | I18: -11352.1
C19: 45231177/559 | D19: ճանապարհների վերանորոգման աշխատանքներ | E19: ՀԲՄ | F19: դրամ | G19: 126311300 | H19: 1 | I19: =+H19*G19/1000 -> 126311.3
C20: 45231177/623 | D20: ճանապարհների վերանորոգման աշխատանքներ | E20: ԲՄ | F20: դրամ | I20: -38454.6
C21: 45231177/623 | D21: ճանապարհների վերանորոգման աշխատանքներ | E21: ԲՄ | F21: դրամ | I21: 24003.3
C22: 45231172/503 | D22: ճանապարհների վերանորոգման աշխատանքներ | E22: ՀԲՄ | F22: դրամ | G22: 54749900 | H22: 1 | I22: =+H22*G22/1000 -> 54749.9
C23: 45231177/565 | D23: ճանապարհների վերանորոգման աշխատանքներ | E23: ՀԲՄ | F23: դրամ | G23: 348014300 | H23: 1 | I23: =+H23*G23/1000 -> 348014.3
C24: 45231177/81 | D24: ճանապարհների վերանորոգման աշխատանքներ | E24: ԲՄ | F24: դրամ | I24: -2487.4
C25: 45231177/11 | D25: ճանապարհների վերանորոգման աշխատանքներ | E25: ԲՄ | F25: դրամ | I25: -6262.5
C26: 45231177/13 | D26: ճանապարհների վերանորոգման աշխատանքներ | E26: ԲՄ | F26: դրամ | I26: -17942.9
C27: 45231177/621 | D27: ճանապարհների վերանորոգման աշխատանքներ | E27: ԲՄ | F27: դրամ | I27: -4956.9
C28: 45231177/563 | D28: ճանապարհների վերանորոգման աշխատանքներ | E28: ՀԲՄ | F28: դրամ | G28: 301037253 | H28: 1 | I28: =+H28*G28/1000 -> 301037.25
C29: 45231177/588 | D29: ճանապարհների վերանորոգման աշխատանքներ | E29: ԲՄ | F29: դրամ | I29: -8633.7
C30: 45231177/98 | D30: ճանապարհների վերանորոգման աշխատանքներ | E30: ՀԲՄ | F30: դրամ | I30: 34955.6
C31: 45231177/561 | D31: ճանապարհների վերանորոգման աշխատանքներ | E31: ՀԲՄ | F31: դրամ | G31: 276000000 | H31: 1 | I31: =+H31*G31/1000 -> 276000
C32: 45231177/56 | D32: ճանապարհների վերանորոգման աշխատանքներ | E32: ԲՄ | F32: դրամ | I32: -5791
C33: 45231177/539 | D33: ճանապարհների վերանորոգման աշխատանքներ | E33: ԲՄ | F33: դրամ | I33: -774218.3
C34: 45231177/578 | D34: ճանապարհների վերանորոգման աշխատանքներ | E34: ՀԲՄ | F34: դրամ | G34: 23075684 | H34: 1 | I34: 23075.684
C35: 45231177/582 | D35: ճանապարհների վերանորոգման աշխատանքներ | E35: ԲՄ | F35: դրամ | I35: -19580.6
C36: 45231177/54 | D36: ճանապարհների վերանորոգման աշխատանքներ | E36: ԲՄ | F36: դրամ | I36: -31420.2
C37: 45231177/571 | D37: ճանապարհների վերանորոգման աշխատանքներ | E37: ՀԲՄ | F37: դրամ | G37: 419637000 | H37: 1 | I37: =+H37*G37/1000 -> 419637
C38: 45231177/64 | D38: ճանապարհների վերանորոգման աշխատանքներ | E38: ՀՄԱ | F38: դրամ | I38: -38233.1
C39: 45231177/ | D39: ճանապարհների վերանորոգման աշխատանքներ | E39: ՀՄԱ | F39: դրամ | G39: 2356625500 | H39: 1 | I39: 2356625.5
C40: 45231177/49 | D40: ճանապարհների վերանորոգման աշխատանքներ | E40: ՀԲՄ | F40: դրամ | I40: -2193.317
C41: ՄԱՍ III. ԾԱՌԱՅՈՒԹՅՈՒՆՆԵՐ | I41: =SUM(I42:I106) -> 68770.76
C42: 71351540/552 | D42: տեխնիկական հսկողության ծառայություններ | E42: ՀԲՄ | F42: դրամ | G42: =I42*1000 -> 567300 | H42: 1 | I42: 567.3
C43: 71351540/563 | D43: տեխնիկական հսկողության ծառայություններ | E43: ՀԲՄ | F43: դրամ | G43: 792683 | H43: 1 | I43: =+H43*G43/1000 -> 792.683
C44: 71351540/569 | D44: տեխնիկական հսկողության ծառայություններ | E44: ՀԲՄ | F44: դրամ | G44: 1564900 | H44: 1 | I44: =+H44*G44/1000 -> 1564.9
C45: 71351540/567 | D45: տեխնիկական հսկողության ծառայություններ | E45: ՀԲՄ | F45: դրամ | G45: 2134636 | H45: 1 | I45: =+H45*G45/1000 -> 2134.636
C46: 71351540/564 | D46: տեխնիկական հսկողության ծառայություններ | E46: ՀԲՄ | F46: դրամ | G46: 1899600 | H46: 1 | I46: =+H46*G46/1000 -> 1899.6
C47: 71351540/534 | D47: տեխնիկական հսկողության ծառայություններ | E47: ԲՄ | F47: դրամ | I47: -3041.9
C48: 71351540/585 | D48: տեխնիկական հսկողության ծառայություններ | E48: ՀԲՄ | F48: դրամ | G48: 108800 | H48: 1 | I48: =+H48*G48/1000 -> 108.8
C49: 71351540/574 | D49: տեխնիկական հսկողության ծառայություններ | E49: ՀԲՄ | F49: դրամ | G49: 2580000 | H49: 1 | I49: =+H49*G49/1000 -> 2580
C50: 71351540/ | D50: տեխնիկական հսկողության ծառայություններ | E50: ՀՄԱ | F50: դրամ | G50: 13500000 | H50: 1 | I50: =+H50*G50/1000 -> 13500
C51: 98111140/ | D51: հեղինակային հսկողության ծառայություններ | E51: ՄԱ | F51: դրամ | G51: 1112400 | H51: 1 | I51: =+H51*G51/1000 -> 1112.4
C52: 98111140/ | D52: հեղինակային հսկողության ծառայություններ | E52: ՄԱ | F52: դրամ | G52: 406219 | H52: 1 | I52: =+H52*G52/1000 -> 406.219
C53: 98111140/ | D53: հեղինակային հսկողության ծառայություններ | E53: ՄԱ | F53: դրամ | G53: 3170200 | H53: 1 | I53: =+H53*G53/1000 -> 3170.2
C54: 98111140/ | D54: հեղինակային հսկողության ծառայություններ | E54: ՄԱ | F54: դրամ | G54: 3228316 | H54: 1 | I54: =+H54*G54/1000 -> 3228.316
C55: 98111140/ | D55: հեղինակային հսկողության ծառայություններ | E55: ՄԱ | F55: դրամ | G55: 2069704 | H55: 1 | I55: =+H55*G55/1000 -> 2069.704
C56: 98111140/80 | D56: հեղինակային հսկողության ծառայություններ | E56: ՄԱ | F56: դրամ | I56: -5714.9
C57: 98111140/ | D57: հեղինակային հսկողության ծառայություններ | E57: ՄԱ | F57: դրամ | G57: 180100 | H57: 1 | I57: =+H57*G57/1000 -> 180.1
C58: 98111140/ | D58: հեղինակային հսկողության ծառայություններ | E58: ՄԱ | F58: դրամ | G58: 2497386 | H58: 1 | I58: =+H58*G58/1000 -> 2497.386
C59: 98111140/ | D59: հեղինակային հսկողության ծառայություններ | E59: ՄԱ | F59: դրամ | G59: 9300000 | H59: 1 | I59: =+H59*G59/1000 -> 9300
C60: 71241200/513 | D60: նախագծերի պատրաստում, ծախսերի գնահատում | E60: ԲՄ | F60: դրամ | G60: 1998000 | H60: 1 | I60: =+H60*G60/1000 -> 1998
C61: 71241200/514 | D61: նախագծերի պատրաստում, ծախսերի գնահատում | E61: ԲՄ | F61: դրամ | G61: 1854360 | H61: 1 | I61: =+H61*G61/1000 -> 1854.36
C62: 71241200/523 | D62: նախագծերի պատրաստում, ծախսերի գնահատում | E62: ԲՄ | F62: դրամ | G62: 2256000 | H62: 1 | I62: =+H62*G62/1000 -> 2256
C63: 71241200/524 | D63: նախագծերի պատրաստում, ծախսերի գնահատում | E63: ԲՄ | F63: դրամ | G63: 699600 | H63: 1 | I63: =+H63*G63/1000 -> 699.6
C64: 71241200/545 | D64: նախագծերի պատրաստում, ծախսերի գնահատում | E64: ԲՄ | F64: դրամ | G64: 288 | H64: 1 | I64: =+H64*G64/1000 -> 0.288
C65: 71241200/546 | D65: նախագծերի պատրաստում, ծախսերի գնահատում | E65: ԲՄ | F65: դրամ | G65: 288 | H65: 1 | I65: =+H65*G65/1000 -> 0.288
C66: 71241200/533 | D66: նախագծերի պատրաստում, ծախսերի գնահատում | E66: ԲՄ | F66: դրամ | G66: 33000 | H66: 1 | I66: =+H66*G66/1000 -> 33
C67: 71241200/548 | D67: նախագծերի պատրաստում, ծախսերի գնահատում | E67: ԲՄ | F67: դրամ | G67: 1440000 | H67: 1 | I67: =+H67*G67/1000 -> 1440
C68: 71241200/550 | D68: նախագծերի պատրաստում, ծախսերի գնահատում | E68: ՀԲՄ | F68: դրամ | G68: 1200000 | H68: 1 | I68: =+H68*G68/1000 -> 1200
C69: 71241200/521 | D69: նախագծերի պատրաստում, ծախսերի գնահատում | E69: ԲՄ | F69: դրամ | G69: 1440000 | H69: 1 | I69: =+H69*G69/1000 -> 1440
C70: 71241200/501 | D70: նախագծերի պատրաստում, ծախսերի գնահատում | E70: ԲՄ | F70: դրամ | I70: -2490
C71: 71241200/503 | D71: նախագծերի պատրաստում, ծախսերի գնահատում | E71: ԲՄ | F71: դրամ | I71: -3650.4
C72: 71241200/505 | D72: նախագծերի պատրաստում, ծախսերի գնահատում | E72: ԲՄ | F72: դրամ | I72: -6540.3
C73: 71241200/537 | D73: նախագծերի պատրաստում, ծախսերի գնահատում | E73: ԲՄ | F73: դրամ | G73: 9900 | H73: 1 | I73: =+H73*G73/1000 -> 9.9
C74: 71241200/525 | D74: նախագծերի պատրաստում, ծախսերի գնահատում | E74: ԲՄ | F74: դրամ | G74: 9900 | H74: 1 | I74: =+H74*G74/1000 -> 9.9
C75: 71241200/515 | D75: նախագծերի պատրաստում, ծախսերի գնահատում | E75: ԲՄ | F75: դրամ | G75: 1080000 | H75: 1 | I75: =+H75*G75/1000 -> 1080
C76: 71241200/529 | D76: նախագծերի պատրաստում, ծախսերի գնահատում | E76: ԲՄ | F76: դրամ | G76: 9900 | H76: 1 | I76: =+H76*G76/1000 -> 9.9
C77: 71241200/508 | D77: նախագծերի պատրաստում, ծախսերի գնահատում | E77: ԲՄ | F77: դրամ | G77: 1200000 | H77: 1 | I77: =+H77*G77/1000 -> 1200
C78: 71241200/516 | D78: նախագծերի պատրաստում, ծախսերի գնահատում | E78: ԲՄ | F78: դրամ | G78: 1200000 | H78: 1 | I78: =+H78*G78/1000 -> 1200
C79: 71241200/536 | D79: նախագծերի պատրաստում, ծախսերի գնահատում | E79: ԲՄ | F79: դրամ | G79: 1284000 | H79: 1 | I79: =+H79*G79/1000 -> 1284
C80: 71241200/517 | D80: նախագծերի պատրաստում, ծախսերի գնահատում | E80: ԲՄ | F80: դրամ | G80: 1023750 | H80: 1 | I80: =+H80*G80/1000 -> 1023.75
C81: 71241200/544 | D81: նախագծերի պատրաստում, ծախսերի գնահատում | E81: ԲՄ | F81: դրամ | G81: 9900 | H81: 1 | I81: =+H81*G81/1000 -> 9.9
C82: 71241200/511 | D82: նախագծերի պատրաստում, ծախսերի գնահատում | E82: ԲՄ | F82: դրամ | G82: 1998000 | H82: 1 | I82: =+H82*G82/1000 -> 1998
C83: 71241200/512 | D83: նախագծերի պատրաստում, ծախսերի գնահատում | E83: ԲՄ | F83: դրամ | G83: 2556000 | H83: 1 | I83: =+H83*G83/1000 -> 2556
C84: 71241200/543 | D84: նախագծերի պատրաստում, ծախսերի գնահատում | E84: ԲՄ | F84: դրամ | G84: 12000 | H84: 1 | I84: =+H84*G84/1000 -> 12
... C106: 50531140/ | D106: փորձաքննության ծառայություններ | E106: ԳՀ | F106: դրամ | G106: 399000 | H106: 1 | I106: =+H106*G106/1000 -> 399
C107: 1049 21002 | D107: Տրանսպորտային օբյեկտների հիմնանորոգում | I107: =I108+I115 -> 97314.861
C108: ՄԱՍ II ԱՇԽԱՏԱՆՔՆԵՐ | I108: =I109+I110+I111+I112+I113+I114 -> 77780.243
C109: 45221117/1 | D109: կամուրջների վերանորոգման շինարարական աշխատանքներեր | E109: ԲՄ | F109: դրամ | I109: -35827
C110: 45231172/504 | D110: շինարարական աշխատանքներ մայրուղիների համար | E110: ԲՄ | F110: դրամ | G110: 97300566 | H110: 1 | I110: =+H110*G110/1000 -> 97300.566
C111: 45221117/2 | D111: կամուրջների վերանորոգման շինարարական աշխատանքներեր | E111: ԲՄ | F111: դրամ | I111: -31557.8
C112: 45221117/2 | D112: կամուրջների վերանորոգման շինարարական աշխատանքներեր | E112: ԲՄ | F112: դրամ | I112: 3364
C113: 45221117 /514 | D113: կամուրջների վերանորոգման շինարարական աշխատանքներեր | E113: ԳՀ | F113: դրամ | I113: 24556.7
C114: 45451810/ | D114: փլուզված հողային պաստառի շեպի և/կամ փլուզված հենապատի վերականգնման աշխատանքներ | E114: ՀՄԱ | F114: դրամ | G114: 19943777 | H114: 1 | I114: =+H114*G114/1000 -> 19943.777
C115: ՄԱՍ III. ԾԱՌԱՅՈՒԹՅՈՒՆՆԵՐ | I115: =SUM(I116:I131) -> 19534.618
C116: 71351540/580 | D116: տեխնիկական հսկողության ծառայություններ | E116: ԲՄ | F116: դրամ | G116: 1999800 | H116: 1 | I116: =+H116*G116/1000 -> 1999.8
C117: 71351540/ | D117: տեխնիկական հսկողության ծառայություններ | E117: ՀՄԱ | F117: դրամ | G117: 393029 | H117: 1 | I117: =+H117*G117/1000 -> 393.029
C118: 98111140/ | D118: հեղինակային հսկողության ծառայություններ | E118: ՄԱ | F118: դրամ | G118: 807389 | H118: 1 | I118: =+H118*G118/1000 -> 807.389
C119: 98111140/ | D119: հեղինակային հսկողության ծառայություններ | E119: ՄԱ | F119: դրամ | G119: 117900 | H119: 1 | I119: =+H119*G119/1000 -> 117.9
C120: 71241200/541 | D120: նախագծերի պատրաստում, ծախսերի գնահատում | E120: ԲՄ | F120: դրամ | G120: 3000000 | H120: 1 | I120: =+H120*G120/1000 -> 3000
C121: 71241200/542 | D121: նախագծերի պատրաստում, ծախսերի գնահատում | E121: ՀԲՄ | F121: դրամ | G121: 720000 | H121: 1 | I121: =+H121*G121/1000 -> 720
C122: 71241200/540 | D122: նախագծերի պատրաստում, ծախսերի գնահատում | E122: ԲՄ | F122: դրամ | G122: 7998000 | H122: 1 | I122: =+H122*G122/1000 -> 7998
C123: 71241200/522 | D123: նախագծերի պատրաստում, ծախսերի գնահատում | E123: ՀԲՄ | F123: դրամ | G123: 600000 | H123: 1 | I123: =+H123*G123/1000 -> 600
...
