Workbook
Name \A: #REF!
Name \A: #REF!
Name \A: #REF!
Name _tab10: #REF!
Name _tab10: #REF!
Name _tab10: #REF!
Name _tab11: #REF!
Name _tab11: #REF!
Name _tab11: #REF!
Name _tab12: #REF!
Name _tab12: #REF!
Name _tab12: #REF!
Name _tab13: #REF!
Name _tab13: #REF!
Name _tab13: #REF!
Name _tab14: #REF!
Name _tab14: #REF!
Name _tab14: #REF!
Name _tab15: #REF!
Name _tab15: #REF!
Name _tab15: #REF!
Name _tab16: #REF!
Name _tab16: #REF!
Name _tab16: #REF!
Name _tab17: #REF!
Name _tab17: #REF!
Name _tab17: #REF!
Name _tab18: #REF!
Name _tab18: #REF!
Name _tab18: #REF!
Name _tab19: #REF!
Name _tab19: #REF!
Name _tab19: #REF!
Name _tab20: #REF!
Name _tab20: #REF!
Name _tab20: #REF!
Name _tab21: #REF!
Name _tab21: #REF!
Name _tab21: #REF!
Name _tab22: #REF!
Name _tab22: #REF!
Name _tab22: #REF!
Name _tab23: #REF!
Name _tab23: #REF!
Name _tab23: #REF!
Name _tab24: #REF!
Name _tab24: #REF!
Name _tab24: #REF!
Name _tab5: #REF!
Name _tab5: #REF!
Name _tab5: #REF!
Name _tab6: #REF!
Name _tab6: #REF!
Name _tab6: #REF!
Name _tab7: #REF!
Name _tab7: #REF!
Name _tab7: #REF!
Name _tab8: #REF!
Name _tab8: #REF!
Name _tab8: #REF!

Sheet Havelvats 1
F1: Հավելված 1 ՀՀ կառավարության 2025 թվականի____________ի N _____-Ն որոշման
A3: «ՀԱՅԱՍՏԱՆԻ ՀԱՆՐԱՊԵՏՈՒԹՅԱՆ 2025 ԹՎԱԿԱՆԻ ՊԵՏԱԿԱՆ ԲՅՈՒՋԵԻ ՄԱՍԻՆ» ՕՐԵՆՔԻ N 1 ՀԱՎԵԼՎԱԾԻ N 2 ԱՂՅՈՒՍԱԿՈՒՄ ԿԱՏԱՐՎՈՂ ՎԵՐԱԲԱՇԽՈՒՄԸ ԵՎ ՀԱՅԱՍՏԱՆԻ ՀԱՆՐԱՊԵՏՈՒԹՅԱՆ ԿԱՌԱՎԱՐՈՒԹՅԱՆ 2024 ԹՎԱԿԱՆԻ ԴԵԿՏԵՄԲԵՐԻ 27-Ի N 2060-Ն ՈՐՈՇՄԱՆ N 5 ՀԱՎԵԼՎԱԾԻ N 1 ԱՂՅՈՒՍԱԿՈՒՄ ԿԱՏԱՐՎՈՂ ՓՈՓՈԽՈՒԹՅՈՒՆՆԵՐԸ և ԼՐԱՑՈՒՄՆԵՐԸ
G4: հազար դրամներով
A5: ԲԳԿ | B5: Ծրագրային դասիչը | D5: ԲԳԿ/Ծրագրի /միջոցառման անվանումը | E5: Ծրագրի նպատակը/Միջոցառման նկարագրույունը | F5: Վերջնական արդյունքի նկարագրությունը/Միջոցառման տեսակը | G5: Ցուցանիշների փոփոխությունը (ավելացումները նշված են դրական նշանով, իսկ նվազեցումները` փակագծերում)
B6: Ծրագիր | C6: Միջոցառում | G6: Տարի
A7: ԸՆԴԱՄԵՆԸ | G7: =+G8+G13 -> 0
A8: ՀՀ շրջակա միջավայրի նախարարություն | G8: =G9 -> 0
B9: 1173 | D9: Անտառների կառավարում | E9: Անտառային տարածքների կայուն կառավարում | F9: Կայուն կառավարվող անտառային տարածքների աճ | G9: =G10+G11+G12 -> 0
C10: 1173 - 11001 | D10: Էկոպարեկային ծառայություն | E10: Անտառներում և բնության հատուկ պահպանվող տարածքներում պահպանության իրականացում և համակարգում | F10: Ծառայությունների մատուցում | G10: ='Havelvats 4'!G19 -> -1165755
C11: 1173 - 31001 | D11: Էկոպարեկային ծառայության տեխնիկական կարողությունների ընդլայնում | E11: Համակարգչային սարքավորումների և գրասենյակային գույքի ձեռքբերում | F11: Պետական մարմինների կողմից օգտագործվող ոչ ֆինանսական ակտիվների հետ գործառնություններ | G11: ='Havelvats 4'!G36 -> 270755
C12: 1173 - 31002 | D12: Էկոպարեկային ծառայության տրանսպորտային միջոցներով ապահովվածություն | E12: Էկոպարեկային ծառայության իրականացման համար տրանսպորտային միջոցների ձեռք բերում | F12: Պետական մարմինների կողմից օգտագործվող ոչ ֆինանսական ակտիվների հետ գործառնություններ | G12: ='Havelvats 4'!G45 -> 895000
A13: ՀՀ կառավարություն | G13: =+G14 -> 0
B14: 1139 | D14: ՀՀ կառավարության պահուստային ֆոնդ | E14: Պետական բյուջեում չկանխատեսված, ինչպես նաև բյուջետային երաշխիքների ապահովման ծախսերի ֆինանսավորման ապահովում | F14: Պահուստային ֆոնդի կառավարման արդյունավետության և թափանցիկության ապահովում | G14: =+G15+G16 -> 0
C15: 1139 - 11001 | D15: ՀՀ կառավարության պահուստային ֆոնդ | E15: ՀՀ պետական բյուջեում նախատեսված ելքերի լրացուցիչ ֆինանսավորման, պետական բյուջեում չկանխատեսված ելքերի, ինչպես նաև բյուջետային երաշխիքների ապահովման ելքերի ֆինանսավորման ապահովում | F15: Ծառայությունների մատուցում | G15: =+G12 -> 895000
C16: 1139 - 11001 | D16: ՀՀ կառավարության պահուստային ֆոնդ | E16: ՀՀ պետական բյուջեում նախատեսված ելքերի լրացուցիչ ֆինանսավորման, պետական բյուջեում չկանխատեսված ելքերի, ինչպես նաև բյուջետային երաշխիքների ապահովման ելքերի ֆինանսավորման ապահովում | F16: Ծառայությունների մատուցում | G16: -895000

Sheet Havelvats 2
A1: Հավելված 2 ՀՀ կառավարության 2025 թվականի____________ի N _____-Ն որոշման
A3: «ՀԱՅԱՍՏԱՆԻ ՀԱՆՐԱՊԵՏՈՒԹՅԱՆ 2025 ԹՎԱԿԱՆԻ ՊԵՏԱԿԱՆ ԲՅՈՒՋԵԻ ՄԱՍԻՆ» ՕՐԵՆՔԻ N 1 ՀԱՎԵԼՎԱԾԻ N 3 ԱՂՅՈՒՍԱԿՈՒՄ ԿԱՏԱՐՎՈՂ ՓՈՓՈԽՈՒԹՅՈՒՆՆԵՐԸ
E4: հազար դրամներով
A5: Ծրագրային դասիչ | C5: Բյուջետային գլխավոր կարգադրիչների, ծրագրերի, միջոցառումների և ուղղությունների անվանումները | D5: Ընդամենը | E5: Ցուցանիշների փոփոխությունը (ավելացումները նշված են դրական նշանով)
E6: այդ թվում`
A7: Ծրագիր | B7: Միջոց առում | E7: Կառուցման աշխատանքներ | F7: Վերակառուցման, վերանորոգման և վերականգնման աշխատանքներ | G7: Նախագծահե- տազոտական, գեոդեզիա- քարտեզագրական աշխատանքներ | H7: Ոչ ֆինանսական այլ ակտիվների ձեռքբերում
C8: ԸՆԴԱՄԵՆԸ | D8: =D9 -> 1165755 | E8: =E9 -> 0 | F8: =F9 -> 0 | G8: =G9 -> 0 | H8: =H9 -> 1165755
C9: ՀՀ շրջակա միջավայրի նախարարություն | D9: =D11+D12 -> 1165755 | E9: =E11+E12 -> 0 | F9: =F11+F12 -> 0 | G9: =G11+G12 -> 0 | H9: =H11+H12 -> 1165755
C10: այդ թվում՛
A11: 1173 | B11: 31001 | C11: Էկոպարեկային ծառայության տեխնիկական կարողությունների ընդլայնում | D11: =E11+F11+G11+H11 -> 270755 | F11: 0 | G11: 0 | H11: ='Havelvats 4'!G36 -> 270755
A12: 1173 | B12: 31002 | C12: Էկոպարեկային ծառայության տրանսպորտային միջոցներով ապահովվածություն | D12: =E12+F12+G12+H12 -> 895000 | F12: 0 | G12: 0 | H12: ='Havelvats 4'!G45 -> 895000

Sheet Havelvats 3
C1: Հավելված 3 ՀՀ կառավարության 2025 թվականի____________ի N _____-Ն որոշման
A3: ՀԱՅԱՍՏԱՆԻ ՀԱՆՐԱՊԵՏՈՒԹՅԱՆ ԿԱՌԱՎԱՐՈՒԹՅԱՆ 2024 ԹՎԱԿԱՆԻ ԴԵԿՏԵՄԲԵՐԻ 27-Ի N 2060-Ն ՈՐՈՇՄԱՆ N 5 ՀԱՎԵԼՎԱԾԻ N 2 ԱՂՅՈՒՍԱԿՈՒՄ ԿԱՏԱՐՎՈՂ ՓՈՓՈԽՈՒԹՅՈՒՆԸ
D5: հազար դրամներով
A6: Ծրագրային դասիչ | C6: Բյուջետային գլխավոր կարգադրիչների, ծրագրերի, միջոցառումների և ուղղությունների անվանումները | D6: Ցուցանիշների փոփոխությունը (ավելացումները նշված են դրական նշանով)
A7: Ծրագիր | B7: Միջոցառում | D7: Տարի
C8: ԸՆԴԱՄԵՆԸ | D8: =D9 -> 1165755
C9: ՀՀ շրջակա միջավայրի նախարարություն | D9: =D11+D14 -> 1165755
C10: այդ թվում՛
A11: 1173 | B11: 31001 | C11: Էկոպարեկային ծառայության տեխնիկական կարողությունների ընդլայնում | D11: =D13 -> 270755
C12: այդ թվում` ըստ կատարողների
C13: ՀՀ շրջակա միջավայրի նախարարության Էկոպարեկային ծառայություն | D13: ='Havelvats 4'!G36 -> 270755
A14: 1173 | B14: 31002 | C14: Էկոպարեկային ծառայության տրանսպորտային միջոցներով ապահովվածություն | D14: 895000
C15: այդ թվում` ըստ կատարողների
C16: ՀՀ շրջակա միջավայրի նախարարության Էկոպարեկային ծառայություն | D16: ='Havelvats 4'!G45 -> 895000

Sheet Havelvats 4
F1: Հավելված 4 ՀՀ կառավարության 2025 թվականի____________ի N _____-Ն որոշման
A3: ՀԱՅԱՍՏԱՆԻ ՀԱՆՐԱՊԵՏՈՒԹՅԱՆ ԿԱՌԱՎԱՐՈՒԹՅԱՆ 2024 ԹՎԱԿԱՆԻ ԴԵԿՏԵՄԲԵՐԻ 27-Ի N 2060-Ն ՈՐՈՇՄԱՆ NN 3 ԵՎ 4 ՀԱՎԵԼՎԱԾՆԵՐՈՒՄ ԿԱՏԱՐՎՈՂ ՓՈՓՈԽՈՒԹՅՈՒՆՆԵՐԸ ԵՎ ԼՐԱՑՈՒՄՆԵՐԸ
G4: հազար դրամներով
A5: Գործառնական դասիչ | D5: Ծրագրային դասիչը | F5: Բյուջետային ծախսերի գործառական դասակարգման բաժինների, խմբերի և դասերի, բյուջետային ծրագրերի միջոցառումների, բյուջետային հատկացումների գլխավոր կարգադրիչների անվանումները | G5: Ցուցանիշների փոփոխությունը (ավելացումները նշված են դրական նշանով, իսկ նվազեցումները` փակագծերում)
A6: Բաժին | B6: Խումբ | C6: Դաս | D6: Ծրագիր | E6: Միջոցառում | G6: Տարի
A7: 05 | F7: ԸՆԴԱՄԵՆԸ ԾԱԽՍԵՐ | G7: =G9 -> 0
F8: այդ թվում`
B9: 06 | F9: ՇՐՋԱԿԱ ՄԻՋԱՎԱՅՐԻ ՊԱՇՏՊԱՆՈՒԹՅՈՒՆ | G9: =G11 -> 0
F10: այդ թվում`
F11: Շրջակա միջավայրի պաշտպանություն (այլ դասերին չպատկանող) | G11: =G13 -> 0
F12: այդ թվում`
C13: 01 | F13: Շրջակա միջավայրի պաշտպանություն (այլ դասերին չպատկանող) | G13: =G15 -> 0
F14: այդ թվում`
F15: ՀՀ շրջակա միջավայրի նախարարություն | G15: =G17 -> 0
F16: այդ թվում`
D17: 1173 | F17: Անտառների կառավարում | G17: =G19+G28+G37 -> 0
F18: այդ թվում`
E19: 11001 | F19: Էկոպարեկային ծառայություն | G19: =G21 -> -1165755
F20: այդ թվում` ըստ կատարողների
F21: ՀՀ շրջակա միջավայրի նախարարության Էկոպարեկային ծառայություն | G21: =G23 -> -1165755
F22: այդ թվում` բյուջետային ծախսերի տնտեսագիտական դասակարգման հոդվածներ
F23: ԸՆԴԱՄԵՆԸ ԾԱԽՍԵՐ | G23: =G24 -> -1165755
F24: ԸՆԹԱՑԻԿ ԾԱԽՍԵՐ | G24: =G25 -> -1165755
F25: ԱՇԽԱՏԱՆՔԻ ՎԱՐՁԱՏՐՈՒԹՅՈՒՆ | G25: =G26 -> -1165755
F26: Դրամով վճարվող աշխատավարձեր և հավելավճարներ | G26: =G27 -> -1165755
F27: - Աշխատողների աշխատավարձեր և հավելավճարներ | G27: -1165755
E28: 31001 | F28: Էկոպարեկային ծառայության տեխնիկական կարողությունների ընդլայնում | G28: =G36 -> 270755
F29: այդ թվում` ըստ կատարողների
F30: ՀՀ շրջակա միջավայրի նախարարության Էկոպարեկային ծառայություն | G30: =G32 -> 270755
F31: այդ թվում` բյուջետային ծախսերի տնտեսագիտական դասակարգման հոդվածներ
F32: ԸՆԴԱՄԵՆԸ ԾԱԽՍԵՐ | G32: =G36 -> 270755
F33: ՈՉ ՖԻՆԱՆՍԱԿԱՆ ԱԿՏԻՎՆԵՐԻ ԳԾՈՎ ԾԱԽՍԵՐ | G33: =G36 -> 270755
F34: ՀԻՄՆԱԿԱՆ ՄԻՋՈՑՆԵՐ | G34: =G36 -> 270755
F35: ՄԵՔԵՆԱՆԵՐ ԵՎ ՍԱՐՔԱՎՈՐՈՒՄՆԵՐ | G35: =G36 -> 270755
F36: - Վարչական սարքավորումներ | G36: ='Havelvats 6'!I11+'Havelvats 6'!I12+'Havelvats 6'!I13+'Havelvats 6'!I14+'Havelvats 6'!I15+'Havelvats 6'!I16+'Havelvats 6'!I17+'Havelvats 6'!I18+'Havelvats 6'!I19+'Havelvats 6'!I20+'Havelvats 6'!I21+'Havelvats 6'!I22+'Havelvats 6'!I23+'Havelvats 6'!I24+'Havelvats 6'!I25+'Havelvats 6'!I26+'Havelvats 6'!I27+'Havelvats 6'!I28+'Havelvats 6'!I29+'Havelvats 6'!I30+'Havelvats 6'!I31 -> 270755
E37: 31002 | F37: Էկոպարեկային ծառայության տրանսպորտային միջոցներով ապահովվածություն | G37: =G45 -> 895000
F38: այդ թվում` ըստ կատարողների
F39: ՀՀ շրջակա միջավայրի նախարարության Էկոպարեկային ծառայություն | G39: =G45 -> 895000
F40: այդ թվում` բյուջետային ծախսերի տնտեսագիտական դասակարգման հոդվածներ
F41: ԸՆԴԱՄԵՆԸ ԾԱԽՍԵՐ | G41: =G45 -> 895000
F42: ՈՉ ՖԻՆԱՆՍԱԿԱՆ ԱԿՏԻՎՆԵՐԻ ԳԾՈՎ ԾԱԽՍԵՐ | G42: =G45 -> 895000
F43: ՀԻՄՆԱԿԱՆ ՄԻՋՈՑՆԵՐ | G43: =G44 -> 895000
F44: ՄԵՔԵՆԱՆԵՐ ԵՎ ՍԱՐՔԱՎՈՐՈՒՄՆԵՐ | G44: =G45 -> 895000
F45: -Տրանսպորտային սարքավորումներ | G45: 895000
A46: ՀՀ կառավարություն | G46: =+G48 -> 0
F47: այդ թվում՝
A48: 11 | F48: ՀԻՄՆԱԿԱՆ ԲԱԺԻՆՆԵՐԻՆ ՉԴԱՍՎՈՂ ՊԱՀՈՒՍՏԱՅԻՆ ՖՈՆԴԵՐ | G48: =+G50 -> 0
F49: այդ թվում՝
B50: 01 | F50: ՀՀ կառավարության և համայնքների պահուստային ֆոնդ | G50: 0
F51: այդ թվում՝
C52: 01 | F52: ՀՀ կառավարության պահուստային ֆոնդ | G52: =+G54 -> 0
F53: այդ թվում՝
F54: ՀՀ կառավարություն | G54: =+G56 -> 0
F55: այդ թվում՝
D56: 1139 | F56: ՀՀ կառավարության պահուստային ֆոնդ | G56: =+G58+G66 -> 0
F57: այդ թվում՝
E58: 11001 | F58: ՀՀ կառավարության պահուստային ֆոնդ | G58: =+G60 -> 895000
F59: այդ թվում՝ ըստ կատարողների
F60: ՀՀ կառավարություն | G60: =+G62 -> 895000
F61: այդ թվում՝ բյուջետային ծախսերի տնտեսագիտական դասակարգման հոդվածներ
F62: ԸՆԴԱՄԵՆԸ՝ ԾԱԽՍԵՐ | G62: =+G63 -> 895000
F63: ԸՆԹԱՑԻԿ ԾԱԽՍԵՐ | G63: =+G64 -> 895000
F64: ԱՅԼ ԾԱԽՍԵՐ | G64: =+G65 -> 895000
F65: - Պահուստային միջոցներ | G65: =+G45 -> 895000
E66: 11001 | F66: ՀՀ կառավարության պահուստային ֆոնդ | G66: =+G68 -> -895000
F67: այդ թվում՝ ըստ կատարողների
F68: ՀՀ կառավարություն | G68: =+G70 -> -895000
F69: այդ թվում՝ բյուջետային ծախսերի տնտեսագիտական դասակարգման հոդվածներ
F70: ԸՆԴԱՄԵՆԸ՝ ԾԱԽՍԵՐ | G70: =+G71 -> -895000
F71: ԸՆԹԱՑԻԿ ԾԱԽՍԵՐ | G71: =+G72 -> -895000
F72: ԱՅԼ ԾԱԽՍԵՐ | G72: =+G73 -> -895000
F73: - Պահուստային միջոցներ | G73: =-G58 -> -895000

Sheet Havelvats 5
I1: Հավելված 5 ՀՀ կառավարության 2025 թվականի____________ի N _____-Ն որոշման
A3: ՀԱՅԱՍՏԱՆԻ ՀԱՆՐԱՊԵՏՈՒԹՅԱՆ ԿԱՌԱՎԱՐՈՒԹՅԱՆ 2024 ԹՎԱԿԱՆԻ ԴԵԿՏԵՄԲԵՐԻ 27-Ի N 2060-Ն ՈՐՈՇՄԱՆ N 9 և 9.1 ՀԱՎԵԼՎԱԾՆԵՐՈՒՄ ԿԱՏԱՐՎՈՂ ՓՈՓՈԽՈՒԹՅՈՒՆՆԵՐԸ ԵՎ ԼՐԱՑՈՒՄՆԵՐԸ
J4: հազար դրամներով
A5: ԲԳԿ | B5: Ծրագիր | D5: Միջոցառում | H5: Իրականացնողը/ ակտիվն օգտագործողը/ շահառուի ընտրության չափորոշիչը | I5: Արդյունքային չափորոշիչը | J5: Ցուցանիշների փոփոխությունը (ավելացումները նշված են դրական նշանով, իսկ նվազեցումները` փակագծերում)
B6: Դասիչը | C6: Անվա-նումը | D6: Դասիչը | E6: Անվա-նումը | F6: Նկարագրու-թյունը | G6: Տեսակը | J6: Տարի
A7: ԸՆԴԱՄԵՆԸ | J7: =J8 -> 0
A8: ՀՀ շրջակա միջավայրի նախարարություն | J8: =J9 -> 0
B9: 1173 | C9: Անտառների կառավարում | J9: =J10+J15+J24 -> 0
D10: 1173 - 11001 | E10: Էկոպարեկային ծառայություն | J10: ='Havelvats 4'!G19 -> -1165755
F11: Անտառներում և բնության հատուկ պահպանվող տարածքներում պահպանության իրականացում և համակարգում
G12: Ծառայությունների մատուցում
H13: Ծառայությունը մատուցողի անվանումը` Շրջակա միջավայրի նախարարության էկոպարեկային ծառայություն
D15: 1173-31001 | E15: Էկոպարեկային ծառայության տեխնիկական կարողությունների ընդլայնում | J15: ='Havelvats 4'!G36 -> 270755
F16: Համակարգչային սարքավորումների և գրասենյակային գույքի ձեռքբերում
G17: Պետական մարմինների կողմից օգտագործվող ոչ ֆինանսական ակտիվների հետ գործառնություններ
H18: Ակտիվն օգտագործող կազմակերպության անվանումը` Շրջակա միջավայրի նախարարության Էկոպարեկային ծառայություն
I19: Կապի ապահովման տեխնիկական համակարգ | J19: 14
I20: Տեսահսկողության համակարգ | J20: 1
I21: Համակարգչային սարքավորումներ, քանակ, հատ | J21: ='Havelvats 6'!H28+'Havelvats 6'!H31 -> 76
I22: Գրասենյակային գույք, քանակ, հատ | J22: ='Havelvats 6'!H13+'Havelvats 6'!H14+'Havelvats 6'!H15+'Havelvats 6'!H16+'Havelvats 6'!H17+'Havelvats 6'!H18+'Havelvats 6'!H19+'Havelvats 6'!H20+'Havelvats 6'!H21+'Havelvats 6'!H22+'Havelvats 6'!H23+'Havelvats 6'!H24+'Havelvats 6'!H25+'Havelvats 6'!H26+'Havelvats 6'!H27+'Havelvats 6'!H29+'Havelvats 6'!H30 -> 824
I23: Շրջակա միջավայրի նախարարության էկոպարեկային ծառայության համակարգչային տեխնիկայով և գրասենյակային գույքով հագեցվածություն, տոկոս | J23: 70
D24: 1173-31002 | E24: Էկոպարեկային ծառայության տրանսպորտային միջոցներով ապահովվածություն | J24: ='Havelvats 4'!G45 -> 895000
F25: Էկոպարեկային ծառայության իրականացման համար տրանսպորտային միջոցների ձեռք բերում
G26: Պետական մարմինների կողմից օգտագործվող ոչ ֆինանսական ակտիվների հետ գործառնություններ
H27: Ակտիվն օգտագործող կազմակերպության անվանումը` Շրջակա միջավայրի նախարարության Էկոպարեկային ծառայություն
I28: Էկոպարեկային ծառայության ՀՀ Տավուշի մարզային վարչության համար հատուկ նշանակության տրանսպորտային միջոցների ձեռքբերում քանակ, հատ | J28: ='Havelvats 6'!H35+'Havelvats 6'!H36 -> 55
I29: Էկոպարեկային ծառայության ՀՀ Տավուշի մարզային վարչության տրանսպորտային միջոցներով հագեցվածություն, տոկոս | J29: 100
A30: ՀՀ կառավարություն | J30: =+J31 -> 0
B31: 1139 | C31: ՀՀ կառավարության պահուստային ֆոնդ | J31: =+J32+J36 -> 0
D32: 1139 - 11001 | E32: ՀՀ կառավարության պահուստային ֆոնդ | J32: 895000
F33: ՀՀ պետական բյուջեում նախատեսված ելքերի լրացուցիչ ֆինանսավորման, պետական բյուջեում չկանխատեսված ելքերի, ինչպես նաև բյուջետային երաշխիքների ապահովման ելքերի ֆինանսավորման ապահովում
G34: Ծառայությունների մատուցում
H35: Ծառայությունը մատուցողի անվանումը` ՀՀ կառավարություն
D36: 1139 - 11001 | E36: ՀՀ կառավարության պահուստային ֆոնդ | J36: -895000
F37: ՀՀ պետական բյուջեում նախատեսված ելքերի լրացուցիչ ֆինանսավորման, պետական բյուջեում չկանխատեսված ելքերի, ինչպես նաև բյուջետային երաշխիքների ապահովման ելքերի ֆինանսավորման ապահովում
G38: Ծառայությունների մատուցում
H39: Ծառայությունը մատուցողի անվանումը` ՀՀ կառավարություն

Sheet Havelvats 6
D1: Հավելված 6 ՀՀ կառավարության 2025 թվականի____________ի N _____-Ն որոշման
A3: ՀԱՅԱՍՏԱՆԻ ՀԱՆՐԱՊԵՏՈՒԹՅԱՆ ԿԱՌԱՎԱՐՈՒԹՅԱՆ 2024 ԹՎԱԿԱՆԻ ԴԵԿՏԵՄԲԵՐԻ 27-Ի N 2060-Ն ՈՐՈՇՄԱՆ N 10 ՀԱՎԵԼՎԱԾՈՒՄ ԿԱՏԱՐՎՈՂ ՓՈՓՈԽՈՒԹՅՈՒՆՆԵՐԸ ԵՎ ԼՐԱՑՈՒՄՆԵՐԸ
H4: հազար դրամներով
A5: Կոդը | B5: Անվանումը | E5: Գնման ձևը | F5: Չափման միավորը | G5: Ցուցանիշների փոփոխությունները (ավելացումները նշված են դրական նշանով)
G6: Միավորի գինը | H6: Քանակը | I6: Գումարը (հազար դրամով)
A7: ՀՀ շրջակա միջավայրի նախարարության Էկոպարեկային ծառայություն | I7: =I8 -> 1165755
A8: Բաժին N 05 | B8: Խումբ N 06 | C8: Դաս N 01 | D8: Շրջակա միջավայրի պաշտպանություն (այլ դասերին չպատկանող) | I8: =I9+I33 -> 1165755
A9: 1173 31001 | B9: Էկոպարեկային ծառայության տեխնիկական կարողությունների ընդլայնում | I9: =I10 -> 270755
B10: ՄԱՍ I. Ա Պ Ր Ա Ն Ք Ն Ե Ր | I10: =SUM(I11:I31) -> 270755
A11: 32231300 | B11: ռադիոհաճախականության վերահաղորդման կայաններ | E11: ԷԱՃ | F11: հատ | G11: 12125000 | H11: 14 | I11: 169750
A12: 32321200 | B12: տեսահսկողության համակարգ | E12: ԷԱՃ | F12: հատ | G12: 42000000 | H12: 1 | I12: 42000
A13: 44421300 | B13: չհրկիզվող պահարաններ | E13: ԷԱՃ | F13: հատ | G13: 300000 | H13: 14 | I13: 3500
A14: 39121200 | B14: սեղաններ | E14: ԷԱՃ | F14: հատ | G14: 280000 | H14: 8 | I14: 2400
A15: 39121520 | B15: գրապահարաններ | E15: ԷԱՃ | F15: հատ | G15: 80000 | H15: 33 | I15: 3300
A16: 39111220 | B16: բազկաթոռ՝ ղեկավարի | E16: ԷԱՃ | F16: հատ | G16: 120000 | H16: 42 | I16: 4620
A17: 39111230 | B17: փոքր բազմոցներ | E17: ԷԱՃ | F17: հատ | G17: 221200 | H17: 10 | I17: 2200
A18: 39138110 | B18: աթոռ մետաղյա | E18: ԷԱՃ | F18: հատ | G18: 30000 | H18: 430 | I18: 10750
A19: 39121100 | B19: գրասեղաններ | E19: ԷԱՃ | F19: հատ | G19: 60000 | H19: 34 | I19: 2040
A20: 39141300 | B20: ճաշասեղաններ | E20: ԷԱՃ | F20: հատ | G20: 100000 | H20: 9 | I20: 882
A21: 39711290 | B21: միկրոալիքային վառարաններ | E21: ԷԱՃ | F21: հատ | G21: 50000 | H21: 16 | I21: 800
A22: 39121500 | B22: խոհանոցային պահարաններ | E22: ԷԱՃ | F22: հատ | G22: 40000 | H22: 9 | I22: 243
... A31: 30211280 | B31: համակարգիչ ամբողջը մեկում | E31: ԷԱՃ | F31: հատ | G31: 310000 | H31: 38 | I31: 9614
A33: 1173-31002 | B33: Էկոպարեկային ծառայության տրանսպորտային միջոցներով ապահովվածություն | I33: =I35+I36 -> 895000
B34: ՄԱՍ I. Ա Պ Ր Ա Ն Ք Ն Ե Ր
A35: 34131100 | B35: փոքրածավալ բեռնատարներ (պիկապներ) | E35: ԷԱՃ | F35: հատ | G35: 17000000 | H35: 15 | I35: 255000
A36: 34131100 | B36: փոքրածավալ բեռնատարներ (պիկապներ) | E36: ԷԱՃ | F36: հատ | G36: 16000000 | H36: 40 | I36: 640000
