Workbook

Sheet 1
G1: Հավելված N 1
D2: ՀՀ կառավարության 2025 թվականի
G3: N ------------ -Ն որոշման
B5: «ՀԱՅԱՍՏԱՆԻ ՀԱՆՐԱՊԵՏՈՒԹՅԱՆ 2025 ԹՎԱԿԱՆԻ ՊԵՏԱԿԱՆ ԲՅՈՒՋԵԻ ՄԱՍԻՆ» ՕՐԵՆՔԻ N 1 ՀԱՎԵԼՎԱԾԻ N 2 ԱՂՅՈՒՍԱԿՈՒՄ ԿԱՏԱՐՎՈՂ ՎԵՐԱԲԱՇԽՈՒՄԸ ԵՎ ՀԱՅԱՍՏԱՆԻ ՀԱՆՐԱՊԵՏՈՒԹՅԱՆ ԿԱՌԱՎԱՐՈՒԹՅԱՆ 2024 ԹՎԱԿԱՆԻ ԴԵԿՏԵՄԲԵՐԻ 27-Ի N 2060-Ն ՈՐՈՇՄԱՆ N 5 ՀԱՎԵԼՎԱԾԻ N 1 ԱՂՅՈՒՍԱԿՈՒՄ ԿԱՏԱՐՎՈՂ ՓՈՓՈԽՈՒԹՅՈՒՆԸ ԵՎ ԼՐԱՑՈՒՄՆԵՐԸ
G9: հազար դրամներով
A10: ԲԳԿ | B10: Ծրագրային դասիչը | D10: ԲԳԿ/Ծրագրի /միջոցառման անվանումը | E10: Ծրագրի նպատակը/Միջոցառման նկարագրությունը | F10: Վերջնական արդյունքի նկարագրությունը/Միջոցառման տեսակը | G10: Ցուցանիշների փոփոխությունը (ավելացումները նշված են դրական նշանով, իսկ նվազեցումները` փակագծերում)
B11: Ծրագիր | C11: Միջոցառում | G11: Տարի
A12: ԸՆԴԱՄԵՆԸ | G12: =G13+G16 -> 0
A13: ՀՀ տարածքային կառավարման և ենթակառուցվածքների նախարարություն | G13: =G14 -> 1708597
B14: 1212 | D14: Տարածքային զարգացում | E14: Տարածքային համաչափ զարգացման խթանում | F14: ՀՀ համայնքների կառավարման արդյունավետության բարձրացում և տնտեսական գործունեության խթանում | G14: =G15 -> 1708597
C15: 12007 | D15: ՀՀ մարզերին սուբվենցիաների տրամադրում՝ ենթակառուցվածքների զարգացման նպատակով | E15: ՀՀ մարզերին սուբվենցիաների տրամադրում՝ ենթակառուցվածքների զարգացման նպատակով | F15: Տրանսֆերտների տրամադրում | G15: =-G16 -> 1708597
A16: ՀՀ կառավարություն | G16: =+G17 -> -1708597
B17: 1139 | D17: ՀՀ կառավարության պահուստային ֆոնդ | E17: Պետական բյուջեում չկանխատեսված, ինչպես նաեւ բյուջետային երաշխիքների ապահովման ծախսերի ֆինանսավորման ապահովում | F17: Պահուստային ֆոնդի կառավարման արդյունավետության և թափանցիկության ապահովում | G17: =+G18+G19+G20 -> -1708597
C18: 1139 - 11001 | D18: ՀՀ կառավարության պահուստային ֆոնդ | E18: ՀՀ պետական բյուջեում նախատեսված ելքերի լրացուցիչ ֆինանսավորման, պետական բյուջեում չկանխատեսված ելքերի, ինչպես նաև բյուջետային երաշխիքների ապահովման ելքերի ֆինանսավորման ապահովում | F18: Ծառայությունների մատուցում | G18: =-'3'!F9 -> -1708597
C19: 1139 - 11001 | D19: ՀՀ կառավարության պահուստային ֆոնդ | E19: ՀՀ պետական բյուջեում նախատեսված ելքերի լրացուցիչ ֆինանսավորման, պետական բյուջեում չկանխատեսված ելքերի, ինչպես նաև բյուջետային երաշխիքների ապահովման ելքերի ֆինանսավորման ապահովում | F19: Ծառայությունների մատուցում | G19: =-G18 -> 1708597
C20: 1139 - 11003 | D20: Հարկաբյուջետային ռիսկերի կառավարման պահուստ | E20: Հարկաբյուջետային ռիսկերի կառավարման նպատակով նախատեսված միջոցներ | F20: Ծառայությունների մատուցում | G20: =G18 -> -1708597
B30: ՀԱՅԱՍՏԱՆԻ ՀԱՆՐԱՊԵՏՈՒԹՅԱՆ
B31: ՎԱՐՉԱՊԵՏԻ ԱՇԽԱՏԱԿԱԶՄԻ
C32: ՂԵԿԱՎԱՐ ՝ Ա. ՀԱՐՈՒԹՅՈՒՆՅԱՆ

Sheet 2
H1: Հավելված N 2
B2: ՀՀ կառավարության 2025 թվականի
H3: N ------------ -Ն որոշման
B4: ՀԱՅԱՍՏԱՆԻ ՀԱՆՐԱՊԵՏՈՒԹՅԱՆ ԿԱՌԱՎԱՐՈՒԹՅԱՆ 2024 ԹՎԱԿԱՆԻ ԴԵԿՏԵՄԲԵՐԻ 27-Ի N 2060-Ն ՈՐՈՇՄԱՆ NN 3 ԵՎ 4 ՀԱՎԵԼՎԱԾՆԵՐՈՒՄ ԿԱՏԱՐՎՈՂ ՓՈՓՈԽՈՒԹՅՈՒՆՆԵՐԸ ԵՎ ԼՐԱՑՈՒՄՆԵՐԸ
H5: հազար դրամներով
B6: Գործառական դասիչը | E6: Ծրագրային դասիչը | G6: Բյուջետային հատկացումների գլխավոր կարգադրիչների, ծրագրերի, միջոցառումների և միջոցառումները կատարող պետական մարմինների անվանումները | H6: Ցուցանիշների փոփոխությունը (ավելացումները նշված են դրական նշանով, իսկ նվազեցումները` փակագծերում)
B7: Բաժին | C7: Խումբ | D7: Դաս | E7: Ծրագիր | F7: Միջոցառում | H7: Տարի
G8: ԸՆԴԱՄԵՆԸ | H8: =H10+H66 -> 0
G9: այդ թվում`
G10: ՀՀ տարածքային կառավարման և ենթակառուցվածքների նախարարություն | H10: =H12 -> 1708597
G11: այդ թվում`
B12: 01 | G12: ԸՆԴՀԱՆՈՒՐ ԲՆՈՒՅԹԻ ՀԱՆՐԱՅԻՆ ԾԱՌԱՅՈՒԹՅՈՒՆՆԵՐ | H12: =+H14 -> 1708597
G13: այդ թվում`
C14: 08 | G14: Կառավարության տարբեր մակարդակների միջև իրականացվող ընդհանուր բնույթի տրանսֆերտներ | H14: =+H16 -> 1708597
G15: այդ թվում`
D16: 01 | G16: Կառավարության տարբեր մակարդակների միջև իրականացվող ընդհանուր բնույթի տրանսֆերտներ | H16: =H18 -> 1708597
G17: այդ թվում`
G18: ՀՀ տարածքային կառավարման և ենթակառուցվածքների նախարարություն | H18: =H20 -> 1708597
G19: այդ թվում`
E20: 1212 | G20: Տարածքային զարգացում | H20: =H22 -> 1708597
G21: այդ թվում
F22: 12007 | G22: ՀՀ մարզերին սուբվենցիաների տրամադրում` ենթակառուցվածքների զարգացման նպատակով | H22: ='3'!F17 -> 1708597
G23: այդ թվում` ըստ կատարողների
G24: ՀՀ Արարատի մարզպետի աշխատակազմ | H24: ='[1]3'!F19 -> 234173.8
G25: այդ թվում` բյուջետային ծախսերի տնտեսագիտական դասակարգման հոդվածներ
G26: ԸՆԴԱՄԵՆԸ ԾԱԽՍԵՐ | H26: =H27 -> 234173.8
G27: ԸՆԹԱՑԻԿ ԾԱԽՍԵՐ | H27: =H28 -> 234173.8
G28: ԴՐԱՄԱՇՆՈՐՀՆԵՐ | H28: =H29 -> 234173.8
G29: Կապիտալ դրամաշնորհներ պետական հատվածի այլ մակարդակներին | H29: =H30 -> 234173.8
G30: - Կապիտալ սուբվենցիաներ համայնքներին | H30: =H24 -> 234173.8
G31: ՀՀ Արմավիրի մարզպետի աշխատակազմ | H31: ='3'!F23 -> 246505.5
G32: այդ թվում` բյուջետային ծախսերի տնտեսագիտական դասակարգման հոդվածներ
G33: ԸՆԴԱՄԵՆԸ ԾԱԽՍԵՐ | H33: =H34 -> 246505.5
G34: ԸՆԹԱՑԻԿ ԾԱԽՍԵՐ | H34: =H35 -> 246505.5
G35: ԴՐԱՄԱՇՆՈՐՀՆԵՐ | H35: =H36 -> 246505.5
G36: Կապիտալ դրամաշնորհներ պետական հատվածի այլ մակարդակներին | H36: =H37 -> 246505.5
G37: - Կապիտալ սուբվենցիաներ համայնքներին | H37: =H31 -> 246505.5
G38: ՀՀ Գեղարքունիքի մարզպետի աշխատակազմ | H38: ='[1]3'!F29 -> 168015.6
G39: այդ թվում` բյուջետային ծախսերի տնտեսագիտական դասակարգման հոդվածներ
G40: ԸՆԴԱՄԵՆԸ ԾԱԽՍԵՐ | H40: =H41 -> 168015.6
G41: ԸՆԹԱՑԻԿ ԾԱԽՍԵՐ | H41: =H42 -> 168015.6
G42: ԴՐԱՄԱՇՆՈՐՀՆԵՐ | H42: =H43 -> 168015.6
G43: Կապիտալ դրամաշնորհներ պետական հատվածի այլ մակարդակներին | H43: =H44 -> 168015.6
G44: - Կապիտալ սուբվենցիաներ համայնքներին | H44: =H38 -> 168015.6
G45: ՀՀ Կոտայքի մարզպետի աշխատակազմ | H45: ='[1]3'!F33 -> 191364.6
G46: այդ թվում` բյուջետային ծախսերի տնտեսագիտական դասակարգման հոդվածներ
G47: ԸՆԴԱՄԵՆԸ ԾԱԽՍԵՐ | H47: =H48 -> 191364.6
G48: ԸՆԹԱՑԻԿ ԾԱԽՍԵՐ | H48: =H49 -> 191364.6
G49: ԴՐԱՄԱՇՆՈՐՀՆԵՐ | H49: =H50 -> 191364.6
G50: Կապիտալ դրամաշնորհներ պետական հատվածի այլ մակարդակներին | H50: =H51 -> 191364.6
G51: - Կապիտալ սուբվենցիաներ համայնքներին | H51: =H45 -> 191364.6
G52: ՀՀ Սյունիքի մարզպետի աշխատակազմ | H52: =H54 -> 715989
G53: այդ թվում` բյուջետային ծախսերի տնտեսագիտական դասակարգման հոդվածներ
G54: ԸՆԴԱՄԵՆԸ ԾԱԽՍԵՐ | H54: =H55 -> 715989
G55: ԸՆԹԱՑԻԿ ԾԱԽՍԵՐ | H55: =H56 -> 715989
G56: ԴՐԱՄԱՇՆՈՐՀՆԵՐ | H56: =H57 -> 715989
G57: Կապիտալ դրամաշնորհներ պետական հատվածի այլ մակարդակներին | H57: =H58 -> 715989
G58: - Կապիտալ սուբվենցիաներ համայնքներին | H58: ='3'!F37 -> 715989
G59: ՀՀ Վայոց ձորի մարզպետի աշխատակազմ | H59: ='[1]3'!F44 -> 0
G60: այդ թվում` բյուջետային ծախսերի տնտեսագիտական դասակարգման հոդվածներ
G61: ԸՆԴԱՄԵՆԸ ԾԱԽՍԵՐ | H61: =H62 -> 0
G62: ԸՆԹԱՑԻԿ ԾԱԽՍԵՐ | H62: =H63 -> 0
G63: ԴՐԱՄԱՇՆՈՐՀՆԵՐ | H63: =H64 -> 0
G64: Կապիտալ դրամաշնորհներ պետական հատվածի այլ մակարդակներին | H64: =H65 -> 0
G65: - Կապիտալ սուբվենցիաներ համայնքներին | H65: =H59 -> 0
G66: ՀՀ ԿԱՌԱՎԱՐՈՒԹՅՈՒՆ | H66: =+H68 -> -1708597
G67: այդ թվում`
B68: 11 | G68: ՀԻՄՆԱԿԱՆ ԲԱԺԻՆՆԵՐԻՆ ՉԴԱՍՎՈՂ ՊԱՀՈՒՍՏԱՅԻՆ ՖՈՆԴԵՐ | H68: =+H70 -> -1708597
G69: այդ թվում`
C70: 01 | G70: ՀՀ կառավարության և համայնքների պահուստային ֆոնդ | H70: =H72 -> -1708597
G71: այդ թվում`
D72: 01 | G72: ՀՀ կառավարության պահուստային ֆոնդ | H72: =H74 -> -1708597
G73: այդ թվում`
G74: ՀՀ կառավարություն | H74: =H76 -> -1708597
G75: այդ թվում`
E76: 1139 | G76: ՀՀ կառավարության պահուստային ֆոնդ | H76: =H78+H86+H94 -> -1708597
G77: այդ թվում`
F78: 11001 | G78: ՀՀ կառավարության պահուստային ֆոնդ | H78: =H80 -> -1708597
G79: այդ թվում` ըստ կատարողների
G80: ՀՀ կառավարություն | H80: =H85 -> -1708597
G81: այդ թվում` բյուջետային ծախսերի տնտեսագիտական դասակարգման հոդվածներ
G82: ԸՆԴԱՄԵՆԸ ԾԱԽՍԵՐ | H82: =H83 -> -1708597
G83: ԸՆԹԱՑԻԿ ԾԱԽՍԵՐ | H83: =H84 -> -1708597
G84: ԱՅԼ ԾԱԽՍԵՐ | H84: ='1'!G17 -> -1708597
G85: Պահուստային միջոցներ | H85: ='1'!G18 -> -1708597
F86: 11001 | G86: ՀՀ կառավարության պահուստային ֆոնդ | H86: =H88 -> 1708597
G87: այդ թվում` ըստ կատարողների
G88: ՀՀ կառավարություն | H88: =H93 -> 1708597
G89: այդ թվում` բյուջետային ծախսերի տնտեսագիտական դասակարգման հոդվածներ
G90: ԸՆԴԱՄԵՆԸ ԾԱԽՍԵՐ | H90: =H91 -> 1708597
G91: ԸՆԹԱՑԻԿ ԾԱԽՍԵՐ | H91: =H92 -> 1708597
G92: ԱՅԼ ԾԱԽՍԵՐ | H92: =H93 -> 1708597
G93: Պահուստային միջոցներ | H93: =-H85 -> 1708597
F94: 11003 | G94: Հարկաբյուջետային ռիսկերի կառավարման պահուստ | H94: =H96 -> -1708597
G95: այդ թվում` ըստ կատարողների
G96: ՀՀ կառավարություն | H96: =H99 -> -1708597
G97: այդ թվում` բյուջետային ծախսերի տնտեսագիտական դասակարգման հոդվածներ
G98: ԸՆԴԱՄԵՆԸ ԾԱԽՍԵՐ | H98: =H99 -> -1708597
G99: ԸՆԹԱՑԻԿ ԾԱԽՍԵՐ | H99: =H100 -> -1708597
G100: ԱՅԼ ԾԱԽՍԵՐ | H100: =H101 -> -1708597
...

Sheet 3
F1: Հավելված № 3
E2: ՀՀ կառավարության 2025 թվականի
F3: N ------------ -Ն որոշման
C5: «ՀԱՅԱՍՏԱՆԻ ՀԱՆՐԱՊԵՏՈՒԹՅԱՆ 2025 ԹՎԱԿԱՆԻ ՊԵՏԱԿԱՆ ԲՅՈՒՋԵԻ ՄԱՍԻՆ» ՕՐԵՆՔԻ N 1 ՀԱՎԵԼՎԱԾԻ N 7 ԱՂՅՈՒՍԱԿՈՒՄ ԼՐԱՑՈՒՄԸ ԵՎ ՓՈՓՈԽՈՒԹՅՈՒՆԸ,ՀԱՅԱՍՏԱՆԻ ՀԱՆՐԱՊԵՏՈՒԹՅԱՆ ԿԱՌԱՎԱՐՈՒԹՅԱՆ 2024 ԹՎԱԿԱՆԻ ԴԵԿՏԵՄԲԵՐԻ 27-Ի N 2060-Ն ՈՐՈՇՄԱՆ N 5 ՀԱՎԵԼՎԱԾԻ N 6 ԱՂՅՈՒՍԱԿՈՒՄ ԿԱՏԱՐՎՈՂ ՓՈՓՈԽՈՒԹՅՈՒՆԸ ԵՎ ԼՐԱՑՈՒՄՆԵՐԸ
F6: հազար դրամներով
C7: Ծրագրային դասիչը | E7: Հատկացումների տրամադրման նպատակները և բյուջետային գլխավոր կարգադրիչների, ծրագրերի, միջոցառումների և կատարող պետական մարմնի անվանումները | F7: Ցուցանիշների փոփոխությունը (ավելացումները նշված են դրական նշանով, իսկ նվազեցումները` փակագծերում)
C8: Ծրագիր | D8: Միջոցառում | F8: Տարի
E9: ԸՆԴԱՄԵՆԸ | F9: =F11 -> 1708597
E10: այդ թվում
E11: Կապիտալ սուբվենցիաներ համայնքներին | F11: =F13 -> 1708597
E12: այդ թվում`
E13: ՀՀ տարածքային կառավարման և ենթակառուցվածքների նախարարություն | F13: =F15 -> 1708597
E14: այդ թվում`
C15: 1212 | E15: Տարածքային զարգացում | F15: =F17 -> 1708597
E16: այդ թվում`
D17: 12007 | E17: ՀՀ մարզերին սուբվենցիաների տրամադրում՝ ենթակառուցվածքների զարգացման նպատակով | F17: =F19+F23+F28+F32+F37+F43 -> 1708597
E18: այդ թվում` ըստ կատարողների
E19: ՀՀ Արարատի մարզպետի աշխատակազմ | F19: =F21+F22 -> 234173.8
E20: այդ թվում` ըստ ուղղությունների
E21: Արարատ համայնքի Արարատ քաղաքի, Արարատ, Երասխ, Արմաշ, Ավշար, Նոյակերտ, Զանգակատուն, Լանջառ, Ուրցալանջ ևՊ․ Սևակ, բնակավայրերի ճանապարհների վերանորոգում ասֆալտապատմամբ /Արարատ -1-ին փուլ / | F21: 160982.4
E22: Վեդի համայնքի Վեդի քաղաքային և Լուսառատ բնակավայրերի բազմաբնակարան բնակելի շենքերի տանիքների նորոգում | F22: 73191.4
E23: ՀՀ Արմավիրի մարզպետի աշխատակազմ | F23: =SUM(F25:F27) -> 246505.5
E24: այդ թվում` ըստ ուղղությունների
E25: Արմավիր համայնքի Արմավիր քաղաքի թիվ 2 մսուր-մանկապարտեզ» ՀՈԱԿ-ի, «ՀՀ Արմավիրի մարզի Արմավիր համայնքի Արմավիր քաղաքի թիվ 11 մսուր-մանկապարտեզ» ՀՈԱԿ-ի, ՀՀ Արմավիրի մարզի Արմավիր համայնքի Արմավիր քաղաքի թիվ 12 մանկապարտեզի, ՀՀ Արմավիրի մարզի Արմավիր համայնքի Արաքս գյուղի մանկապարտեզի, ՀՀ Արմավիրի մարզի Արմավիր համայնքի Խանջյան գյուղի մանկապարտեզի գույքի և սարքավորումների ձեռքբերում /ՀՀ Արմավիրի մարզի Արմավիր համայնքի Արմավիր քաղաքի թիվ 2 մսուր-մանկապարտեզ» ՀՈԱԿ-ի գույքի և սարքավորումների ձեռքբերում/ | F25: 6130.6
E26: Վաղարշապատ համայնքի Էջմիածին քաղաքի Արամ Մանուկյան 1-ին թաղամասի 3 փողոցների հիմնանորոգում և Վահան Տերյան և Սուրբ Մ.Խորենացի փողոցների և Չարենց թաղամասի բազմաբնակարան բնակելի շենքերի բակերի և բակային ճանապարհների հիմնանորոգում, ասֆալտբետոնե ծածկի իրականացում | F26: 227791.8
E27: Արաքս համայնքի Առատաշեն գյուղի գերեզմանոց տանող ճանապարհի ասֆալտապատում, Ջրարբի գյուղի Թումանյան փողոցի վերջնամասի ասֆալտապատում, Արտիմետ գյուղի Կոմիտաս և Մեխանիզատորների փողոցների ասֆալտապատում, Ապագա գյուղի 15-րդ փողոցի ասֆալտապատում, Հայկաշեն գյուղի 1-ին և 4-րդ փողոցների ասֆալտապատում, Գայ գյուղի Ա․ Խաչատրյան փողոցի, գերեզմանի հարակից հատվածի ասֆալտապատում և Խորոնք գյուղի Վ․ Տերյան փողոցի ասֆալտապատում /Ապագա գյուղի 15-րդ փողոցի ասֆալտապատում/ | F27: 12583.1
E28: ՀՀԳեղարքունիքի մարզպետի աշխատակազմ | F28: =SUM(F30:F31) -> 168015.6
E29: այդ թվում` ըստ ուղղությունների
E30: Մարտունի համայնքի «Արծվանիստ, Ծովինար, Զոլաքար, Աստղաձոր, Վաղաշեն, Գեղհովիտ և Ն. Գետաշեն բնակավայրերում գազի գծերի կառուցում | F30: 35410.5
E31: Գավառ համայնքի Գավառ քաղաքում շատրվանային համակարգի տեղադրում | F31: 132605.1
E32: ՀՀ Կոտայքի մարզպետի աշխատակազմ | F32: =SUM(F34:F36) -> 191364.6
E33: այդ թվում` ըստ ուղղությունների
E34: Գառնի համայնքի ճանապարհների ասֆալտապատում | F34: 39281.6
E35: Գառնի համայնքի ճանապարհների ասֆալտապատում | F35: 59230.5
E36: Նաիրի համայնքի Եղվարդ քաղաքի կոյուղու /ջրահեռացման/ ցանցի կառուցում | F36: 92852.5
E37: ՀՀ Սյունիքի մարզպետի աշխատակազմ | F37: =F39+F40+F41+F42 -> 715989
E38: այդ թվում` ըստ ուղղությունների
E39: Կապան համայնքի Արծվանիկ բնակավայրի գյուղամիջյան ճանապարհների նորոգում և ասֆալտապատում | F39: 52254.4
E40: Կապան համայնքի «Կապանի համայնքապետարանի մասնաշենքի ուժեղացում, վերակառուցում և նոր մասնաշենքի կառուցում»: | F40: 390566.7
E41: Կապան համայնքի «Կապանի թիվ 2 ՆՈՒՀ» ՀՈԱԿ-ի շենքի հիմնանորոգում և տարածքի բարեկարգում, «Արծվանիկ»ՆՈՒՀ ՀՈԱԿ-ի հարևանությամբ տարածքի բարեկարգում /Կապանի թիվ 2 ՆՈՒՀ ՀՈԱԿ/ | F41: 175650.9
E42: Քաջարան համայնքի «Բազմաբնակարան շենքերի ընդհանուր բաժնային սեփականության գույքի նորոգում՝ էներգախնայող միջոցառումների կիրառմամբ (Քաջարան քաղաքի Շահումյան 8, Բակունցի 5, Բակունցի 9, Խանջյան 12, Լեռնագործներ 19) | F42: 97517
E43: ՀՀ Վայոց ձորի մարզպետի աշխատակազմ | F43: =SUM(F45:F45) -> 152548.5
E44: այդ թվում` ըստ ուղղությունների
E45: Արենի համայնքի Ելփին բնակավայրում մանկապարտեզի շենքի կառուցում | F45: 152548.5
D49: ՀԱՅԱՍՏԱՆԻ ՀԱՆՐԱՊԵՏՈՒԹՅԱՆ
D50: ՎԱՐՉԱՊԵՏԻ ԱՇԽԱՏԱԿԱԶՄԻ
E51: ՂԵԿԱՎԱՐ ՝ Ա. ՀԱՐՈՒԹՅՈՒՆՅԱՆ

Sheet 4
K1: Հավելված № 4
J2: ՀՀ կառավարության 2025 թվականի
K3: N ------------ -Ն որոշման
B6: ՀԱՅԱՍՏԱՆԻ ՀԱՆՐԱՊԵՏՈՒԹՅԱՆ ԿԱՌԱՎԱՐՈՒԹՅԱՆ 2024 ԹՎԱԿԱՆԻ ԴԵԿՏԵՄԲԵՐԻ 27-Ի № 2060-Ն ՈՐՈՇՄԱՆ № 9 ՀԱՎԵԼՎԱԾՈՒՄ ԿԱՏԱՐՎՈՂ ՓՈՓՈԽՈՒԹՅՈՒՆԸ ԵՎ ԼՐԱՑՈՒՄՆԵՐԸ
K8: հազար դրամներով
B9: ԲԳԿ | C9: Ծրագիր | E9: Միջոցառում | I9: Իրականացնողը/ ակտիվն օգտագործողը/ շահառուի ընտրության չափորոշիչը | J9: Արդյունքային չափորոշիչը | K9: Ցուցանիշների փոփոխությունը (ավելացումները նշված են դրական նշանով, իսկ նվազեցումները` փակագծերում)
C10: Դասիչը | D10: Անվանումը | E10: Դասիչը | F10: Անվանումը | G10: Նկարագրությունը | H10: Տեսակը | K10: Տարի
B11: ԸՆԴԱՄԵՆԸ | K11: =K19+K12 -> 0
B12: ՀՀ տարածքային կառավարման և ենթակառուցվածքների նախարարություն | K12: =K13 -> 1708597
C13: 1212 | D13: Տարածքային զարգացում | K13: =K14 -> 1708597
E14: 12007 | F14: ՀՀ մարզերին սուբվենցիաների տրամադրում՝ ենթակառուցվածքների զարգացման նպատակով | K14: =-'2'!H85 -> 1708597
G15: ՀՀ մարզերին սուբվենցիաների տրամադրում՝ ենթակառուցվածքների զարգացման նպատակով
H16: Տրանսֆերտների տրամադրում
I17: Շահառուների ընտրության չափորոշիչները` ՀՀ կառավարության 16.11.2006թ. «ՀՀ պետական բյուջեից համայնքներին սուբվենցիաների տրամադրման կարգը հաստատելու մասին» 1708-Ն որոշում
J18: Ծրագրերի քանակ, հատ | K18: ='[1]5'!K18+'[1]5'!K25+'[1]5'!K32+'[1]5'!K39+'[1]5'!K46+'[1]5'!K53 -> 15
B19: ՀՀ կառավարություն | K19: =+K20 -> -1708597
C20: 1139 | D20: ՀՀ կառավարության պահուստային ֆոնդ | K20: =+K21+K25+K29 -> -1708597
E21: 1139 - 11001 | F21: ՀՀ կառավարության պահուստային ֆոնդ | K21: =+'2'!H85 -> -1708597
G22: ՀՀ պետական բյուջեում նախատեսված ելքերի լրացուցիչ ֆինանսավորման, պետական բյուջեում չկանխատեսված ելքերի, ինչպես նաև բյուջետային երաշխիքների ապահովման ելքերի ֆինանսավորման ապահովում
H23: Ծառայությունների մատուցում
I24: Ծառայությունը մատուցողի անվանումը` ՀՀ կառավարություն
E25: 1139 - 11001 | F25: ՀՀ կառավարության պահուստային ֆոնդ | K25: =-K21 -> 1708597
G26: ՀՀ պետական բյուջեում նախատեսված ելքերի լրացուցիչ ֆինանսավորման, պետական բյուջեում չկանխատեսված ելքերի, ինչպես նաև բյուջետային երաշխիքների ապահովման ելքերի ֆինանսավորման ապահովում
H27: Ծառայությունների մատուցում
I28: Ծառայությունը մատուցողի անվանումը` ՀՀ կառավարություն
E29: 1139 - 11003 | F29: Հարկաբյուջետային ռիսկերի կառավարման պահուստ | K29: =K21 -> -1708597
G30: Հարկաբյուջետային ռիսկերի կառավարման նպատակով նախատեսված միջոցներ
H31: Ծառայությունների մատուցում
I32: Ծառայությունը մատուցողի անվանումը` ՀՀ կառավարություն
D39: ՀԱՅԱՍՏԱՆԻ ՀԱՆՐԱՊԵՏՈՒԹՅԱՆ
D40: ՎԱՐՉԱՊԵՏԻ ԱՇԽԱՏԱԿԱԶՄԻ
E41: ՂԵԿԱՎԱՐ ՝ Ա. ՀԱՐՈՒԹՅՈՒՆՅԱՆ

Sheet 5
K1: Հավելված № 5
J2: ՀՀ կառավարության 2025 թվականի
K3: N ------------ -Ն որոշման
B6: ՀԱՅԱՍՏԱՆԻ ՀԱՆՐԱՊԵՏՈՒԹՅԱՆ ԿԱՌԱՎԱՐՈՒԹՅԱՆ 2024 ԹՎԱԿԱՆԻ ԴԵԿՏԵՄԲԵՐԻ 27-Ի № 2060-Ն ՈՐՈՇՄԱՆ № 9.1 ՀԱՎԵԼՎԱԾՈՒՄ ԿԱՏԱՐՎՈՂ ՓՈՓՈԽՈՒԹՅՈՒՆԸ ԵՎ ԼՐԱՑՈՒՄՆԵՐԸ
K8: հազար դրամներով
B9: ԲՍԿ | C9: Ծրագիր | E9: Միջոցառում | I9: Իրականացնողը/ ակտիվն օգտագործողը/ շահառուի ընտրության չափորոշիչը | J9: Արդյունքային չափորոշիչը | K9: Ցուցանիշների փոփոխությունը (ավելացումները նշված են դրական նշանով, իսկ նվազեցումները` փակագծերում)
C10: Դասիչը | D10: Անվանումը | E10: Դասիչը | F10: Անվանումը | G10: Նկարագրությունը | H10: Տեսակը | K10: Տարի
B11: ԸՆԴԱՄԵՆԸ | K11: 0
B12: ՀՀ Արարատի մարզպետի աշխատակազմ | K12: =K13 -> 234173.8
C13: 1212 | D13: Տարածքային զարգացում | K13: =K14 -> 234173.8
E14: 12007 | F14: ՀՀ մարզերին սուբվենցիաների տրամադրում՝ ենթակառուցվածքների զարգացման նպատակով | K14: ='[1]2'!H24 -> 234173.8
G15: ՀՀ մարզերին սուբվենցիաների տրամադրում՝ ենթակառուցվածքների զարգացման նպատակով
H16: Տրանսֆերտների տրամադրում
I17: Շահառուների ընտրության չափորոշիչները` ՀՀ կառավարության 16.11.2006թ. «ՀՀ պետական բյուջեից համայնքներին սուբվենցիաների տրամադրման կարգը հաստատելու մասին» 1708-Ն որոշում
J18: Ծրագրերի քանակ, հատ | K18: 2
B19: ՀՀ Արմավիրի մարզպետի աշխատակազմ | K19: =K20 -> 246505.5
C20: 1212 | D20: Տարածքային զարգացում | K20: =K21 -> 246505.5
E21: 12007 | F21: ՀՀ մարզերին սուբվենցիաների տրամադրում՝ ենթակառուցվածքների զարգացման նպատակով | K21: ='2'!H31 -> 246505.5
G22: ՀՀ մարզերին սուբվենցիաների տրամադրում՝ ենթակառուցվածքների զարգացման նպատակով
H23: Տրանսֆերտների տրամադրում
I24: Շահառուների ընտրության չափորոշիչները` ՀՀ կառավարության 16.11.2006թ. «ՀՀ պետական բյուջեից համայնքներին սուբվենցիաների տրամադրման կարգը հաստատելու մասին» 1708-Ն որոշում
J25: Ծրագրերի քանակ, հատ | K25: 4
B26: ՀՀ Գեղարքունիքի մարզպետի աշխատակազմ | K26: =K27 -> 168015.6
C27: 1212 | D27: Տարածքային զարգացում | K27: =K28 -> 168015.6
E28: 12007 | F28: ՀՀ մարզերին սուբվենցիաների տրամադրում՝ ենթակառուցվածքների զարգացման նպատակով | K28: ='[1]2'!H38 -> 168015.6
G29: ՀՀ մարզերին սուբվենցիաների տրամադրում՝ ենթակառուցվածքների զարգացման նպատակով
H30: Տրանսֆերտների տրամադրում
I31: Շահառուների ընտրության չափորոշիչները` ՀՀ կառավարության 16.11.2006թ. «ՀՀ պետական բյուջեից համայնքներին սուբվենցիաների տրամադրման կարգը հաստատելու մասին» 1708-Ն որոշում
J32: Ծրագրերի քանակ, հատ | K32: 2
B33: ՀՀ Կոտայքի մարզպետի աշխատակազմ | K33: =K34 -> 191364.6
C34: 1212 | D34: Տարածքային զարգացում | K34: =K35 -> 191364.6
E35: 12007 | F35: ՀՀ մարզերին սուբվենցիաների տրամադրում՝ ենթակառուցվածքների զարգացման նպատակով | K35: ='[1]2'!H45 -> 191364.6
G36: ՀՀ մարզերին սուբվենցիաների տրամադրում՝ ենթակառուցվածքների զարգացման նպատակով
H37: Տրանսֆերտների տրամադրում
I38: Շահառուների ընտրության չափորոշիչները` ՀՀ կառավարության 16.11.2006թ. «ՀՀ պետական բյուջեից համայնքներին սուբվենցիաների տրամադրման կարգը հաստատելու մասին» 1708-Ն որոշում
J39: Ծրագրերի քանակ, հատ | K39: 4
B40: ՀՀ Սյունիքի մարզպետի աշխատակազմ | K40: =K41 -> 715989
C41: 1212 | D41: Տարածքային զարգացում | K41: =K42 -> 715989
E42: 12007 | F42: ՀՀ մարզերին սուբվենցիաների տրամադրում՝ ենթակառուցվածքների զարգացման նպատակով | K42: ='3'!F37 -> 715989
G43: ՀՀ մարզերին սուբվենցիաների տրամադրում՝ ենթակառուցվածքների զարգացման նպատակով
H44: Տրանսֆերտների տրամադրում
I45: Շահառուների ընտրության չափորոշիչները` ՀՀ կառավարության 16.11.2006թ. «ՀՀ պետական բյուջեից համայնքներին սուբվենցիաների տրամադրման կարգը հաստատելու մասին» 1708-Ն որոշում
J46: Ծրագրերի քանակ, հատ | K46: 3
B47: ՀՀ Վայոց ձորի մարզպետի աշխատակազմ | K47: =K48 -> 152548.5
C48: 1212 | D48: Տարածքային զարգացում | K48: =K49 -> 152548.5
E49: 12007 | F49: ՀՀ մարզերին սուբվենցիաների տրամադրում՝ ենթակառուցվածքների զարգացման նպատակով | K49: ='[1]2'!H59 -> 152548.5
G50: ՀՀ մարզերին սուբվենցիաների տրամադրում՝ ենթակառուցվածքների զարգացման նպատակով
H51: Տրանսֆերտների տրամադրում
I52: Շահառուների ընտրության չափորոշիչները` ՀՀ կառավարության 16.11.2006թ. «ՀՀ պետական բյուջեից համայնքներին սուբվենցիաների տրամադրման կարգը հաստատելու մասին» 1708-Ն որոշում
J53: Ծրագրերի քանակ, հատ | K53: 1
B54: ՀՀ կառավարություն | K54: =K55 -> -1708597
C55: 1139 | D55: ՀՀ կառավարության պահուստային ֆոնդ | K55: =+K56+K60+K64 -> -1708597
E56: 1139 - 11001 | F56: ՀՀ կառավարության պահուստային ֆոնդ | K56: ='2'!H85 -> -1708597
G57: ՀՀ պետական բյուջեում նախատեսված ելքերի լրացուցիչ ֆինանսավորման, պետական բյուջեում չկանխատեսված ելքերի, ինչպես նաև բյուջետային երաշխիքների ապահովման ելքերի ֆինանսավորման ապահովում
H58: Ծառայությունների մատուցում
I59: Ծառայությունը մատուցողի անվանումը` ՀՀ կառավարություն
E60: 1139 - 11001 | F60: ՀՀ կառավարության պահուստային ֆոնդ | K60: =-K56 -> 1708597
G61: ՀՀ պետական բյուջեում նախատեսված ելքերի լրացուցիչ ֆինանսավորման, պետական բյուջեում չկանխատեսված ելքերի, ինչպես նաև բյուջետային երաշխիքների ապահովման ելքերի ֆինանսավորման ապահովում
H62: Ծառայությունների մատուցում
I63: Ծառայությունը մատուցողի անվանումը` ՀՀ կառավարություն
E64: 1139 - 11003 | F64: Հարկաբյուջետային ռիսկերի կառավարման պահուստ | K64: =K56 -> -1708597
G65: Հարկաբյուջետային ռիսկերի կառավարման նպատակով նախատեսված միջոցներ
H66: Ծառայությունների մատուցում
I67: Ծառայությունը մատուցողի անվանումը` ՀՀ կառավարություն
D73: ՀԱՅԱՍՏԱՆԻ ՀԱՆՐԱՊԵՏՈՒԹՅԱՆ
D74: ՎԱՐՉԱՊԵՏԻ ԱՇԽԱՏԱԿԱԶՄԻ
E75: ՂԵԿԱՎԱՐ ՝ Ա. ՀԱՐՈՒԹՅՈՒՆՅԱՆ
