Workbook
Name _tab10: #REF!
Name _tab10: #REF!
Name _tab10: #REF!
Name _tab11: #REF!
Name _tab11: #REF!
Name _tab12: #REF!
Name _tab12: #REF!
Name _tab13: #REF!
Name _tab13: #REF!
Name _tab14: #REF!
Name _tab14: #REF!
Name _tab15: #REF!
Name _tab15: #REF!
Name _tab16: #REF!
Name _tab16: #REF!
Name _tab17: #REF!
Name _tab17: #REF!
Name _tab18: #REF!
Name _tab18: #REF!
Name _tab19: #REF!
Name _tab19: #REF!
Name _tab20: #REF!
Name _tab20: #REF!
Name _tab21: #REF!
Name _tab21: #REF!
Name _tab22: #REF!
Name _tab22: #REF!
Name _tab22222: #REF!
Name _tab23: #REF!
Name _tab23: #REF!
Name _tab24: #REF!
Name _tab24: #REF!
Name _tab5: #REF!
Name _tab5: #REF!
Name _tab6: #REF!
Name _tab6: #REF!
Name _tab7: #REF!
Name _tab7: #REF!
Name _tab8: #REF!
Name _tab8: #REF!
Name _tab9: #REF!
Name _tab9: #REF!
Name aaaaaaaaaaaa: #REF!
Name hhhh: #REF!
Name hunvar: #REF!,#REF!,#REF!,#REF!,#REF!,#REF!,#REF!,#REF!,#REF!,#REF!,#REF!,#REF!,#REF!,#REF!,#REF!
Name hunvar: #REF!,#REF!,#REF!,#REF!,#REF!,#REF!,#REF!,#REF!,#REF!,#REF!,#REF!,#REF!,#REF!,#REF!,#REF!
Name hunvar: #REF!,#REF!,#REF!,#REF!,#REF!,#REF!,#REF!,#REF!,#REF!,#REF!,#REF!,#REF!,#REF!,#REF!,#REF!
Name hunvar: #REF!,#REF!,#REF!,#REF!,#REF!,#REF!,#REF!,#REF!,#REF!,#REF!,#REF!,#REF!,#REF!,#REF!,#REF!
Name hunvar: #REF!,#REF!,#REF!,#REF!,#REF!,#REF!,#REF!,#REF!,#REF!,#REF!,#REF!,#REF!,#REF!,#REF!,#REF!
Name par_count: #REF!,#REF!,#REF!,#REF!,#REF!,#REF!,#REF!,#REF!,#REF!,#REF!,#REF!,#REF!,#REF!,#REF!,#REF!
Name par_count: #REF!,#REF!,#REF!,#REF!,#REF!,#REF!,#REF!,#REF!,#REF!,#REF!,#REF!,#REF!,#REF!,#REF!,#REF!
Name par_count: #REF!,#REF!,#REF!,#REF!,#REF!,#REF!,#REF!,#REF!,#REF!,#REF!,#REF!,#REF!,#REF!,#REF!,#REF!
Name par_qual: #REF!,#REF!,#REF!,#REF!,#REF!
Name par_qual: #REF!,#REF!,#REF!,#REF!,#REF!
Name par_qual: #REF!,#REF!,#REF!,#REF!,#REF!
Name par_qual: #REF!,#REF!,#REF!,#REF!,#REF!
Name par_time: #REF!,#REF!,#REF!,#REF!
Name par_time: #REF!,#REF!,#REF!,#REF!
Name par_time: #REF!,#REF!,#REF!,#REF!
Name par_time: #REF!,#REF!,#REF!,#REF!

Sheet 1
B1: Հավելված № 1
B2: ՀՀ կառավարության 2025 թվականի
B3: __________ «____» -ի
B4: N_____ -Ն որոշման
B5: «ՀԱՅԱՍՏԱՆԻ ՀԱՆՐԱՊԵՏՈՒԹՅԱՆ 2025 ԹՎԱԿԱՆԻ ՊԵՏԱԿԱՆ ԲՅՈՒՋԵԻ ՄԱՍԻՆ» ՀԱՅԱՍՏԱՆԻ ՀԱՆՐԱՊԵՏՈՒԹՅԱՆ ՕՐԵՆՔԻ № 1 ՀԱՎԵԼՎԱԾԻ № 2 ԱՂՅՈՒՍԱԿՈՒՄ ԿԱՏԱՐՎՈՂ ՎԵՐԱԲԱՇԽՈՒՄԸ ԵՎ ՀԱՅԱՍՏԱՆԻ ՀԱՆՐԱՊԵՏՈՒԹՅԱՆ ԿԱՌԱՎԱՐՈՒԹՅԱՆ 2024 ԹՎԱԿԱՆԻ ԴԵԿՏԵՄԲԵՐԻ 27-Ի № 2060-Ն ՈՐՈՇՄԱՆ № 5 ՀԱՎԵԼՎԱԾԻ № 1 ԱՂՅՈՒՍԱԿՈՒՄ ԿԱՏԱՐՎՈՂ ՓՈՓՈԽՈՒԹՅՈՒՆՆԵՐԸ
B6: (հազար դրամներով)
B7: ԲԳԿ | C7: Ծրագրային դասիչը | E7: ԲԳԿ/Ծրագրի /միջոցառման անվանումը | F7: Ծրագրի նպատակը/Միջոցառման նկարագրությունը | G7: Վերջնական արդյունքի նկարագրությունը/Միջոցառման տեսակը | H7: Ցուցանիշների փոփոխությունները (ավելացումները նշված են դրական նշանով, իսկ նվազեցումները` փակագծերում)
C8: Ծրագիր | D8: Միջոցառում | H8: Տարի
B9: ՀՀ առողջապահության նախարարություն | H9: =+H10 -> 0
C10: 1126 | E10: Առողջապահության ոլորտում պետական քաղաքականության մշակում, ծրագրերի համակարգում և մոնիտորինգ | F10: Մարդու և հանրության առողջության պահպանում, բնակչության առողջության բարելավում, հիվանդությունների կանխարգելում, հաշմանդամության և մահացության ցուցանիշների նվազեցում | G10: Առողջապահության ոլորտում իրականացվող ծրագրերի ազդեցության և արդյունավետության բարելավում | H10: =+H11+H12 -> 0
D11: 1126 - 12006 | E11: Առողջապահական համակարգի պետական առևտրային և ոչ առևտրային կազմակերպություններին ֆինանսական աջակցության հատկացում | F11: Առողջապահական համակարգի պետական առևտրային և ոչ առևտրային կազմակերպություններին ֆինանսական աջակցության տրամադրում ընթացիկ գործունեության արդյունավետության բարձրացմանն ուղղված | G11: Տրանսֆերտի տրամադրում | H11: =+'3'!H20 -> 39748.6
D12: 1126 - 31003 | E12: Առողջապահական կազմակերպությունների կառուցում, վերակառուցում | F12: Բնակչությանը որակյալ բժշկական օգնության և սպասարկման ծառայություններ մատուցելու նպատակով առողջապահական կազմակերպությունների կառուցում, վերակառուցում | G12: Պետական մարմինների կողմից օգտագործվող ոչ ֆինանսական ակտիվների հետ գործառնություններ | H12: =+'3'!H29 -> -39748.6

Sheet 2
B1: Հավելված № 2
B2: ՀՀ կառավարության 2025 թվականի
B3: __________ «____» -ի
B4: N_____ -Ն որոշման
B5: «ՀԱՅԱՍՏԱՆԻ ՀԱՆՐԱՊԵՏՈՒԹՅԱՆ 2025 ԹՎԱԿԱՆԻ ՊԵՏԱԿԱՆ ԲՅՈՒՋԵԻ ՄԱՍԻՆ» ՀԱՅԱՍՏԱՆԻ ՀԱՆՐԱՊԵՏՈՒԹՅԱՆ ՕՐԵՆՔԻ № 1 ՀԱՎԵԼՎԱԾԻ № 3 ԱՂՅՈՒՍԱԿՈՒՄ ԿԱՏԱՐՎՈՂ ՓՈՓՈԽՈՒԹՅՈՒՆԸ
B6: (հազար դրամներով)
B7: Ծրագրային դասիչ | D7: Բյուջետային գլխավոր կարգադրիչների, ծրագրերի, միջոցառումների և ուղղությունների անվանումները | E7: Ցուցանիշների փոփոխությունները (ավելացումները նշված են դրական նշանով, իսկ նվազեցումները` փակագծերում)
E8: Ընդամենը | F8: այդ թվում
B9: Ծրագիր | C9: Միջոցառում | F9: Կառուցման աշխատանքներ | G9: Վերակառուցման, վերանորոգման և վերականգնման աշխատանքներ | H9: Նախագծահե տազոտական, գեոդեզիա- քարտեզագրա- կան աշխատանքներ | I9: Ոչ ֆինանսական այլ ակտիվների ձեռքբերում
D10: ՀՀ ԱՌՈՂՋԱՊԱՀՈՒԹՅԱՆ ՆԱԽԱՐԱՐՈՒԹՅՈՒՆ | E10: =+E12 -> -45548.6 | F10: =+F12 -> -45548.6 | G10: =+G12 -> 0 | H10: =+H12 -> 0 | I10: =+I12 -> 0
D11: այդ թվում`
B12: 1126 | C12: 31003 | D12: Առողջապահական կազմակերպությունների կառուցում, վերակառուցում | E12: =+F12+G12+H12+I12 -> -45548.6 | F12: =+'3'!H40 -> -45548.6 | G12: 0 | H12: 0 | I12: 0

Sheet 3
B1: Հավելված № 3
B2: ՀՀ կառավարության 2025 թվականի
B3: __________ «____» -ի
B4: N_____ -Ն որոշման
B5: ՀԱՅԱՍՏԱՆԻ ՀԱՆՐԱՊԵՏՈՒԹՅԱՆ ԿԱՌԱՎԱՐՈՒԹՅԱՆ 2024 ԹՎԱԿԱՆԻ ԴԵԿՏԵՄԲԵՐԻ 27-Ի № 2060-Ն ՈՐՈՇՄԱՆ №№ 3 և 4 ՀԱՎԵԼՎԱԾՆԵՐՈՒՄ ԿԱՏԱՐՎՈՂ ՓՈՓՈԽՈՒԹՅՈՒՆՆԵՐԸ
B6: (հազար դրամներով)
B7: Գործառական դասիչը | E7: Ծրագրային դասիչը | G7: Բյուջետային հատկացումների գլխավոր կարգադրիչների, ծրագրերի, միջոցառումների և միջոցառումները կատարող պետական մարմինների անվանումները | H7: Ցուցանիշների փոփոխությունները (ավելացումները նշված են դրական նշանով, իսկ նվազեցումները` փակագծերում)
B8: բաժին | C8: խումբ | D8: դաս | E8: Ծրագիր | F8: Միջոցառում | H8: Տարի
B9: ԸՆԴԱՄԵՆԸ | H9: =+H10 -> 0
B10: 07 | G10: ԱՌՈՂՋԱՊԱՀՈՒԹՅՈՒՆ | H10: =+H12 -> 0
G11: այդ թվում՝
C12: 06 | G12: Առողջապահություն (այլ դասերին չպատկանող) | H12: =+H14 -> 0
G13: այդ թվում՝
D14: 02 | G14: Առողջապահություն (այլ դասերին չպատկանող) | H14: =+H16 -> 0
G15: այդ թվում՝
G16: ՀՀ առողջապահության նախարարություն | H16: =+H18 -> 0
G17: այդ թվում՝
E18: 1126 | G18: Առողջապահության ոլորտում պետական քաղաքականության մշակում, ծրագրերի համակարգում և մոնիտորինգ | H18: =+H20+H29 -> 0
G19: այդ թվում՝
F20: 12006 | G20: Առողջապահական համակարգի պետական առևտրային և ոչ առևտրային կազմակերպություններին ֆինանսական աջակցության հատկացում | H20: =+H22 -> 39748.6
G21: այդ թվում ըստ կատարողների
G22: ՀՀ առողջապահության նախարարություն | H22: =+H24 -> 39748.6
G23: այդ թվում` բյուջետային ծախսերի տնտեսագիտական դասակարգման հոդվածներ
G24: ԸՆԴԱՄԵՆԸ ԾԱԽՍԵՐ | H24: =+H25 -> 39748.6
G25: ԸՆԹԱՑԻԿ ԾԱԽՍԵՐ | H25: =+H26 -> 39748.6
G26: ԴՐԱՄԱՇՆՈՐՀՆԵՐ | H26: =+H27 -> 39748.6
G27: Ընթացիկ դրամաշնորհներ պետական հատվածի այլ մակարդակներին | H27: =+H28 -> 39748.6
G28: - Ընթացիկ դրամաշնորհներ պետական և համայնքների առևտրային կազմակերպություններին | H28: =+'5'!H12 -> 39748.6
F29: 31003 | G29: Առողջապահական կազմակերպությունների կառուցում, վերակառուցում | H29: =+H31 -> -39748.6
G30: այդ թվում ըստ կատարողների
G31: ՀՀ առողջապահության նախարարություն | H31: =+H33 -> -39748.6
G32: այդ թվում` բյուջետային ծախսերի տնտեսագիտական դասակարգման հոդվածներ
G33: ԸՆԴԱՄԵՆԸ ԾԱԽՍԵՐ | H33: =+H34+H37 -> -39748.6
G34: ԸՆԹԱՑԻԿ ԾԱԽՍԵՐ | H34: =+H35 -> 5800
G35: ԱՅԼ ԾԱԽՍԵՐ | H35: =+H36 -> 5800
G36: - Հարկեր, պարտադիր վճարներ և տույժեր, որոնք կառավարման տարբեր մակարդակների կողմից կիրառվում են միմյանց նկատմամբ | H36: 5800
G37: ՈՉ ՖԻՆԱՆՍԱԿԱՆ ԱԿՏԻՎՆԵՐԻ ԳԾՈՎ ԾԱԽՍԵՐ | H37: =+H38 -> -45548.6
G38: ՀԻՄՆԱԿԱՆ ՄԻՋՈՑՆԵՐ | H38: =+H39 -> -45548.6
G39: ՇԵՆՔԵՐ ԵՎ ՇԻՆՈՒԹՅՈՒՆՆԵՐ | H39: =+H40 -> -45548.6
G40: - Շենքերի և շինությունների շինարարություն | H40: =+'4'!E40+'4'!E50+'4'!E44+'4'!E55+'4'!E59+'4'!E61+'4'!E64+'4'!E67+'4'!E71-5800 -> -45548.6

Sheet 4
B1: Հավելված № 4
B2: ՀՀ կառավարության 2025 թվականի
B3: __________ «____» -ի
B4: N_____ -Ն որոշման
B5: ՀԱՅԱՍՏԱՆԻ ՀԱՆՐԱՊԵՏՈՒԹՅԱՆ ԿԱՌԱՎԱՐՈՒԹՅԱՆ 2024 ԹՎԱԿԱՆԻ ԴԵԿՏԵՄԲԵՐԻ 27-Ի № 2060-Ն ՈՐՈՇՄԱՆ № 5 ՀԱՎԵԼՎԱԾԻ № 2 ԱՂՅՈՒՍԱԿՈՒՄ ԿԱՏԱՐՎՈՂ ՓՈՓՈԽՈՒԹՅՈՒՆՆԵՐԸ ԵՎ ԼՐԱՑՈՒՄՆԵՐԸ
B6: (հազար դրամներով)
B7: Ծրագրային դասիչ | D7: Բյուջետային գլխավոր կարգադրիչների, ծրագրերի, միջոցառումների և ուղղությունների անվանումները | E7: Ցուցանիշների փոփոխությունները (ավելացումները նշված են դրական նշանով, իսկ նվազեցումները` փակագծերում)
B8: Ծրագիր | C8: Միջոցառում | E8: Տարի
D9: ՀՀ ԱՌՈՂՋԱՊԱՀՈՒԹՅԱՆ ՆԱԽԱՐԱՐՈՒԹՅՈՒՆ | E9: =+E11+E36 -> -39748.56
D10: այդ թվում`
B11: 1126 | C11: 31002 | D11: Առողջապահական կազմակերպությունների վերազինում | E11: =+E13 -> 0.04
D12: այդ թվում` ըստ կատարողների
D13: ՀՀ առողջապահության նախարարություն | E13: =+E15+E19+E21+E24+E26+E28+E30+E33 -> 0.04
D14: այդ թվում` ըստ ուղղությունների
D15: Երևան քաղաք | E15: =+E16+E17+E18 -> 1182728.7
D16: ՀՀ ԱՆ «Հոգեկան առողջության պահպանման ազգային կենտրոն» ՓԲԸ | E16: -50774
D17: Առողջապահական կազմակերպությունների համար բժշկական գույքի և սարքավորումների ձեռքբերում | E17: 819832.7
D18: ՀՀ ԱՆ «Ռադիոիզոտոպների արտադրության կենտրոն» ՓԲԸ | E18: 413670
D19: ՀՀ Արագածոտնի մարզ | E19: =+E20 -> -11567.6
D20: ՀՀ Արագածոտնի մարզի «Ծաղկահովիտի առողջության կենտրոն» ՓԲԸ | E20: -11567.6
D21: ՀՀ Արարատի մարզ | E21: =+E22+E23 -> -491161.06
D22: ՀՀ Արարատի մարզի «Մասիսի բժշկական կենտրոն» ՓԲԸ | E22: -339839.2
D23: ՀՀ Արարատի մարզի «Արտաշատի բժշկական կենտրոն» ՓԲԸ | E23: -151321.86
D24: ՀՀ Գեղարքունիքի մարզ | E24: =+E25 -> -10000
D25: «Դատաբժշկական գիտագործնական կենտրոն» ՊՈԱԿ-ի Սևանի դիահերձարան | E25: -10000
D26: ՀՀ Կոտայքի մարզ | E26: =+E27 -> -50000
D27: ՀՀ Կոտայքի մարզի Եղվարդի «Նաիրիի բժշկական կենտրոն» ՓԲԸ | E27: -50000
D28: ՀՀ Լոռու մարզ | E28: =+E29 -> -50000
D29: ՀՀ Լոռու մարզի «Տաշիրի բժշկական կենտրոն» ՓԲԸ | E29: -50000
D30: ՀՀ Սյունիքի մարզ | E30: =+E31+E32 -> -560000
D31: ՀՀ Սյունիքի մարզի «Սիսիանի բժշկական կենտրոն» ՓԲԸ | E31: -550000
D32: «Դատաբժշկական գիտագործնական կենտրոն» ՊՈԱԿ-ի Կապանի դիահերձարան | E32: -10000
D33: ՀՀ Տավուշի մարզ | E33: =+E34 -> -10000
D34: «Դատաբժշկական գիտագործնական կենտրոն» ՊՈԱԿ-ի Բերդի դիահերձարան | E34: -10000
D35: այդ թվում`
B36: 1126 | C36: 31003 | D36: Առողջապահական կազմակերպությունների կառուցում, վերակառուցում | E36: =+E38+E76 -> -39748.6
D37: այդ թվում` ըստ կատարողների
D38: ՀՀ առողջապահության նախարարություն | E38: =+E40+E44+E50+E55+E59+E61+E64+E67+E71 -> -39748.6
D39: այդ թվում` ըստ ուղղությունների
D40: ՀՀ Արագածոտնի մարզ | E40: =SUM(E41:E43) -> 55020.1
D41: ՀՀ Արագածոտնի մարզի «Ոսկևազի ԱԱՊԿ» ՀՈԱԿ | E41: -60124.2
D42: ՀՀ Արագածոտնի մարզի «Մաստարայի ԲԱ» ՀՈԱԿ | E42: 52087.7
D43: ՀՀ Արագածոտնի մարզի «Նոր Երզնկայի ԱԱՊԿ» ՊՈԱԿ | E43: 63056.6
D44: ՀՀ Արարատի մարզ | E44: =SUM(E45:E49) -> 142067
D45: ՀՀ Արարատի մարզի «Դիմիտրովի ԱԱՊԿ» ՊՈԱԿ | E45: 12588
D46: ՀՀ Արարատի մարզի «Այգեստանի ԱԱՊԿ» ՊՈԱԿ | E46: 12588
D47: ՀՀ Արարատի մարզի «Դվինի ԱԱՊԿ» ՊՈԱԿ | E47: 12588
D48: ՀՀ Արարատի մարզի «Նոր կյանքի ԱԱՊԿ» ՊՈԱԿ | E48: 52151.5
D49: ՀՀ Արարատի մարզի «Այգավանի ԱԱՊԿ» ՊՈԱԿ | E49: 52151.5
D50: ՀՀ Արմավիրի մարզ | E50: =SUM(E51:E54) -> 36811.9
D51: ՀՀ Արմավիրի մարզի «Գայի ԲԱ» ՀՈԱԿ | E51: -60124.2
D52: ՀՀ Արմավիրի մարզի «Ջրառատի ԲԱ» ՀՈԱԿ | E52: -60124.2
D53: ՀՀ Արմավիրի մարզի «Լենուղու ԱԿ» ՀՈԱԿ | E53: 73212.9
D54: ՀՀ Արմավիրի մարզի «Մուսալեռի ԲԱ» ՊՈԱԿ | E54: 83847.4
D55: ՀՀ Գեղարքունիքի մարզ | E55: =SUM(E56:E58) -> -18601.2
D56: ՀՀ Գեղարքունիքի մարզի «Ծակքարի ԱԱՊԿ» ՊՈԱԿ | E56: -81163.3
D57: ՀՀ Գեղարքունիքի մարզի «Վարդենիկի ԱԿ» ՊՈԱԿ | E57: 31317.5
D58: ՀՀ Գեղարքունիքի մարզի «Վաղաշենի ԱԱՊԿ» ՊՈԱԿ | E58: 31244.6
D59: ՀՀ Կոտայքի մարզ | E59: =SUM(E60:E60) -> -27929.6
D60: ՀՀ Կոտայքի մարզի «Ձորաղբյուրի ԱԱՊԿ» ՊՈԱԿ | E60: -27929.6
D61: ՀՀ Սյունիքի մարզ | E61: =SUM(E62:E63) -> -98516.7
D62: ՀՀ Սյունիքի մարզի «Խնձորեսկի ԱԱՊԿ» ՊՈԱԿ | E62: -54042.4
D63: ՀՀ Սյունիքի մարզի «Անգեղակոթի ԲԱ» ՊՈԱԿ | E63: -44474.3
D64: ՀՀ Լոռու մարզ | E64: =SUM(E65:E66) -> 17976.7
D65: ՀՀ Լոռու մարզի «Մեծավանի ԱԿ» ՊՈԱԿ | E65: -44390.9
D66: ՀՀ Լոռու մարզի «Վահագնի ԱԱՊԿ» ՊՈԱԿ | E66: 62367.6
D67: ՀՀ Շիրակի մարզ | E67: =SUM(E68:E70) -> 71146.9
D68: ՀՀ Շիրակի մարզի «Պեմզաշենի ԱԿ» ՊՈԱԿ | E68: 12128
D69: ՀՀ Շիրակի մարզի «Ախուրիկի ԲԱ» ՊՈԱԿ | E69: =-13928.5-5800 -> -19728.5
D70: ՀՀ Շիրակի մարզ «Հացիկի ԲԱ» ՀՈԱԿ | E70: =72947.4+5800 -> 78747.4
D71: ՀՀ Տավուշի մարզ | E71: =SUM(E72:E74) -> -217723.7
D72: ՀՀ Տավուշի մարզի «Կողբի ԲԱ» ՀՈԱԿ | E72: -63926.5
D73: ՀՀ Տավուշի մարզի «Այրումի ԳԲԱ» ՊՈԱԿ | E73: -81336.8
D74: ՀՀ Տավուշի մարզի «Գետահովիտի ԱԱՊԿ» ՊՈԱԿ | E74: -72460.4
D75: այդ թվում` ըստ կատարողների
D76: ՀՀ քաղաքաշինության կոմիտե | E76: =+E78+E81+E89+E87+E83+E85 -> 0
D77: այդ թվում` ըստ ուղղությունների
D78: ՀՀ Արագածոտնի մարզ | E78: =SUM(E79)+E80 -> -314349.5
D79: ՀՀ Արագածոտնի մարզի «Ծաղկահովիտի առողջության կենտրոն» ՓԲԸ | E79: -190349.5
D80: ՀՀ Արագածոտնի մարզի «Աշտարակի բժշկական կենտրոն» ՓԲԸ /գլխավոր մասնաշենք/ | E80: -124000
D81: ՀՀ Արարատի մարզ | E81: =+E82 -> -382000
D82: ՀՀ Արարատի մարզի «Մասիսի բժշկական կենտրոն» ՓԲԸ | E82: -382000
D83: ՀՀ Կոտայքի մարզ | E83: =+E84 -> 403300
D84: ՀՀ Կոտայքի մարզի Եղվարդի «Նաիրիի բժշկական կենտրոն» ՓԲԸ | E84: 403300
D85: ՀՀ Լոռու մարզ | E85: =+E86 -> 103720
D86: ՀՀ Լոռու մարզի «Տաշիրի բժշկական կենտրոն» ՓԲԸ | E86: 103720
D87: ՀՀ Շիրակի մարզ | E87: =+E88 -> 225829.5
D88: ՀՀ Շիրակի մարզի «Արթիկի բժշկական կենտրոն» ՓԲԸ | E88: 225829.5
D89: ՀՀ Վայոց Ձորի մարզ | E89: =+E90 -> -36500
D90: ՀՀ Վայոց ձորի «Ջերմուկի առողջության կենտրոն» ՓԲԸ | E90: -36500

Sheet 5
B1: Հավելված № 5
B2: ՀՀ կառավարության 2025 թվականի
B3: __________ «____» -ի
B4: N_____ -Ն որոշման
B5: ՀԱՅԱՍՏԱՆԻ ՀԱՆՐԱՊԵՏՈՒԹՅԱՆ ԿԱՌԱՎԱՐՈՒԹՅԱՆ 2024 ԹՎԱԿԱՆԻ ԴԵԿՏԵՄԲԵՐԻ 27-Ի № 2060-Ն ՈՐՈՇՄԱՆ № 5 ՀԱՎԵԼՎԱԾԻ № 7 ԱՂՅՈՒՍԱԿՈՒՄ ԿԱՏԱՐՎՈՂ ՓՈՓՈԽՈՒԹՅՈՒՆՆԵՐԸ ԵՎ ԼՐԱՑՈՒՄՆԵՐԸ
B6: (հազար դրամներով)
B7: Ծրագրային դասիչ | D7: Բյուջետային հատկացումների գլխավոր կարգադրիչների, ծրագրերի, միջոցառումների, ծախսային ուղղությունների անվանումները | G7: Միջոցառումները կատարող պետական մարմինների և դրամաշնորհ ստացող տնտեսվարող սուբյեկտների անվանումները | H7: Ցուցանիշների փոփոխությունները (ավելացումները նշված են դրական նշանով)
B8: Ծրագիր | C8: Միջոցառում | H8: Տարի
B9: 1 | C9: 2 | D9: 3 | G9: 4 | H9: 5
B10: ՀՀ առողջապահության նախարարություն | H10: =+H11 -> 39748.6
B11: 1126 | C11: Առողջապահության ոլորտում պետական քաղաքականության մշակում, ծրագրերի համակարգում և մոնիտորինգ | H11: =+H12 -> 39748.6
C12: 12006 | D12: Առողջապահական համակարգի պետական առևտրային և ոչ առևտրային կազմակերպություններին ֆինանսական աջակցության հատկացում | G12: ՀՀ առողջապահության նախարարություն | H12: =+H13+H14+H15 -> 39748.6
G13: ՀՀ ԱՆ «Վարդենիսի բժշկական կենտրոն» ՓԲԸ | H13: 10000
G14: ՀՀ ԱՆ «Ռադիոիզոտոպների արտադրության կենտրոն» ՓԲԸ | H14: 12748.6
G15: ՀՀ ԱՆ «Վայոց ձորի բժշկական կենտրոն» ՓԲԸ | H15: 17000

Sheet 6
C1: Հավելված № 6
C2: ՀՀ կառավարության 2025 թվականի
C3: __________ «____» -ի
C4: N_____ -Ն որոշման
C5: ՀԱՅԱՍՏԱՆԻ ՀԱՆՐԱՊԵՏՈՒԹՅԱՆ ԿԱՌԱՎԱՐՈՒԹՅԱՆ 2024 ԹՎԱԿԱՆԻ ԴԵԿՏԵՄԲԵՐԻ 27-Ի № 2060-Ն ՈՐՈՇՄԱՆ № 9 ՀԱՎԵԼՎԱԾՈՒՄ ԿԱՏԱՐՎՈՂ ՓՈՓՈԽՈՒԹՅՈՒՆՆԵՐԸ ԵՎ ԼՐԱՑՈՒՄՆԵՐԸ
B6: (հազար դրամներով)
B7: ԲԳԿ | C7: Ծրագիր | E7: Միջոցառում | I7: Իրականացնողը/ ակտիվն օգտագործողը/ շահառուի ընտրության չափորոշիչը | J7: Արդյունքային չափորոշիչը | K7: Ցուցանիշների փոփոխությունները (ավելացումները նշված են դրական նշանով, իսկ նվազեցումները` փակագծերում)
C8: Դասիչը | D8: Անվանումը | E8: Դասիչը | F8: Անվանումը | G8: Նկարագրությունը | H8: Տեսակը | K8: Տարի
B9: ՀՀ առողջապահության նախարարություն | K9: =+K10 -> 0
C10: 1126 | D10: Առողջապահության ոլորտում պետական քաղաքականության մշակում, ծրագրերի համակարգում և մոնիտորինգ | K10: =+K11+K16+K21 -> 0
E11: 1126-12006 | F11: Առողջապահական համակարգի պետական առևտրային և ոչ առևտրային կազմակերպություններին ֆինանսական աջակցության հատկացում | K11: =+'3'!H20 -> 39748.6
G12: Առողջապահական համակարգի պետական առևտրային և ոչ առևտրային կազմակերպություններին ֆինանսական աջակցության տրամադրում ընթացիկ գործունեության արդյունավետության բարձրացմանն ուղղված
H13: Տրանսֆերտի տրամադրում
I14: Առողջապահական կազմակերպություններ
J15: Ֆինանսական աջակցություն ստացող բժշկական հաստատությունների թիվ, հատ | K15: 3
E16: 1126 - 31002 | F16: Առողջապահական կազմակերպությունների վերազինում | K16: 0
G17: Բնակչությանը որակյալ բժշկական օգնության և սպասարկման ծառայություններ մատուցելու նպատակով՛ առողջապահական կազմակերպությունների անհրաժեշտ սարքավորումներով վերազինում
H18: Պետական մարմինների կողմից օգտագործվող ոչ ֆինանսական ակտիվների հետ գործառնություններ
I19: Ակտիվն օգտագործող կազմակերպության անվանումը` Բժշկական կազմակերպություններ
J20: Վերազինվող բուժհաստատությունների քանակ | K20: -8
E21: 1126 - 31003 | F21: Առողջապահական կազմակերպությունների կառուցում, վերակառուցում | K21: =+'3'!H29 -> -39748.6
G22: Բնակչությանը որակյալ բժշկական օգնության և սպասարկման ծառայություններ մատուցելու նպատակով առողջապահական կազմակերպությունների կառուցում, վերակառուցում
H23: Պետական մարմինների կողմից օգտագործվող ոչ ֆինանսական ակտիվների հետ գործառնություններ
I24: Ակտիվն օգտագործող կազմակերպության անվանումը` Բժշկական կազմակերպություններ
J25: Ընդամենը կառուցվող կազմակերպություններ, թիվ | K25: =+K26 -> 8
J26: Նոր կառուցվող կազմակերպությունների թիվ, հատ | K26: 8

Sheet 7
C1: Հավելված № 7
C2: ՀՀ կառավարության 2024 թվականի
C3: __________ «____» -ի
C4: N_____ -Ն որոշման
B5: ՀԱՅԱՍՏԱՆԻ ՀԱՆՐԱՊԵՏՈՒԹՅԱՆ ԿԱՌԱՎԱՐՈՒԹՅԱՆ 2024 ԹՎԱԿԱՆԻ ԴԵԿՏԵՄԲԵՐԻ 27-Ի № 2060-Ն ՈՐՈՇՄԱՆ № 9.1 ՀԱՎԵԼՎԱԾՈՒՄ ԿԱՏԱՐՎՈՂ ՓՈՓՈԽՈՒԹՅՈՒՆՆԵՐԸ ԵՎ ԼՐԱՑՈՒՄՆԵՐԸ
B6: (հազար դրամներով)
B7: ԲՍԿ | C7: Ծրագիր | E7: Միջոցառում | I7: Իրականացնողը/ ակտիվն օգտագործողը/ շահառուի ընտրության չափորոշիչը | J7: Արդյունքային չափորոշիչը | K7: Ցուցանիշների փոփոխությունները (ավելացումները նշված են դրական նշանով, իսկ նվազեցումները` փակագծերում)
C8: Դասիչը | D8: Անվանումը | E8: Դասիչը | F8: Անվանումը | G8: Նկարագրությունը | H8: Տեսակը | K8: Տարի
B9: Ընդամենը | K9: =+K10+K28 -> 0
B10: ՀՀ առողջապահության նախարարություն | K10: =+K11 -> 0
C11: 1126 | D11: Առողջապահության ոլորտում պետական քաղաքականության մշակում, ծրագրերի համակարգում և մոնիտորինգ | K11: =+K12+K17+K22 -> 0
E12: 1126 - 12006 | F12: Առողջապահական համակարգի պետական առևտրային և ոչ առևտրային կազմակերպություններին ֆինանսական աջակցության հատկացում | K12: =+'3'!H20 -> 39748.6
G13: Առողջապահական համակարգի պետական առևտրային և ոչ առևտրային կազմակերպություններին ֆինանսական աջակցության տրամադրում ընթացիկ գործունեության արդյունավետության բարձրացմանն ուղղված
H14: Տրանսֆերտի տրամադրում
I15: Առողջապահական կազմակերպություններ
I16: Ֆինանսական աջակցություն ստացող բժշկական հաստատությունների թիվ, հատ | K16: 3
E17: 1126 - 31002 | F17: Առողջապահական կազմակերպությունների վերազինում | K17: 0
G18: Բնակչությանը որակյալ բժշկական օգնության և սպասարկման ծառայություններ մատուցելու նպատակով՛ առողջապահական կազմակերպությունների անհրաժեշտ սարքավորումներով վերազինում
H19: Պետական մարմինների կողմից օգտագործվող ոչ ֆինանսական ակտիվների հետ գործառնություններ
I20: Ակտիվն օգտագործող կազմակերպության անվանումը` Բժշկական կազմակերպություններ
J21: Վերազինվող բուժհաստատությունների քանակ | K21: =+'6'!K20 -> -8
E22: 1126 - 31003 | F22: Առողջապահական կազմակերպությունների կառուցում, վերակառուցում | K22: =+'3'!H31 -> -39748.6
G23: Բնակչությանը որակյալ բժշկական օգնության և սպասարկման ծառայություններ մատուցելու նպատակով առողջապահական կազմակերպությունների կառուցում, վերակառուցում
H24: Պետական մարմինների կողմից օգտագործվող ոչ ֆինանսական ակտիվների հետ գործառնություններ
I25: Ակտիվն օգտագործող կազմակերպության անվանումը` Բժշկական կազմակերպություններ
J26: Ընդամենը կառուցվող կազմակերպություններ, թիվ | K26: =+K27 -> 9
J27: Նոր կառուցվող կազմակերպությունների թիվ, հատ | K27: 9
B28: ՀՀ քաղաքաշինության կոմիտե | K28: =+K29 -> 0
C29: 1126 | D29: Առողջապահության ոլորտում պետական քաղաքականության մշակում, ծրագրերի համակարգում և մոնիտորինգ | K29: =+K30 -> 0
E30: 1126 - 31003 | F30: Առողջապահական կազմակերպությունների կառուցում, վերակառուցում | K30: =+'4'!E76 -> 0
G31: Բնակչությանը որակյալ բժշկական օգնության և սպասարկման ծառայություններ մատուցելու նպատակով առողջապահական կազմակերպությունների կառուցում, վերակառուցում
H32: Պետական մարմինների կողմից օգտագործվող ոչ ֆինանսական ակտիվների հետ գործառնություններ
I33: Ակտիվն օգտագործող կազմակերպության անվանումը` Բժշկական կազմակերպություններ
J34: Ընդամենը կառուցվող կազմակերպություններ, թիվ | K34: =+K35 -> -1
J35: Նոր կառուցվող կազմակերպությունների թիվ, հատ | K35: -1

Sheet 8
B1: Հավելված № 8
B2: ՀՀ կառավարության 2024 թվականի
B3: __________ «____» -ի
B4: N_____ -Ն որոշման
B5: ՀԱՅԱՍՏԱՆԻ ՀԱՆՐԱՊԵՏՈՒԹՅԱՆ ԿԱՌԱՎԱՐՈՒԹՅԱՆ 2024 ԹՎԱԿԱՆԻ ԴԵԿՏԵՄԲԵՐԻ 27-Ի № 2060-Ն ՈՐՈՇՄԱՆ № 10 ՀԱՎԵԼՎԱԾՈՒՄ ԿԱՏԱՐՎՈՂ ՓՈՓՈԽՈՒԹՅՈՒՆՆԵՐԸ ԵՎ ԼՐԱՑՈՒՄՆԵՐԸ
B6: Կոդը | C6: Անվանումը | F6: Գնման ձևը | G6: Չափման միավորը | H6: Միավորի գինը | I6: Քանակը | J6: Ցուցանիշների փոփոխությունները (ավելացումները նշված են դրական նշանով, իսկ նվազեցումները` փակագծերում)
J7: (հազար դրամներով)
B8: Ընդամենը | J8: =+J9+J62 -> -45548.6
B9: ՀՀ առողջապահության նախարարություն | J9: =+J10 -> -45548.6
B10: Բաժին 07 | C10: Խումբ 06 | D10: Դաս 02 | E10: Առողջապահություն (այլ դասերին չպատկանող) | J10: =+J11+J34 -> -45548.6
B11: 1126 31002 | C11: Առողջապահական կազմակերպությունների վերազինում | J11: =+J12 -> 1.1641532e-10
C12: ՄԱՍ I. Ա Պ Ր Ա Ն Ք Ն Ե Ր | J12: =SUM(J13:J33) -> 1.1641532e-10
B13: 33141174-11 | C13: բժշկական սարքերի հավաքածուներ | F13: ԷԱՃ | G13: հատ | H13: 50774000 | I13: -1 | J13: =+'4'!E16 -> -50774
B14: 33141174-2 | C14: բժշկական սարքերի հավաքածուներ | F14: ԷԱՃ | G14: հատ | H14: 11567600 | I14: -1 | J14: =+'4'!E20 -> -11567.6
B15: 33141174-3 | C15: բժշկական սարքերի հավաքածուներ | F15: ԷԱՃ | G15: հատ | J15: =+'4'!E22 -> -339839.2
B16: 33141174-24 | C16: բժշկական սարքերի հավաքածուներ | F16: ԷԱՃ | G16: հատ | J16: =+'4'!E23 -> -151321.86
B17: 33141174-13 | C17: բժշկական սարքերի հավաքածուներ | F17: ԷԱՃ | G17: հատ | H17: 50000000 | I17: -1 | J17: =+'4'!E27 -> -50000
B18: 33141174-14 | C18: բժշկական սարքերի հավաքածուներ | F18: ԷԱՃ | G18: հատ | H18: 50000000 | I18: -1 | J18: -50000
B19: 33141174-9 | C19: բժշկական սարքերի հավաքածուներ | F19: ԷԱՃ | G19: հատ | H19: 550000000 | I19: -1 | J19: =+H19*I19/1000 -> -550000
B20: 33911110-1 | C20: դիահերձման գործիքների հավաքածու | F20: ԳՀ | G20: հատ | H20: 10000000 | I20: -1 | J20: =+'4'!E25 -> -10000
B21: 33911110-3 | C21: դիահերձման գործիքների հավաքածու | F21: ԳՀ | G21: հատ | H21: 10000000 | I21: -1 | J21: =+H21*I21/1000 -> -10000
B22: 33911110-4 | C22: դիահերձման գործիքների հավաքածու | F22: ԳՀ | G22: հատ | H22: 10000000 | I22: -1 | J22: =+H22*I22/1000 -> -10000
B23: 33141174 | C23: բժշկական սարքերի հավաքածուներ | F23: ԷԱՃ | G23: հատ | H23: 321295560 | I23: 1 | J23: =+H23/1000 -> 321295.56
B24: 33111460/507 | C24: տոմոգրաֆիկ սարքեր | F24: ՀԲՄ | G24: հատ | H24: 227910000 | I24: 1 | J24: =+H24*I24/1000 -> 227910
B25: 33121260/503 | C25: ուլտրաձայնային ախտորոշման սարքեր | F25: ԷԱՃ | G25: հատ | H25: 68400000 | I25: 1 | J25: =+H25*I25/1000 -> 68400
B26: 38431160/501 | C26: քրոմատոգրաֆներ | F26: ԷԱՃ | G26: հատ | H26: 20160000 | I26: 1 | J26: =+H26*I26/1000 -> 20160
B27: 35121340/501 | C27: հատուկ մասնագիտական սարքեր և նյութեր | F27: ԷԱՃ | G27: հատ | H27: 97200000 | I27: 1 | J27: =+H27*I27/1000 -> 97200
B28: 33181110 | C28: հեմոդիալիզի սարքեր | F28: ԷԱՃ | G28: հատ | H28: 125436100 | I28: 1 | J28: =+H28*I28/1000 -> 125436.1
B29: 33111250/501 | C29: մամոգրաֆիայի սարքեր | F29: ԵՄ | G29: հատ | H29: 34800000 | I29: 1 | J29: =+H29*I29/1000 -> 34800
B30: 33111250/502 | C30: մամոգրաֆիայի սարքեր | F30: ԵՄ | G30: հատ | H30: 26610000 | I30: 9 | J30: =+H30*I30/1000 -> 239490
B31: 33161190/501 | C31: էնդոսկոպիայի, էնդովիրահատական սարքեր | F31: ԵՄ | G31: հատ | H31: 7155000 | I31: 10 | J31: =+H31*I31/1000 -> 71550
B32: 33161150/501 | C32: կոլպոսկոպ | F32: ԵՄ | G32: հատ | H32: 1911000 | I32: 10 | J32: =+H32*I32/1000 -> 19110
B33: 33121140/501 | C33: լսողության չափման սարքեր | F33: ԵՄ | G33: հատ | H33: 741000 | I33: 11 | J33: =+H33*I33/1000 -> 8151
B34: 1126 31003 | C34: Առողջապահական կազմակերպությունների կառուցում, վերակառուցում | J34: =+J35 -> -45548.6
C35: ՄԱՍ II. ԱՇԽԱՏԱՆՔՆԵՐ | J35: =SUM(J36:J61) -> -45548.6
B36: 45451700-2 | C36: վերակառուցման աշխատանքներ | F36: ԲՄ | G36: դրամ | J36: =+'4'!E62 -> -54042.4
B37: 45211250/501 | C37: առողջապահության հետ կապված շենքերի կառուցման աշխատանքներ | F37: ԲՄ | G37: դրամ | J37: -63926.5
B38: 45211250/504 | C38: առողջապահության հետ կապված շենքերի կառուցման աշխատանքներ | F38: ԲՄ | G38: դրամ | J38: 12588
B39: 45211250/505 | C39: առողջապահության հետ կապված շենքերի կառուցման աշխատանքներ | F39: ԲՄ | G39: դրամ | J39: 12588
B40: 45211250/506 | C40: առողջապահության հետ կապված շենքերի կառուցման աշխատանքներ | F40: ԲՄ | G40: դրամ | J40: 12588
B41: 45211250/507 | C41: առողջապահության հետ կապված շենքերի կառուցման աշխատանքներ | F41: ԲՄ | G41: դրամ | J41: -60124.2
B42: 45211250/508 | C42: առողջապահության հետ կապված շենքերի կառուցման աշխատանքներ | F42: ԲՄ | G42: դրամ | J42: -60124.2
B43: 45211250/509 | C43: առողջապահության հետ կապված շենքերի կառուցման աշխատանքներ | F43: ԲՄ | G43: դրամ | J43: -60124.2
B44: 45211250/513 | C44: առողջապահության հետ կապված շենքերի կառուցման աշխատանքներ | F44: ԲՄ | G44: դրամ | J44: 12128
B45: 45211250/514 | C45: առողջապահության հետ կապված շենքերի կառուցման աշխատանքներ | F45: ԲՄ | G45: դրամ | J45: -19728.5
B46: 45211250/516 | C46: առողջապահության հետ կապված շենքերի կառուցման աշխատանքներ | F46: ԲՄ | G46: դրամ | J46: -81163.3
B47: 45211250/517 | C47: առողջապահության հետ կապված շենքերի կառուցման աշխատանքներ | F47: ԲՄ | G47: դրամ | J47: -27929.6
B48: 45211250/519 | C48: առողջապահության հետ կապված շենքերի կառուցման աշխատանքներ | F48: ԲՄ | G48: դրամ | J48: -72460.4
... B60: 45211250/539 | C60: առողջապահության հետ կապված շենքերի կառուցման աշխատանքներ | F60: ԲՄ | G60: դրամ | J60: 63056.6
B61: 45211250/540 | C61: առողջապահության հետ կապված շենքերի կառուցման աշխատանքներ | F61: ԲՄ | G61: դրամ | J61: =+'4'!E70-5800 -> 72947.4
B62: ՀՀ քաղաքաշինության կոմիտե | J62: =+J63 -> 0
B63: Բաժին 07 | C63: Խումբ 06 | D63: Դաս 02 | E63: Առողջապահություն (այլ դասերին չպատկանող) | J63: =+J64 -> 0
B64: 1126 31003 | C64: Առողջապահական կազմակերպությունների կառուցում, վերակառուցում | J64: =+J65+J73 -> 0
C65: ՄԱՍ II. ԱՇԽԱՏԱՆՔՆԵՐ | J65: =SUM(J66:J72) -> 17996
B66: 45211250/8 | C66: առողջապահության հետ կապված շենքերի կառուցման աշխատանքներ | F66: ՀԲՄ | G66: դրամ | J66: -187612.5
B67: 45211250/2 | C67: առողջապահության հետ կապված շենքերի կառուցման աշխատանքներ | F67: ԲՄ | G67: դրամ | H67: 30221000 | I67: -1 | J67: =+H67*I67/1000 -> -30221
B68: 45211250/3 | C68: առողջապահության հետ կապված շենքերի կառուցման աշխատանքներ | F68: ԲՄ | G68: դրամ | J68: 225829.5
B69: 45211250/4 | C69: առողջապահության հետ կապված շենքերի կառուցման աշխատանքներ | F69: ԲՄ | G69: դրամ | J69: -370000
B70: 45211250/5 | C70: առողջապահության հետ կապված շենքերի կառուցման աշխատանքներ | F70: ԲՄ | G70: դրամ | J70: 400000
B71: 45211250/6 | C71: առողջապահության հետ կապված շենքերի կառուցման աշխատանքներ | F71: ԲՄ | G71: դրամ | J71: 100000
B72: 45211250/9 | C72: առողջապահության հետ կապված շենքերի կառուցման աշխատանքներ | F72: ԲՄ | G72: դրամ | J72: -120000
C73: ՄԱՍ III. ԾԱՌԱՅՈՒԹՅՈՒՆՆԵՐ | J73: =SUM(J74:J85) -> -17996
B74: 71351540/1 | C74: տեխնիկական հսկողության ծառայություն | F74: ԳՀ | G74: դրամ | J74: -2220
B75: 71351540/2 | C75: տեխնիկական հսկողության ծառայություն | F75: ԳՀ | G75: դրամ | H75: 5460000 | I75: -1 | J75: =+H75*I75/1000 -> -5460
B76: 71351540/4 | C76: տեխնիկական հսկողության ծառայություն | F76: ԳՀ | G76: դրամ | J76: -10000
B77: 71351540/5 | C77: տեխնիկական հսկողության ծառայություն | F77: ԳՀ | G77: դրամ | J77: 2700
B78: 71351540/6 | C78: տեխնիկական հսկողության ծառայություն | F78: ԳՀ | G78: դրամ | J78: 3264
B79: 71351540/72 | C79: տեխնիկական հսկողության ծառայություն | F79: ԳՀ | G79: դրամ | J79: -3000
B80: 98111140/1 | C80: հեղինակային հսկողության ծառայություն | F80: ՄԱ | G80: դրամ | J80: -517
B81: 98111140/2 | C81: հեղինակային հսկողության ծառայություն | F81: ՄԱ | G81: դրամ | H81: 819000 | I81: -1 | J81: -819
B82: 98111140/4 | C82: հեղինակային հսկողության ծառայություն | F82: ՄԱ | G82: դրամ | J82: -2000
B83: 98111140/5 | C83: հեղինակային հսկողության ծառայություն | F83: ՄԱ | G83: դրամ | J83: 600
B84: 98111140/6 | C84: հեղինակային հսկողության ծառայություն | F84: ՄԱ | G84: դրամ | J84: 456
B85: 98111140/35 | C85: հեղինակային հսկողության ծառայություն | F85: ՄԱ | G85: դրամ | J85: -1000
