Workbook

Sheet 1
A1: Հավելված N 1
A2: ՀՀ կառավարության 2025 թվականի
A3: ______________ ի ___Ն որոշման
B4: ՀԱՅԱՍՏԱՆԻ ՀԱՆՐԱՊԵՏՈՒԹՅԱՆ 2025 ԹՎԱԿԱՆԻ ՊԵՏԱԿԱՆ ԲՅՈՒՋԵԻ ՄԱՍԻՆ» ՕՐԵՆՔԻ N 1 ՀԱՎԵԼՎԱԾԻ N 2 ԱՂՅՈՒՍԱԿՈՒՄ ԿԱՏԱՐՎՈՂ ՎԵՐԱԲԱՇԽՈՒՄԸ ԵՎ ՀԱՅԱՍՏԱՆԻ ՀԱՆՐԱՊԵՏՈՒԹՅԱՆ ԿԱՌԱՎԱՐՈՒԹՅԱՆ 2024 ԹՎԱԿԱՆԻ ԴԵԿՏԵՄԲԵՐԻ 27-Ի N 2060-Ն ՈՐՈՇՄԱՆ N 5 ՀԱՎԵԼՎԱԾԻ N 1 ԱՂՅՈՒՍԱԿՈՒՄ ԿԱՏԱՐՎՈՂ ՓՈՓՈԽՈՒԹՅՈՒՆՆԵՐԸ ԵՎ ԼՐԱՑՈՒՄՆԵՐԸ
H5: հազար դրամներով
B6: ԲԳԿ | C6: Ծրագրային դասիչը | E6: ԲԳԿ/Ծրագրի /միջոցառման անվանումը | F6: Ծրագրի նպատակը/Միջոցառման նկարագրությունը | G6: Վերջնական արդյունքի նկարագրությունը/Միջոցառման տեսակը | H6: Ցուցանիշների փոփոխությունը (ավելացումները նշված են դրական նշանով, իսկ նվազեցումները` փակագծերում)
C7: Ծրագիր | D7: Միջոցառում | H7: Տարի
B8: ԸՆԴԱՄԵՆԸ | H8: =H9+H15+H19 -> 0
B9: ՀՀ տարածքային կառավարման և ենթակառուցվածքների նախարարություն | H9: -160591.9
C10: 1004 | E10: Ոռոգման համակարգի առողջացում | F10: Ոռոգման ծառայությունների հասանելիության և մատչելիության ապահովում | G10: Ոռոգման ջրի մատակարարման արդյունավետության և հասանելիության բարելավում, կորուստների կրճատում | H10: -838000
D11: 1004 - 11010 | E11: Գերմանիայի զարգացման վարկերի բանկի աջակցությամբ իրականացվող Ախուրյան գետի ջրային ռեսուրսների ինտեգրացված կառավարում փուլ 1 ծրագրով Ջրաձոր գյուղի վերաբնակեցման գործողությունների խորհրդատվություն և կառավարում | F11: Գերմանիայի զարգացման վարկերի բանկի աջակցությամբ իրականացվող Ախուրյան գետի ջրային ռեսուրսների ինտեգրացված կառավարում փուլ 1 ծրագրով Ջրաձոր գյուղի վերաբնակեցման գործողությունների համակարգում և ղեկավարում | G11: Ծառայությունների մատուցում | H11: -43000
D12: 1004 - 31001 | E12: Ֆրանսիայի Հանրապետության կառավարության աջակցությամբ իրականացվող Վեդու ջրամբարի և ոռոգման համակարգի կառուցում | F12: Ֆրանսիայի Հանրապետության կառավարության աջակցությամբ իրականացվող Վեդու ջրամբարի և ոռոգման համակարգի կառուցման ծրագիր | G12: Պետական մարմինների կողմից օգտագործվող ոչ ֆինանսական ակտիվների հետ գործառնություններ | H12: -795000
C13: 1232 | E13: Էներգաարդյունավետության ծրագիր | F13: Էներգախնայողության և վերականգնվող էներգետիկայի ներուժի առավելագույն իրացում | G13: Էներգախնայողության մակարդակի բարձրացում և վերականգնվող էներգետիկայի մասնաբաժնի աճ | H13: 677408.1
D14: 1232 - 12002 | E14: Պետական աջակցություն բնակարանների և անհատական բնակելի տների էներգաարդյունավետ վերանորոգման աշխատանքների իրականացմանը | F14: Պետական աջակցություն բնակարանների և անհատական բնակելի տների էներգաարդյունավետ վերանորոգման աշխատանքների իրականացմանը | G14: Տրանսֆերտների տրամադրում | H14: 677408.1
B15: ՀՀ կրթության, գիտության, մշակույթի և սպորտի նախարարություն | H15: 838000
C16: 1189 | E16: Դպրոցների սեյսմիկ անվտանգության մակարդակի բարձրացման ծրագիր | F16: Նպաստել երկրի սեյսմակայունության ապահովմանը, անհատական և հասարակական անվտանգության մակարդակի բարձրացմանը | G16: Դպրոցական շենքերի սեյսմակայունության մակարդակի բարձրացում | H16: 838000
D17: 1189 - 12001 | E17: Ասիական զարգացման բանկի աջակցությամբ իրականացվող դպրոցների սեյսմիկ պաշտպանության ծրագրի շրջանակներում ՀՀ դպրոցների սեյսմիկ անվտանգության բարելավմանն ուղղված միջոցառումներ | F17: Դպրոցների շենքերի ամրացման շինարարական աշխատանքներ, շինարարական ստանդարտների արդիականացում, արտակարգ իրավիճակներին արձագանքման ծրագրի մշակում, սեյսմիկ մոնիտորինգի դիտակետերի սարքավորումների արդիականացում: | G17: Տրանսֆերտների տրամադրում | H17: 240000
D18: 1189 - 12003 | E18: Ասիական զարգացման բանկի աջակցությամբ իրականացվող դպրոցների սեյսմիկ պաշտպանության ծրագրի լրացուցիչ ֆինանսավորման շրջանակներում ՀՀ դպրոցների սեյսմիկ անվտանգության բարելավմանն ուղղված միջոցառումներ | F18: Դպրոցների սեյսմիկ պաշտպանության լրացուցիչ ֆինանսավորման ծրագիր, դպրոցների շենքերի կառուցման, ամրացման շինարարական աշխատանքներ, շինարարական ստանդարտների արդիականացում, արտակարգ իրավիճակներին արձագանքման ծրագրի մշակում | G18: Տրանսֆերտների տրամադրում | H18: 598000
B19: ՀՀ կառավարություն | H19: =H20 -> -677408.1
C20: 1139 | E20: ՀՀ կառավարության պահուստային ֆոնդ | F20: Պետական բյուջեում չկանխատեսված, ինչպես նաեւ բյուջետային երաշխիքների ապահովման ծախսերի ֆինանսավորման ապահովում | G20: Պահուստային ֆոնդի կառավարման արդյունավետության և թափանցիկության ապահովում | H20: =H21+H22+H23 -> -677408.1
D21: 1139 - 11001 | E21: ՀՀ կառավարության պահուստային ֆոնդ | F21: ՀՀ պետական բյուջեում նախատեսված ելքերի լրացուցիչ ֆինանսավորման, պետական բյուջեում չկանխատեսված ելքերի, ինչպես նաև բյուջետային երաշխիքների ապահովման ելքերի ֆինանսավորման ապահովում | G21: Ծառայությունների մատուցում | H21: =-H22 -> 677408.1
D22: 1139 - 11001 | E22: ՀՀ կառավարության պահուստային ֆոնդ | F22: ՀՀ պետական բյուջեում նախատեսված ելքերի լրացուցիչ ֆինանսավորման, պետական բյուջեում չկանխատեսված ելքերի, ինչպես նաև բյուջետային երաշխիքների ապահովման ելքերի ֆինանսավորման ապահովում | G22: Ծառայությունների մատուցում | H22: =H23 -> -677408.1
D23: 1139 - 11003 | E23: Հարկաբյուջետային ռիսկերի կառավարման պահուստ | F23: Հարկաբյուջետային ռիսկերի կառավարման նպատակով նախատեսված միջոցներ | G23: Ծառայությունների մատուցում | H23: =-H14 -> -677408.1
D34: ՀԱՅԱՍՏԱՆԻ ՀԱՆՐԱՊԵՏՈՒԹՅԱՆ ՎԱՐՉԱՊԵՏԻ ԱՇԽԱՏԱԿԱԶՄԻ ՂԵԿԱՎԱՐ՝ | F34: Ա.ՀԱՐՈՒԹՅՈՒՆՅԱՆ

Sheet 2
H1: Հավելված N 2
H2: ՀՀ կառավարության 2025 թվականի
H3: ______________ ի ___Ն որոշման
B5: ՀԱՅԱՍՏԱՆԻ ՀԱՆՐԱՊԵՏՈՒԹՅԱՆ ԿԱՌԱՎԱՐՈՒԹՅԱՆ 2024 ԹՎԱԿԱՆԻ ԴԵԿՏԵՄԲԵՐԻ 27-Ի N 2060-Ն ՈՐՈՇՄԱՆ NN 3 ԵՎ 4 ՀԱՎԵԼՎԱԾՆԵՐՈՒՄ ԿԱՏԱՐՎՈՂ ՓՈՓՈԽՈՒԹՅՈՒՆՆԵՐԸ ԵՎ ԼՐԱՑՈՒՄՆԵՐԸ
H7: հազար դրամներով
B8: Գործառական դասիչը | E8: Ծրագրային դասիչը | G8: Բյուջետային հատկացումների գլխավոր կարգադրիչների, ծրագրերի, միջոցառումների և միջոցառումները կատարող պետական մարմինների անվանումները | H8: Ցուցանիշների փոփոխությունը (ավելացումները նշված են դրական նշանով, իսկ նվազեցումները` փակագծերում)
B9: Բաժին | C9: Խումբ | D9: Դաս | E9: Ծրագիր | F9: Միջոցառում | H9: Տարի
G10: ԸՆԴԱՄԵՆԸ | H10: =H12+H62+H92 -> 0
G11: այդ թվում`
G12: ՀՀ տարածքային կառավարման և ենթակառուցվածքների նախարարություն | H12: -160591.9
G13: այդ թվում`
B14: 04 | G14: ՏՆՏԵՍԱԿԱՆ ՀԱՐԱԲԵՐՈՒԹՅՈՒՆՆԵՐ | H14: -160591.9
G15: այդ թվում`
C16: 01 | G16: Ընդհանուր բնույթի տնտեսական, առևտրային և աշխատանքի գծով հարաբերություններ | H16: 677408.1
G17: այդ թվում`
D18: 01 | G18: Ընդհանուր բնույթի տնտեսական և առևտրային հարաբերություններ | H18: 677408.1
G19: այդ թվում`
G20: ՀՀ տարածքային կառավարման և ենթակառուցվածքների նախարարություն | H20: 677408.1
G21: այդ թվում`
E22: 1232 | G22: Էներգաարդյունավետության ծրագիր | H22: 677408.1
G23: այդ թվում`
F24: 12002 | G24: Պետական աջակցություն բնակարանների և անհատական բնակելի տների էներգաարդյունավետ վերանորոգման աշխատանքների իրականացմանը | H24: 677408.1
G25: այդ թվում` ըստ կատարողների
G26: ՀՀ տարածքային կառավարման և ենթակառուցվածքների նախարարություն | H26: 677408.1
G27: այդ թվում` բյուջետային ծախսերի տնտեսագիտական դասակարգման հոդվածներ
G28: ԸՆԴԱՄԵՆԸ ԾԱԽՍԵՐ | H28: 677408.1
G29: ԸՆԹԱՑԻԿ ԾԱԽՍԵՐ | H29: 677408.1
G30: ՍՈՒԲՍԻԴԻԱՆԵՐ | H30: 677408.1
G31: Սուբսիդիաներ ոչ պետական կազմակերպություններին | H31: 677408.1
G32: - Սուբսիդիաներ ոչ պետական ֆինանսական կազմակերպություններին | H32: 677408.1
C33: 02 | G33: Գյուղատնտեսություն, անտառային տնտեսություն, ձկնորսություն և որսորդություն | H33: -838000
G34: այդ թվում`
D35: 04 | G35: Ոռոգում | H35: -838000
G36: այդ թվում`
G37: ՀՀ տարածքային կառավարման և ենթակառուցվածքների նախարարություն | H37: -838000
G38: այդ թվում`
E39: 1004 | G39: Ոռոգման համակարգի առողջացում | H39: -838000
G40: այդ թվում`
F41: 11010 | G41: Գերմանիայի զարգացման վարկերի բանկի աջակցությամբ իրականացվող Ախուրյան գետի ջրային ռեսուրսների ինտեգրացված կառավարում փուլ 1 ծրագրով Ջրաձոր գյուղի վերաբնակեցման գործողությունների խորհրդատվություն և կառավարում | H41: -43000
G42: այդ թվում` ըստ կատարողների
...

Sheet 3
G1: Հավելված N3
G2: ՀՀ կառավարության 2025 թվականի
G3: ______________ ի ___Ն որոշման
B5: «ՀԱՅԱՍՏԱՆԻ ՀԱՆՐԱՊԵՏՈՒԹՅԱՆ 2025 ԹՎԱԿԱՆԻ ՊԵՏԱԿԱՆ ԲՅՈՒՋԵԻ ՄԱՍԻՆ» ՀԱՅԱՍՏԱՆԻ ՀԱՆՐԱՊԵՏՈՒԹՅԱՆ ՕՐԵՆՔԻ N 1 ՀԱՎԵԼՎԱԾԻ N 4 ԱՂՅՈՒՍԱԿՈՒՄ ԵՎ ՀԱՅԱՍՏԱՆԻ ՀԱՆՐԱՊԵՏՈՒԹՅԱՆ ԿԱՌԱՎԱՐՈՒԹՅԱՆ 2024 ԹՎԱԿԱՆԻ ԴԵԿՏԵՄԲԵՐԻ 27-Ի N 2060-Ն ՈՐՈՇՄԱՆ N 5 ՀԱՎԵԼՎԱԾԻ N 3 ԱՂՅՈՒՍԱԿՈՒՄ ԿԱՏԱՐՎՈՂ ՓՈՓՈԽՈՒԹՅՈՒՆՆԵՐԸ ԵՎ ԼՐԱՑՈՒՄՆԵՐԸ
G7: հազար դրամներով
B8: Ծրագրային դասիչը | D8: Բյուջետային հատկացումների գլխավոր կարգադրիչների, ծրագրերի, միջոցառումների և միջոցառումները կատարող պետական մարմինների անվանումները | E8: Ցուցանիշների փոփոխությունը (ավելացումները նշված են դրական նշանով, իսկ նվազեցումները` փակագծերում)
E10: Տարի
B11: ծրագիրը | C11: միջոցառումը | E11: ընդամենը | F11: այդ թվում՝
F12: վարկային միջոցներ | G12: համաֆինան_x000D_ սավորում
D13: ԸՆԴԱՄԵՆԸ | E13: =E17+E42 -> 0 | F13: =F17+F42 -> 0 | G13: =G17+G42 -> 0
D14: այդ թվում`
D15: - ԸՆԹԱՑԻԿ ԾԱԽՍԵՐ | E15: -43000 | F15: 0 | G15: -43000
D16: - ՈՉ ՖԻՆԱՆՍԱԿԱՆ ԱԿՏԻՎՆԵՐԻ ԳԾՈՎ ԾԱԽՍԵՐ | E16: 43000 | F16: 0 | G16: 43000
D17: ՀՀ տարածքային կառավարման և ենթակառուցվածքների նախարարություն | E17: -838000 | F17: -635000 | G17: -203000
D18: այդ թվում`
B19: 1004 | D19: Ոռոգման համակարգի առողջացում | E19: -838000 | F19: -635000 | G19: -203000
D20: այդ թվում`
C21: 11010 | D21: Գերմանիայի զարգացման վարկերի բանկի աջակցությամբ իրականացվող Ախուրյան գետի ջրային ռեսուրսների ինտեգրացված կառավարում փուլ 1 ծրագրով Ջրաձոր գյուղի վերաբնակեցման գործողությունների խորհրդատվություն և կառավարում | E21: -43000 | F21: 0 | G21: -43000
D22: այդ թվում` ըստ կատարողների
D23: ՀՀ տարածքային կառավարման և ենթակառուցվածքների նախարարության ջրային կոմիտե | E23: -43000 | F23: 0 | G23: -43000
D24: այդ թվում` բյուջետային ծախսերի տնտեսագիտական դասակարգման հոդվածներ
D25: ԸՆԴԱՄԵՆԸ ԾԱԽՍԵՐ | E25: -43000 | F25: 0 | G25: -43000
D26: ԸՆԹԱՑԻԿ ԾԱԽՍԵՐ | E26: -43000 | F26: 0 | G26: -43000
D27: ԴՐԱՄԱՇՆՈՐՀՆԵՐ | E27: -37767.2 | F27: 0 | G27: -37767.2
D28: Ընթացիկ դրամաշնորհներ պետական հատվածի այլ մակարդակներին | E28: -37767.2 | F28: 0 | G28: -37767.2
D29: - Այլ ընթացիկ դրամաշնորհներ | E29: -37767.2 | F29: 0 | G29: -37767.2
D30: ԱՅԼ ԾԱԽՍԵՐ | E30: -5232.8 | F30: 0 | G30: -5232.8
D31: Հարկեր, պարտադիր վճարներ և տույժեր, որոնք կառավարման տարբեր մակարդակների կողմից կիրառվում են միմյանց նկատմամբ | E31: -5632.8 | F31: 0 | G31: -5632.8
D32: Այլ ծախսեր | E32: 400 | F32: 0 | G32: 400
C33: 31001 | D33: Ֆրանսիայի Հանրապետության կառավարության աջակցությամբ իրականացվող Վեդու ջրամբարի և ոռոգման համակարգի կառուցում | E33: -795000 | F33: -635000 | G33: -160000
D34: այդ թվում` ըստ կատարողների
D35: ՀՀ տարածքային կառավարման և ենթակառուցվածքների նախարարության ջրային կոմիտե | E35: -795000 | F35: -635000 | G35: -160000
D36: այդ թվում` բյուջետային ծախսերի տնտեսագիտական դասակարգման հոդվածներ
D37: ԸՆԴԱՄԵՆԸ ԾԱԽՍԵՐ | E37: -795000 | F37: -635000 | G37: -160000
D38: ՈՉ ՖԻՆԱՆՍԱԿԱՆ ԱԿՏԻՎՆԵՐԻ ԳԾՈՎ ԾԱԽՍԵՐ | E38: -795000 | F38: -635000 | G38: -160000
D39: ՀԻՄՆԱԿԱՆ ՄԻՋՈՑՆԵՐ | E39: -795000 | F39: -635000 | G39: -160000
D40: ՇԵՆՔԵՐ ԵՎ ՇԻՆՈՒԹՅՈՒՆՆԵՐ | E40: -795000 | F40: -635000 | G40: -160000
D41: - Շենքերի և շինությունների շինարարություն | E41: -795000 | F41: -635000 | G41: -160000
D42: ՀՀ կրթության , գիտության, մշակույթի և սպորտի նախարարություն | E42: 838000 | F42: 635000 | G42: 203000
D43: այդ թվում`
...

Sheet 4
K1: Հավելված N4
K2: ՀՀ կառավարության 2025 թվականի
K3: ______________ ի ___Ն որոշման
B5: ՀԱՅԱՍՏԱՆԻ ՀԱՆՐԱՊԵՏՈՒԹՅԱՆ ԿԱՌԱՎԱՐՈՒԹՅԱՆ 2024 ԹՎԱԿԱՆԻ ԴԵԿՏԵՄԲԵՐԻ 27-Ի № 2060-Ն ՈՐՈՇՄԱՆ № 9 ՀԱՎԵԼՎԱԾՈՒՄ ԿԱՏԱՐՎՈՂ ՓՈՓՈԽՈՒԹՅՈՒՆՆԵՐԸ ԵՎ ԼՐԱՑՈՒՄՆԵՐԸ
K7: հազար դրամներով
B8: ԲԳԿ | C8: Ծրագիր | E8: Միջոցառում | I8: Իրականացնողը/ ակտիվն օգտագործողը/ շահառուի ընտրության չափորոշիչը | J8: Արդյունքային չափորոշիչը | K8: Ցուցանիշների փոփոխությունը (ավելացումները նշված են դրական նշանով
C9: Դասիչը | D9: Անվանումը | E9: Դասիչը | F9: Անվանումը | G9: Նկարագրությունը | H9: Տեսակը | K9: Տարի
B10: ԸՆԴԱՄԵՆԸ | K10: =K11+K26+K36 -> 0
B11: ՀՀ տարածքային կառավարման և ենթակառուցվածքների նախարարություն | K11: =K12+K21 -> -160591.9
C12: 1004 | D12: Ոռոգման համակարգի առողջացում | K12: =K13+K17 -> -838000
E13: 1004 - 11010 | F13: Գերմանիայի զարգացման վարկերի բանկի աջակցությամբ իրականացվող Ախուրյան գետի ջրային ռեսուրսների ինտեգրացված կառավարում փուլ 1 ծրագրով Ջրաձոր գյուղի վերաբնակեցման գործողությունների խորհրդատվություն և կառավարում | K13: ='2'!H41 -> -43000
G14: Գերմանիայի զարգացման վարկերի բանկի աջակցությամբ իրականացվող Ախուրյան գետի ջրային ռեսուրսների ինտեգրացված կառավարում փուլ 1 ծրագրով Ջրաձոր գյուղի վերաբնակեցման գործողությունների համակարգում և ղեկավարում
H15: Ծառայությունների մատուցում
I16: Ծառայությունը մատուցողի անվանումը` Մասնագիտացված միավոր
E17: 1004 - 31001 | F17: Ֆրանսիայի Հանրապետության կառավարության աջակցությամբ իրականացվող Վեդու ջրամբարի և ոռոգման համակարգի կառուցում | K17: ='2'!H53 -> -795000
G18: Ֆրանսիայի Հանրապետության կառավարության աջակցությամբ իրականացվող Վեդու ջրամբարի և ոռոգման համակարգի կառուցման ծրագիր
H19: Պետական մարմինների կողմից օգտագործվող ոչ ֆինանսական ակտիվների հետ գործառնություններ
I20: Ակտիվն օգտագործող կազմակերպության անվանումը` Մասնագիտացված միավոր
C21: 1232 | D21: Էներգաարդյունավետության ծրագիր | K21: =K22 -> 677408.1
E22: 1232 - 12002 | F22: Պետական աջակցություն բնակարանների և անհատական բնակելի տների էներգաարդյունավետ վերանորոգման աշխատանքների իրականացմանը | K22: ='2'!H24 -> 677408.1
G23: Պետական աջակցություն բնակարանների և անհատական բնակելի տների էներգաարդյունավետ վերանորոգման աշխատանքների իրականացմանը
H24: Տրանսֆերտների տրամադրում
I25: Շահառուների ընտրության չափորոշիչները` ՀՀ կառավարության 2022թ. ապրիլի 15-ի N 520-Լ որոշմամբ և մայիսի 26-ի N 775-Լ որոշմամբ հաստատված բնակարանների և անհատական բնակելի տների էներգաարդյունավետ վերանորոգման աշխատանքների պետական աջակցության ծրագրով ընտրված շահառուներ
B26: ՀՀ կրթության, գիտության, մշակույթի և սպորտի նախարարություն | K26: =K27 -> 838000
C27: 1189 | D27: Դպրոցների սեյսմիկ անվտանգության մակարդակի բարձրացման ծրագիր | K27: =K28+K32 -> 838000
E28: 1189 - 12001 | F28: Ասիական զարգացման բանկի աջակցությամբ իրականացվող դպրոցների սեյսմիկ պաշտպանության ծրագրի շրջանակներում ՀՀ դպրոցների սեյսմիկ անվտանգության բարելավմանն ուղղված միջոցառումներ | K28: ='2'!H74 -> 240000
G29: Դպրոցների շենքերի ամրացման շինարարական աշխատանքներ, շինարարական ստանդարտների արդիականացում, արտակարգ իրավիճակներին արձագանքման ծրագրի մշակում, սեյսմիկ մոնիտորինգի դիտակետերի սարքավորումների արդիականացում:
H30: Տրանսֆերտների տրամադրում
I31: Շահառուների ընտրության չափորոշիչները` Մասնագիտացված կազմակերպություն
E32: 1189 - 12003 | F32: Ասիական զարգացման բանկի աջակցությամբ իրականացվող դպրոցների սեյսմիկ պաշտպանության ծրագրի լրացուցիչ ֆինանսավորման շրջանակներում ՀՀ դպրոցների սեյսմիկ անվտանգության բարելավմանն ուղղված միջոցառումներ | K32: ='2'!H83 -> 598000
G33: Դպրոցների սեյսմիկ պաշտպանության լրացուցիչ ֆինանսավորման ծրագիր, դպրոցների շենքերի կառուցման, ամրացման շինարարական աշխատանքներ, շինարարական ստանդարտների արդիականացում, արտակարգ իրավիճակներին արձագանքման ծրագրի մշակում
H34: Տրանսֆերտների տրամադրում
I35: Շահառուների ընտրության չափորոշիչները` Մասնագիտացված կազմակերպություն
B36: ՀՀ կառավարություն | K36: =K37 -> -677408.1
C37: 1139 | D37: ՀՀ կառավարության պահուստային ֆոնդ | K37: =K38+K42+K46 -> -677408.1
E38: 1139 - 11001 | F38: ՀՀ կառավարության պահուստային ֆոնդ | K38: ='2'!H104 -> 677408.1
G39: ՀՀ պետական բյուջեում նախատեսված ելքերի լրացուցիչ ֆինանսավորման, պետական բյուջեում չկանխատեսված ելքերի, ինչպես նաև բյուջետային երաշխիքների ապահովման ելքերի ֆինանսավորման ապահովում
H40: Ծառայությունների մատուցում
I41: Ծառայությունը մատուցողի անվանումը` ՀՀ կառավարություն
E42: 1139 - 11001 | F42: ՀՀ կառավարության պահուստային ֆոնդ | K42: ='2'!H112 -> -677408.1
...

Sheet 5
K1: Հավելված N5
K2: ՀՀ կառավարության 2025 թվականի
K3: ______________ ի ___Ն որոշման
B5: ՀԱՅԱՍՏԱՆԻ ՀԱՆՐԱՊԵՏՈՒԹՅԱՆ ԿԱՌԱՎԱՐՈՒԹՅԱՆ 2024 ԹՎԱԿԱՆԻ ԴԵԿՏԵՄԲԵՐԻ 27-Ի № 2060-Ն ՈՐՈՇՄԱՆ № 9.1 ՀԱՎԵԼՎԱԾՈՒՄ ԿԱՏԱՐՎՈՂ ՓՈՓՈԽՈՒԹՅՈՒՆՆԵՐԸ ԵՎ ԼՐԱՑՈՒՄՆԵՐԸ
K6: հազար դրամներով
B7: ԲՍԿ | C7: Ծրագիր | E7: Միջոցառում | I7: Իրականացնողը/ ակտիվն օգտագործողը/ շահառուի ընտրության չափորոշիչը | J7: Արդյունքային չափորոշիչը | K7: Ցուցանիշների փոփոխությունը (ավելացումները նշված են դրական նշանով, իսկ նվազեցումները` փակագծերում)
C8: Դասիչը | D8: Անվանումը | E8: Դասիչը | F8: Անվանումը | G8: Նկարագրությունը | H8: Տեսակը | K8: Տարի
B9: ԸՆԴԱՄԵՆԸ | K9: =K10+K35+K25 -> 0
B10: ՀՀ տարածքային կառավարման և ենթակառուցվածքների նախարարություն | K10: =K11+K20 -> 1515408.1
C11: 1189 | D11: Դպրոցների սեյսմիկ անվտանգության մակարդակի բարձրացման ծրագիր | K11: =K12+K16 -> 838000
E12: 1189 - 12001 | F12: Ասիական զարգացման բանկի աջակցությամբ իրականացվող դպրոցների սեյսմիկ պաշտպանության ծրագրի շրջանակներում ՀՀ դպրոցների սեյսմիկ անվտանգության բարելավմանն ուղղված միջոցառումներ | K12: ='4'!K28 -> 240000
G13: Դպրոցների շենքերի ամրացման շինարարական աշխատանքներ, շինարարական ստանդարտների արդիականացում, արտակարգ իրավիճակներին արձագանքման ծրագրի մշակում, սեյսմիկ մոնիտորինգի դիտակետերի սարքավորումների արդիականացում:
H14: Տրանսֆերտների տրամադրում
I15: Շահառուների ընտրության չափորոշիչները` Մասնագիտացված կազմակերպություն
E16: 1189 - 12003 | F16: Ասիական զարգացման բանկի աջակցությամբ իրականացվող դպրոցների սեյսմիկ պաշտպանության ծրագրի լրացուցիչ ֆինանսավորման շրջանակներում ՀՀ դպրոցների սեյսմիկ անվտանգության բարելավմանն ուղղված միջոցառումներ | K16: ='4'!K32 -> 598000
G17: Դպրոցների սեյսմիկ պաշտպանության լրացուցիչ ֆինանսավորման ծրագիր, դպրոցների շենքերի կառուցման, ամրացման շինարարական աշխատանքներ, շինարարական ստանդարտների արդիականացում, արտակարգ իրավիճակներին արձագանքման ծրագրի մշակում
H18: Տրանսֆերտների տրամադրում
I19: Շահառուների ընտրության չափորոշիչները` Մասնագիտացված կազմակերպություն
C20: 1232 | D20: Էներգաարդյունավետության ծրագիր | K20: =K21 -> 677408.1
E21: 1232 - 12002 | F21: Պետական աջակցություն բնակարանների և անհատական բնակելի տների էներգաարդյունավետ վերանորոգման աշխատանքների իրականացմանը | K21: ='4'!K22 -> 677408.1
G22: Պետական աջակցություն բնակարանների և անհատական բնակելի տների էներգաարդյունավետ վերանորոգման աշխատանքների իրականացմանը
H23: Տրանսֆերտների տրամադրում
I24: Շահառուների ընտրության չափորոշիչները` ՀՀ կառավարության 2022թ. ապրիլի 15-ի N 520-Լ որոշմամբ և մայիսի 26-ի N 775-Լ որոշմամբ հաստատված բնակարանների և անհատական բնակելի տների էներգաարդյունավետ վերանորոգման աշխատանքների պետական աջակցության ծրագրով ընտրված շահառուներ
B25: ՀՀ տարածքային կառավարման և ենթակառուցվածքների նախարարության ջրային կոմիտե | K25: =K26 -> -838000
C26: 1004 | D26: Ոռոգման համակարգի առողջացում | K26: =K27+K31 -> -838000
E27: 1004 - 11010 | F27: Գերմանիայի զարգացման վարկերի բանկի աջակցությամբ իրականացվող Ախուրյան գետի ջրային ռեսուրսների ինտեգրացված կառավարում փուլ 1 ծրագրով Ջրաձոր գյուղի վերաբնակեցման գործողությունների խորհրդատվություն և կառավարում | K27: ='4'!K13 -> -43000
G28: Գերմանիայի զարգացման վարկերի բանկի աջակցությամբ իրականացվող Ախուրյան գետի ջրային ռեսուրսների ինտեգրացված կառավարում փուլ 1 ծրագրով Ջրաձոր գյուղի վերաբնակեցման գործողությունների համակարգում և ղեկավարում
H29: Ծառայությունների մատուցում
I30: Ծառայությունը մատուցողի անվանումը` Մասնագիտացված միավոր
E31: 1004 - 31001 | F31: Ֆրանսիայի Հանրապետության կառավարության աջակցությամբ իրականացվող Վեդու ջրամբարի և ոռոգման համակարգի կառուցում | K31: ='4'!K17 -> -795000
G32: Ֆրանսիայի Հանրապետության կառավարության աջակցությամբ իրականացվող Վեդու ջրամբարի և ոռոգման համակարգի կառուցման ծրագիր
H33: Պետական մարմինների կողմից օգտագործվող ոչ ֆինանսական ակտիվների հետ գործառնություններ
I34: Ակտիվն օգտագործող կազմակերպության անվանումը` Մասնագիտացված միավոր
B35: ՀՀ կառավարություն | K35: =K36 -> -677408.1
C36: 1139 | D36: ՀՀ կառավարության պահուստային ֆոնդ | K36: =K37+K41+K45 -> -677408.1
E37: 1139 - 11001 | F37: ՀՀ կառավարության պահուստային ֆոնդ | K37: ='4'!K38 -> 677408.1
G38: ՀՀ պետական բյուջեում նախատեսված ելքերի լրացուցիչ ֆինանսավորման, պետական բյուջեում չկանխատեսված ելքերի, ինչպես նաև բյուջետային երաշխիքների ապահովման ելքերի ֆինանսավորման ապահովում
H39: Ծառայությունների մատուցում
I40: Ծառայությունը մատուցողի անվանումը` ՀՀ կառավարություն
E41: 1139 - 11001 | F41: ՀՀ կառավարության պահուստային ֆոնդ | K41: ='4'!K42 -> -677408.1
...
