Workbook
Name a: #REF!
Name a: #REF!
Name a: #REF!
Name a: #REF!
Name AgencyCode: #REF!
Name AgencyCode: #REF!
Name AgencyCode: #REF!
Name AgencyCode: #REF!
Name AgencyCode: #REF!
Name AgencyName: #REF!
Name AgencyName: #REF!
Name AgencyName: #REF!
Name AgencyName: #REF!
Name AgencyName: #REF!
Name åû: #REF!
Name åû: #REF!
Name davit: #REF!
Name davit: #REF!
Name davit: #REF!
Name davit: #REF!
Name Functional1: #REF!
Name Functional1: #REF!
Name Functional1: #REF!
Name Functional1: #REF!
Name Functional1: #REF!
Name ggg: #REF!
Name ggg: #REF!
Name ggg: #REF!
Name ggg: #REF!
Name hav: #REF!
Name hav: #REF!
Name mas: #REF!
Name mas: #REF!
Name mass: #REF!
Name mass: #REF!
Name PANature: #REF!
Name PANature: #REF!
Name PANature: #REF!
Name PANature: #REF!
Name PANature: #REF!
Name PAType: #REF!
Name PAType: #REF!
Name PAType: #REF!
Name PAType: #REF!
Name PAType: #REF!
Name Performance2: #REF!
Name Performance2: #REF!
Name Performance2: #REF!
Name Performance2: #REF!
Name Performance2: #REF!
Name PerformanceType: #REF!
Name PerformanceType: #REF!
Name PerformanceType: #REF!
Name PerformanceType: #REF!
Name PerformanceType: #REF!
Name x: #REF!
Name x: #REF!
Name Հավելված: #REF!
Name Հավելված: #REF!
Name Հավելված: #REF!

Sheet Հավելված N 1
F1: Հավելված N 1
F2: ՀՀ կառավարության 2025 թվականի
F3: ______________ ի ___Ն որոշման
A6: «ՀԱՅԱUՏԱՆԻ ՀԱՆՐԱՊԵՏՈՒԹՅԱՆ 2025 ԹՎԱԿԱՆԻ ՊԵՏԱԿԱՆ ԲՅՈՒՋԵԻ ՄԱUԻՆ» ՀԱՅԱUՏԱՆԻ ՀԱՆՐԱՊԵՏՈՒԹՅԱՆ OՐԵՆՔԻ N 1 ՀԱՎԵԼՎԱԾԻ N 2 ԱՂՅՈՒՍԱԿՈՒՄ ԿԱՏԱՐՎՈՂ ՎԵՐԱԲԱՇԽՈՒՄԸ ԵՎ ՀԱՅԱՍՏԱՆԻ ՀԱՆՐԱՊԵՏՈՒԹՅԱՆ ԿԱՌԱՎԱՐՈՒԹՅԱՆ 2024 ԹՎԱԿԱՆԻ ԴԵԿՏԵՄԲԵՐԻ 27-Ի N 2060-Ն ՈՐՈՇՄԱՆ N 5 ՀԱՎԵԼՎԱԾԻ N 1 ԱՂՅՈՒՍԱԿՈՒՄ ԿԱՏԱՐՎՈՂ ՓՈՓՈԽՈՒԹՅՈՒՆԸ ԵՎ ԼՐԱՑՈՒՄԸ
G9: հազ. դրամներով
A10: ԲԳԿ | B10: Ծրագրային դասիչը | D10: ԲԳԿ/Ծրագրի /միջոցառման անվանումը | E10: Ծրագրի նպատակը/Միջոցառման նկարագրությունը | F10: Վերջնական արդյունքի նկարագրությունը/Միջոցառման տեսակը | G10: Ցուցանիշների փոփոխությունը (ավելացումները նշված են դրական նշանով, իսկ նվազեցումները փակագծերում)
G11: Տարի
B12: Ծրագիր | C12: Միջոցառում
A13: ԸՆԴԱՄԵՆԸ | G13: =+G15+G19 -> 0
A14: այդ թվում՝
A15: ՀՀ ԿՐԹՈՒԹՅԱՆ, ԳԻՏՈՒԹՅԱՆ, ՄՇԱԿՈՒՅԹԻ ԵՎ ՍՊՈՐՏԻ ՆԱԽԱՐԱՐՈՒԹՅՈՒՆ | G15: =+G16 -> 329855
B16: 1163 | D16: Մասսայական սպորտ | E16: Բնակչության շրջանում առողջ ապրելակերպի արմատավորում, անհատի բազմակողմանի ու ներդաշնակ զարգացման գործում ֆիզիկական կուլտուրայի և սպորտի դերի բարձրացում | F16: Սպորտի նկատմամբ հետաքրքրվածության և մասնակցության ընդլայնում | G16: =SUM(G17:G17) -> 329855
C17: 1163 - 12003 | D17: Համայնքներում կառուցվող մարզական ենթակառուցվածքների համար հողատարածքների ձեռքբերում | E17: Մարզական ենթակառուցվածքների զարգացման նպատակով նոր շենքերի կառուցման համար անհրաժեշտ հողատարածքների ձեռքբերում | F17: Տրանսֆերտների տրամադրում | G17: =+'Հավելված N 2'!G26 -> 329855
A19: ՀՀ ԿԱՌԱՎԱՐՈՒԹՅՈՒՆ | G19: =+G20 -> -329855
B20: 1139 | D20: ՀՀ կառավարության պահուստային ֆոնդ | E20: Պետական բյուջեում չկանխատեսված, ինչպես նաեւ բյուջետային երաշխիքների ապահովման ծախսերի ֆինանսավորման ապահովում | F20: Պահուստային ֆոնդի կառավարման արդյունավետության և թափանցիկության ապահովում | G20: =SUM(G21:G23) -> -329855
C21: 1139 - 11001 | D21: ՀՀ կառավարության պահուստային ֆոնդ | E21: ՀՀ պետական բյուջեում նախատեսված ելքերի լրացուցիչ ֆինանսավորման, պետական բյուջեում չկանխատեսված ելքերի, ինչպես նաև բյուջետային երաշխիքների ապահովման ելքերի ֆինանսավորման ապահովում | F21: Ծառայությունների մատուցում | G21: =+'Հավելված N 2'!G47 -> -329855
C22: 1139 - 11001 | D22: ՀՀ կառավարության պահուստային ֆոնդ | E22: ՀՀ պետական բյուջեում նախատեսված ելքերի լրացուցիչ ֆինանսավորման, պետական բյուջեում չկանխատեսված ելքերի, ինչպես նաև բյուջետային երաշխիքների ապահովման ելքերի ֆինանսավորման ապահովում | F22: Ծառայությունների մատուցում | G22: =+'Հավելված N 2'!G55 -> 329855
C23: 1139 - 11003 | D23: Հարկաբյուջետային ռիսկերի կառավարման պահուստ | E23: Հարկաբյուջետային ռիսկերի կառավարման նպատակով նախատեսված միջոցներ | F23: Ծառայությունների մատուցում | G23: =+'Հավելված N 2'!G63 -> -329855

Sheet Հավելված N 2
F1: Հավելված N 2
F2: ՀՀ կառավարության 2025 թվականի
F3: ______________ ի ___Ն որոշման
A7: ՀԱՅԱՍՏԱՆԻ ՀԱՆՐԱՊԵՏՈՒԹՅԱՆ ԿԱՌԱՎԱՐՈՒԹՅԱՆ 2024 ԹՎԱԿԱՆԻ ԴԵԿՏԵՄԲԵՐԻ 27-Ի N 2060-Ն ՈՐՈՇՄԱՆ N 3 ԵՎ N 4 ՀԱՎԵԼՎԱԾՆԵՐՈՒՄ ԿԱՏԱՐՎՈՂ ՓՈՓՈԽՈՒԹՅՈՒՆԸ ԵՎ ԼՐԱՑՈՒՄԸ
G10: հազ. դրամներով
A11: Գործառական դասիչը | D11: Ծրագրային դասիչը | F11: Բյուջետային հատկացումների գլխավոր կարգադրիչների, ծրագրերի, միջոցառումների և միջոցառումները կատարող պետական մարմինների անվանումները | G11: Ցուցանիշների փոփոխությունը (ավելացումները նշված են դրական նշանով, իսկ նվազեցումները փակագծերում)
A12: Բաժին | B12: Խումբ | C12: Դաս | D12: Ծրագիր | E12: Միջոցառում | G12: Տարի
F13: ԸՆԴԱՄԵՆԸ | G13: =+G15+G36 -> 0
F14: այդ թվում՝
F15: ՀՀ ԿՐԹՈՒԹՅԱՆ, ԳԻՏՈՒԹՅԱՆ, ՄՇԱԿՈՒՅԹԻ ԵՎ ՍՊՈՐՏԻ ՆԱԽԱՐԱՐՈՒԹՅՈՒՆ | G15: =+G16 -> 329855
A16: 08 | F16: ՀԱՆԳԻՍՏ, ՄՇԱԿՈՒՅԹ ԵՎ ԿՐՈՆ | G16: =+G18 -> 329855
F17: այդ թվում`
B18: 01 | F18: Հանգստի և սպորտի ծառայություններ | G18: =+G20 -> 329855
F19: այդ թվում`
C20: 01 | F20: Հանգստի և սպորտի ծառայություններ | G20: =+G22 -> 329855
F21: այդ թվում`
F22: ՀՀ կրթության, գիտության, մշակույթի և սպորտի նախարարություն | G22: =+G24 -> 329855
F23: այդ թվում`
D24: 1163 | E24: Մասսայական սպորտ | G24: =+G26 -> 329855
F25: այդ թվում`
E26: 12003 | F26: Համայնքներում կառուցվող մարզական ենթակառուցվածքների համար հողատարածքների ձեռքբերում | G26: =+G28 -> 329855
F27: այդ թվում` ըստ կատարողների
F28: ՀՀ Տավուշի մարզպետի աշխատակազմ | G28: =+G30 -> 329855
F29: այդ թվում՝ բյուջետային ծախսերի տնտեսագիտական դասակարգման հոդվածներ
F30: ԸՆԴԱՄԵՆԸ ԾԱԽՍԵՐ | G30: =+G31 -> 329855
F31: ԸՆԹԱՑԻԿ ԾԱԽՍԵՐ | G31: =+G32 -> 329855
F32: ԴՐԱՄԱՇՆՈՐՀՆԵՐ | G32: =+G33 -> 329855
F33: ԿԱՊԻՏԱԼԴՐԱՄԱՇՆՈՐՀՆԵՐ ՊԵՏԱԿԱՆ ՀԱՏՎԱԾԻ ԱՅԼ ՄԱԿԱՐԴԱԿՆԵՐԻՆ | G33: =+G34 -> 329855
F34: - Կապիտալ սուբվենցիաներ համայնքներին | G34: =+'Հավելված N 3'!E23 -> 329855
F36: ՀՀ ԿԱՌԱՎԱՐՈՒԹՅՈՒՆ | G36: =+G37 -> -329855
A37: 11 | F37: ՀԻՄՆԱԿԱՆ ԲԱԺԻՆՆԵՐԻՆ ՉԴԱՍՎՈՂ ՊԱՀՈՒՍՏԱՅԻՆ ՖՈՆԴԵՐ | G37: =+G39 -> -329855
F38: այդ թվում`
B39: 01 | F39: ՀՀ կառավարության և համայնքների պահուստային ֆոնդ | G39: =+G41 -> -329855
F40: այդ թվում`
C41: 01 | F41: ՀՀ կառավարության պահուստային ֆոնդ | G41: =+G43 -> -329855
F42: այդ թվում`
F43: ՀՀ կրթության, գիտության, մշակույթի և սպորտի նախարարություն | G43: =+G45 -> -329855
F44: այդ թվում`
D45: 1139 | E45: ՀՀ կառավարության պահուստային ֆոնդ | G45: =+G47+G55+G63 -> -329855
F46: այդ թվում`
E47: 11001 | F47: ՀՀ կառավարության պահուստային ֆոնդ | G47: =+G49 -> -329855
F48: այդ թվում` ըստ կատարողների
F49: ՀՀ կառավարություն | G49: =+G51 -> -329855
F50: այդ թվում՝ բյուջետային ծախսերի տնտեսագիտական դասակարգման հոդվածներ
F51: ԸՆԴԱՄԵՆԸ ԾԱԽՍԵՐ | G51: =+G52 -> -329855
F52: ԸՆԹԱՑԻԿ ԾԱԽՍԵՐ | G52: =+G53 -> -329855
F53: ԱՅԼ ԾԱԽՍԵՐ | G53: =+G54 -> -329855
F54: Պահուստային միջոցներ | G54: =-G62 -> -329855
E55: 11001 | F55: ՀՀ կառավարության պահուստային ֆոնդ | G55: =+G57 -> 329855
F56: այդ թվում` ըստ կատարողների
F57: ՀՀ կառավարություն | G57: =+G59 -> 329855
F58: այդ թվում՝ բյուջետային ծախսերի տնտեսագիտական դասակարգման հոդվածներ
F59: ԸՆԴԱՄԵՆԸ ԾԱԽՍԵՐ | G59: =+G60 -> 329855
F60: ԸՆԹԱՑԻԿ ԾԱԽՍԵՐ | G60: =+G61 -> 329855
F61: ԱՅԼ ԾԱԽՍԵՐ | G61: =+G62 -> 329855
F62: Պահուստային միջոցներ | G62: =-G70 -> 329855
E63: 11003 | F63: Հարկաբյուջետային ռիսկերի կառավարման պահուստ | G63: =+G65 -> -329855
F64: այդ թվում` ըստ կատարողների
F65: ՀՀ կառավարություն | G65: =+G67 -> -329855
F66: այդ թվում՝ բյուջետային ծախսերի տնտեսագիտական դասակարգման հոդվածներ
F67: ԸՆԴԱՄԵՆԸ ԾԱԽՍԵՐ | G67: =+G68 -> -329855
F68: ԸՆԹԱՑԻԿ ԾԱԽՍԵՐ | G68: =+G69 -> -329855
F69: ԱՅԼ ԾԱԽՍԵՐ | G69: =+G70 -> -329855
F70: Պահուստային միջոցներ | G70: =-'Հավելված N 3'!E13 -> -329855

Sheet Հավելված N 3
C1: Հավելված N 3
D2: ՀՀ կառավարության 2025 թվականի
C3: ______________ ի ___Ն որոշման
B7: «ՀԱՅԱUՏԱՆԻ ՀԱՆՐԱՊԵՏՈՒԹՅԱՆ 2025 ԹՎԱԿԱՆԻ ՊԵՏԱԿԱՆ ԲՅՈՒՋԵԻ ՄԱUԻՆ» ՀԱՅԱUՏԱՆԻ ՀԱՆՐԱՊԵՏՈՒԹՅԱՆ OՐԵՆՔԻ N 1 ՀԱՎԵԼՎԱԾԻ N 7 ԱՂՅՈՒՍԱԿՈՒՄ ԵՎ ՀԱՅԱՍՏԱՆԻ ՀԱՆՐԱՊԵՏՈՒԹՅԱՆ ԿԱՌԱՎԱՐՈՒԹՅԱՆ 2024 ԹՎԱԿԱՆԻ ԴԵԿՏԵՄԲԵՐԻ 27-Ի N 2060-Ն ՈՐՈՇՄԱՆ N 5 ՀԱՎԵԼՎԱԾԻ N 6 ԱՂՅՈՒՍԱԿՈՒՄ ԿԱՏԱՐՎՈՂ ԼՐԱՑՈՒՄԸ
E10: հազ. դրամներով
B11: Ծրագրային դասիչը | D11: Հատկացումների տրամադրման նպատակները և բյուջետային գլխավոր կարգադրիչների, ծրագրերի, միջոցառումների և կատարող պետական մարմնի անվանումները | E11: Տարի
B12: Ծրագիր | C12: Միջոցառում
D13: Ընդամենը | E13: =+E15+E45 -> 329855
B14: այդ թվում`
B15: - Կապիտալ սուբվենցիաներ համայնքներին | E15: =+E17 -> 329855
B16: այդ թվում`
B17: ՀՀ կրթության, գիտության, մշակույթի և սպորտի նախարարություն | E17: =+E19 -> 329855
B18: այդ թվում`
B19: 1163 | D19: Մասսայական սպորտ | E19: =+E21 -> 329855
D20: այդ թվում`
C21: 12003 | D21: Համայնքներում կառուցվող մարզական ենթակառուցվածքների համար հողատարածքների ձեռքբերում | E21: =+E23 -> 329855
D22: այդ թվում` ըստ կատարողների
D23: ՀՀ Տավուշի մարզպետի աշխատակազմ | E23: 329855

Sheet Հավելված N 4
I1: Հավելված N 4
I2: ՀՀ կառավարության 2025 թվականի
I3: ______________ ի ___Ն որոշման
A6: ՀԱՅԱՍՏԱՆԻ ՀԱՆՐԱՊԵՏՈՒԹՅԱՆ ԿԱՌԱՎԱՐՈՒԹՅԱՆ 2024 ԹՎԱԿԱՆԻ ԴԵԿՏԵՄԲԵՐԻ 27-Ի N 2060-Ն ՈՐՈՇՄԱՆ N 9 ՀԱՎԵԼՎԱԾՈՒՄ ԿԱՏԱՐՎՈՂ ՓՈՓՈԽՈՒԹՅՈՒՆԸ ԵՎ ԼՐԱՑՈՒՄԸ
J8: հազար դրամներով
A9: ԲԳԿ | B9: Ծրագիր | D9: Միջոցառում | H9: Իրականացնողը/ ակտիվն օգտագործողը/ շահառուի ընտրության չափորոշիչը | I9: Արդյունքային չափորոշիչը | J9: Ցուցանիշների փոփոխությունը (ավելացումները նշված են դրական նշանով, իսկ նվազեցումները՝ փակագծերում)
B10: Դասիչը | C10: Անվանումը | D10: Դասիչը | E10: Անվանումը | F10: Նկարագրությունը | G10: Տեսակը | J10: Տարի
A11: ԸՆԴԱՄԵՆԸ | J11: =+J13+J21 -> 0
A12: այդ թվում՝
A13: ՀՀ ԿՐԹՈՒԹՅԱՆ, ԳԻՏՈՒԹՅԱՆ, ՄՇԱԿՈԻՅԹԻ ԵՎ ՍՊՈՐՏԻ ՆԱԽԱՐԱՐՈՒԹՅՈՒՆ | J13: =+J14 -> 329855
B14: 1163 | C14: Մասսայակ սպորտ | J14: =+J15 -> 329855
D15: 1163 - 12003 | E15: Համայնքներում կառուցվող մարզական ենթակառուցվածքների համար հողատարածքների ձեռքբերում | J15: =+'Հավելված N 1'!G17 -> 329855
F16: Մարզական ենթակառուցվածքների զարգացման նպատակով նոր շենքերի կառուցման համար անհրաժեշտ հողատարածքների ձեռքբերում
G17: Տրանսֆերտների տրամադրում
H18: Շահառուների ընտրության չափորոշիչները` ՀՀ համայնքներում կառուցվող մարզական ենթակառուցվածքները
I19: Ձեռքբերվող հողատարածքի մակերես, քմ | J19: 65971
A21: ՀՀ ԿԱՌԱՎԱՐՈՒԹՅՈՒՆ | J21: =+J22 -> -329855
B22: 1139 | C22: ՀՀ կառավարության պահուստային ֆոնդ | J22: =+J23+J27+J31 -> -329855
D23: 1139 - 11001 | E23: ՀՀ կառավարության պահուստային ֆոնդ | J23: =+'Հավելված N 1'!G21 -> -329855
F24: ՀՀ պետական բյուջեում նախատեսված ելքերի լրացուցիչ ֆինանսավորման, պետական բյուջեում չկանխատեսված ելքերի, ինչպես նաև բյուջետային երաշխիքների ապահովման ելքերի ֆինանսավորման ապահովում
G25: Ծառայությունների մատուցում
H26: Ծառայությունը մատուցողի անվանումը` ՀՀ կառավարություն
D27: 1139 - 11001 | E27: ՀՀ կառավարության պահուստային ֆոնդ | J27: =+'Հավելված N 1'!G22 -> 329855
F28: ՀՀ պետական բյուջեում նախատեսված ելքերի լրացուցիչ ֆինանսավորման, պետական բյուջեում չկանխատեսված ելքերի, ինչպես նաև բյուջետային երաշխիքների ապահովման ելքերի ֆինանսավորման ապահովում
G29: Ծառայությունների մատուցում
H30: Ծառայությունը մատուցողի անվանումը` ՀՀ կառավարություն
D31: 1139 - 11003 | E31: Հարկաբյուջետային ռիսկերի կառավարման պահուստ | J31: =+'Հավելված N 1'!G23 -> -329855
F32: Հարկաբյուջետային ռիսկերի կառավարման նպատակով նախատեսված միջոցներ
G33: Ծառայությունների մատուցում
H34: Ծառայությունը մատուցողի անվանումը` ՀՀ կառավարություն

Sheet Հավելված N 5
I1: Հավելված N 5
I2: ՀՀ կառավարության 2025 թվականի
I3: ______________ ի ___Ն որոշման
A6: ՀԱՅԱՍՏԱՆԻ ՀԱՆՐԱՊԵՏՈՒԹՅԱՆ ԿԱՌԱՎԱՐՈՒԹՅԱՆ 2024 ԹՎԱԿԱՆԻ ԴԵԿՏԵՄԲԵՐԻ 27-Ի N 2060-Ն ՈՐՈՇՄԱՆ N 9.1 ՀԱՎԵԼՎԱԾՈՒՄ ԿԱՏԱՐՎՈՂ ՓՈՓՈԽՈՒԹՅՈՒՆԸ ԵՎ ԼՐԱՑՈՒՄԸ
J8: հազար դրամներով
A9: ԲՍԿ | B9: Ծրագիր | D9: Միջոցառում | H9: Իրականացնողը/ ակտիվն օգտագործողը/ շահառուի ընտրության չափորոշիչը | I9: Արդյունքային չափորոշիչը | J9: Ցուցանիշների փոփոխությունը (ավելացումները նշված են դրական նշանով, իսկ նվազեցումները՝ փակագծերում)
B10: Դասիչը | C10: Անվանումը | D10: Դասիչը | E10: Անվանումը | F10: Նկարագրությունը | G10: Տեսակը | J10: Տարի
A11: ԸՆԴԱՄԵՆԸ | J11: =+J13+J21 -> 0
A12: այդ թվում՝
A13: ՀՀ ՏԱՎՈՒՇԻ ՄԱՐԶՊԵՏԻ ԱՇԽԱՏԱԿԱԶՄ | J13: =+J14 -> 329855
B14: 1163 | C14: Մասսայակ սպորտ | J14: =+J15 -> 329855
D15: 1163 - 12003 | E15: Համայնքներում կառուցվող մարզական ենթակառուցվածքների համար հողատարածքների ձեռքբերում | J15: =+'Հավելված N 2'!G28 -> 329855
F16: Մարզական ենթակառուցվածքների զարգացման նպատակով նոր շենքերի կառուցման համար անհրաժեշտ հողատարածքների ձեռքբերում
G17: Տրանսֆերտների տրամադրում
H18: Շահառուների ընտրության չափորոշիչները` ՀՀ համայնքներում կառուցվող մարզական ենթակառուցվածքները
I19: Ձեռքբերվող հողատարածքի մակերես, քմ | J19: 65971
A21: ՀՀ ԿԱՌԱՎԱՐՈՒԹՅՈՒՆ | J21: =+J22 -> -329855
B22: 1139 | C22: ՀՀ կառավարության պահուստային ֆոնդ | J22: =+J23+J27+J31 -> -329855
D23: 1139 - 11001 | E23: ՀՀ կառավարության պահուստային ֆոնդ | J23: =+'Հավելված N 2'!G49 -> -329855
F24: ՀՀ պետական բյուջեում նախատեսված ելքերի լրացուցիչ ֆինանսավորման, պետական բյուջեում չկանխատեսված ելքերի, ինչպես նաև բյուջետային երաշխիքների ապահովման ելքերի ֆինանսավորման ապահովում
G25: Ծառայությունների մատուցում
H26: Ծառայությունը մատուցողի անվանումը` ՀՀ կառավարություն
D27: 1139 - 11001 | E27: ՀՀ կառավարության պահուստային ֆոնդ | J27: =+'Հավելված N 2'!G57 -> 329855
F28: ՀՀ պետական բյուջեում նախատեսված ելքերի լրացուցիչ ֆինանսավորման, պետական բյուջեում չկանխատեսված ելքերի, ինչպես նաև բյուջետային երաշխիքների ապահովման ելքերի ֆինանսավորման ապահովում
G29: Ծառայությունների մատուցում
H30: Ծառայությունը մատուցողի անվանումը` ՀՀ կառավարություն
D31: 1139 - 11003 | E31: Հարկաբյուջետային ռիսկերի կառավարման պահուստ | J31: =+'Հավելված N 2'!G65 -> -329855
F32: Հարկաբյուջետային ռիսկերի կառավարման նպատակով նախատեսված միջոցներ
G33: Ծառայությունների մատուցում
H34: Ծառայությունը մատուցողի անվանումը` ՀՀ կառավարություն
