Workbook
Name a: #REF!
Name a: #REF!
Name a: #REF!
Name a: #REF!
Name AgencyCode: #REF!
Name AgencyCode: #REF!
Name AgencyCode: #REF!
Name AgencyCode: #REF!
Name AgencyCode: #REF!
Name AgencyName: #REF!
Name AgencyName: #REF!
Name AgencyName: #REF!
Name AgencyName: #REF!
Name åû: #REF!
Name åû: #REF!
Name åû: #REF!
Name åû: #REF!
Name davit: #REF!
Name davit: #REF!
Name davit: #REF!
Name davit: #REF!
Name Functional1: #REF!
Name Functional1: #REF!
Name Functional1: #REF!
Name Functional1: #REF!
Name ggg: #REF!
Name ggg: #REF!
Name ggg: #REF!
Name ggg: #REF!
Name hav: #REF!
Name hav: #REF!
Name hav: #REF!
Name hav: #REF!
Name mas: #REF!
Name mas: #REF!
Name mas: #REF!
Name mas: #REF!
Name mass: #REF!
Name mass: #REF!
Name mass: #REF!
Name mass: #REF!
Name PANature: #REF!
Name PANature: #REF!
Name PANature: #REF!
Name PANature: #REF!
Name PAType: #REF!
Name PAType: #REF!
Name PAType: #REF!
Name PAType: #REF!
Name Performance2: #REF!
Name Performance2: #REF!
Name Performance2: #REF!
Name Performance2: #REF!
Name PerformanceType: #REF!
Name PerformanceType: #REF!
Name PerformanceType: #REF!
Name PerformanceType: #REF!
Name x: #REF!
Name x: #REF!
Name x: #REF!

Sheet Հավելված N 1
F1: Հավելված N 1
F2: ՀՀ կառավարության 2025 թվականի
F3: ______________ ի ___Ն որոշման
A5: «ՀԱՅԱUՏԱՆԻ ՀԱՆՐԱՊԵՏՈՒԹՅԱՆ 2025 ԹՎԱԿԱՆԻ ՊԵՏԱԿԱՆ ԲՅՈՒՋԵԻ ՄԱUԻՆ» ՀԱՅԱUՏԱՆԻ ՀԱՆՐԱՊԵՏՈՒԹՅԱՆ OՐԵՆՔԻ N 1 ՀԱՎԵԼՎԱԾԻ N 3 ԱՂՅՈՒՍԱԿՈՒՄ ԿԱՏԱՐՎՈՂ ՓՈՓՈԽՈՒԹՅՈՒՆՆԵՐԸ ԵՎ ԼՐԱՑՈՒՄՆԵՐԸ
G8: հազ. դրամներով
A9: Ծրագրային դասիչ | C9: Բյուջետային գլխավոր կարգադրիչների, ծրագրերի, միջոցառումների, միջոցառումները կատարող պետական մարմինների և ուղղությունների անվանումները | D9: Ընդամենը | E9: Ցուցանիշների փոփոխությունը (ավելացումները նշված են դրական նշանով, իսկ նվազեցումները՝ փակագծերում)
A10: Ծրագիր | B10: Միջոցառում | E10: Կառուցման աշխատանքներ | F10: Վերակառուցման, վերանորոգման և վերականգնման աշխատանքներ | G10: Նախագծահե- տազոտական, գեոդեզիա- քարտեզագրա- կան աշխա- տանքներ | H10: Ոչ ֆինանսական այլ ակտիվների ձեռքբերում
C11: ԸՆԴԱՄԵՆԸ | D11: =SUM(E11:H11) -> 0 | E11: =+E13 -> 0 | F11: =+F13 -> 0 | G11: =+G13 -> 0 | H11: =+H13 -> 0
C12: այդ թվում՝
C13: ՀՀ ԿՐԹՈՒԹՅԱՆ, ԳԻՏՈՒԹՅԱՆ, ՄՇԱԿՈՒՅԹԻ ԵՎ ՍՊՈՐՏԻ ՆԱԽԱՐԱՐՈՒԹՅՈՒՆ | D13: =SUM(E13:H13) -> 0 | E13: =+E83 -> 0 | F13: =+F83 -> 0 | G13: =+G83 -> 0 | H13: =+H83 -> 0
C14: այդ թվում`
A15: 1236 | B15: 32003 | C15: Հանրակրթական դպրոցների նոր շենքերի կառուցում | D15: =SUM(E15:H15) -> 2.0954758e-09 | E15: =+E17+E18+E26+E32+E40+E43+E51+E59+E65+E75+E78 -> 2.0954758e-09 | F15: =+F17+F18+F26+F32+F40+F43+F51+F59+F65+F75+F78 -> 0 | G15: =+G17+G18+G26+G32+G40+G43+G51+G59+G65+G75+G78 -> 0 | H15: =+H17+H18+H26+H32+H40+H43+H51+H59+H65+H75+H78 -> 0
C16: այդ թվում`
C17: Հանրակրթական դպրոցների նոր շենքերի կառուցում | D17: =SUM(E17:H17) -> -13785673 | E17: =(-1300000-7500000-550000-3285846.2)+(-343732.915-656094-150000) -> -13785673 | F17: 0 | G17: 0 | H17: 0
C18: ՀՀ Արագածոտնի մարզ | D18: =SUM(E18:H18) -> 2171315.1 | E18: =SUM(E19:E25) -> 2171315.1 | F18: =SUM(F19:F25) -> 0 | G18: =SUM(G19:G25) -> 0 | H18: =SUM(H19:H25) -> 0
C19: ք. Աշտարակի Վ.Պետրոսյան անվ. հիմնական դպրոց | D19: =+E19+F19+G19+H19 -> 250000 | E19: =+'Հավելված N 4'!I17 -> 250000
C20: ք. Ապարանի միջնակարգ դպրոց (ք. Ապարանի Վ.Եղիազարյան անվ. թիվ 1 հիմնական դպրոցի տեղակայման վայրում) | D20: =+E20+F20+G20+H20 -> 509859.3 | E20: =+'Հավելված N 4'!I18+'Հավելված N 4'!I65 -> 509859.3
C21: ք. Թալինի միջնակարգ դպրոց (ք. Թալինի թիվ 2 հիմնական դպրոցի տեղակայման վայրում) | D21: =+E21+F21+G21+H21 -> 564003.4 | E21: =+'Հավելված N 4'!I19+'Հավելված N 4'!I66 -> 564003.4
C22: գ. Արագածավանի թիվ 2 միջնակարգ դպրոց | D22: =+E22+F22+G22+H22 -> 450000 | E22: =+'Հավելված N 4'!I20 -> 450000
C23: գ. Նոր Եդեսիայի Ն. Շնորհալու անվ. միջնակարգ դպրոց | D23: =+E23+F23+G23+H23 -> 149203.4 | E23: =+'Հավելված N 4'!I21 -> 149203.4
C24: գ. Ներքին Սասնաշենի միջնակարգ դպրոց | D24: =+E24+F24+G24+H24 -> 180000 | E24: =+'Հավելված N 4'!I340 -> 180000
C25: «Լուսակնի միջնակարգ դպրոց» ՊՈԱԿ | D25: =+E25+F25+G25+H25 -> 68249 | E25: =+'Հավելված N 4'!I341 -> 68249
C26: ՀՀ Արարատի մարզ | D26: =SUM(E26:H26) -> 1821777.9 | E26: =SUM(E27:E31) -> 1821777.9 | F26: =SUM(F27:F30) -> 0 | G26: =SUM(G27:G30) -> 0 | H26: =SUM(H27:H30) -> 0
C27: «Վեդիի ավագ դպրոց» ՊՈԱԿ | D27: =+E27+F27+G27+H27 -> 80000 | E27: =+'Հավելված N 4'!I22 -> 80000
C28: Գետազատ բնակավայրի միջնակարգ դպրոց | D28: =+E28+F28+G28+H28 -> 158000 | E28: =+'Հավելված N 4'!I23 -> 158000
C29: Վերին Դվին բնակավայրի միջնակարգ դպրոց | D29: =+E29+F29+G29+H29 -> 623329.6 | E29: =+'Հավելված N 4'!I24+'Հավելված N 4'!I67 -> 623329.6
C30: Այգեստան բնակավայրի միջնակարգ դպրոց | D30: =+E30+F30+G30+H30 -> 657548.3 | E30: =+'Հավելված N 4'!I25+'Հավելված N 4'!I68 -> 657548.3
C31: «Բարձրաշենի միջնակարգ դպրոց»ՊՈԱԿ | D31: =+E31+F31+G31+H31 -> 302900 | E31: =+'Հավելված N 4'!I342+'Հավելված N 4'!I349+'Հավելված N 4'!I352 -> 302900
C32: ՀՀ Արմավիրի մարզ | D32: =SUM(E32:H32) -> 2974214.9 | E32: =SUM(E33:E39) -> 2974214.9 | F32: =SUM(F33:F39) -> 0 | G32: =SUM(G33:G39) -> 0 | H32: =SUM(H33:H39) -> 0
C33: «Վաղարշապատի Մովսես Խորենացու անվան N 10 ավագ դպրոց» ՊՈԱԿ | D33: =+E33+F33+G33+H33 -> 312245.9 | E33: =+'Հավելված N 4'!I26 -> 312245.9
C34: գ. Ջրառատի Թ.Խաչատրյանի անվ. միջնակարգ դպրոց | D34: =+E34+F34+G34+H34 -> 499292 | E34: =+'Հավելված N 4'!I27+'Հավելված N 4'!I69 -> 499292
C35: գ. Վանանդի միջնակարգ դպրոց | D35: =+E35+F35+G35+H35 -> 313084.4 | E35: =+'Հավելված N 4'!I28+'Հավելված N 4'!I70 -> 313084.4
C36: գ. Նոր Կեսարիայի միջնակարգ դպրոց | D36: =+E36+F36+G36+H36 -> 1009478.3 | E36: =+'Հավելված N 4'!I29+'Հավելված N 4'!I71 -> 1009478.3
C37: գ. Գեղակերտի միջնակարգ դպրոց | D37: =+E37+F37+G37+H37 -> 410114.3 | E37: =+'Հավելված N 4'!I30 -> 410114.3
C38: գ. Ամբերդի Հ. Նավասարդյանի անվ. միջնակարգ դպրոց | D38: =+E38+F38+G38+H38 -> 180000 | E38: =+'Հավելված N 4'!I31 -> 180000
C39: ք. Վաղարշապատի Վ.Ռշտունու անվ. թիվ 11 հիմնական դպրոց | D39: =+E39+F39+G39+H39 -> 250000 | E39: =+'Հավելված N 4'!I32 -> 250000
C40: ՀՀ Գեղարքունիքի մարզ | D40: =SUM(E40:H40) -> 124371 | E40: =SUM(E41:E42) -> 124371 | F40: =SUM(F41:F42) -> 0 | G40: =SUM(G41:G42) -> 0 | H40: =SUM(H41:H42) -> 0
C41: գ. Ծովինարի Արծրուն Խաչատրյանի անվ. միջնակարգ դպրոց | D41: =+E41+F41+G41+H41 -> 70000 | E41: =+'Հավելված N 4'!I33 -> 70000
C42: «Լեռնահովիտ գյուղի Վ. Բարեղամյանի անվան հիմնական դպրոց» ՊՈԱԿ | D42: =+E42+F42+G42+H42 -> 54371 | E42: =+'Հավելված N 4'!I343 -> 54371
C43: ՀՀ Լոռու մարզ | D43: =SUM(E43:H43) -> 2185598 | E43: =SUM(E44:E50) -> 2185598 | F43: =SUM(F44:F50) -> 0 | G43: =SUM(G44:G50) -> 0 | H43: =SUM(H44:H50) -> 0
...

Sheet Հավելված N 2
E1: Հավելված N 2
E2: ՀՀ կառավարության 2025 թվականի
E3: ______________ ի ___Ն որոշման
B5: ՀԱՅԱՍՏԱՆԻ ՀԱՆՐԱՊԵՏՈՒԹՅԱՆ ԿԱՌԱՎԱՐՈՒԹՅԱՆ 2024 ԹՎԱԿԱՆԻ ԴԵԿՏԵՄԲԵՐԻ 27-Ի N 2060-Ն ՈՐՈՇՄԱՆ N 5 ՀԱՎԵԼՎԱԾԻ N 2 ԱՂՅՈՒՍԱԿՈՒՄ ԿԱՏԱՐՎՈՂ ՓՈՓՈԽՈՒԹՅՈՒՆՆԵՐԸ ԵՎ ԼՐԱՑՈՒՄՆԵՐԸ
E7: հազ. դրամներով
B8: Ծրագրային դասիչ | D8: Բյուջետային գլխավոր կարգադրիչների, ծրագրերի, միջոցառումների, միջոցառումները կատարող պետական մարմինների և ուղղությունների անվանումները | E8: Ցուցանիշների փոփոխությունը (ավելացումները նշված են դրական նշանով, իսկ նվազեցումները՝ փակագծերում)
B9: Ծրագիր | C9: Միջոցառում | E9: Տարի
D10: ՀՀ ԿՐԹՈՒԹՅԱՆ, ԳԻՏՈՒԹՅԱՆ, ՄՇԱԿՈՒՅԹԻ ԵՎ ՍՊՈՐՏԻ ՆԱԽԱՐԱՐՈՒԹՅՈՒՆ | E10: =+E91 -> -0.0097839995
D11: այդ թվում՝
B12: 1236 | C12: 32003 | D12: Հանրակրթական դպրոցների նոր շենքերի կառուցում | E12: =+E14+E74 -> 1.2223609e-09
D13: այդ թվում` ըստ կատարողների
D14: ՀՀ կրթության, գիտության, մշակույթի և սպորտի նախարարություն | E14: =+E16+E17+E23+E28+E36+E38+E46+E54+E60+E69+E71 -> 1.2223609e-09
D15: այդ թվում`ըստ ուղղությունների
D16: Հանրակրթական դպրոցների նոր շենքերի կառուցում | E16: -12635846
D17: ՀՀ Արագածոտնի մարզ | E17: =SUM(E18:E22) -> 1923066.1
D18: =+'Հավելված N 1'!C19 -> ք. Աշտարակի Վ.Պետրոսյան անվ. հիմնական դպրոց | E18: =+'Հավելված N 1'!D19 -> 250000
D19: =+'Հավելված N 1'!C20 -> ք. Ապարանի միջնակարգ դպրոց (ք. Ապարանի Վ.Եղիազարյան անվ. թիվ 1 հիմնական դպրոցի տեղակայման վայրում) | E19: =+'Հավելված N 1'!D20 -> 509859.3
D20: =+'Հավելված N 1'!C21 -> ք. Թալինի միջնակարգ դպրոց (ք. Թալինի թիվ 2 հիմնական դպրոցի տեղակայման վայրում) | E20: =+'Հավելված N 1'!D21 -> 564003.4
D21: =+'Հավելված N 1'!C22 -> գ. Արագածավանի թիվ 2 միջնակարգ դպրոց | E21: =+'Հավելված N 1'!D22 -> 450000
D22: =+'Հավելված N 1'!C23 -> գ. Նոր Եդեսիայի Ն. Շնորհալու անվ. միջնակարգ դպրոց | E22: =+'Հավելված N 1'!D23 -> 149203.4
D23: ՀՀ Արարատի մարզ | E23: =SUM(E24:E27) -> 1518877.9
D24: =+'Հավելված N 1'!C27 -> «Վեդիի ավագ դպրոց» ՊՈԱԿ | E24: =+'Հավելված N 1'!D27 -> 80000
D25: =+'Հավելված N 1'!C28 -> Գետազատ բնակավայրի միջնակարգ դպրոց | E25: =+'Հավելված N 1'!D28 -> 158000
D26: =+'Հավելված N 1'!C29 -> Վերին Դվին բնակավայրի միջնակարգ դպրոց | E26: =+'Հավելված N 1'!D29 -> 623329.6
D27: =+'Հավելված N 1'!C30 -> Այգեստան բնակավայրի միջնակարգ դպրոց | E27: =+'Հավելված N 1'!D30 -> 657548.3
D28: ՀՀ Արմավիրի մարզ | E28: =SUM(E29:E35) -> 2974214.9
D29: =+'Հավելված N 1'!C33 -> «Վաղարշապատի Մովսես Խորենացու անվան N 10 ավագ դպրոց» ՊՈԱԿ | E29: =+'Հավելված N 1'!D33 -> 312245.9
D30: =+'Հավելված N 1'!C34 -> գ. Ջրառատի Թ.Խաչատրյանի անվ. միջնակարգ դպրոց | E30: =+'Հավելված N 1'!D34 -> 499292
D31: =+'Հավելված N 1'!C35 -> գ. Վանանդի միջնակարգ դպրոց | E31: =+'Հավելված N 1'!D35 -> 313084.4
D32: =+'Հավելված N 1'!C36 -> գ. Նոր Կեսարիայի միջնակարգ դպրոց | E32: =+'Հավելված N 1'!D36 -> 1009478.3
D33: =+'Հավելված N 1'!C37 -> գ. Գեղակերտի միջնակարգ դպրոց | E33: =+'Հավելված N 1'!D37 -> 410114.3
D34: =+'Հավելված N 1'!C38 -> գ. Ամբերդի Հ. Նավասարդյանի անվ. միջնակարգ դպրոց | E34: =+'Հավելված N 1'!D38 -> 180000
D35: =+'Հավելված N 1'!C39 -> ք. Վաղարշապատի Վ.Ռշտունու անվ. թիվ 11 հիմնական դպրոց | E35: =+'Հավելված N 1'!D39 -> 250000
D36: ՀՀ Գեղարքունիքի մարզ | E36: =SUM(E37) -> 70000
D37: =+'Հավելված N 1'!C41 -> գ. Ծովինարի Արծրուն Խաչատրյանի անվ. միջնակարգ դպրոց | E37: =+'Հավելված N 1'!D41 -> 70000
D38: ՀՀ Լոռու մարզ | E38: =SUM(E39:E45) -> 2185598
D39: =+'Հավելված N 1'!C44 -> գ. Արևածագի Կ․ Մելիքսեթյանի անվան միջնակարգ դպրոց | E39: =+'Հավելված N 1'!D44 -> 100000
D40: =+'Հավելված N 1'!C45 -> գ. Օձունի թիվ 2 միջնակարգ դպրոց | E40: =+'Հավելված N 1'!D45 -> 350000
D41: =+'Հավելված N 1'!C46 -> ք. Սպիտակի թիվ 8 միջնակարգ դպրոց | E41: =+'Հավելված N 1'!D46 -> 620000
D42: =+'Հավելված N 1'!C47 -> գ. Աքորու միջնակարգ դպրոց | E42: =+'Հավելված N 1'!D47 -> 350000
...

Sheet Հավելված N 3
I1: Հավելված N 3
I2: ՀՀ կառավարության 2025 թվականի
I3: ______________ ի ___Ն որոշման
A6: ՀԱՅԱՍՏԱՆԻ ՀԱՆՐԱՊԵՏՈՒԹՅԱՆ ԿԱՌԱՎԱՐՈՒԹՅԱՆ 2024 ԹՎԱԿԱՆԻ ԴԵԿՏԵՄԲԵՐԻ 27-Ի N 2060-Ն ՈՐՈՇՄԱՆ NN 9 ԵՎ 9.1 ՀԱՎԵԼՎԱԾՆԵՐՈՒՄ ԿԱՏԱՐՎՈՂ ԼՐԱՑՈՒՄԸ
J8: հազ. դրամներով
A9: ԲԳԿ, ԲՍԿ | B9: Ծրագիր | D9: Միջոցառում | H9: Իրականացնողը/ ակտիվն օգտագործողը/ շահառուի ընտրության չափորոշիչը | I9: Արդյունքային չափորոշիչը | J9: Ցուցանիշների փոփոխությունը (ավելացումները նշված են դրական նշանով)
B10: Դասիչը | C10: Անվանումը | D10: Դասիչը | E10: Անվանումը | F10: Նկարագրությունը | G10: Տեսակը | J10: Տարի
A11: ԸՆԴԱՄԵՆԸ | J11: =+J13 -> 0
A12: այդ թվում՝
A13: ՀՀ ԿՐԹՈՒԹՅԱՆ, ԳԻՏՈՒԹՅԱՆ, ՄՇԱԿՈԻՅԹԻ ԵՎ ՍՊՈՐՏԻ ՆԱԽԱՐԱՐՈՒԹՅՈՒՆ | J13: =+J14 -> 0
B14: 1236 | C14: Հանրակրթական և նախադպրոցական հաստատությունների հիմնում, կառուցում, բարելավում | J14: =+J15 -> 0
D15: 1236 - 32004 | E15: Հանրակրթական դպրոցների շենքերի վերակառուցում, հիմնանորոգում | J15: =+'Հավելված N 1'!D83 -> 0
F16: Դպրոցական պարտադիր կրթության հասանելիության ապահովման նպատակով՛ հանրակրթական դպրոցների շենքերի (մասնաշենքերի), վերակառուցում, հիմնանորոգում և նախագծում
G17: Այլ պետական կազմակերպությունների կողմից օգտագործվող ոչ ֆինանսական ակտիվների հետ գործառնություններ
H18: Ակտիվն օգտագործող կազմակերպությունների անվանումները` Հանրակրթական դպրոցներ
I19: ՀՀ-ում կրթական որակյալ ծառայությունների հասանելիության ապահովման ծրագրի շրջանակներում հիմնանորոգվող / վերանորոգվող դպրոցների թիվը | J19: 27

Sheet Հավելված N 4
H1: Հավելված N 3
H2: ՀՀ կառավարության 2025 թվականի
H3: ______________ ի ___Ն որոշման
V4: Փաստը 12.12
A6: ՀԱՅԱՍՏԱՆԻ ՀԱՆՐԱՊԵՏՈՒԹՅԱՆ ԿԱՌԱՎԱՐՈՒԹՅԱՆ 2024 ԹՎԱԿԱՆԻ ԴԵԿՏԵՄԲԵՐԻ 27-Ի N 2060-Ն N 10 ՀԱՎԵԼՎԱԾՈՒՄ ԿԱՏԱՐՎՈՂ ԼՐԱՑՈՒՄՆԵՐԸ
A10: Կոդը | B10: Անվանումը | E10: Գնման ձևը | F10: Չափման միավորը | G10: Միավորի գինը | H10: Ցուցանիշների փոփոխությունը (ավելացումները նշված են դրական նշանով)
H11: Քանակը | I11: Գումարը (հազար դրամ)
A12: 1 | B12: 2 | E12: 3 | F12: 4 | G12: 5 | H12: 6 | I12: 7
A13: ՀՀ կրթության, գիտության, մշակույթի և սպորտի նախարարություն | I13: =+I14 -> 36356230
A14: Բաժին N 09 | B14: Խումբ N 02 | C14: Դաս N 01 | D14: Հիմնական ընդհանուր կրթություն | I14: =+I15+I75+I292 -> 36356230
A15: 1236-32003 | B15: Հանրակրթական դպրոցների նոր շենքերի կառուցում | I15: =+I16+I64 -> 12635846
B16: ՄԱՍ II. ԱՇԽԱՏԱՆՔՆԵՐ | I16: =SUM(I17:I63) -> 12568054
A17: 45211229-57 | B17: շինարարական աշխատանքներ դպրոցների համար | E17: ՀԲՄ | F17: դրամ | I17: 250000
A18: 45211229-58 | B18: շինարարական աշխատանքներ դպրոցների համար | E18: ՀԲՄ | F18: դրամ | I18: =380000+128133 -> 508133
A19: 45211229-59 | B19: շինարարական աշխատանքներ դպրոցների համար | E19: ՀԲՄ | F19: դրամ | I19: =400000+158890.6 -> 558890.6
A20: 45211229-60 | B20: շինարարական աշխատանքներ դպրոցների համար | E20: ՀԲՄ | F20: դրամ | I20: =50000+400000 -> 450000
A21: 45211229-61 | B21: շինարարական աշխատանքներ դպրոցների համար | E21: ՀԲՄ | F21: դրամ | I21: =90000+59203.4 -> 149203.4
A22: 45211229-62 | B22: շինարարական աշխատանքներ դպրոցների համար | E22: ՀԲՄ | F22: դրամ | I22: 80000
A23: 45211229-63 | B23: շինարարական աշխատանքներ դպրոցների համար | E23: ՀԲՄ | F23: դրամ | I23: 158000
A24: 45211229-64 | B24: շինարարական աշխատանքներ դպրոցների համար | E24: ՀԲՄ | F24: դրամ | I24: =70000+400000+148892.8 -> 618892.8
A25: 45211229-65 | B25: շինարարական աշխատանքներ դպրոցների համար | E25: ՀԲՄ | F25: դրամ | I25: =150000+367000+134867.8 -> 651867.8
A26: 45211229-66 | B26: շինարարական աշխատանքներ դպրոցների համար | E26: ՀԲՄ | F26: դրամ | I26: =150000+162245.9 -> 312245.9
A27: 45211229-67 | B27: շինարարական աշխատանքներ դպրոցների համար | E27: ՀԲՄ | F27: դրամ | I27: =70000+350000+74960 -> 494960
A28: 45211229-198 | B28: շինարարական աշխատանքներ դպրոցների համար | E28: ՀԲՄ | F28: դրամ | I28: =250000+48806.6 -> 298806.6
A29: 45211229-69 | B29: շինարարական աշխատանքներ դպրոցների համար | E29: ՀԲՄ | F29: դրամ | I29: =400000+606316 -> 1006316
A30: 45211229-70 | B30: շինարարական աշխատանքներ դպրոցների համար | E30: ՀԲՄ | F30: դրամ | I30: =80000+250000+80114.3 -> 410114.3
A31: 45211229-71 | B31: շինարարական աշխատանքներ դպրոցների համար | E31: ՀԲՄ | F31: դրամ | I31: 180000
A32: 45211229-72 | B32: շինարարական աշխատանքներ դպրոցների համար | E32: ՀԲՄ | F32: դրամ | I32: 250000
A33: 45211229-73 | B33: շինարարական աշխատանքներ դպրոցների համար | E33: ՀԲՄ | F33: դրամ | I33: 70000
A34: 45211229-75 | B34: շինարարական աշխատանքներ դպրոցների համար | E34: ՀԲՄ | F34: դրամ | I34: 100000
A35: 45211229-76 | B35: շինարարական աշխատանքներ դպրոցների համար | E35: ՀԲՄ | F35: դրամ | I35: =100000+250000 -> 350000
A36: 45211229-78 | B36: շինարարական աշխատանքներ դպրոցների համար | E36: ՀԲՄ | F36: դրամ | I36: =120000+500000 -> 620000
A37: 45211229-79 | B37: շինարարական աշխատանքներ դպրոցների համար | E37: ՀԲՄ | F37: դրամ | I37: 350000
A38: 45211229-81 | B38: շինարարական աշխատանքներ դպրոցների համար | E38: ՀԲՄ | F38: դրամ | I38: =42000+250000 -> 292000
A39: 45211229-82 | B39: շինարարական աշխատանքներ դպրոցների համար | E39: ՀԲՄ | F39: դրամ | I39: =80000+300000 -> 380000
A40: 45211229-80 | B40: շինարարական աշխատանքներ դպրոցների համար | E40: ՀԲՄ | F40: դրամ | I40: 93598
A41: 45211229-84 | B41: շինարարական աշխատանքներ դպրոցների համար | E41: ՀԲՄ | F41: դրամ | I41: =280000+279762.2 -> 559762.2
A42: 45211229-86 | B42: շինարարական աշխատանքներ դպրոցների համար | E42: ՀԲՄ | F42: դրամ | I42: 50000
A43: 45211229-88 | B43: շինարարական աշխատանքներ դպրոցների համար | E43: ՀԲՄ | F43: դրամ | I43: 50000
A44: 45211229-89 | B44: շինարարական աշխատանքներ դպրոցների համար | E44: ՀԲՄ | F44: դրամ | I44: =120208.2+285000+5828.4 -> 411036.6
...

Sheet Հավելված N 5
F1: Հավելված N 5
G2: ՀՀ կառավարության 2025 թվականի
G3: ______________ ի ___Ն որոշման
F6: «Հավելված N 10
G7: ՀՀ կառավարության 2025 թվականի
G8: նոյեմբերի 6-ի 1575-Ն որոշման
A9: ՀԱՅԱՍՏԱՆԻ ՀԱՆՐԱՊԵՏՈՒԹՅԱՆ 2025 ԹՎԱԿԱՆԻ ՊԵՏԱԿԱՆ ԲՅՈՒՋԵՈՎ ՆԱԽԱՏԵՍՎԱԾ՝ ՀԱՅԱՍՏԱՆԻ ՀԱՆՐԱՊԵՏՈՒԹՅԱՆ ԿԱՌԱՎԱՐՈՒԹՅԱՆ ՊԱՀՈՒՍՏԱՅԻՆ ՖՈՆԴԻՑ ՀԱՏԿԱՑՈՒՄՆԵՐ ԿԱՏԱՐԵԼՈՒ ՎԵՐԱԲԵՐՅԱԼ
A12: Գործառական դասիչը | D12: Ծրագրային դասիչը | F12: Բյուջետային հատկացումների գլխավոր կարգադրիչների, ծրագրերի, միջոցառումների և միջոցառումները կատարող պետական մարմինների անվանումները | G12: Ցուցանիշների փոփոխությունը (ավելացումները նշված են դրական նշանով, իսկ նվազեցումները` փակագծերում)
A13: Բաժին | B13: Խումբ | C13: Դաս | D13: Ծրագիր | E13: Միջոցառում | G13: Տարի
F14: ԸՆԴԱՄԵՆԸ | G14: =+G16+G36 -> 0
F15: այդ թվում
F16: ՀՀ ԿԱՌԱՎԱՐՈՒԹՅՈՒՆ | G16: =+G17 -> -500000
A17: 11 | F17: ՀԻՄՆԱԿԱՆ ԲԱԺԻՆՆԵՐԻՆ ՉԴԱՍՎՈՂ ՊԱՀՈՒՍՏԱՅԻՆ ՖՈՆԴԵՐ | G17: =+G19 -> -500000
F18: այդ թվում`
B19: 01 | F19: ՀՀ կառավարության և համայնքների պահուստային ֆոնդ | G19: =+G21 -> -500000
F20: այդ թվում`
C21: 01 | F21: ՀՀ կառավարության պահուստային ֆոնդ | G21: =+G23 -> -500000
F22: այդ թվում`
F23: ՀՀ կառավարություն | G23: =+G25 -> -500000
F24: այդ թվում`
D25: 1139 | E25: ՀՀ կառավարության պահուստային ֆոնդ | F25: ՀՀ կառավարության պահուստային ֆոնդ | G25: =+G27 -> -500000
F26: այդ թվում`
E27: 11001 | F27: ՀՀ կառավարության պահուստային ֆոնդ | G27: =+G29 -> -500000
F28: այդ թվում` ըստ կատարողների
F29: ՀՀ կառավարություն | G29: =+G31 -> -500000
F30: այդ թվում՝ բյուջետային ծախսերի տնտեսագիտական դասակարգման հոդվածներ
F31: ԸՆԴԱՄԵՆԸ ԾԱԽՍԵՐ | G31: =+G32 -> -500000
F32: ԸՆԹԱՑԻԿ ԾԱԽՍԵՐ | G32: =+G33 -> -500000
F33: ԱՅԼ ԾԱԽՍԵՐ | G33: =+G34 -> -500000
F34: - Պահուստային միջոցներ | G34: -500000
F36: ՀՀ ԿՐԹՈՒԹՅԱՆ, ԳԻՏՈՒԹՅԱՆ, ՄՇԱԿՈՒՅԹԻ ԵՎ ՍՊՈՐՏԻ ՆԱԽԱՐԱՐՈՒԹՅՈՒՆ | G36: =+G37 -> 500000
A37: 09 | F37: ԿՐԹՈՒԹՅՈՒՆ | G37: =+G39 -> 500000
F38: այդ թվում`
B39: 02 | F39: Միջնակարգ ընդհանուր կրթություն | G39: =+G41 -> 500000
F40: այդ թվում`
C41: 01 | F41: Հիմնական ընդհանուր կրթություն | G41: =+G43 -> 500000
F42: այդ թվում`
F43: ՀՀ կրթության, գիտության, մշակույթի և սպորտի նախարարություն | G43: =+G45 -> 500000
F44: այդ թվում`
D45: 1236 | E45: Հանրակրթական և նախադպրոցական հաստատությունների հիմնում, կառուցում, բարելավում | G45: =+G47+G56+G65+G81+G90 -> 500000
...
