Workbook
Name a: #REF!
Name a: #REF!
Name a: #REF!
Name a: #REF!
Name AgencyCode: #REF!
Name AgencyCode: #REF!
Name AgencyCode: #REF!
Name AgencyCode: #REF!
Name AgencyCode: #REF!
Name AgencyName: #REF!
Name AgencyName: #REF!
Name AgencyName: #REF!
Name AgencyName: #REF!
Name åû: #REF!
Name åû: #REF!
Name åû: #REF!
Name åû: #REF!
Name davit: #REF!
Name davit: #REF!
Name davit: #REF!
Name davit: #REF!
Name Functional1: #REF!
Name Functional1: #REF!
Name Functional1: #REF!
Name Functional1: #REF!
Name ggg: #REF!
Name ggg: #REF!
Name ggg: #REF!
Name ggg: #REF!
Name hav: #REF!
Name hav: #REF!
Name hav: #REF!
Name hav: #REF!
Name mas: #REF!
Name mas: #REF!
Name mas: #REF!
Name mas: #REF!
Name mass: #REF!
Name mass: #REF!
Name mass: #REF!
Name mass: #REF!
Name PANature: #REF!
Name PANature: #REF!
Name PANature: #REF!
Name PANature: #REF!
Name PAType: #REF!
Name PAType: #REF!
Name PAType: #REF!
Name PAType: #REF!
Name Performance2: #REF!
Name Performance2: #REF!
Name Performance2: #REF!
Name Performance2: #REF!
Name PerformanceType: #REF!
Name PerformanceType: #REF!
Name PerformanceType: #REF!
Name PerformanceType: #REF!
Name x: #REF!
Name x: #REF!
Name x: #REF!

Sheet Հավելված N 1
F1: Հավելված N 1
F2: ՀՀ կառավարության 2025 թվականի
F3: ______________ ի ___Ն որոշման
A5: «ՀԱՅԱUՏԱՆԻ ՀԱՆՐԱՊԵՏՈՒԹՅԱՆ 2025 ԹՎԱԿԱՆԻ ՊԵՏԱԿԱՆ ԲՅՈՒՋԵԻ ՄԱUԻՆ» ՀԱՅԱUՏԱՆԻ ՀԱՆՐԱՊԵՏՈՒԹՅԱՆ OՐԵՆՔԻ N 1 ՀԱՎԵԼՎԱԾԻ N 3 ԱՂՅՈՒՍԱԿՈՒՄ ԿԱՏԱՐՎՈՂ ՓՈՓՈԽՈՒԹՅՈՒՆՆԵՐԸ ԵՎ ԼՐԱՑՈՒՄՆԵՐԸ
G8: հազ. դրամներով
A9: Ծրագրային դասիչ | C9: Բյուջետային գլխավոր կարգադրիչների, ծրագրերի, միջոցառումների, միջոցառումները կատարող պետական մարմինների և ուղղությունների անվանումները | D9: Ընդամենը | E9: Ցուցանիշների փոփոխությունը (ավելացումները նշված են դրական նշանով, իսկ նվազեցումները՝ փակագծերում)
A10: Ծրագիր | B10: Միջոցառում | E10: Կառուցման աշխատանքներ | F10: Վերակառուցման, վերանորոգման և վերականգնման աշխատանքներ | G10: Նախագծահե- տազոտական, գեոդեզիա- քարտեզագրա- կան աշխա- տանքներ | H10: Ոչ ֆինանսական այլ ակտիվների ձեռքբերում
C11: ԸՆԴԱՄԵՆԸ | D11: =SUM(E11:H11) -> 0 | E11: =+E13 -> 0 | F11: =+F13 -> 0 | G11: =+G13 -> 0 | H11: =+H13 -> 0
C12: այդ թվում՝
C13: ՀՀ ԿՐԹՈՒԹՅԱՆ, ԳԻՏՈՒԹՅԱՆ, ՄՇԱԿՈՒՅԹԻ ԵՎ ՍՊՈՐՏԻ ՆԱԽԱՐԱՐՈՒԹՅՈՒՆ | D13: =SUM(E13:H13) -> 0 | E13: =+E83 -> 0 | F13: =+F83 -> 0 | G13: =+G83 -> 0 | H13: =+H83 -> 0
C14: այդ թվում`
A15: 1236 | B15: 32003 | C15: Հանրակրթական դպրոցների նոր շենքերի կառուցում | D15: =SUM(E15:H15) -> 2.0954758e-09 | E15: =+E17+E18+E26+E32+E40+E43+E51+E59+E65+E75+E78 -> 2.0954758e-09 | F15: =+F17+F18+F26+F32+F40+F43+F51+F59+F65+F75+F78 -> 0 | G15: =+G17+G18+G26+G32+G40+G43+G51+G59+G65+G75+G78 -> 0 | H15: =+H17+H18+H26+H32+H40+H43+H51+H59+H65+H75+H78 -> 0
C16: այդ թվում`
C17: Հանրակրթական դպրոցների նոր շենքերի կառուցում | D17: =SUM(E17:H17) -> -13785673 | E17: =(-1300000-7500000-550000-3285846.2)+(-343732.915-656094-150000) -> -13785673 | F17: 0 | G17: 0 | H17: 0
C18: ՀՀ Արագածոտնի մարզ | D18: =SUM(E18:H18) -> 2171315.1 | E18: =SUM(E19:E25) -> 2171315.1 | F18: =SUM(F19:F25) -> 0 | G18: =SUM(G19:G25) -> 0 | H18: =SUM(H19:H25) -> 0
C19: ք. Աշտարակի Վ.Պետրոսյան անվ. հիմնական դպրոց | D19: =+E19+F19+G19+H19 -> 250000 | E19: =+'Հավելված N 4'!I17 -> 250000
C20: ք. Ապարանի միջնակարգ դպրոց (ք. Ապարանի Վ.Եղիազարյան անվ. թիվ 1 հիմնական դպրոցի տեղակայման վայրում) | D20: =+E20+F20+G20+H20 -> 509859.3 | E20: =+'Հավելված N 4'!I18+'Հավելված N 4'!I65 -> 509859.3
C21: ք. Թալինի միջնակարգ դպրոց (ք. Թալինի թիվ 2 հիմնական դպրոցի տեղակայման վայրում) | D21: =+E21+F21+G21+H21 -> 564003.4 | E21: =+'Հավելված N 4'!I19+'Հավելված N 4'!I66 -> 564003.4
C22: գ. Արագածավանի թիվ 2 միջնակարգ դպրոց | D22: =+E22+F22+G22+H22 -> 450000 | E22: =+'Հավելված N 4'!I20 -> 450000
C23: գ. Նոր Եդեսիայի Ն. Շնորհալու անվ. միջնակարգ դպրոց | D23: =+E23+F23+G23+H23 -> 149203.4 | E23: =+'Հավելված N 4'!I21 -> 149203.4
C24: գ. Ներքին Սասնաշենի միջնակարգ դպրոց | D24: =+E24+F24+G24+H24 -> 180000 | E24: =+'Հավելված N 4'!I340 -> 180000
C25: «Լուսակնի միջնակարգ դպրոց» ՊՈԱԿ | D25: =+E25+F25+G25+H25 -> 68249 | E25: =+'Հավելված N 4'!I341 -> 68249
C26: ՀՀ Արարատի մարզ | D26: =SUM(E26:H26) -> 1821777.9 | E26: =SUM(E27:E31) -> 1821777.9 | F26: =SUM(F27:F30) -> 0 | G26: =SUM(G27:G30) -> 0 | H26: =SUM(H27:H30) -> 0
C27: «Վեդիի ավագ դպրոց» ՊՈԱԿ | D27: =+E27+F27+G27+H27 -> 80000 | E27: =+'Հավելված N 4'!I22 -> 80000
C28: Գետազատ բնակավայրի միջնակարգ դպրոց | D28: =+E28+F28+G28+H28 -> 158000 | E28: =+'Հավելված N 4'!I23 -> 158000
C29: Վերին Դվին բնակավայրի միջնակարգ դպրոց | D29: =+E29+F29+G29+H29 -> 623329.6 | E29: =+'Հավելված N 4'!I24+'Հավելված N 4'!I67 -> 623329.6
C30: Այգեստան բնակավայրի միջնակարգ դպրոց | D30: =+E30+F30+G30+H30 -> 657548.3 | E30: =+'Հավելված N 4'!I25+'Հավելված N 4'!I68 -> 657548.3
C31: «Բարձրաշենի միջնակարգ դպրոց»ՊՈԱԿ | D31: =+E31+F31+G31+H31 -> 302900 | E31: =+'Հավելված N 4'!I342+'Հավելված N 4'!I349+'Հավելված N 4'!I352 -> 302900
C32: ՀՀ Արմավիրի մարզ | D32: =SUM(E32:H32) -> 2974214.9 | E32: =SUM(E33:E39) -> 2974214.9 | F32: =SUM(F33:F39) -> 0 | G32: =SUM(G33:G39) -> 0 | H32: =SUM(H33:H39) -> 0
C33: «Վաղարշապատի Մովսես Խորենացու անվան N 10 ավագ դպրոց» ՊՈԱԿ | D33: =+E33+F33+G33+H33 -> 312245.9 | E33: =+'Հավելված N 4'!I26 -> 312245.9
C34: գ. Ջրառատի Թ.Խաչատրյանի անվ. միջնակարգ դպրոց | D34: =+E34+F34+G34+H34 -> 499292 | E34: =+'Հավելված N 4'!I27+'Հավելված N 4'!I69 -> 499292
C35: գ. Վանանդի միջնակարգ դպրոց | D35: =+E35+F35+G35+H35 -> 313084.4 | E35: =+'Հավելված N 4'!I28+'Հավելված N 4'!I70 -> 313084.4
C36: գ. Նոր Կեսարիայի միջնակարգ դպրոց | D36: =+E36+F36+G36+H36 -> 1009478.3 | E36: =+'Հավելված N 4'!I29+'Հավելված N 4'!I71 -> 1009478.3
C37: գ. Գեղակերտի միջնակարգ դպրոց | D37: =+E37+F37+G37+H37 -> 410114.3 | E37: =+'Հավելված N 4'!I30 -> 410114.3
C38: գ. Ամբերդի Հ. Նավասարդյանի անվ. միջնակարգ դպրոց | D38: =+E38+F38+G38+H38 -> 180000 | E38: =+'Հավելված N 4'!I31 -> 180000
C39: ք. Վաղարշապատի Վ.Ռշտունու անվ. թիվ 11 հիմնական դպրոց | D39: =+E39+F39+G39+H39 -> 250000 | E39: =+'Հավելված N 4'!I32 -> 250000
C40: ՀՀ Գեղարքունիքի մարզ | D40: =SUM(E40:H40) -> 124371 | E40: =SUM(E41:E42) -> 124371 | F40: =SUM(F41:F42) -> 0 | G40: =SUM(G41:G42) -> 0 | H40: =SUM(H41:H42) -> 0
C41: գ. Ծովինարի Արծրուն Խաչատրյանի անվ. միջնակարգ դպրոց | D41: =+E41+F41+G41+H41 -> 70000 | E41: =+'Հավելված N 4'!I33 -> 70000
C42: «Լեռնահովիտ գյուղի Վ. Բարեղամյանի անվան հիմնական դպրոց» ՊՈԱԿ | D42: =+E42+F42+G42+H42 -> 54371 | E42: =+'Հավելված N 4'!I343 -> 54371
C43: ՀՀ Լոռու մարզ | D43: =SUM(E43:H43) -> 2185598 | E43: =SUM(E44:E50) -> 2185598 | F43: =SUM(F44:F50) -> 0 | G43: =SUM(G44:G50) -> 0 | H43: =SUM(H44:H50) -> 0
C44: գ. Արևածագի Կ․ Մելիքսեթյանի անվան միջնակարգ դպրոց | D44: =+E44+F44+G44+H44 -> 100000 | E44: =+'Հավելված N 4'!I34 -> 100000
C45: գ. Օձունի թիվ 2 միջնակարգ դպրոց | D45: =+E45+F45+G45+H45 -> 350000 | E45: =+'Հավելված N 4'!I35 -> 350000
C46: ք. Սպիտակի թիվ 8 միջնակարգ դպրոց | D46: =+E46+F46+G46+H46 -> 620000 | E46: =+'Հավելված N 4'!I36 -> 620000
C47: գ. Աքորու միջնակարգ դպրոց | D47: =+E47+F47+G47+H47 -> 350000 | E47: =+'Հավելված N 4'!I37 -> 350000
C48: գ. Շիրակամուտի թիվ 1 միջնակարգ դպրոց | D48: =+E48+F48+G48+H48 -> 292000 | E48: =+'Հավելված N 4'!I38 -> 292000
C49: գ. Ճոճկանի միջնակարգ դպրոց | D49: =+E49+F49+G49+H49 -> 380000 | E49: =+'Հավելված N 4'!I39 -> 380000
C50: գ. Մեծավանի թիվ 2 միջնակարգ դպրոց | D50: =+E50+F50+G50+H50 -> 93598 | E50: =+'Հավելված N 4'!I40 -> 93598
C51: ՀՀ Կոտայքի մարզ | D51: =SUM(E51:H51) -> 1568494.7 | E51: =SUM(E52:E58) -> 1568494.7 | F51: =SUM(F52:F58) -> 0 | G51: =SUM(G52:G58) -> 0 | H51: =SUM(H52:H58) -> 0
C52: Գեղադիր բնակավայրի միջնակարգ դպրոց | D52: =+E52+F52+G52+H52 -> 559762.2 | E52: =+'Հավելված N 4'!I41 -> 559762.2
C53: Մայակովսկի բնակավայրի միջնակարգ դպրոց | D53: =+E53+F53+G53+H53 -> 50000 | E53: =+'Հավելված N 4'!I42 -> 50000
C54: Արգել բնակավայրի միջնակարգ դպրոց | D54: =+E54+F54+G54+H54 -> 50000 | E54: =+'Հավելված N 4'!I43 -> 50000
C55: Գողթ բնակավայրի միջնակարգ դպրոց | D55: =+E55+F55+G55+H55 -> 433611.7 | E55: =+'Հավելված N 4'!I44+'Հավելված N 4'!I72 -> 433611.7
C56: Զառ բնակավայրի միջնակարգ դպրոց | D56: =+E56+F56+G56+H56 -> 155000 | E56: =+'Հավելված N 4'!I45 -> 155000
C57: Արագյուղ բնակավայրի միջնակարգ դպրոց | D57: =+E57+F57+G57+H57 -> 225163.8 | E57: =+'Հավելված N 4'!I46 -> 225163.8
C58: Լեռնանիստ բնակավայրի միջնակարգ դպրոց | D58: =+E58+F58+G58+H58 -> 94957 | E58: =+'Հավելված N 4'!I47 -> 94957
C59: ՀՀ Շիրակի մարզ | D59: =SUM(E59:H59) -> 1137571.7 | E59: =SUM(E60:E64) -> 1137571.7 | F59: =SUM(F60:F64) -> 0 | G59: =SUM(G60:G64) -> 0 | H59: =SUM(H60:H64) -> 0
C60: գ․ Սարատակի միջնակարգ դպրոց | D60: =+E60+F60+G60+H60 -> 237767.7 | E60: =+'Հավելված N 4'!I48 -> 237767.7
C61: գ․ Ջրափիի միջնակարգ դպրոց | D61: =+E61+F61+G61+H61 -> 393001.6 | E61: =+'Հավելված N 4'!I49 -> 393001.6
C62: գ․ Շիրակավանի միջնակարգ դպրոց | D62: =+E62+F62+G62+H62 -> 342968 | E62: =+'Հավելված N 4'!I50 -> 342968
C63: գ․ Մայիսյանի միջնակարգ դպրոց | D63: =+E63+F63+G63+H63 -> 70000 | E63: =+'Հավելված N 4'!I51 -> 70000
C64: գ․ Փոքր Մանթաշի միջնակարգ դպրոց | D64: =+E64+F64+G64+H64 -> 93834.4 | E64: =+'Հավելված N 4'!I52 -> 93834.4
C65: ՀՀ Սյունիքի մարզ | D65: =SUM(E65:H65) -> 1037442.1 | E65: =SUM(E66:E74) -> 1037442.1 | F65: =SUM(F66:F74) -> 0 | G65: =SUM(G66:G74) -> 0 | H65: =SUM(H66:H74) -> 0
C66: «գ. Խնձորեսկի միջնակարգ դպրոց» ՊՈԱԿ | D66: =+E66+F66+G66+H66 -> 53405.7 | E66: ='Հավելված N 4'!I53+'Հավելված N 4'!I73 -> 53405.7
C67: «ք. Կապանի թիվ 6 հիմնական դպրոց» ՊՈԱԿ | D67: =+E67+F67+G67+H67 -> 100000 | E67: =+'Հավելված N 4'!I54 -> 100000
C68: ք. Ագարակի միջնակարգ դպրոց | D68: =+E68+F68+G68+H68 -> 200000 | E68: =+'Հավելված N 4'!I55 -> 200000
C69: գ․ Տաթևի միջնակարգ դպրոց | D69: =+E69+F69+G69+H69 -> 100000 | E69: =+'Հավելված N 4'!I56 -> 100000
C70: «ք. Գորիսի Ս. Խանզադյանի անվան թիվ 6 հիմնական դպրոց» ՊՈԱԿ | D70: =+E70+F70+G70+H70 -> 62368 | E70: =+'Հավելված N 4'!I57 -> 62368
C71: «գ. Վերիշենի միջնակարգ դպրոց» ՊՈԱԿ | D71: =+E71+F71+G71+H71 -> 45508.5 | E71: =+'Հավելված N 4'!I58 -> 45508.5
C72: գ. Շինուհայրի միջնակարգ դպրոց | D72: =+E72+F72+G72+H72 -> 65442 | E72: =+'Հավելված N 4'!I59 -> 65442
C73: գ. Խոտի միջնակարգ դպրոց | D73: =+E73+F73+G73+H73 -> 167985 | E73: =+'Հավելված N 4'!I60 -> 167985
C74: «Հարժիսի Համլետ Մինասյանի անվան միջնակարգ դպրոց» ՊՈԱԿ | D74: =+E74+F74+G74+H74 -> 242732.91 | E74: =+'Հավելված N 4'!I344+'Հավելված N 4'!I350+'Հավելված N 4'!I353 -> 242732.91
C75: ՀՀ Վայոց Ձորի մարզ | D75: =SUM(E75:H75) -> 80231.2 | E75: =SUM(E76:E77) -> 80231.2 | F75: =SUM(F76:F77) -> 0 | G75: =SUM(G76:G77) -> 0 | H75: =SUM(H76:H77) -> 0
C76: գ. Արենիի միջնակարգ դպրոց | D76: =+E76+F76+G76+H76 -> 30231.2 | E76: =+'Հավելված N 4'!I61 -> 30231.2
C77: «Չիվայի միջնակարգ դպրոց» ՊՈԱԿ | D77: =+E77+F77+G77+H77 -> 50000 | E77: =+'Հավելված N 4'!I345 -> 50000
C78: ՀՀ Տավուշի մարզ | D78: =SUM(E78:H78) -> 684656.5 | E78: =SUM(E79:E82) -> 684656.5 | F78: =SUM(F79:F82) -> 0 | G78: =SUM(G79:G82) -> 0 | H78: =SUM(H79:H82) -> 0
C79: ք. Այրումի Հ.Մալինյանի անվան միջնակարգ դպրոց | D79: =+E79+F79+G79+H79 -> 103082.5 | E79: ='Հավելված N 4'!I62+'Հավելված N 4'!I74 -> 103082.5
C80: գ. Բագրատաշենի Մ․ Մագուլյանի անվան թիվ 1 միջնակարգ դպրոց | D80: =+E80+F80+G80+H80 -> 330000 | E80: =+'Հավելված N 4'!I63 -> 330000
C81: «Դովեղի միջնակարգ դպրոց»ՊՈԱԿ | D81: =+E81+F81+G81+H81 -> 150000 | E81: =+'Հավելված N 4'!I346 -> 150000
C82: «Նավուրի միջնակարգ դպրոց» ՊՈԱԿ | D82: =+E82+F82+G82+H82 -> 101574 | E82: =+'Հավելված N 4'!I347+'Հավելված N 4'!I351+'Հավելված N 4'!I354 -> 101574
A83: 1236 | B83: 32004 | C83: Հանրակրթական դպրոցների շենքերի վերակառուցում, հիմնանորոգում | D83: =SUM(E83:H83) -> 0 | E83: =+ROUND(E85+E86+E90+E101+E104+E118+E130+E152+E161+E189+E202+E211,1) -> 0 | F83: =+ROUND(F85+F86+F90+F101+F104+F118+F130+F152+F161+F189+F202+F211,1) -> 0 | G83: =+ROUND(G85+G86+G90+G101+G104+G118+G130+G152+G161+G189+G202+G211,1) -> 0 | H83: =+ROUND(H85+H86+H90+H101+H104+H118+H130+H152+H161+H189+H202+H211,1) -> 0
C84: այդ թվում`
C85: Հանրակրթական դպրոցների շենքերի վերակառուցում, հիմնանորոգում | D85: =SUM(E85:H85) -> -20353883 | E85: 0 | F85: =(-1417546-351800-4039439.465-7999498.324-995175.2-4250424.324)+(-917697.2-209000-173302.8) -> -20353883 | G85: 0 | H85: 0
C86: Երևան քաղաք | D86: =SUM(E86:H86) -> 429840 | E86: =SUM(E87:E89) -> 0 | F86: =SUM(F87:F89) -> 429840 | G86: =SUM(G87:G89) -> 0 | H86: =SUM(H87:H89) -> 0
C87: Երևանի հ. 101 միջնակարգ դպրոց | D87: =+E87+F87+G87+H87 -> 140840 | F87: =+'Հավելված N 4'!I77+'Հավելված N 4'!I185 -> 140840
C88: Երևանի Ա. Հովհաննիսյանի անվան հմ. 194 հիմնական դպրոց | D88: =+E88+F88+G88+H88 -> 209000 | F88: =+'Հավելված N 4'!I357 -> 209000
C89: Երևանի Սիլվա Կապուտիկյանի անվան հ. 145 հիմնական դպրոց | D89: =+E89+F89+G89+H89 -> 80000 | F89: =+'Հավելված N 4'!I358 -> 80000
C90: ՀՀ Արագածոտնի մարզ | D90: =SUM(E90:H90) -> 1369330.4 | E90: =SUM(E91:E100) -> 0 | F90: =SUM(F91:F100) -> 1369330.4 | G90: =SUM(G91:G100) -> 0 | H90: =SUM(H91:H100) -> 0
C91: Մաստարայի միջնակարգ դպրոց | D91: =+E91+F91+G91+H91 -> 250721.7 | F91: =+'Հավելված N 4'!I78+'Հավելված N 4'!I186 -> 250721.7
C92: Թալինի ավագ դպրոց | D92: =+E92+F92+G92+H92 -> 228616.4 | F92: =+'Հավելված N 4'!I79+'Հավելված N 4'!I187 -> 228616.4
C93: Արագածի թիվ 2 միջնակարգ դպրոց | D93: =+E93+F93+G93+H93 -> 169032.25 | F93: =+'Հավելված N 4'!I80+'Հավելված N 4'!I188 -> 169032.25
C94: Բազմաղբյուրի միջնակարգ դպրոց | D94: =+E94+F94+G94+H94 -> 160960 | F94: =+'Հավելված N 4'!I81+'Հավելված N 4'!I189 -> 160960
C95: Կաքավաձորի միջնակարգ դպրոց | D95: =+E95+F95+G95+H95 -> 120000 | F95: =+'Հավելված N 4'!I359 -> 120000
C96: Քուչակի միջնակարգ դպրոց | D96: =+E96+F96+G96+H96 -> 120000 | F96: =+'Հավելված N 4'!I360 -> 120000
C97: Ագարակի Տ. Թերլեմեզյանի անվան միջնակարգ դպրոց | D97: =+E97+F97+G97+H97 -> 80000 | F97: =+'Հավելված N 4'!I361 -> 80000
C98: Աղձքի միջնակարգ դպրոց | D98: =+E98+F98+G98+H98 -> 80000 | F98: =+'Հավելված N 4'!I362 -> 80000
C99: Երնջատափի Ե․ Չարենցի անվան միջնակարգ դպրոց | D99: =+E99+F99+G99+H99 -> 80000 | F99: =+'Հավելված N 4'!I363 -> 80000
C100: Մելիքգյուղի միջնակարգ դպրոց | D100: =+E100+F100+G100+H100 -> 80000 | F100: =+'Հավելված N 4'!I364 -> 80000
C101: ՀՀ Արարատի մարզ | D101: =SUM(E101:H101) -> 274589.55 | E101: =SUM(E102:E103) -> 0 | F101: =SUM(F102:F103) -> 274589.55 | G101: =SUM(G102:G103) -> 0 | H101: =SUM(H102:H103) -> 0
C102: «Հնաբերդի միջնակարգ դպրոց» ՊՈԱԿ | D102: =+E102+F102+G102+H102 -> 14849.549 | F102: =+'Հավելված N 4'!I82+'Հավելված N 4'!I190 -> 14849.549
C103: Բաղրամյանի միջնակարգ դպրոց | D103: =+E103+F103+G103+H103 -> 259740 | F103: =+'Հավելված N 4'!I83+'Հավելված N 4'!I191 -> 259740
...

Sheet Հավելված N 2
E1: Հավելված N 2
E2: ՀՀ կառավարության 2025 թվականի
E3: ______________ ի ___Ն որոշման
B5: ՀԱՅԱՍՏԱՆԻ ՀԱՆՐԱՊԵՏՈՒԹՅԱՆ ԿԱՌԱՎԱՐՈՒԹՅԱՆ 2024 ԹՎԱԿԱՆԻ ԴԵԿՏԵՄԲԵՐԻ 27-Ի N 2060-Ն ՈՐՈՇՄԱՆ N 5 ՀԱՎԵԼՎԱԾԻ N 2 ԱՂՅՈՒՍԱԿՈՒՄ ԿԱՏԱՐՎՈՂ ՓՈՓՈԽՈՒԹՅՈՒՆՆԵՐԸ ԵՎ ԼՐԱՑՈՒՄՆԵՐԸ
E7: հազ. դրամներով
B8: Ծրագրային դասիչ | D8: Բյուջետային գլխավոր կարգադրիչների, ծրագրերի, միջոցառումների, միջոցառումները կատարող պետական մարմինների և ուղղությունների անվանումները | E8: Ցուցանիշների փոփոխությունը (ավելացումները նշված են դրական նշանով, իսկ նվազեցումները՝ փակագծերում)
B9: Ծրագիր | C9: Միջոցառում | E9: Տարի
D10: ՀՀ ԿՐԹՈՒԹՅԱՆ, ԳԻՏՈՒԹՅԱՆ, ՄՇԱԿՈՒՅԹԻ ԵՎ ՍՊՈՐՏԻ ՆԱԽԱՐԱՐՈՒԹՅՈՒՆ | E10: =+E91 -> -0.0097839995
D11: այդ թվում՝
B12: 1236 | C12: 32003 | D12: Հանրակրթական դպրոցների նոր շենքերի կառուցում | E12: =+E14+E74 -> 1.2223609e-09
D13: այդ թվում` ըստ կատարողների
D14: ՀՀ կրթության, գիտության, մշակույթի և սպորտի նախարարություն | E14: =+E16+E17+E23+E28+E36+E38+E46+E54+E60+E69+E71 -> 1.2223609e-09
D15: այդ թվում`ըստ ուղղությունների
D16: Հանրակրթական դպրոցների նոր շենքերի կառուցում | E16: -12635846
D17: ՀՀ Արագածոտնի մարզ | E17: =SUM(E18:E22) -> 1923066.1
D18: =+'Հավելված N 1'!C19 -> ք. Աշտարակի Վ.Պետրոսյան անվ. հիմնական դպրոց | E18: =+'Հավելված N 1'!D19 -> 250000
D19: =+'Հավելված N 1'!C20 -> ք. Ապարանի միջնակարգ դպրոց (ք. Ապարանի Վ.Եղիազարյան անվ. թիվ 1 հիմնական դպրոցի տեղակայման վայրում) | E19: =+'Հավելված N 1'!D20 -> 509859.3
D20: =+'Հավելված N 1'!C21 -> ք. Թալինի միջնակարգ դպրոց (ք. Թալինի թիվ 2 հիմնական դպրոցի տեղակայման վայրում) | E20: =+'Հավելված N 1'!D21 -> 564003.4
D21: =+'Հավելված N 1'!C22 -> գ. Արագածավանի թիվ 2 միջնակարգ դպրոց | E21: =+'Հավելված N 1'!D22 -> 450000
D22: =+'Հավելված N 1'!C23 -> գ. Նոր Եդեսիայի Ն. Շնորհալու անվ. միջնակարգ դպրոց | E22: =+'Հավելված N 1'!D23 -> 149203.4
D23: ՀՀ Արարատի մարզ | E23: =SUM(E24:E27) -> 1518877.9
D24: =+'Հավելված N 1'!C27 -> «Վեդիի ավագ դպրոց» ՊՈԱԿ | E24: =+'Հավելված N 1'!D27 -> 80000
D25: =+'Հավելված N 1'!C28 -> Գետազատ բնակավայրի միջնակարգ դպրոց | E25: =+'Հավելված N 1'!D28 -> 158000
D26: =+'Հավելված N 1'!C29 -> Վերին Դվին բնակավայրի միջնակարգ դպրոց | E26: =+'Հավելված N 1'!D29 -> 623329.6
D27: =+'Հավելված N 1'!C30 -> Այգեստան բնակավայրի միջնակարգ դպրոց | E27: =+'Հավելված N 1'!D30 -> 657548.3
D28: ՀՀ Արմավիրի մարզ | E28: =SUM(E29:E35) -> 2974214.9
D29: =+'Հավելված N 1'!C33 -> «Վաղարշապատի Մովսես Խորենացու անվան N 10 ավագ դպրոց» ՊՈԱԿ | E29: =+'Հավելված N 1'!D33 -> 312245.9
D30: =+'Հավելված N 1'!C34 -> գ. Ջրառատի Թ.Խաչատրյանի անվ. միջնակարգ դպրոց | E30: =+'Հավելված N 1'!D34 -> 499292
D31: =+'Հավելված N 1'!C35 -> գ. Վանանդի միջնակարգ դպրոց | E31: =+'Հավելված N 1'!D35 -> 313084.4
D32: =+'Հավելված N 1'!C36 -> գ. Նոր Կեսարիայի միջնակարգ դպրոց | E32: =+'Հավելված N 1'!D36 -> 1009478.3
D33: =+'Հավելված N 1'!C37 -> գ. Գեղակերտի միջնակարգ դպրոց | E33: =+'Հավելված N 1'!D37 -> 410114.3
D34: =+'Հավելված N 1'!C38 -> գ. Ամբերդի Հ. Նավասարդյանի անվ. միջնակարգ դպրոց | E34: =+'Հավելված N 1'!D38 -> 180000
D35: =+'Հավելված N 1'!C39 -> ք. Վաղարշապատի Վ.Ռշտունու անվ. թիվ 11 հիմնական դպրոց | E35: =+'Հավելված N 1'!D39 -> 250000
D36: ՀՀ Գեղարքունիքի մարզ | E36: =SUM(E37) -> 70000
D37: =+'Հավելված N 1'!C41 -> գ. Ծովինարի Արծրուն Խաչատրյանի անվ. միջնակարգ դպրոց | E37: =+'Հավելված N 1'!D41 -> 70000
D38: ՀՀ Լոռու մարզ | E38: =SUM(E39:E45) -> 2185598
D39: =+'Հավելված N 1'!C44 -> գ. Արևածագի Կ․ Մելիքսեթյանի անվան միջնակարգ դպրոց | E39: =+'Հավելված N 1'!D44 -> 100000
D40: =+'Հավելված N 1'!C45 -> գ. Օձունի թիվ 2 միջնակարգ դպրոց | E40: =+'Հավելված N 1'!D45 -> 350000
D41: =+'Հավելված N 1'!C46 -> ք. Սպիտակի թիվ 8 միջնակարգ դպրոց | E41: =+'Հավելված N 1'!D46 -> 620000
D42: =+'Հավելված N 1'!C47 -> գ. Աքորու միջնակարգ դպրոց | E42: =+'Հավելված N 1'!D47 -> 350000
D43: =+'Հավելված N 1'!C48 -> գ. Շիրակամուտի թիվ 1 միջնակարգ դպրոց | E43: =+'Հավելված N 1'!D48 -> 292000
D44: =+'Հավելված N 1'!C49 -> գ. Ճոճկանի միջնակարգ դպրոց | E44: =+'Հավելված N 1'!D49 -> 380000
D45: =+'Հավելված N 1'!C50 -> գ. Մեծավանի թիվ 2 միջնակարգ դպրոց | E45: =+'Հավելված N 1'!D50 -> 93598
D46: ՀՀ Կոտայքի մարզ | E46: =SUM(E47:E53) -> 1568494.7
D47: =+'Հավելված N 1'!C52 -> Գեղադիր բնակավայրի միջնակարգ դպրոց | E47: =+'Հավելված N 1'!D52 -> 559762.2
D48: =+'Հավելված N 1'!C53 -> Մայակովսկի բնակավայրի միջնակարգ դպրոց | E48: =+'Հավելված N 1'!D53 -> 50000
D49: =+'Հավելված N 1'!C54 -> Արգել բնակավայրի միջնակարգ դպրոց | E49: =+'Հավելված N 1'!D54 -> 50000
D50: =+'Հավելված N 1'!C55 -> Գողթ բնակավայրի միջնակարգ դպրոց | E50: =+'Հավելված N 1'!D55 -> 433611.7
D51: =+'Հավելված N 1'!C56 -> Զառ բնակավայրի միջնակարգ դպրոց | E51: =+'Հավելված N 1'!D56 -> 155000
D52: =+'Հավելված N 1'!C57 -> Արագյուղ բնակավայրի միջնակարգ դպրոց | E52: =+'Հավելված N 1'!D57 -> 225163.8
D53: =+'Հավելված N 1'!C58 -> Լեռնանիստ բնակավայրի միջնակարգ դպրոց | E53: =+'Հավելված N 1'!D58 -> 94957
D54: ՀՀ Շիրակի մարզ | E54: =SUM(E55:E59) -> 1137571.7
D55: =+'Հավելված N 1'!C60 -> գ․ Սարատակի միջնակարգ դպրոց | E55: =+'Հավելված N 1'!D60 -> 237767.7
D56: =+'Հավելված N 1'!C61 -> գ․ Ջրափիի միջնակարգ դպրոց | E56: =+'Հավելված N 1'!D61 -> 393001.6
D57: =+'Հավելված N 1'!C62 -> գ․ Շիրակավանի միջնակարգ դպրոց | E57: =+'Հավելված N 1'!D62 -> 342968
D58: =+'Հավելված N 1'!C63 -> գ․ Մայիսյանի միջնակարգ դպրոց | E58: =+'Հավելված N 1'!D63 -> 70000
D59: =+'Հավելված N 1'!C64 -> գ․ Փոքր Մանթաշի միջնակարգ դպրոց | E59: =+'Հավելված N 1'!D64 -> 93834.4
D60: ՀՀ Սյունիքի մարզ | E60: =SUM(E61:E68) -> 794709.2
D61: =+'Հավելված N 1'!C66 -> «գ. Խնձորեսկի միջնակարգ դպրոց» ՊՈԱԿ | E61: =+'Հավելված N 1'!D66 -> 53405.7
D62: =+'Հավելված N 1'!C67 -> «ք. Կապանի թիվ 6 հիմնական դպրոց» ՊՈԱԿ | E62: =+'Հավելված N 1'!D67 -> 100000
D63: =+'Հավելված N 1'!C68 -> ք. Ագարակի միջնակարգ դպրոց | E63: =+'Հավելված N 1'!D68 -> 200000
D64: =+'Հավելված N 1'!C69 -> գ․ Տաթևի միջնակարգ դպրոց | E64: =+'Հավելված N 1'!D69 -> 100000
D65: =+'Հավելված N 1'!C70 -> «ք. Գորիսի Ս. Խանզադյանի անվան թիվ 6 հիմնական դպրոց» ՊՈԱԿ | E65: =+'Հավելված N 1'!D70 -> 62368
D66: =+'Հավելված N 1'!C71 -> «գ. Վերիշենի միջնակարգ դպրոց» ՊՈԱԿ | E66: =+'Հավելված N 1'!D71 -> 45508.5
D67: =+'Հավելված N 1'!C72 -> գ. Շինուհայրի միջնակարգ դպրոց | E67: =+'Հավելված N 1'!D72 -> 65442
D68: =+'Հավելված N 1'!C73 -> գ. Խոտի միջնակարգ դպրոց | E68: =+'Հավելված N 1'!D73 -> 167985
D69: ՀՀ Վայոց Ձորի մարզ | E69: =SUM(E70) -> 30231.2
D70: =+'Հավելված N 1'!C76 -> գ. Արենիի միջնակարգ դպրոց | E70: =+'Հավելված N 1'!D76 -> 30231.2
D71: ՀՀ Տավուշի մարզ | E71: =SUM(E72:E73) -> 433082.5
D72: =+'Հավելված N 1'!C79 -> ք. Այրումի Հ.Մալինյանի անվան միջնակարգ դպրոց | E72: =+'Հավելված N 1'!D79 -> 103082.5
D73: =+'Հավելված N 1'!C80 -> գ. Բագրատաշենի Մ․ Մագուլյանի անվան թիվ 1 միջնակարգ դպրոց | E73: =+'Հավելված N 1'!D80 -> 330000
D74: ՀՀ քաղաքաշինության կոմիտե | E74: =+E76+E77+E80+E82+E84+E86+E88 -> 0
D75: այդ թվում`ըստ ուղղությունների
D76: Հանրակրթական դպրոցների նոր շենքերի կառուցում | E76: =-343732.915-656094-150000 -> -1149826.9
D77: ՀՀ Արագածոտնի մարզ | E77: =SUM(E78:E79) -> 248249
D78: =+'Հավելված N 1'!C24 -> գ. Ներքին Սասնաշենի միջնակարգ դպրոց | E78: =+'Հավելված N 1'!D24 -> 180000
D79: =+'Հավելված N 1'!C25 -> «Լուսակնի միջնակարգ դպրոց» ՊՈԱԿ | E79: =+'Հավելված N 1'!D25 -> 68249
D80: ՀՀ Արարատի մարզ | E80: =+E81 -> 302900
D81: =+'Հավելված N 1'!C31 -> «Բարձրաշենի միջնակարգ դպրոց»ՊՈԱԿ | E81: =+'Հավելված N 1'!D31 -> 302900
D82: ՀՀ Գեղարքունիքի մարզ | E82: =+E83 -> 54371
D83: =+'Հավելված N 1'!C42 -> «Լեռնահովիտ գյուղի Վ. Բարեղամյանի անվան հիմնական դպրոց» ՊՈԱԿ | E83: =+'Հավելված N 1'!D42 -> 54371
D84: ՀՀ Սյունիքի մարզ | E84: =+E85 -> 242732.91
D85: =+'Հավելված N 1'!C74 -> «Հարժիսի Համլետ Մինասյանի անվան միջնակարգ դպրոց» ՊՈԱԿ | E85: =+'Հավելված N 1'!D74 -> 242732.91
D86: ՀՀ Վայոց Ձորի մարզ | E86: =+E87 -> 50000
D87: =+'Հավելված N 1'!C77 -> «Չիվայի միջնակարգ դպրոց» ՊՈԱԿ | E87: =+'Հավելված N 1'!D77 -> 50000
D88: ՀՀ Տավուշի մարզ | E88: =SUM(E89:E90) -> 251574
D89: =+'Հավելված N 1'!C81 -> «Դովեղի միջնակարգ դպրոց»ՊՈԱԿ | E89: =+'Հավելված N 1'!D81 -> 150000
D90: =+'Հավելված N 1'!C82 -> «Նավուրի միջնակարգ դպրոց» ՊՈԱԿ | E90: =+'Հավելված N 1'!D82 -> 101574
B91: 1236 | C91: 32004 | D91: Հանրակրթական դպրոցների շենքերի վերակառուցում, հիմնանորոգում | E91: =+E93+E214 -> -0.0097839995
D92: այդ թվում` ըստ կատարողների
D93: ՀՀ կրթության, գիտության, մշակույթի և սպորտի նախարարություն | E93: =+E95+E96+E98+E103+E106+E118+E130+E152+E161+E188+E198+E206 -> -0.0097839995
D94: այդ թվում`ըստ ուղղությունների
D95: Հանրակրթական դպրոցների շենքերի վերակառուցում, հիմնանորոգում | E95: -19053883
D96: Երևան քաղաք | E96: =+E97 -> 140840
D97: =+'Հավելված N 1'!C87 -> Երևանի հ. 101 միջնակարգ դպրոց | E97: =+'Հավելված N 1'!D87 -> 140840
D98: ՀՀ Արագածոտնի մարզ | E98: =SUM(E99:E102) -> 809330.35
D99: =+'Հավելված N 1'!C91 -> Մաստարայի միջնակարգ դպրոց | E99: =+'Հավելված N 1'!D91 -> 250721.7
D100: =+'Հավելված N 1'!C92 -> Թալինի ավագ դպրոց | E100: =+'Հավելված N 1'!D92 -> 228616.4
D101: =+'Հավելված N 1'!C93 -> Արագածի թիվ 2 միջնակարգ դպրոց | E101: =+'Հավելված N 1'!D93 -> 169032.25
D102: =+'Հավելված N 1'!C94 -> Բազմաղբյուրի միջնակարգ դպրոց | E102: =+'Հավելված N 1'!D94 -> 160960
...

Sheet Հավելված N 3
I1: Հավելված N 3
I2: ՀՀ կառավարության 2025 թվականի
I3: ______________ ի ___Ն որոշման
A6: ՀԱՅԱՍՏԱՆԻ ՀԱՆՐԱՊԵՏՈՒԹՅԱՆ ԿԱՌԱՎԱՐՈՒԹՅԱՆ 2024 ԹՎԱԿԱՆԻ ԴԵԿՏԵՄԲԵՐԻ 27-Ի N 2060-Ն ՈՐՈՇՄԱՆ NN 9 ԵՎ 9.1 ՀԱՎԵԼՎԱԾՆԵՐՈՒՄ ԿԱՏԱՐՎՈՂ ԼՐԱՑՈՒՄԸ
J8: հազ. դրամներով
A9: ԲԳԿ, ԲՍԿ | B9: Ծրագիր | D9: Միջոցառում | H9: Իրականացնողը/ ակտիվն օգտագործողը/ շահառուի ընտրության չափորոշիչը | I9: Արդյունքային չափորոշիչը | J9: Ցուցանիշների փոփոխությունը (ավելացումները նշված են դրական նշանով)
B10: Դասիչը | C10: Անվանումը | D10: Դասիչը | E10: Անվանումը | F10: Նկարագրությունը | G10: Տեսակը | J10: Տարի
A11: ԸՆԴԱՄԵՆԸ | J11: =+J13 -> 0
A12: այդ թվում՝
A13: ՀՀ ԿՐԹՈՒԹՅԱՆ, ԳԻՏՈՒԹՅԱՆ, ՄՇԱԿՈԻՅԹԻ ԵՎ ՍՊՈՐՏԻ ՆԱԽԱՐԱՐՈՒԹՅՈՒՆ | J13: =+J14 -> 0
B14: 1236 | C14: Հանրակրթական և նախադպրոցական հաստատությունների հիմնում, կառուցում, բարելավում | J14: =+J15 -> 0
D15: 1236 - 32004 | E15: Հանրակրթական դպրոցների շենքերի վերակառուցում, հիմնանորոգում | J15: =+'Հավելված N 1'!D83 -> 0
F16: Դպրոցական պարտադիր կրթության հասանելիության ապահովման նպատակով՛ հանրակրթական դպրոցների շենքերի (մասնաշենքերի), վերակառուցում, հիմնանորոգում և նախագծում
G17: Այլ պետական կազմակերպությունների կողմից օգտագործվող ոչ ֆինանսական ակտիվների հետ գործառնություններ
H18: Ակտիվն օգտագործող կազմակերպությունների անվանումները` Հանրակրթական դպրոցներ
I19: ՀՀ-ում կրթական որակյալ ծառայությունների հասանելիության ապահովման ծրագրի շրջանակներում հիմնանորոգվող / վերանորոգվող դպրոցների թիվը | J19: 27

Sheet Հավելված N 4
H1: Հավելված N 3
H2: ՀՀ կառավարության 2025 թվականի
H3: ______________ ի ___Ն որոշման
V4: Փաստը 12.12
A6: ՀԱՅԱՍՏԱՆԻ ՀԱՆՐԱՊԵՏՈՒԹՅԱՆ ԿԱՌԱՎԱՐՈՒԹՅԱՆ 2024 ԹՎԱԿԱՆԻ ԴԵԿՏԵՄԲԵՐԻ 27-Ի N 2060-Ն N 10 ՀԱՎԵԼՎԱԾՈՒՄ ԿԱՏԱՐՎՈՂ ԼՐԱՑՈՒՄՆԵՐԸ
A10: Կոդը | B10: Անվանումը | E10: Գնման ձևը | F10: Չափման միավորը | G10: Միավորի գինը | H10: Ցուցանիշների փոփոխությունը (ավելացումները նշված են դրական նշանով)
H11: Քանակը | I11: Գումարը (հազար դրամ)
A12: 1 | B12: 2 | E12: 3 | F12: 4 | G12: 5 | H12: 6 | I12: 7
A13: ՀՀ կրթության, գիտության, մշակույթի և սպորտի նախարարություն | I13: =+I14 -> 36356230
A14: Բաժին N 09 | B14: Խումբ N 02 | C14: Դաս N 01 | D14: Հիմնական ընդհանուր կրթություն | I14: =+I15+I75+I292 -> 36356230
A15: 1236-32003 | B15: Հանրակրթական դպրոցների նոր շենքերի կառուցում | I15: =+I16+I64 -> 12635846
B16: ՄԱՍ II. ԱՇԽԱՏԱՆՔՆԵՐ | I16: =SUM(I17:I63) -> 12568054
A17: 45211229-57 | B17: շինարարական աշխատանքներ դպրոցների համար | E17: ՀԲՄ | F17: դրամ | I17: 250000
A18: 45211229-58 | B18: շինարարական աշխատանքներ դպրոցների համար | E18: ՀԲՄ | F18: դրամ | I18: =380000+128133 -> 508133
A19: 45211229-59 | B19: շինարարական աշխատանքներ դպրոցների համար | E19: ՀԲՄ | F19: դրամ | I19: =400000+158890.6 -> 558890.6
A20: 45211229-60 | B20: շինարարական աշխատանքներ դպրոցների համար | E20: ՀԲՄ | F20: դրամ | I20: =50000+400000 -> 450000
A21: 45211229-61 | B21: շինարարական աշխատանքներ դպրոցների համար | E21: ՀԲՄ | F21: դրամ | I21: =90000+59203.4 -> 149203.4
A22: 45211229-62 | B22: շինարարական աշխատանքներ դպրոցների համար | E22: ՀԲՄ | F22: դրամ | I22: 80000
A23: 45211229-63 | B23: շինարարական աշխատանքներ դպրոցների համար | E23: ՀԲՄ | F23: դրամ | I23: 158000
A24: 45211229-64 | B24: շինարարական աշխատանքներ դպրոցների համար | E24: ՀԲՄ | F24: դրամ | I24: =70000+400000+148892.8 -> 618892.8
A25: 45211229-65 | B25: շինարարական աշխատանքներ դպրոցների համար | E25: ՀԲՄ | F25: դրամ | I25: =150000+367000+134867.8 -> 651867.8
A26: 45211229-66 | B26: շինարարական աշխատանքներ դպրոցների համար | E26: ՀԲՄ | F26: դրամ | I26: =150000+162245.9 -> 312245.9
A27: 45211229-67 | B27: շինարարական աշխատանքներ դպրոցների համար | E27: ՀԲՄ | F27: դրամ | I27: =70000+350000+74960 -> 494960
A28: 45211229-198 | B28: շինարարական աշխատանքներ դպրոցների համար | E28: ՀԲՄ | F28: դրամ | I28: =250000+48806.6 -> 298806.6
A29: 45211229-69 | B29: շինարարական աշխատանքներ դպրոցների համար | E29: ՀԲՄ | F29: դրամ | I29: =400000+606316 -> 1006316
A30: 45211229-70 | B30: շինարարական աշխատանքներ դպրոցների համար | E30: ՀԲՄ | F30: դրամ | I30: =80000+250000+80114.3 -> 410114.3
A31: 45211229-71 | B31: շինարարական աշխատանքներ դպրոցների համար | E31: ՀԲՄ | F31: դրամ | I31: 180000
A32: 45211229-72 | B32: շինարարական աշխատանքներ դպրոցների համար | E32: ՀԲՄ | F32: դրամ | I32: 250000
A33: 45211229-73 | B33: շինարարական աշխատանքներ դպրոցների համար | E33: ՀԲՄ | F33: դրամ | I33: 70000
A34: 45211229-75 | B34: շինարարական աշխատանքներ դպրոցների համար | E34: ՀԲՄ | F34: դրամ | I34: 100000
A35: 45211229-76 | B35: շինարարական աշխատանքներ դպրոցների համար | E35: ՀԲՄ | F35: դրամ | I35: =100000+250000 -> 350000
A36: 45211229-78 | B36: շինարարական աշխատանքներ դպրոցների համար | E36: ՀԲՄ | F36: դրամ | I36: =120000+500000 -> 620000
A37: 45211229-79 | B37: շինարարական աշխատանքներ դպրոցների համար | E37: ՀԲՄ | F37: դրամ | I37: 350000
A38: 45211229-81 | B38: շինարարական աշխատանքներ դպրոցների համար | E38: ՀԲՄ | F38: դրամ | I38: =42000+250000 -> 292000
A39: 45211229-82 | B39: շինարարական աշխատանքներ դպրոցների համար | E39: ՀԲՄ | F39: դրամ | I39: =80000+300000 -> 380000
A40: 45211229-80 | B40: շինարարական աշխատանքներ դպրոցների համար | E40: ՀԲՄ | F40: դրամ | I40: 93598
A41: 45211229-84 | B41: շինարարական աշխատանքներ դպրոցների համար | E41: ՀԲՄ | F41: դրամ | I41: =280000+279762.2 -> 559762.2
A42: 45211229-86 | B42: շինարարական աշխատանքներ դպրոցների համար | E42: ՀԲՄ | F42: դրամ | I42: 50000
A43: 45211229-88 | B43: շինարարական աշխատանքներ դպրոցների համար | E43: ՀԲՄ | F43: դրամ | I43: 50000
A44: 45211229-89 | B44: շինարարական աշխատանքներ դպրոցների համար | E44: ՀԲՄ | F44: դրամ | I44: =120208.2+285000+5828.4 -> 411036.6
A45: 45211229-83 | B45: շինարարական աշխատանքներ դպրոցների համար | E45: ՀԲՄ | F45: դրամ | I45: 155000
A46: 45211229-85 | B46: շինարարական աշխատանքներ դպրոցների համար | E46: ՀԲՄ | F46: դրամ | I46: =120000+105163.8 -> 225163.8
A47: 45211229-90 | B47: շինարարական աշխատանքներ դպրոցների համար | E47: ՀԲՄ | F47: դրամ | I47: 94957
A48: 45211229-91 | B48: շինարարական աշխատանքներ դպրոցների համար | E48: ՀԲՄ | F48: դրամ | I48: =80000+157767.7 -> 237767.7
A49: 45211229-93 | B49: շինարարական աշխատանքներ դպրոցների համար | E49: ՀԲՄ | F49: դրամ | I49: =50000+120000+223001.6 -> 393001.6
A50: 45211229-94 | B50: շինարարական աշխատանքներ դպրոցների համար | E50: ՀԲՄ | F50: դրամ | I50: =155000+187968 -> 342968
A51: 45211229-95 | B51: շինարարական աշխատանքներ դպրոցների համար | E51: ՀԲՄ | F51: դրամ | I51: 70000
A52: 45211229-96 | B52: շինարարական աշխատանքներ դպրոցների համար | E52: ՀԲՄ | F52: դրամ | I52: 93834.4
A53: 45211229-100 | B53: շինարարական աշխատանքներ դպրոցների համար | E53: ՀԲՄ | F53: դրամ | I53: 50000
A54: 45211229-102 | B54: շինարարական աշխատանքներ դպրոցների համար | E54: ՀԲՄ | F54: դրամ | I54: 100000
A55: 45211229-105 | B55: շինարարական աշխատանքներ դպրոցների համար | E55: ՀԲՄ | F55: դրամ | I55: =100000+100000 -> 200000
A56: 45211229-107 | B56: շինարարական աշխատանքներ դպրոցների համար | E56: ՀԲՄ | F56: դրամ | I56: 100000
A57: 45211229-98 | B57: շինարարական աշխատանքներ դպրոցների համար | E57: ՀԲՄ | F57: դրամ | I57: 62368
A58: 45211229-99 | B58: շինարարական աշխատանքներ դպրոցների համար | E58: ՀԲՄ | F58: դրամ | I58: 45508.5
A59: 45211229-103 | B59: շինարարական աշխատանքներ դպրոցների համար | E59: ՀԲՄ | F59: դրամ | I59: 65442
A60: 45211229-104 | B60: շինարարական աշխատանքներ դպրոցների համար | E60: ՀԲՄ | F60: դրամ | I60: 167985
A61: 45211229-108 | B61: շինարարական աշխատանքներ դպրոցների համար | E61: ՀԲՄ | F61: դրամ | I61: 30231.2
A62: 45211229-109 | B62: շինարարական աշխատանքներ դպրոցների համար | E62: ՀԲՄ | F62: դրամ | I62: 100000
A63: 45211229-110 | B63: շինարարական աշխատանքներ դպրոցների համար | E63: ՀԲՄ | F63: դրամ | I63: =150000+180000 -> 330000
B64: ՄԱՍ III. ԾԱՌԱՅՈՒԹՅՈՒՆՆԵՐ | I64: =SUM(I65:I74) -> 67791.8
A65: 71351540-58 | B65: տեխնիկական հսկողության ծառայություններ | E65: ՀԲՄ | F65: դրամ | I65: 1726.3
A66: 71351540-59 | B66: տեխնիկական հսկողության ծառայություններ | E66: ՀԲՄ | F66: դրամ | I66: 5112.8
A67: 71351540-64 | B67: տեխնիկական հսկողության ծառայություններ | E67: ՀԲՄ | F67: դրամ | I67: 4436.8
A68: 71351540-65 | B68: տեխնիկական հսկողության ծառայություններ | E68: ՀԲՄ | F68: դրամ | I68: 5680.5
A69: 71351540-67 | B69: տեխնիկական հսկողության ծառայություններ | E69: ՀԲՄ | F69: դրամ | I69: 4332
A70: 71351540-68 | B70: տեխնիկական հսկողության ծառայություններ | E70: ՀԲՄ | F70: դրամ | I70: 14277.8
A71: 71351540-69 | B71: տեխնիկական հսկողության ծառայություններ | E71: ՀԲՄ | F71: դրամ | I71: 3162.3
A72: 71351540-88 | B72: տեխնիկական հսկողության ծառայություններ | E72: ՀԲՄ | F72: դրամ | I72: 22575.1
A73: 71351540-98 | B73: տեխնիկական հսկողության ծառայություններ | E73: ՀԲՄ | F73: դրամ | I73: 3405.7
A74: 71351540-107 | B74: տեխնիկական հսկողության ծառայություններ | E74: ՀԲՄ | F74: դրամ | I74: 3082.5
A75: 1236-32004 | B75: Հանրակրթական դպրոցների շենքերի վերակառուցում, հիմնանորոգում | I75: =+I76+I184 -> 19053883
B76: ՄԱՍ II. ԱՇԽԱՏԱՆՔՆԵՐ | I76: =SUM(I77:I183) -> 18962386
A77: 45211229-791 | B77: շինարարական աշխատանքներ դպրոցների համար | E77: ՀԲՄ | F77: դրամ | G77: =40000000+100000000 -> 140000000 | H77: 1 | I77: =H77*G77/1000 -> 140000
A78: 45211229-705 | B78: շինարարական աշխատանքներ դպրոցների համար | E78: ՀԲՄ | F78: դրամ | G78: =110000000+40000000+40000000+59581700 -> 249581700 | H78: 1 | I78: =+ROUNDDOWN(H78*G78/1000,1) -> 249581.7
A79: 45211229-743 | B79: շինարարական աշխատանքներ դպրոցների համար | E79: ՀԲՄ | F79: դրամ | G79: =100000000+30000000+80000000+17356400 -> 227356400 | H79: 1 | I79: =+ROUNDDOWN(H79*G79/1000,1) -> 227356.4
A80: 45211229-745 | B80: շինարարական աշխատանքներ դպրոցների համար | E80: ՀԲՄ | F80: դրամ | G80: =50000000+102899000+15093600 -> 167992600 | H80: 1 | I80: =H80*G80/1000 -> 167992.6
A81: 45211229-746 | B81: շինարարական աշխատանքներ դպրոցների համար | E81: ՀԲՄ | F81: դրամ | G81: =60000000+100000000 -> 160000000 | H81: 1 | I81: =H81*G81/1000 -> 160000
A82: 45211229-174 | B82: շինարարական աշխատանքներ դպրոցների համար | E82: ՀԲՄ | F82: դրամ | I82: 14760.983
A83: 45211229-712 | B83: շինարարական աշխատանքներ դպրոցների համար | E83: ՀԲՄ | F83: դրամ | G83: =60000000+100000000+30000000+68600000 -> 258600000 | H83: 1 | I83: =+ROUNDDOWN(H83*G83/1000,1) -> 258600
A84: 45211229-664 | B84: շինարարական աշխատանքներ դպրոցների համար | E84: ՀԲՄ | F84: դրամ | I84: =144167.6+760.824 -> 144928.42
A85: 45211229-702 | B85: շինարարական աշխատանքներ դպրոցների համար | E85: ՀԲՄ | F85: դրամ | G85: =60000000+32000000+62800000+15402600 -> 170202600 | H85: 1 | I85: =+ROUNDDOWN(H85*G85/1000,1) -> 170202.6
A86: 45211229-734 | B86: շինարարական աշխատանքներ դպրոցների համար | E86: ՀԲՄ | F86: դրամ | G86: =41220000+119920000+80000000+119613200 -> 360753200 | H86: 1 | I86: =+ROUNDDOWN(H86*G86/1000,1) -> 360753.2
A87: 45211229-741 | B87: շինարարական աշխատանքներ դպրոցների համար | E87: ՀԲՄ | F87: դրամ | G87: =70000000+80000000+100000000 -> 250000000 | H87: 1 | I87: =H87*G87/1000 -> 250000
A88: 45211229-768 | B88: շինարարական աշխատանքներ դպրոցների համար | E88: ՀԲՄ | F88: դրամ | G88: =100000000+70000000 -> 170000000 | H88: 1 | I88: =H88*G88/1000 -> 170000
A89: 45211229-750 | B89: շինարարական աշխատանքներ դպրոցների համար | E89: ՀԲՄ | F89: դրամ | G89: =60000000+80000000+103018500 -> 243018500 | H89: 1 | I89: =H89*G89/1000 -> 243018.5
A90: 45211229-780 | B90: շինարարական աշխատանքներ դպրոցների համար | E90: ՀԲՄ | F90: դրամ | G90: =60000000+100000000+100000000 -> 260000000 | H90: 1 | I90: =H90*G90/1000 -> 260000
A91: 45211229-717 | B91: շինարարական աշխատանքներ դպրոցների համար | E91: ՀԲՄ | F91: դրամ | G91: =42000000+88896000+12742200 -> 143638200 | H91: 1 | I91: =H91*G91/1000 -> 143638.2
A92: 45211229-802 | B92: շինարարական աշխատանքներ դպրոցների համար | E92: ՀԲՄ | F92: դրամ | G92: 70000000 | H92: 1 | I92: =+ROUNDUP(H92*G92/1000,1) -> 70000
A93: 45211229-803 | B93: շինարարական աշխատանքներ դպրոցների համար | E93: ՀԲՄ | F93: դրամ | G93: 70000000 | H93: 1 | I93: =+ROUNDUP(H93*G93/1000,1) -> 70000
A94: 45211229-810 | B94: շինարարական աշխատանքներ դպրոցների համար | E94: ՀԲՄ | F94: դրամ | G94: 62900100 | H94: 1 | I94: =+ROUNDUP(H94*G94/1000,1) -> 62900.1
A95: 45211229-176 | B95: շինարարական աշխատանքներ դպրոցների համար | E95: ՀԲՄ | F95: դրամ | I95: =10000+24027.778 -> 34027.778
A96: 45211229-753 | B96: շինարարական աշխատանքներ դպրոցների համար | E96: ՀԲՄ | F96: դրամ | G96: =50000000+100000000+97762200 -> 247762200 | H96: 1 | I96: =+ROUNDDOWN(H96*G96/1000,1) -> 247762.2
A97: 45211229-799 | B97: շինարարական աշխատանքներ դպրոցների համար | E97: ՀՄԱ | F97: դրամ | G97: =100000000+50000000+50000000+205769700 -> 405769700 | H97: 1 | I97: =+ROUNDDOWN(H97*G97/1000,1) -> 405769.7
A98: 45211229-751 | B98: շինարարական աշխատանքներ դպրոցների համար | E98: ՀԲՄ | F98: դրամ | G98: =80000000+80000000+103490500 -> 263490500 | H98: 1 | I98: =H98*G98/1000 -> 263490.5
A99: 45211229-767 | B99: շինարարական աշխատանքներ դպրոցների համար | E99: ՀԲՄ | F99: դրամ | G99: =50000000+80000000 -> 130000000 | H99: 1 | I99: =H99*G99/1000 -> 130000
A100: 45211229-776 | B100: շինարարական աշխատանքներ դպրոցների համար | E100: ՀԲՄ | F100: դրամ | G100: =30000000+90000000 -> 120000000 | H100: 1 | I100: =H100*G100/1000 -> 120000
A101: 45211229-773 | B101: շինարարական աշխատանքներ դպրոցների համար | E101: ՀԲՄ | F101: դրամ | G101: =25000000+75000000+100000000 -> 200000000 | H101: 1 | I101: =H101*G101/1000 -> 200000
A102: 45211229-785 | B102: շինարարական աշխատանքներ դպրոցների համար | E102: ՀԲՄ | F102: դրամ | G102: =35000000+75000000+124766400 -> 234766400 | H102: 1 | I102: =H102*G102/1000 -> 234766.4
A103: 45211229-793 | B103: շինարարական աշխատանքներ դպրոցների համար | E103: ՀԲՄ | F103: դրամ | G103: =30000000+80000000+126789100 -> 236789100 | H103: 1 | I103: =H103*G103/1000 -> 236789.1
A104: 45211229-807 | B104: շինարարական աշխատանքներ դպրոցների համար | E104: ՀԲՄ | F104: դրամ | G104: 50500000 | H104: 1 | I104: =+ROUNDUP(H104*G104/1000,1) -> 50500
...

Sheet Հավելված N 5
F1: Հավելված N 5
G2: ՀՀ կառավարության 2025 թվականի
G3: ______________ ի ___Ն որոշման
F6: «Հավելված N 10
G7: ՀՀ կառավարության 2025 թվականի
G8: նոյեմբերի 6-ի 1575-Ն որոշման
A9: ՀԱՅԱՍՏԱՆԻ ՀԱՆՐԱՊԵՏՈՒԹՅԱՆ 2025 ԹՎԱԿԱՆԻ ՊԵՏԱԿԱՆ ԲՅՈՒՋԵՈՎ ՆԱԽԱՏԵՍՎԱԾ՝ ՀԱՅԱՍՏԱՆԻ ՀԱՆՐԱՊԵՏՈՒԹՅԱՆ ԿԱՌԱՎԱՐՈՒԹՅԱՆ ՊԱՀՈՒՍՏԱՅԻՆ ՖՈՆԴԻՑ ՀԱՏԿԱՑՈՒՄՆԵՐ ԿԱՏԱՐԵԼՈՒ ՎԵՐԱԲԵՐՅԱԼ
A12: Գործառական դասիչը | D12: Ծրագրային դասիչը | F12: Բյուջետային հատկացումների գլխավոր կարգադրիչների, ծրագրերի, միջոցառումների և միջոցառումները կատարող պետական մարմինների անվանումները | G12: Ցուցանիշների փոփոխությունը (ավելացումները նշված են դրական նշանով, իսկ նվազեցումները` փակագծերում)
A13: Բաժին | B13: Խումբ | C13: Դաս | D13: Ծրագիր | E13: Միջոցառում | G13: Տարի
F14: ԸՆԴԱՄԵՆԸ | G14: =+G16+G36 -> 0
F15: այդ թվում
F16: ՀՀ ԿԱՌԱՎԱՐՈՒԹՅՈՒՆ | G16: =+G17 -> -500000
A17: 11 | F17: ՀԻՄՆԱԿԱՆ ԲԱԺԻՆՆԵՐԻՆ ՉԴԱՍՎՈՂ ՊԱՀՈՒՍՏԱՅԻՆ ՖՈՆԴԵՐ | G17: =+G19 -> -500000
F18: այդ թվում`
B19: 01 | F19: ՀՀ կառավարության և համայնքների պահուստային ֆոնդ | G19: =+G21 -> -500000
F20: այդ թվում`
C21: 01 | F21: ՀՀ կառավարության պահուստային ֆոնդ | G21: =+G23 -> -500000
F22: այդ թվում`
F23: ՀՀ կառավարություն | G23: =+G25 -> -500000
F24: այդ թվում`
D25: 1139 | E25: ՀՀ կառավարության պահուստային ֆոնդ | F25: ՀՀ կառավարության պահուստային ֆոնդ | G25: =+G27 -> -500000
F26: այդ թվում`
E27: 11001 | F27: ՀՀ կառավարության պահուստային ֆոնդ | G27: =+G29 -> -500000
F28: այդ թվում` ըստ կատարողների
F29: ՀՀ կառավարություն | G29: =+G31 -> -500000
F30: այդ թվում՝ բյուջետային ծախսերի տնտեսագիտական դասակարգման հոդվածներ
F31: ԸՆԴԱՄԵՆԸ ԾԱԽՍԵՐ | G31: =+G32 -> -500000
F32: ԸՆԹԱՑԻԿ ԾԱԽՍԵՐ | G32: =+G33 -> -500000
F33: ԱՅԼ ԾԱԽՍԵՐ | G33: =+G34 -> -500000
F34: - Պահուստային միջոցներ | G34: -500000
F36: ՀՀ ԿՐԹՈՒԹՅԱՆ, ԳԻՏՈՒԹՅԱՆ, ՄՇԱԿՈՒՅԹԻ ԵՎ ՍՊՈՐՏԻ ՆԱԽԱՐԱՐՈՒԹՅՈՒՆ | G36: =+G37 -> 500000
A37: 09 | F37: ԿՐԹՈՒԹՅՈՒՆ | G37: =+G39 -> 500000
F38: այդ թվում`
B39: 02 | F39: Միջնակարգ ընդհանուր կրթություն | G39: =+G41 -> 500000
F40: այդ թվում`
C41: 01 | F41: Հիմնական ընդհանուր կրթություն | G41: =+G43 -> 500000
F42: այդ թվում`
F43: ՀՀ կրթության, գիտության, մշակույթի և սպորտի նախարարություն | G43: =+G45 -> 500000
F44: այդ թվում`
D45: 1236 | E45: Հանրակրթական և նախադպրոցական հաստատությունների հիմնում, կառուցում, բարելավում | G45: =+G47+G56+G65+G81+G90 -> 500000
F46: այդ թվում`
E47: 32004 | F47: Հանրակրթական դպրոցների շենքերի վերակառուցում, հիմնանորոգում | G47: =+G49 -> 500000
F48: այդ թվում` ըստ կատարողների
F49: ՀՀ կրթության, գիտության, մշակույթի և սպորտի նախարարություն | G49: =+G51 -> 500000
F50: այդ թվում՝ բյուջետային ծախսերի տնտեսագիտական դասակարգման հոդվածներ
F51: ԸՆԴԱՄԵՆԸ ԾԱԽՍԵՐ | G51: =G52 -> 500000
F52: ՈՉ ՖԻՆԱՆՍԱԿԱՆ ԱԿՏԻՎՆԵՐԻ ԳԾՈՎ ԾԱԽՍԵՐ | G52: =+G53 -> 500000
F53: ՀԻՄՆԱԿԱՆ ՄԻՋՈՑՆԵՐ | G53: =+G54 -> 500000
F54: ՇԵՆՔԵՐ ԵՎ ՇԻՆՈՒԹՅՈՒՆՆԵՐ | G54: =+G55 -> 500000
F55: - Շենքերի և շինությունների կապիտալ վերանորոգում | G55: 500000 | H55: »
