Workbook

Sheet Հավելված 1
F1: Հավելված N 1
F2: ՀՀ կառավարության 2025 թվականի
F3: __________ ի ___Ն որոշման
A4: «ՀԱՅԱՍՏԱՆԻ ՀԱՆՐԱՊԵՏՈՒԹՅԱՆ 2025 ԹՎԱԿԱՆԻ ՊԵՏԱԿԱՆ ԲՅՈՒՋԵԻ ՄԱՍԻՆ» ՕՐԵՆՔԻ N 1 ՀԱՎԵԼՎԱԾԻ N 2 ԱՂՅՈՒՍԱԿՈՒՄ ԿԱՏԱՐՎՈՂ ՎԵՐԱԲԱՇԽՈՒՄԸ, ՓՈՓՈԽՈՒԹՅՈՒՆՆԵՐԸ ԵՎ ՀԱՅԱՍՏԱՆԻ ՀԱՆՐԱՊԵՏՈՒԹՅԱՆ ԿԱՌԱՎԱՐՈՒԹՅԱՆ 2024 ԹՎԱԿԱՆԻ ԴԵԿՏԵՄԲԵՐԻ 27-Ի N 2060-Ն ՈՐՈՇՄԱՆ N 5 ՀԱՎԵԼՎԱԾԻ N 1 ԱՂՅՈՒՍԱԿՈՒՄ ԿԱՏԱՐՎՈՂ ՓՈՓՈԽՈՒԹՅՈՒՆՆԵՐԸ
F5: հազար դրամներով
A6: ԲԳԿ | B6: Ծրագրային դասիչը | D6: ԲԳԿ/Ծրագրի /միջոցառման անվանումը | E6: Ծրագրի նպատակը/Միջոցառման նկարագրությունը | F6: Վերջնական արդյունքի նկարագրությունը/Միջոցառման տեսակը | G6: Ցուցանիշների փոփոխություն (ավելացումները նշված են դրական նշանով, իսկ նվազեցումները՝ փակագծերում)
B7: Ծրագիր | C7: Միջոցառում | G7: Տարի
A8: ԸՆԴԱՄԵՆԸ | G8: =G9+G12 -> 0
A9: ՀՀ կրթության, գիտության, մշակույթի և սպորտի նախարարություն | G9: =G10 -> 311348.1
B10: 1146 | D10: Հանրակրթության ծրագիր | E10: Ապահովել անվճար և որակյալ հանրակրթություն | F10: Մտավոր, հոգևոր, ֆիզիկական և սոցիալական ունակությունների համակողմանի ու ներդաշնակ զարգացմամբ, հայրենասիրության, պետականության և մարդասիրության ոգով դաստիրակված, պատշաճ վարքով և վարվելակերպով անձի ձևավորում | G10: =G11 -> 311348.1
C11: 1146 - 12002 | D11: Հանրակրթական դպրոցների մանկավարժներին և դպրոցահասակ երեխաներին տրանսպորտային ծախսերի փոխհատուցում | E11: Հանրակրթական դպրոցների մանկավարժներին և դպրոցահասակ երեխաներին տրանսպորտային ծախսերի փոխհատուցման ապահովում | F11: Տրանսֆերտների տրամադրում | G11: ='Հավելված 3'!J9 -> 311348.1
A12: ՀՀ կառավարություն | G12: =G13 -> -311348.1
B13: 1139 | D13: ՀՀ կառավարության պահուստային ֆոնդ | E13: Պետական բյուջեում չկանխատեսված, ինչպես նաեւ բյուջետային երաշխիքների ապահովման ծախսերի ֆինանսավորման ապահովում | F13: Պահուստային ֆոնդի կառավարման արդյունավետության և թափանցիկության ապահովում | G13: =G14+G15+G16 -> -311348.1
C14: 1139 - 11001 | D14: ՀՀ կառավարության պահուստային ֆոնդ | E14: ՀՀ պետական բյուջեում նախատեսված ելքերի լրացուցիչ ֆինանսավորման, պետական բյուջեում չկանխատեսված ելքերի, ինչպես նաև բյուջետային երաշխիքների ապահովման ելքերի ֆինանսավորման ապահովում | F14: Ծառայությունների մատուցում | G14: =-G15 -> 311348.1
C15: 1139 - 11001 | D15: ՀՀ կառավարության պահուստային ֆոնդ | E15: ՀՀ պետական բյուջեում նախատեսված ելքերի լրացուցիչ ֆինանսավորման, պետական բյուջեում չկանխատեսված ելքերի, ինչպես նաև բյուջետային երաշխիքների ապահովման ելքերի ֆինանսավորման ապահովում | F15: Ծառայությունների մատուցում | G15: =G16 -> -311348.1
C16: 1139 - 11003 | D16: Հարկաբյուջետային ռիսկերի կառավարման պահուստ | E16: Հարկաբյուջետային ռիսկերի կառավարման նպատակով նախատեսված միջոցներ | F16: Ծառայությունների մատուցում | G16: ='Հավելված 3'!J32 -> -311348.1

Sheet Հավելված 2
F1: Հավելված N 2
F2: ՀՀ կառավարության 2025 թվականի
F3: ______________ ի ___Ն որոշման
A4: ՀԱՅԱՍՏԱՆԻ ՀԱՆՐԱՊԵՏՈՒԹՅԱՆ ԿԱՌԱՎԱՐՈՒԹՅԱՆ 2024 ԹՎԱԿԱՆԻ ԴԵԿՏԵՄԲԵՐԻ 27-Ի N 2060-Ն ՈՐՈՇՄԱՆ N 3 ԵՎ N 4 ՀԱՎԵԼՎԱԾՆԵՐՈՒՄ ԿԱՏԱՐՎՈՂ ՓՈՓՈԽՈՒԹՅՈՒՆՆԵՐԸ
F5: հազար դրամներով
A6: Գործառական դասիչը | D6: Ծրագրային դասիչը | F6: Բյուջետային ծախսերի գործառական դասակարգման բաժինների, խմբերի և դասերի, բյուջետային ծրագրերի միջոցառումների, բյուջետային հատկացումների գլխավոր կարգադրիչների անվանումները | G6: Ցուցանիշների փոփոխություն (ավելացումները նշված են դրական նշանով, իսկ նվազեցումները՝ փակագծերում)
A7: Բաժին | B7: Խումբ | C7: Դաս | D7: Ծրագիր | E7: Միջոցառում | G7: Տարի
F8: ԸՆԴԱՄԵՆԸ ԾԱԽՍԵՐ | G8: =G10+G90 -> 0
F9: այդ թվում`
A10: 09 | F10: ԿՐԹՈՒԹՅՈՒՆ | G10: =G12 -> 311348.1
F11: այդ թվում`
B12: 06 | F12: Կրթությանը տրամադրվող օժանդակ ծառայություններ | G12: =G14 -> 311348.1
F13: այդ թվում`
C14: 01 | F14: Կրթությանը տրամադրվող օժանդակ ծառայություններ | G14: =G16 -> 311348.1
F15: այդ թվում`
D16: 1146 | F16: Հանրակրթության ծրագիր | G16: =G18 -> 311348.1
F17: այդ թվում`
E18: 12002 | F18: Հանրակրթական դպրոցների մանկավարժներին և դպրոցահասակ երեխաներին տրանսպորտային ծախսերի փոխհատուցում | G18: =G20+G27+G34+G41+G48+G55+G62+G69+G76+G83 -> 311348.1
F19: այդ թվում` ըստ կատարողների
F20: ՀՀ կրթության, գիտության, մշակույթի և սպորտի նախարարություն | G20: =G22 -> 1562.4
F21: այդ թվում` բյուջետային ծախսերի տնտեսագիտական դասակարգման հոդվածներ
F22: ԸՆԴԱՄԵՆԸ ԾԱԽՍԵՐ | G22: =G23 -> 1562.4
F23: ԸՆԹԱՑԻԿ ԾԱԽՍԵՐ | G23: =G24 -> 1562.4
F24: ՍՈՑԻԱԼԱԿԱՆ ՆՊԱՍՏՆԵՐ ԵՎ ԿԵՆՍԱԹՈՇԱԿՆԵՐ | G24: =G25 -> 1562.4
F25: Սոցիալական օգնության դրամական արտահայտությամբ նպաստներ (բյուջեից) | G25: =G26 -> 1562.4
F26: - Այլ նպաստներ բյուջեից | G26: ='Հավելված 4'!J9 -> 1562.4
F27: ՀՀ Արագածոտնի մարզպետի աշխատակազմ | G27: =G29 -> 25680.5
F28: այդ թվում` բյուջետային ծախսերի տնտեսագիտական դասակարգման հոդվածներ
F29: ԸՆԴԱՄԵՆԸ ԾԱԽՍԵՐ | G29: =G30 -> 25680.5
F30: ԸՆԹԱՑԻԿ ԾԱԽՍԵՐ | G30: =G31 -> 25680.5
F31: ՍՈՑԻԱԼԱԿԱՆ ՆՊԱՍՏՆԵՐ ԵՎ ԿԵՆՍԱԹՈՇԱԿՆԵՐ | G31: =G32 -> 25680.5
F32: Սոցիալական օգնության դրամական արտահայտությամբ նպաստներ (բյուջեից) | G32: =G33 -> 25680.5
F33: - Այլ նպաստներ բյուջեից | G33: ='Հավելված 4'!J22 -> 25680.5
F34: ՀՀ Արարատի մարզպետի աշխատակազմ | G34: =G36 -> 64665.6
F35: այդ թվում` բյուջետային ծախսերի տնտեսագիտական դասակարգման հոդվածներ
F36: ԸՆԴԱՄԵՆԸ ԾԱԽՍԵՐ | G36: =G37 -> 64665.6
F37: ԸՆԹԱՑԻԿ ԾԱԽՍԵՐ | G37: =G38 -> 64665.6
F38: ՍՈՑԻԱԼԱԿԱՆ ՆՊԱՍՏՆԵՐ ԵՎ ԿԵՆՍԱԹՈՇԱԿՆԵՐ | G38: =G39 -> 64665.6
F39: Սոցիալական օգնության դրամական արտահայտությամբ նպաստներ (բյուջեից) | G39: =G40 -> 64665.6
F40: - Այլ նպաստներ բյուջեից | G40: ='Հավելված 4'!J35 -> 64665.6
F41: ՀՀ Արմավիրի մարզպետի աշխատակազմ | G41: =G43 -> 65540.6
F42: այդ թվում` բյուջետային ծախսերի տնտեսագիտական դասակարգման հոդվածներ
F43: ԸՆԴԱՄԵՆԸ ԾԱԽՍԵՐ | G43: =G44 -> 65540.6
F44: ԸՆԹԱՑԻԿ ԾԱԽՍԵՐ | G44: =G45 -> 65540.6
F45: ՍՈՑԻԱԼԱԿԱՆ ՆՊԱՍՏՆԵՐ ԵՎ ԿԵՆՍԱԹՈՇԱԿՆԵՐ | G45: =G46 -> 65540.6
F46: Սոցիալական օգնության դրամական արտահայտությամբ նպաստներ (բյուջեից) | G46: =G47 -> 65540.6
F47: - Այլ նպաստներ բյուջեից | G47: ='Հավելված 4'!J48 -> 65540.6
F48: ՀՀ Գեղարքունիքի մարզպետի աշխատակազմ | G48: =G50 -> 11758.5
F49: այդ թվում` բյուջետային ծախսերի տնտեսագիտական դասակարգման հոդվածներ
F50: ԸՆԴԱՄԵՆԸ ԾԱԽՍԵՐ | G50: =G51 -> 11758.5
F51: ԸՆԹԱՑԻԿ ԾԱԽՍԵՐ | G51: =G52 -> 11758.5
F52: ՍՈՑԻԱԼԱԿԱՆ ՆՊԱՍՏՆԵՐ ԵՎ ԿԵՆՍԱԹՈՇԱԿՆԵՐ | G52: =G53 -> 11758.5
F53: Սոցիալական օգնության դրամական արտահայտությամբ նպաստներ (բյուջեից) | G53: =G54 -> 11758.5
F54: - Այլ նպաստներ բյուջեից | G54: ='Հավելված 4'!J61 -> 11758.5
F55: ՀՀ Լոռու մարզպետի աշխատակազմ | G55: =G57 -> 6707.4
F56: այդ թվում` բյուջետային ծախսերի տնտեսագիտական դասակարգման հոդվածներ
F57: ԸՆԴԱՄԵՆԸ ԾԱԽՍԵՐ | G57: =G58 -> 6707.4
F58: ԸՆԹԱՑԻԿ ԾԱԽՍԵՐ | G58: =G59 -> 6707.4
F59: ՍՈՑԻԱԼԱԿԱՆ ՆՊԱՍՏՆԵՐ ԵՎ ԿԵՆՍԱԹՈՇԱԿՆԵՐ | G59: =G60 -> 6707.4
F60: Սոցիալական օգնության դրամական արտահայտությամբ նպաստներ (բյուջեից) | G60: =G61 -> 6707.4
F61: - Այլ նպաստներ բյուջեից | G61: ='Հավելված 4'!J74 -> 6707.4
F62: ՀՀ Կոտայքի մարզպետի աշխատակազմ | G62: =G64 -> 104889.3
F63: այդ թվում` բյուջետային ծախսերի տնտեսագիտական դասակարգման հոդվածներ
F64: ԸՆԴԱՄԵՆԸ ԾԱԽՍԵՐ | G64: =G65 -> 104889.3
F65: ԸՆԹԱՑԻԿ ԾԱԽՍԵՐ | G65: =G66 -> 104889.3
F66: ՍՈՑԻԱԼԱԿԱՆ ՆՊԱՍՏՆԵՐ ԵՎ ԿԵՆՍԱԹՈՇԱԿՆԵՐ | G66: =G67 -> 104889.3
F67: Սոցիալական օգնության դրամական արտահայտությամբ նպաստներ (բյուջեից) | G67: =G68 -> 104889.3
F68: - Այլ նպաստներ բյուջեից | G68: ='Հավելված 4'!J87 -> 104889.3
F69: ՀՀ Շիրակի մարզպետի աշխատակազմ | G69: =G71 -> 12586.5
F70: այդ թվում` բյուջետային ծախսերի տնտեսագիտական դասակարգման հոդվածներ
F71: ԸՆԴԱՄԵՆԸ ԾԱԽՍԵՐ | G71: =G72 -> 12586.5
F72: ԸՆԹԱՑԻԿ ԾԱԽՍԵՐ | G72: =G73 -> 12586.5
F73: ՍՈՑԻԱԼԱԿԱՆ ՆՊԱՍՏՆԵՐ ԵՎ ԿԵՆՍԱԹՈՇԱԿՆԵՐ | G73: =G74 -> 12586.5
F74: Սոցիալական օգնության դրամական արտահայտությամբ նպաստներ (բյուջեից) | G74: =G75 -> 12586.5
F75: - Այլ նպաստներ բյուջեից | G75: ='Հավելված 4'!J100 -> 12586.5
F76: ՀՀ Սյունիքի մարզպետի աշխատակազմ | G76: =G78 -> 18921.8
F77: այդ թվում` բյուջետային ծախսերի տնտեսագիտական դասակարգման հոդվածներ
F78: ԸՆԴԱՄԵՆԸ ԾԱԽՍԵՐ | G78: =G79 -> 18921.8
F79: ԸՆԹԱՑԻԿ ԾԱԽՍԵՐ | G79: =G80 -> 18921.8
F80: ՍՈՑԻԱԼԱԿԱՆ ՆՊԱՍՏՆԵՐ ԵՎ ԿԵՆՍԱԹՈՇԱԿՆԵՐ | G80: =G81 -> 18921.8
F81: Սոցիալական օգնության դրամական արտահայտությամբ նպաստներ (բյուջեից) | G81: =G82 -> 18921.8
F82: - Այլ նպաստներ բյուջեից | G82: ='Հավելված 4'!J113 -> 18921.8
F83: ՀՀ Վայոց ձորի մարզպետի աշխատակազմ | G83: =G85 -> -964.5
F84: այդ թվում` բյուջետային ծախսերի տնտեսագիտական դասակարգման հոդվածներ
F85: ԸՆԴԱՄԵՆԸ ԾԱԽՍԵՐ | G85: =G86 -> -964.5
F86: ԸՆԹԱՑԻԿ ԾԱԽՍԵՐ | G86: =G87 -> -964.5
F87: ՍՈՑԻԱԼԱԿԱՆ ՆՊԱՍՏՆԵՐ ԵՎ ԿԵՆՍԱԹՈՇԱԿՆԵՐ | G87: =G88 -> -964.5
F88: Սոցիալական օգնության դրամական արտահայտությամբ նպաստներ (բյուջեից) | G88: =G89 -> -964.5
F89: - Այլ նպաստներ բյուջեից | G89: ='Հավելված 4'!J128 -> -964.5
A90: 11 | F90: ՀԻՄՆԱԿԱՆ ԲԱԺԻՆՆԵՐԻՆ ՉԴԱՍՎՈՂ ՊԱՀՈՒՍՏԱՅԻՆ ՖՈՆԴԵՐ | G90: =G92 -> -311348.1
F91: այդ թվում`
B92: 01 | F92: ՀՀ կառավարության և համայնքների պահուստային ֆոնդ | G92: =G94 -> -311348.1
F93: այդ թվում`
C94: 01 | F94: ՀՀ կառավարության պահուստային ֆոնդ | G94: =G96 -> -311348.1
F95: այդ թվում`
D96: 1139 | F96: ՀՀ կառավարության պահուստային ֆոնդ | G96: =G98+G106+G114 -> -311348.1
F97: այդ թվում`
E98: 11001 | F98: ՀՀ կառավարության պահուստային ֆոնդ | G98: =G100 -> 311348.1
F99: այդ թվում` ըստ կատարողների
F100: ՀՀ կառավարություն | G100: =G102 -> 311348.1
...

Sheet Հավելված 3
I1: Հավելված N 3
I2: ՀՀ կառավարության 2025 թվականի
I3: ______________ ի ___Ն որոշման
A4: ՀԱՅԱՍՏԱՆԻ ՀԱՆՐԱՊԵՏՈՒԹՅԱՆ ԿԱՌԱՎԱՐՈՒԹՅԱՆ 2024 ԹՎԱԿԱՆԻ ԴԵԿՏԵՄԲԵՐԻ 27-Ի N 2060-Ն ՈՐՈՇՄԱՆ N 9 ՀԱՎԵԼՎԱԾՈՒՄ ԿԱՏԱՐՎՈՂ ՓՈՓՈԽՈՒԹՅՈՒՆՆԵՐԸ
A6: ԲԳԿ | B6: Ծրագիր | D6: Միջոցառում | H6: Իրականացնողը/ ակտիվն օգտագործողը/ շահառուի ընտրության չափորոշիչը | I6: Արդյունքային չափորոշիչը | J6: Ցուցանիշների փոփոխություն (ավելացումները նշված են դրական նշանով, իսկ նվազեցումները՝ փակագծերում)
B7: Դասիչը | C7: Անվանումը | D7: Դասիչը | E7: Անվանումը | F7: նկարագրությունը | G7: Տեսակը | J7: Տարի
A8: ԸՆԴԱՄԵՆԸ | J8: =J9+J22 -> 0
A9: ՀՀ կրթության , գիտության, մշակույթի և սպորտի նախարարություն | J9: =J10 -> 311348.1
B10: 1146 | C10: Հանրակրթության ծրագիր | J10: =J11 -> 311348.1
D11: 1146 - 12002 | E11: Հանրակրթական դպրոցների մանկավարժներին և դպրոցահասակ երեխաներին տրանսպորտային ծախսերի փոխհատուցում | J11: ='Հավելված 4'!J9+'Հավելված 4'!J22+'Հավելված 4'!J35+'Հավելված 4'!J48+'Հավելված 4'!J61+'Հավելված 4'!J74+'Հավելված 4'!J87+'Հավելված 4'!J100+'Հավելված 4'!J113+'Հավելված 4'!J126+'Հավելված 4'!J139 -> 311348.1
F12: Հանրակրթական դպրոցների մանկավարժներին և դպրոցահասակ երեխաներին տրանսպորտային ծախսերի փոխհատուցման ապահովում
G13: Տրանսֆերտների տրամադրում
H14: Շահառուների ընտրության չափորոշիչները` Շահառուների ընտրության չափորոշիչները սահմանված են ԿԳՄՍ նախարարի հրամանով
I15: Հանրակրթական դպրոցների թիվը, հատ | J15: ='Հավելված 4'!J145+'Հավելված 4'!J132+'Հավելված 4'!J119+'Հավելված 4'!J106+'Հավելված 4'!J93+'Հավելված 4'!J80+'Հավելված 4'!J67+'Հավելված 4'!J54+'Հավելված 4'!J41+'Հավելված 4'!J28+'Հավելված 4'!J15 -> -5
I16: Տրանսպորտային ծախսերի փոխհատուցում ստացող դպրոցահասակ երեխաների թիվը /մարդ/, որից՛ | J16: ='Հավելված 4'!J146+'Հավելված 4'!J133+'Հավելված 4'!J120+'Հավելված 4'!J107+'Հավելված 4'!J94+'Հավելված 4'!J81+'Հավելված 4'!J68+'Հավելված 4'!J55+'Հավելված 4'!J42+'Հավելված 4'!J29+'Հավելված 4'!J16 -> 6061
I17: տղա | J17: ='Հավելված 4'!J147+'Հավելված 4'!J134+'Հավելված 4'!J121+'Հավելված 4'!J108+'Հավելված 4'!J95+'Հավելված 4'!J82+'Հավելված 4'!J69+'Հավելված 4'!J56+'Հավելված 4'!J43+'Հավելված 4'!J30+'Հավելված 4'!J17 -> 2745
I18: աղջիկ | J18: ='Հավելված 4'!J148+'Հավելված 4'!J135+'Հավելված 4'!J122+'Հավելված 4'!J109+'Հավելված 4'!J96+'Հավելված 4'!J83+'Հավելված 4'!J70+'Հավելված 4'!J57+'Հավելված 4'!J44+'Հավելված 4'!J31+'Հավելված 4'!J18 -> 3316
I19: Տրանսպորտային ծախսերի փոխհատուցում ստացող մանկավարժների թիվը /մարդ/, որից՛ | J19: ='Հավելված 4'!J149+'Հավելված 4'!J136+'Հավելված 4'!J123+'Հավելված 4'!J110+'Հավելված 4'!J97+'Հավելված 4'!J84+'Հավելված 4'!J71+'Հավելված 4'!J58+'Հավելված 4'!J45+'Հավելված 4'!J32+'Հավելված 4'!J19 -> 1328
I20: տղամարդ | J20: ='Հավելված 4'!J150+'Հավելված 4'!J137+'Հավելված 4'!J124+'Հավելված 4'!J111+'Հավելված 4'!J98+'Հավելված 4'!J85+'Հավելված 4'!J72+'Հավելված 4'!J59+'Հավելված 4'!J46+'Հավելված 4'!J33+'Հավելված 4'!J20 -> -390
I21: կին | J21: ='Հավելված 4'!J151+'Հավելված 4'!J138+'Հավելված 4'!J125+'Հավելված 4'!J112+'Հավելված 4'!J99+'Հավելված 4'!J86+'Հավելված 4'!J73+'Հավելված 4'!J60+'Հավելված 4'!J47+'Հավելված 4'!J34+'Հավելված 4'!J21 -> 1718
A22: ՀՀ կառավարություն | J22: =J23 -> -311348.1
B23: 1139 | C23: ՀՀ կառավարության պահուստային ֆոնդ | J23: =J24+J28+J32 -> -311348.1
D24: 1139 - 11001 | E24: ՀՀ կառավարության պահուստային ֆոնդ | J24: ='Հավելված 4'!J154 -> 311348.1
F25: ՀՀ պետական բյուջեում նախատեսված ելքերի լրացուցիչ ֆինանսավորման, պետական բյուջեում չկանխատեսված ելքերի, ինչպես նաև բյուջետային երաշխիքների ապահովման ելքերի ֆինանսավորման ապահովում
G26: Ծառայությունների մատուցում
H27: Ծառայությունը մատուցողի անվանումը` ՀՀ կառավարություն
D28: 1139 - 11001 | E28: ՀՀ կառավարության պահուստային ֆոնդ | J28: ='Հավելված 4'!J158 -> -311348.1
F29: ՀՀ պետական բյուջեում նախատեսված ելքերի լրացուցիչ ֆինանսավորման, պետական բյուջեում չկանխատեսված ելքերի, ինչպես նաև բյուջետային երաշխիքների ապահովման ելքերի ֆինանսավորման ապահովում
G30: Ծառայությունների մատուցում
H31: Ծառայությունը մատուցողի անվանումը` ՀՀ կառավարություն
D32: 1139 - 11003 | E32: Հարկաբյուջետային ռիսկերի կառավարման պահուստ | J32: ='Հավելված 4'!J162 -> -311348.1
F33: Հարկաբյուջետային ռիսկերի կառավարման նպատակով նախատեսված միջոցներ
G34: Ծառայությունների մատուցում
H35: Ծառայությունը մատուցողի անվանումը` ՀՀ կառավարություն

Sheet Հավելված 4
I1: Հավելված N 4
I2: ՀՀ կառավարության 2025 թվականի
I3: ______________ ի ___Ն որոշման
A4: ՀԱՅԱՍՏԱՆԻ ՀԱՆՐԱՊԵՏՈՒԹՅԱՆ ԿԱՌԱՎԱՐՈՒԹՅԱՆ 2024 ԹՎԱԿԱՆԻ ԴԵԿՏԵՄԲԵՐԻ 27-Ի N 2060-Ն ՈՐՈՇՄԱՆ N 9.1 ՀԱՎԵԼՎԱԾՈՒՄ ԿԱՏԱՐՎՈՂ ՓՈՓՈԽՈՒԹՅՈՒՆՆԵՐԸ
J5: հազար դրամներով
A6: ԲՍԿ | B6: Ծրագիր | D6: Միջոցառում | H6: Իրականացնողը/ ակտիվն օգտագործողը/ շահառուի ընտրության չափորոշիչը | I6: Արդյունքային չափորոշիչը | J6: Ցուցանիշների փոփոխություն (ավելացումները նշված են դրական նշանով, իսկ նվազեցումները՝ փակագծերում)
B7: Դասիչը | C7: Անվանումը | D7: Դասիչը | E7: Անվանումը | F7: Նկարագրությունը | G7: Տեսակը | J7: Տարի
A8: ԸՆԴԱՄԵՆԸ | J8: =J9+J22+J35+J48+J61+J74+J87+J100+J113+J126+J139+J152 -> 0
A9: ՀՀ կրթության, գիտության, մշակույթի և սպորտի նախարարություն | J9: =J10 -> 1562.4
B10: 1146 | C10: Հանրակրթության ծրագիր | J10: =J11 -> 1562.4
D11: 1146 - 12002 | E11: Հանրակրթական դպրոցների մանկավարժներին և դպրոցահասակ երեխաներին տրանսպորտային ծախսերի փոխհատուցում | J11: 1562.4
F12: Հանրակրթական դպրոցների մանկավարժներին և դպրոցահասակ երեխաներին տրանսպորտային ծախսերի փոխհատուցման ապահովում
G13: Տրանսֆերտների տրամադրում
H14: Շահառուների ընտրության չափորոշիչները` Շահառուների ընտրության չափորոշիչները սահմանված են ԿԳՄՍ նախարարի հրամանով
I15: Հանրակրթական դպրոցների թիվը, հատ | J15: -7
I16: Տրանսպորտային ծախսերի փոխհատուցում ստացող դպրոցահասակ երեխաների թիվը /մարդ/, որից՛ | J16: -179
I17: տղա | J17: -105
I18: աղջիկ | J18: -74
I19: Տրանսպորտային ծախսերի փոխհատուցում ստացող մանկավարժների թիվը /մարդ/, որից՛ | J19: -30
I20: տղամարդ | J20: -15
I21: կին | J21: -15
A22: ՀՀ Արագածոտնի մարզպետի աշխատակազմ | J22: =J23 -> 25680.5
B23: 1146 | C23: Հանրակրթության ծրագիր | J23: =J24 -> 25680.5
D24: 1146 - 12002 | E24: Հանրակրթական դպրոցների մանկավարժներին և դպրոցահասակ երեխաներին տրանսպորտային ծախսերի փոխհատուցում | J24: 25680.5
F25: Հանրակրթական դպրոցների մանկավարժներին և դպրոցահասակ երեխաներին տրանսպորտային ծախսերի փոխհատուցման ապահովում
G26: Տրանսֆերտների տրամադրում
H27: Շահառուների ընտրության չափորոշիչները` Շահառուների ընտրության չափորոշիչները սահմանված են ԿԳՄՍ նախարարի հրամանով
I28: Հանրակրթական դպրոցների թիվը, հատ | J28: 1
I29: Տրանսպորտային ծախսերի փոխհատուցում ստացող դպրոցահասակ երեխաների թիվը /մարդ/, որից՛ | J29: 843
I30: տղա | J30: 231
I31: աղջիկ | J31: 612
I32: Տրանսպորտային ծախսերի փոխհատուցում ստացող մանկավարժների թիվը /մարդ/, որից՛ | J32: 6
I33: տղամարդ | J33: 3
I34: կին | J34: 3
A35: ՀՀ Արարատի մարզպետի աշխատակազմ | J35: =J36 -> 64665.6
B36: 1146 | C36: Հանրակրթության ծրագիր | J36: =J37 -> 64665.6
D37: 1146 - 12002 | E37: Հանրակրթական դպրոցների մանկավարժներին և դպրոցահասակ երեխաներին տրանսպորտային ծախսերի փոխհատուցում | J37: 64665.6
F38: Հանրակրթական դպրոցների մանկավարժներին և դպրոցահասակ երեխաներին տրանսպորտային ծախսերի փոխհատուցման ապահովում
G39: Տրանսֆերտների տրամադրում
H40: Շահառուների ընտրության չափորոշիչները` Շահառուների ընտրության չափորոշիչները սահմանված են ԿԳՄՍ նախարարի հրամանով
I41: Հանրակրթական դպրոցների թիվը, հատ | J41: -4
I42: Տրանսպորտային ծախսերի փոխհատուցում ստացող դպրոցահասակ երեխաների թիվը /մարդ/, որից՛ | J42: 1108
I43: տղա | J43: 586
I44: աղջիկ | J44: 522
I45: Տրանսպորտային ծախսերի փոխհատուցում ստացող մանկավարժների թիվը /մարդ/, որից՛ | J45: 194
I46: տղամարդ | J46: 27
I47: կին | J47: 167
A48: ՀՀ Արմավիրի մարզպետի աշխատակազմ | J48: =J49 -> 65540.6
B49: 1146 | C49: Հանրակրթության ծրագիր | J49: =J50 -> 65540.6
D50: 1146 - 12002 | E50: Հանրակրթական դպրոցների մանկավարժներին և դպրոցահասակ երեխաներին տրանսպորտային ծախսերի փոխհատուցում | J50: 65540.6
F51: Հանրակրթական դպրոցների մանկավարժներին և դպրոցահասակ երեխաներին տրանսպորտային ծախսերի փոխհատուցման ապահովում
G52: Տրանսֆերտների տրամադրում
H53: Շահառուների ընտրության չափորոշիչները` Շահառուների ընտրության չափորոշիչները սահմանված են ԿԳՄՍ նախարարի հրամանով
I54: Հանրակրթական դպրոցների թիվը, հատ
I55: Տրանսպորտային ծախսերի փոխհատուցում ստացող դպրոցահասակ երեխաների թիվը /մարդ/, որից՛ | J55: 2534
I56: տղա | J56: 1096
I57: աղջիկ | J57: 1438
I58: Տրանսպորտային ծախսերի փոխհատուցում ստացող մանկավարժների թիվը /մարդ/, որից՛ | J58: 356
I59: տղամարդ | J59: 24
I60: կին | J60: 332
A61: ՀՀ Գեղարքունիքի մարզպետի աշխատակազմ | J61: =J62 -> 11758.5
B62: 1146 | C62: Հանրակրթության ծրագիր | J62: =J63 -> 11758.5
D63: 1146 - 12002 | E63: Հանրակրթական դպրոցների մանկավարժներին և դպրոցահասակ երեխաներին տրանսպորտային ծախսերի փոխհատուցում | J63: 11758.5
F64: Հանրակրթական դպրոցների մանկավարժներին և դպրոցահասակ երեխաներին տրանսպորտային ծախսերի փոխհատուցման ապահովում
G65: Տրանսֆերտների տրամադրում
H66: Շահառուների ընտրության չափորոշիչները` Շահառուների ընտրության չափորոշիչները սահմանված են ԿԳՄՍ նախարարի հրամանով
I67: Հանրակրթական դպրոցների թիվը, հատ | J67: 4
I68: Տրանսպորտային ծախսերի փոխհատուցում ստացող դպրոցահասակ երեխաների թիվը /մարդ/, որից՛ | J68: 13
I69: տղա | J69: 9
I70: աղջիկ | J70: 4
I71: Տրանսպորտային ծախսերի փոխհատուցում ստացող մանկավարժների թիվը /մարդ/, որից՛ | J71: 168
I72: տղամարդ | J72: 14
I73: կին | J73: 154
A74: ՀՀ Լոռու մարզպետի աշխատակազմ | J74: =J75 -> 6707.4
B75: 1146 | C75: Հանրակրթության ծրագիր | J75: =J76 -> 6707.4
D76: 1146 - 12002 | E76: Հանրակրթական դպրոցների մանկավարժներին և դպրոցահասակ երեխաներին տրանսպորտային ծախսերի փոխհատուցում | J76: 6707.4
F77: Հանրակրթական դպրոցների մանկավարժներին և դպրոցահասակ երեխաներին տրանսպորտային ծախսերի փոխհատուցման ապահովում
G78: Տրանսֆերտների տրամադրում
H79: Շահառուների ընտրության չափորոշիչները` Շահառուների ընտրության չափորոշիչները սահմանված են ԿԳՄՍ նախարարի հրամանով
I80: Հանրակրթական դպրոցների թիվը, հատ | J80: 3
I81: Տրանսպորտային ծախսերի փոխհատուցում ստացող դպրոցահասակ երեխաների թիվը /մարդ/, որից՛ | J81: -18
I82: տղա | J82: -30
I83: աղջիկ | J83: 12
I84: Տրանսպորտային ծախսերի փոխհատուցում ստացող մանկավարժների թիվը /մարդ/, որից՛ | J84: 124
I85: տղամարդ | J85: 10
I86: կին | J86: 114
A87: ՀՀ Կոտայքի մարզպետի աշխատակազմ | J87: =J88 -> 104889.3
B88: 1146 | C88: Հանրակրթության ծրագիր | J88: =J89 -> 104889.3
D89: 1146 - 12002 | E89: Հանրակրթական դպրոցների մանկավարժներին և դպրոցահասակ երեխաներին տրանսպորտային ծախսերի փոխհատուցում | J89: 104889.3
F90: Հանրակրթական դպրոցների մանկավարժներին և դպրոցահասակ երեխաներին տրանսպորտային ծախսերի փոխհատուցման ապահովում
G91: Տրանսֆերտների տրամադրում
H92: Շահառուների ընտրության չափորոշիչները` Շահառուների ընտրության չափորոշիչները սահմանված են ԿԳՄՍ նախարարի հրամանով
I93: Հանրակրթական դպրոցների թիվը, հատ | J93: -2
I94: Տրանսպորտային ծախսերի փոխհատուցում ստացող դպրոցահասակ երեխաների թիվը /մարդ/, որից՛ | J94: =J95+J96 -> 1826
I95: տղա | J95: 1010
I96: աղջիկ | J96: 816
I97: Տրանսպորտային ծախսերի փոխհատուցում ստացող մանկավարժների թիվը /մարդ/, որից՛ | J97: =J98+J99 -> 125
I98: տղամարդ | J98: -597
I99: կին | J99: 722
A100: ՀՀ Շիրակի մարզպետի աշխատակազմ | J100: =J101 -> 12586.5
...

Sheet Հավելված 5
F1: Հավելված N 5
F2: ՀՀ կառավարության 2025 թվականի
F3: ______________ ի ___Ն որոշման
A4: ՀԱՅԱՍՏԱՆԻ ՀԱՆՐԱՊԵՏՈՒԹՅԱՆ 2025 ԹՎԱԿԱՆԻ ՊԵՏԱԿԱՆ ԲՅՈՒՋԵՈՎ ՆԱԽԱՏԵՍՎԱԾ՝ ՀԱՅԱՍՏԱՆԻ ՀԱՆՐԱՊԵՏՈՒԹՅԱՆ ԿԱՌԱՎԱՐՈՒԹՅԱՆ ՊԱՀՈՒՍՏԱՅԻՆ ՖՈՆԴԻՑ ՀԱՏԿԱՑՈՒՄՆԵՐ ԿԱՏԱՐԵԼՈՒ ՎԵՐԱԲԵՐՅԱԼ
F5: հազար դրամներով
A6: Գործառական դասիչը | D6: Ծրագրային դասիչը | F6: Բյուջետային ծախսերի գործառական դասակարգման բաժինների, խմբերի և դասերի, բյուջետային ծրագրերի միջոցառումների, բյուջետային հատկացումների գլխավոր կարգադրիչների անվանումները | G6: Ցուցանիշների փոփոխություն (ավելացումները նշված են դրական նշանով, իսկ նվազեցումները՝ փակագծերում)
A7: Բաժին | B7: Խումբ | C7: Դաս | D7: Ծրագիր | E7: Միջոցառում | G7: Տարի
F8: ԸՆԴԱՄԵՆԸ | G8: =G10+G85 -> 0
F9: այդ թվում`
F10: ՀՀ կրթության, գիտության, մշակույթի և սպորտի նախարարություն | G10: =G12 -> 311348.1
F11: այդ թվում`
A12: 09 | F12: ԿՐԹՈՒԹՅՈՒՆ | G12: =G14 -> 311348.1
F13: այդ թվում`
B14: 06 | F14: Կրթությանը տրամադրվող օժանդակ ծառայություններ | G14: =G16 -> 311348.1
F15: այդ թվում`
C16: 01 | F16: Կրթությանը տրամադրվող օժանդակ ծառայություններ | G16: =G18 -> 311348.1
F17: այդ թվում`
D18: 1146 | F18: Հանրակրթության ծրագիր | G18: =G20 -> 311348.1
F19: այդ թվում`
E20: 12002 | F20: Հանրակրթական դպրոցների մանկավարժներին և դպրոցահասակ երեխաներին տրանսպորտային ծախսերի փոխհատուցում | G20: =G22+G29+G36+G43+G50+G57+G64+G71+G78 -> 311348.1
F21: այդ թվում` ըստ կատարողների
F22: ՀՀ կրթության , գիտության, մշակույթի և սպորտի նախարարություն | G22: =G24 -> 597.9
F23: այդ թվում` բյուջետային ծախսերի տնտեսագիտական դասակարգման հոդվածներ
F24: ԸՆԴԱՄԵՆԸ ԾԱԽՍԵՐ | G24: =G25 -> 597.9
F25: ԸՆԹԱՑԻԿ ԾԱԽՍԵՐ | G25: =G26 -> 597.9
F26: ՍՈՑԻԱԼԱԿԱՆ ՆՊԱՍՏՆԵՐ ԵՎ ԿԵՆՍԱԹՈՇԱԿՆԵՐ | G26: =G27 -> 597.9
F27: Սոցիալական օգնության դրամական արտահայտությամբ նպաստներ (բյուջեից) | G27: =G28 -> 597.9
F28: - Այլ նպաստներ բյուջեից | G28: ='Հավելված 4'!J11-964.5 -> 597.9
F29: ՀՀ Արագածոտնի մարզպետի աշխատակազմ | G29: =G31 -> 25680.5
F30: այդ թվում` բյուջետային ծախսերի տնտեսագիտական դասակարգման հոդվածներ
F31: ԸՆԴԱՄԵՆԸ ԾԱԽՍԵՐ | G31: =G32 -> 25680.5
F32: ԸՆԹԱՑԻԿ ԾԱԽՍԵՐ | G32: =G33 -> 25680.5
F33: ՍՈՑԻԱԼԱԿԱՆ ՆՊԱՍՏՆԵՐ ԵՎ ԿԵՆՍԱԹՈՇԱԿՆԵՐ | G33: =G34 -> 25680.5
F34: Սոցիալական օգնության դրամական արտահայտությամբ նպաստներ (բյուջեից) | G34: =G35 -> 25680.5
F35: - Այլ նպաստներ բյուջեից | G35: ='Հավելված 4'!J24 -> 25680.5
F36: ՀՀ Արարատի մարզպետի աշխատակազմ | G36: =G38 -> 64665.6
F37: այդ թվում` բյուջետային ծախսերի տնտեսագիտական դասակարգման հոդվածներ
F38: ԸՆԴԱՄԵՆԸ ԾԱԽՍԵՐ | G38: =G39 -> 64665.6
F39: ԸՆԹԱՑԻԿ ԾԱԽՍԵՐ | G39: =G40 -> 64665.6
F40: ՍՈՑԻԱԼԱԿԱՆ ՆՊԱՍՏՆԵՐ ԵՎ ԿԵՆՍԱԹՈՇԱԿՆԵՐ | G40: =G41 -> 64665.6
F41: Սոցիալական օգնության դրամական արտահայտությամբ նպաստներ (բյուջեից) | G41: =G42 -> 64665.6
F42: - Այլ նպաստներ բյուջեից | G42: ='Հավելված 4'!J37 -> 64665.6
F43: ՀՀ Արմավիրի մարզպետի աշխատակազմ | G43: =G45 -> 65540.6
F44: այդ թվում` բյուջետային ծախսերի տնտեսագիտական դասակարգման հոդվածներ
F45: ԸՆԴԱՄԵՆԸ ԾԱԽՍԵՐ | G45: =G46 -> 65540.6
F46: ԸՆԹԱՑԻԿ ԾԱԽՍԵՐ | G46: =G47 -> 65540.6
F47: ՍՈՑԻԱԼԱԿԱՆ ՆՊԱՍՏՆԵՐ ԵՎ ԿԵՆՍԱԹՈՇԱԿՆԵՐ | G47: =G48 -> 65540.6
F48: Սոցիալական օգնության դրամական արտահայտությամբ նպաստներ (բյուջեից) | G48: =G49 -> 65540.6
F49: - Այլ նպաստներ բյուջեից | G49: ='Հավելված 4'!J50 -> 65540.6
F50: ՀՀ Գեղարքունիքի մարզպետի աշխատակազմ | G50: =G52 -> 11758.5
F51: այդ թվում` բյուջետային ծախսերի տնտեսագիտական դասակարգման հոդվածներ
F52: ԸՆԴԱՄԵՆԸ ԾԱԽՍԵՐ | G52: =G53 -> 11758.5
F53: ԸՆԹԱՑԻԿ ԾԱԽՍԵՐ | G53: =G54 -> 11758.5
F54: ՍՈՑԻԱԼԱԿԱՆ ՆՊԱՍՏՆԵՐ ԵՎ ԿԵՆՍԱԹՈՇԱԿՆԵՐ | G54: =G55 -> 11758.5
F55: Սոցիալական օգնության դրամական արտահայտությամբ նպաստներ (բյուջեից) | G55: =G56 -> 11758.5
F56: - Այլ նպաստներ բյուջեից | G56: ='Հավելված 4'!J63 -> 11758.5
F57: ՀՀ Լոռու մարզպետի աշխատակազմ | G57: =G59 -> 6707.4
F58: այդ թվում` բյուջետային ծախսերի տնտեսագիտական դասակարգման հոդվածներ
F59: ԸՆԴԱՄԵՆԸ ԾԱԽՍԵՐ | G59: =G60 -> 6707.4
F60: ԸՆԹԱՑԻԿ ԾԱԽՍԵՐ | G60: =G61 -> 6707.4
F61: ՍՈՑԻԱԼԱԿԱՆ ՆՊԱՍՏՆԵՐ ԵՎ ԿԵՆՍԱԹՈՇԱԿՆԵՐ | G61: =G62 -> 6707.4
F62: Սոցիալական օգնության դրամական արտահայտությամբ նպաստներ (բյուջեից) | G62: =G63 -> 6707.4
F63: - Այլ նպաստներ բյուջեից | G63: ='Հավելված 4'!J76 -> 6707.4
F64: ՀՀ Կոտայքի մարզպետի աշխատակազմ | G64: =G66 -> 104889.3
F65: այդ թվում` բյուջետային ծախսերի տնտեսագիտական դասակարգման հոդվածներ
F66: ԸՆԴԱՄԵՆԸ ԾԱԽՍԵՐ | G66: =G67 -> 104889.3
F67: ԸՆԹԱՑԻԿ ԾԱԽՍԵՐ | G67: =G68 -> 104889.3
F68: ՍՈՑԻԱԼԱԿԱՆ ՆՊԱՍՏՆԵՐ ԵՎ ԿԵՆՍԱԹՈՇԱԿՆԵՐ | G68: =G69 -> 104889.3
F69: Սոցիալական օգնության դրամական արտահայտությամբ նպաստներ (բյուջեից) | G69: =G70 -> 104889.3
F70: - Այլ նպաստներ բյուջեից | G70: ='Հավելված 4'!J89 -> 104889.3
F71: ՀՀ Շիրակի մարզպետի աշխատակազմ | G71: =G73 -> 12586.5
F72: այդ թվում` բյուջետային ծախսերի տնտեսագիտական դասակարգման հոդվածներ
F73: ԸՆԴԱՄԵՆԸ ԾԱԽՍԵՐ | G73: =G74 -> 12586.5
F74: ԸՆԹԱՑԻԿ ԾԱԽՍԵՐ | G74: =G75 -> 12586.5
F75: ՍՈՑԻԱԼԱԿԱՆ ՆՊԱՍՏՆԵՐ ԵՎ ԿԵՆՍԱԹՈՇԱԿՆԵՐ | G75: =G76 -> 12586.5
F76: Սոցիալական օգնության դրամական արտահայտությամբ նպաստներ (բյուջեից) | G76: =G77 -> 12586.5
F77: - Այլ նպաստներ բյուջեից | G77: ='Հավելված 4'!J102 -> 12586.5
F78: ՀՀ Սյունիքի մարզպետի աշխատակազմ | G78: =G80 -> 18921.8
F79: այդ թվում` բյուջետային ծախսերի տնտեսագիտական դասակարգման հոդվածներ
F80: ԸՆԴԱՄԵՆԸ ԾԱԽՍԵՐ | G80: =G81 -> 18921.8
F81: ԸՆԹԱՑԻԿ ԾԱԽՍԵՐ | G81: =G82 -> 18921.8
F82: ՍՈՑԻԱԼԱԿԱՆ ՆՊԱՍՏՆԵՐ ԵՎ ԿԵՆՍԱԹՈՇԱԿՆԵՐ | G82: =G83 -> 18921.8
F83: Սոցիալական օգնության դրամական արտահայտությամբ նպաստներ (բյուջեից) | G83: =G84 -> 18921.8
F84: - Այլ նպաստներ բյուջեից | G84: ='Հավելված 4'!J115 -> 18921.8
F85: ՀՀ կառավարություն | G85: =G86 -> -311348.1
A86: 11 | F86: ՀԻՄՆԱԿԱՆ ԲԱԺԻՆՆԵՐԻՆ ՉԴԱՍՎՈՂ ՊԱՀՈՒՍՏԱՅԻՆ ՖՈՆԴԵՐ | G86: =G88 -> -311348.1
F87: այդ թվում`
B88: 01 | F88: ՀՀ կառավարության և համայնքների պահուստային ֆոնդ | G88: =G90 -> -311348.1
F89: այդ թվում`
C90: 01 | F90: ՀՀ կառավարության պահուստային ֆոնդ | G90: =G92 -> -311348.1
F91: այդ թվում`
F92: ՀՀ կառավարություն | G92: =G94 -> -311348.1
F93: այդ թվում`
D94: 1139 | F94: ՀՀ կառավարության պահուստային ֆոնդ | G94: =G96+G104+G112 -> -311348.1
F95: այդ թվում`
E96: 11001 | F96: ՀՀ կառավարության պահուստային ֆոնդ | G96: =G98 -> 311348.1
F97: այդ թվում` ըստ կատարողների
F98: ՀՀ կառավարություն | G98: =G100 -> 311348.1
F99: այդ թվում` բյուջետային ծախսերի տնտեսագիտական դասակարգման հոդվածներ
F100: ԸՆԴԱՄԵՆԸ ԾԱԽՍԵՐ | G100: =G101 -> 311348.1
...
