Workbook

Sheet 1
A1: Հավելված N 1
A2: ՀՀ կառավարության 2025 թվականի
A3: ______________ ի ___Ն որոշման
B4: ՀԱՅԱՍՏԱՆԻ ՀԱՆՐԱՊԵՏՈՒԹՅԱՆ 2025 ԹՎԱԿԱՆԻ ՊԵՏԱԿԱՆ ԲՅՈՒՋԵԻ ՄԱՍԻՆ» ՕՐԵՆՔԻ N 1 ՀԱՎԵԼՎԱԾԻ N 2 ԱՂՅՈՒՍԱԿՈՒՄ ԿԱՏԱՐՎՈՂ ՎԵՐԱԲԱՇԽՈՒՄԸ ԵՎ ՀԱՅԱՍՏԱՆԻ ՀԱՆՐԱՊԵՏՈՒԹՅԱՆ ԿԱՌԱՎԱՐՈՒԹՅԱՆ 2024 ԹՎԱԿԱՆԻ ԴԵԿՏԵՄԲԵՐԻ 27-Ի N 2060-Ն ՈՐՈՇՄԱՆ N 5 ՀԱՎԵԼՎԱԾԻ N 1 ԱՂՅՈՒՍԱԿՈՒՄ ԿԱՏԱՐՎՈՂ ՓՈՓՈԽՈՒԹՅՈՒՆՆԵՐԸ ԵՎ ԼՐԱՑՈՒՄՆԵՐԸ
H5: հազար դրամներով
B6: ԲԳԿ | C6: Ծրագրային դասիչը | E6: ԲԳԿ/Ծրագրի /միջոցառման անվանումը | F6: Ծրագրի նպատակը/Միջոցառման նկարագրությունը | G6: Վերջնական արդյունքի նկարագրությունը/Միջոցառման տեսակը | H6: Ցուցանիշների փոփոխությունը (ավելացումները նշված են դրական նշանով, իսկ նվազեցումները` փակագծերում)
C7: Ծրագիր | D7: Միջոցառում | H7: Տարի
B8: ԸՆԴԱՄԵՆԸ | H8: =H9+H17 -> 0
B9: ՀՀ տարածքային կառավարման և ենթակառուցվածքների նախարարություն | H9: =H10+H15 -> 12045691
C10: 1049 | E10: Ճանապարհային ցանցի բարելավում | F10: Ճանապարհային ցանցի բարելավում և անվտանգ երթևեկության ապահովում | G10: Ճանապարհների ծածկի որակի և փոխադրումների արդյունավետության բարելավում, ճանապարհների վիճակով պայմանավորված պատահարների նվազում | H10: 0
D11: 1049 - 11012 | E11: Եվրասիական զարգացման բանկի աջակցությամբ իրականացվող Հյուսիս-հարավ միջանցքի զարգացման ծրագրի համակարգում և կառավարում | F11: Խորհրդատվական ծառայություններ և պահպանման ծախսեր | G11: Ծառայությունների մատուցում | H11: -287000
D12: 1049 - 11017 | E12: Հյուսիս-հարավ ճանապարհային միջանցքի զարգացման ծրագրի Քաջարանի թունելի և մոտեցումների համակարգում և կառավարում | F12: Խորհրդատվական ծառայություններ և պահպանման ծախսեր | G12: Ծառայությունների մատուցում | H12: -37356.7
D13: 1049 - 21006 | E13: Ասիական զարգացման բանկի աջակցությամբ իրականացվող Հյուսիս-հարավ միջանցքի զարգացման վարկային ծրագիր, Տրանշ 2 | F13: Աշտարակ-Թալին 29+600կմ-71+500կմ հատվածի կառուցում | G13: Հանրության կողմից անմիջականորեն օգտագործվող ակտիվների հետ կապված միջոցառումներ | H13: 422000
D14: 1049 - 21011 | E14: Ասիական զարգացման բանկի աջակցությամբ իրականացվող Հյուսիս-հարավ միջանցքի զարգացման վարկային ծրագիր, Տրանշ 3 | F14: Հատված Թալին-Լանջիկ 71+500 կմ-90+200 կմ կառուցման շինարարական աշխատանքներ | G14: Հանրության կողմից անմիջականորեն օգտագործվող ակտիվների հետ կապված միջոցառումներ | H14: -97643.3
C15: 1212 | E15: Տարածքային զարգացում | F15: Տարածքային համաչափ զարգացման խթանում | G15: ՀՀ համայնքների կառավարման արդյունավետության բարձրացում և տնտեսական գործունեության խթանում | H15: =H16 -> 12045691
D16: 1212-12007 | E16: ՀՀ մարզերին սուբվենցիաների տրամադրում՝ ենթակառուցվածքների զարգացման նպատակով | F16: ՀՀ մարզերին սուբվենցիաների տրամադրում՝ ենթակառուցվածքների զարգացման նպատակով | G16: Տրանսֆերտների տրամադրում | H16: ='2'!H24 -> 12045691
B17: ՀՀ կառավարություն | H17: =H18 -> -12045691
C18: 1139 | E18: ՀՀ կառավարության պահուստային ֆոնդ | F18: Պետական բյուջեում չկանխատեսված, ինչպես նաեւ բյուջետային երաշխիքների ապահովման ծախսերի ֆինանսավորման ապահովում | G18: Պահուստային ֆոնդի կառավարման արդյունավետության և թափանցիկության ապահովում | H18: =H19+H20+H21 -> -12045691
D19: 1139 - 11001 | E19: ՀՀ կառավարության պահուստային ֆոնդ | F19: ՀՀ պետական բյուջեում նախատեսված ելքերի լրացուցիչ ֆինանսավորման, պետական բյուջեում չկանխատեսված ելքերի, ինչպես նաև բյուջետային երաշխիքների ապահովման ելքերի ֆինանսավորման ապահովում | G19: Ծառայությունների մատուցում | H19: =-H20 -> 12045691
D20: 1139 - 11001 | E20: ՀՀ կառավարության պահուստային ֆոնդ | F20: ՀՀ պետական բյուջեում նախատեսված ելքերի լրացուցիչ ֆինանսավորման, պետական բյուջեում չկանխատեսված ելքերի, ինչպես նաև բյուջետային երաշխիքների ապահովման ելքերի ֆինանսավորման ապահովում | G20: Ծառայությունների մատուցում | H20: =H21 -> -12045691
D21: 1139 - 11003 | E21: Հարկաբյուջետային ռիսկերի կառավարման պահուստ | F21: Հարկաբյուջետային ռիսկերի կառավարման նպատակով նախատեսված միջոցներ | G21: Ծառայությունների մատուցում | H21: =-'2'!H24 -> -12045691
D23: ՀԱՅԱՍՏԱՆԻ ՀԱՆՐԱՊԵՏՈՒԹՅԱՆ ՎԱՐՉԱՊԵՏԻ ԱՇԽԱՏԱԿԱԶՄԻ ՂԵԿԱՎԱՐ՝ | F23: Ա.ՀԱՐՈՒԹՅՈՒՆՅԱՆ

Sheet 2
H1: Հավելված N2
H2: ՀՀ կառավարության 2025 թվականի
H3: ______________ ի ___Ն որոշման
B5: ՀԱՅԱՍՏԱՆԻ ՀԱՆՐԱՊԵՏՈՒԹՅԱՆ ԿԱՌԱՎԱՐՈՒԹՅԱՆ 2024 ԹՎԱԿԱՆԻ ԴԵԿՏԵՄԲԵՐԻ 27-Ի N 2060-Ն ՈՐՈՇՄԱՆ NN 3 ԵՎ 4 ՀԱՎԵԼՎԱԾՆԵՐՈՒՄ ԿԱՏԱՐՎՈՂ ՓՈՓՈԽՈՒԹՅՈՒՆՆԵՐԸ ԵՎ ԼՐԱՑՈՒՄՆԵՐԸ
H7: հազար դրամներով
B8: Գործառական դասիչը | E8: Ծրագրային դասիչը | G8: Բյուջետային հատկացումների գլխավոր կարգադրիչների, ծրագրերի, միջոցառումների և միջոցառումները կատարող պետական մարմինների անվանումները | H8: Ցուցանիշների փոփոխությունը (ավելացումները նշված են դրական նշանով, իսկ նվազեցումները` փակագծերում)
B9: Բաժին | C9: Խումբ | D9: Դաս | E9: Ծրագիր | F9: Միջոցառում | H9: Տարի
G10: ԸՆԴԱՄԵՆԸ | H10: =H12+H144 -> 0
G11: այդ թվում`
G12: ՀՀ տարածքային կառավարման և ենթակառուցվածքների նախարարություն | H12: =H14+H96 -> 12045691
G13: այդ թվում`
B14: 01 | G14: ԸՆԴՀԱՆՈՒՐ ԲՆՈՒՅԹԻ ՀԱՆՐԱՅԻՆ ԾԱՌԱՅՈՒԹՅՈՒՆՆԵՐ | H14: =H16 -> 12045691
G15: այդ թվում`
C16: 08 | G16: Կառավարության տարբեր մակարդակների միջև իրականացվող ընդհանուր բնույթի տրանսֆերտներ | H16: =H18 -> 12045691
G17: այդ թվում`
D18: 01 | G18: Կառավարության տարբեր մակարդակների միջև իրականացվող ընդհանուր բնույթի տրանսֆերտներ | H18: =H20 -> 12045691
G19: այդ թվում`
G20: ՀՀ տարածքային կառավարման և ենթակառուցվածքների նախարարություն | H20: =H22 -> 12045691
G21: այդ թվում`
E22: 1212 | G22: Տարածքային զարգացում | H22: =H24 -> 12045691
G23: այդ թվում
F24: 12007 | G24: ՀՀ մարզերին սուբվենցիաների տրամադրում` ենթակառուցվածքների զարգացման նպատակով | H24: =H26+H33+H40+H47+H54+H61+H68+H75+H82+H89 -> 12045691
G25: այդ թվում` ըստ կատարողների
G26: ՀՀ Արագածոտնի մարզպետի աշխատակազմ | H26: =H28 -> 1423953.4
G27: այդ թվում` բյուջետային ծախսերի տնտեսագիտական դասակարգման հոդվածներ
G28: ԸՆԴԱՄԵՆԸ ԾԱԽՍԵՐ | H28: =H29 -> 1423953.4
G29: ԸՆԹԱՑԻԿ ԾԱԽՍԵՐ | H29: =H30 -> 1423953.4
G30: ԴՐԱՄԱՇՆՈՐՀՆԵՐ | H30: =H31 -> 1423953.4
G31: Կապիտալ դրամաշնորհներ պետական հատվածի այլ մակարդակներին | H31: =H32 -> 1423953.4
G32: - Կապիտալ սուբվենցիաներ համայնքներին | H32: ='4'!G18 -> 1423953.4
G33: ՀՀ Արարատի մարզպետի աշխատակազմ | H33: =H35 -> 899972.3
G34: այդ թվում` բյուջետային ծախսերի տնտեսագիտական դասակարգման հոդվածներ
G35: ԸՆԴԱՄԵՆԸ ԾԱԽՍԵՐ | H35: =H36 -> 899972.3
G36: ԸՆԹԱՑԻԿ ԾԱԽՍԵՐ | H36: =H37 -> 899972.3
G37: ԴՐԱՄԱՇՆՈՐՀՆԵՐ | H37: =H38 -> 899972.3
G38: Կապիտալ դրամաշնորհներ պետական հատվածի այլ մակարդակներին | H38: =H39 -> 899972.3
G39: - Կապիտալ սուբվենցիաներ համայնքներին | H39: ='4'!G35 -> 899972.3
G40: ՀՀ Արմավիրի մարզպետի աշխատակազմ | H40: =H42 -> 1248770
G41: այդ թվում` բյուջետային ծախսերի տնտեսագիտական դասակարգման հոդվածներ
G42: ԸՆԴԱՄԵՆԸ ԾԱԽՍԵՐ | H42: =H43 -> 1248770
G43: ԸՆԹԱՑԻԿ ԾԱԽՍԵՐ | H43: =H44 -> 1248770
G44: ԴՐԱՄԱՇՆՈՐՀՆԵՐ | H44: =H45 -> 1248770
G45: Կապիտալ դրամաշնորհներ պետական հատվածի այլ մակարդակներին | H45: =H46 -> 1248770
G46: - Կապիտալ սուբվենցիաներ համայնքներին | H46: ='4'!G48 -> 1248770
G47: ՀՀ Գեղարքունիքի մարզպետի աշխատակազմ | H47: =H49 -> 3435646.8
G48: այդ թվում` բյուջետային ծախսերի տնտեսագիտական դասակարգման հոդվածներ
G49: ԸՆԴԱՄԵՆԸ ԾԱԽՍԵՐ | H49: =H50 -> 3435646.8
G50: ԸՆԹԱՑԻԿ ԾԱԽՍԵՐ | H50: =H51 -> 3435646.8
G51: ԴՐԱՄԱՇՆՈՐՀՆԵՐ | H51: =H52 -> 3435646.8
G52: Կապիտալ դրամաշնորհներ պետական հատվածի այլ մակարդակներին | H52: =H53 -> 3435646.8
G53: - Կապիտալ սուբվենցիաներ համայնքներին | H53: ='4'!G90 -> 3435646.8
G54: ՀՀ Լոռու մարզպետի աշխատակազմ | H54: =H56 -> 365753
G55: այդ թվում` բյուջետային ծախսերի տնտեսագիտական դասակարգման հոդվածներ
G56: ԸՆԴԱՄԵՆԸ ԾԱԽՍԵՐ | H56: =H57 -> 365753
G57: ԸՆԹԱՑԻԿ ԾԱԽՍԵՐ | H57: =H58 -> 365753
G58: ԴՐԱՄԱՇՆՈՐՀՆԵՐ | H58: =H59 -> 365753
G59: Կապիտալ դրամաշնորհներ պետական հատվածի այլ մակարդակներին | H59: =H60 -> 365753
G60: - Կապիտալ սուբվենցիաներ համայնքներին | H60: ='4'!G132 -> 365753
G61: ՀՀ Կոտայքի մարզպետի աշխատակազմ | H61: =H63 -> 1574784.3
G62: այդ թվում` բյուջետային ծախսերի տնտեսագիտական դասակարգման հոդվածներ
G63: ԸՆԴԱՄԵՆԸ ԾԱԽՍԵՐ | H63: =H64 -> 1574784.3
G64: ԸՆԹԱՑԻԿ ԾԱԽՍԵՐ | H64: =H65 -> 1574784.3
G65: ԴՐԱՄԱՇՆՈՐՀՆԵՐ | H65: =H66 -> 1574784.3
G66: Կապիտալ դրամաշնորհներ պետական հատվածի այլ մակարդակներին | H66: =H67 -> 1574784.3
G67: - Կապիտալ սուբվենցիաներ համայնքներին | H67: ='4'!G144 -> 1574784.3
G68: ՀՀ Շիրակի մարզպետի աշխատակազմ | H68: =H70 -> 1500909
G69: այդ թվում` բյուջետային ծախսերի տնտեսագիտական դասակարգման հոդվածներ
G70: ԸՆԴԱՄԵՆԸ ԾԱԽՍԵՐ | H70: =H71 -> 1500909
G71: ԸՆԹԱՑԻԿ ԾԱԽՍԵՐ | H71: =H72 -> 1500909
G72: ԴՐԱՄԱՇՆՈՐՀՆԵՐ | H72: =H73 -> 1500909
G73: Կապիտալ դրամաշնորհներ պետական հատվածի այլ մակարդակներին | H73: =H74 -> 1500909
G74: - Կապիտալ սուբվենցիաներ համայնքներին | H74: ='4'!G163 -> 1500909
G75: ՀՀ Սյունիքի մարզպետի աշխատակազմ | H75: =H77 -> 472609.8
G76: այդ թվում` բյուջետային ծախսերի տնտեսագիտական դասակարգման հոդվածներ
G77: ԸՆԴԱՄԵՆԸ ԾԱԽՍԵՐ | H77: =H78 -> 472609.8
G78: ԸՆԹԱՑԻԿ ԾԱԽՍԵՐ | H78: =H79 -> 472609.8
G79: ԴՐԱՄԱՇՆՈՐՀՆԵՐ | H79: =H80 -> 472609.8
G80: Կապիտալ դրամաշնորհներ պետական հատվածի այլ մակարդակներին | H80: =H81 -> 472609.8
G81: - Կապիտալ սուբվենցիաներ համայնքներին | H81: ='4'!G189 -> 472609.8
G82: ՀՀ Վայոց ձորի մարզպետի աշխատակազմ | H82: =H84 -> 283041.5
G83: այդ թվում` բյուջետային ծախսերի տնտեսագիտական դասակարգման հոդվածներ
G84: ԸՆԴԱՄԵՆԸ ԾԱԽՍԵՐ | H84: =H85 -> 283041.5
G85: ԸՆԹԱՑԻԿ ԾԱԽՍԵՐ | H85: =H86 -> 283041.5
G86: ԴՐԱՄԱՇՆՈՐՀՆԵՐ | H86: =H87 -> 283041.5
G87: Կապիտալ դրամաշնորհներ պետական հատվածի այլ մակարդակներին | H87: =H88 -> 283041.5
G88: - Կապիտալ սուբվենցիաներ համայնքներին | H88: ='4'!G203 -> 283041.5
G89: ՀՀ Տավուշի մարզպետի աշխատակազմ | H89: =H91 -> 840250.5
G90: այդ թվում` բյուջետային ծախսերի տնտեսագիտական դասակարգման հոդվածներ
G91: ԸՆԴԱՄԵՆԸ ԾԱԽՍԵՐ | H91: =H92 -> 840250.5
G92: ԸՆԹԱՑԻԿ ԾԱԽՍԵՐ | H92: =H93 -> 840250.5
G93: ԴՐԱՄԱՇՆՈՐՀՆԵՐ | H93: =H94 -> 840250.5
G94: Կապիտալ դրամաշնորհներ պետական հատվածի այլ մակարդակներին | H94: =H95 -> 840250.5
G95: - Կապիտալ սուբվենցիաներ համայնքներին | H95: ='4'!G216 -> 840250.5
B96: 04 | G96: ՏՆՏԵՍԱԿԱՆ ՀԱՐԱԲԵՐՈՒԹՅՈՒՆՆԵՐ | H96: =H98 -> 0
G97: այդ թվում`
C98: 05 | G98: ՏՐԱՆՍՊՈՐՏ | H98: =H100 -> 0
G99: այդ թվում`
D100: 01 | G100: Ճանապարհային տրանսպորտ | H100: =H102 -> 0
G101: այդ թվում`
G102: ՀՀ տարածքային կառավարման և ենթակառուցվածքների նախարարություն | H102: =H104 -> 0
...

Sheet 3
G1: Հավելված N3
G2: ՀՀ կառավարության 2025 թվականի
G3: ______________ ի ___Ն որոշման
B5: «ՀԱՅԱՍՏԱՆԻ ՀԱՆՐԱՊԵՏՈՒԹՅԱՆ 2025 ԹՎԱԿԱՆԻ ՊԵՏԱԿԱՆ ԲՅՈՒՋԵԻ ՄԱՍԻՆ» ՀԱՅԱՍՏԱՆԻ ՀԱՆՐԱՊԵՏՈՒԹՅԱՆ ՕՐԵՆՔԻ N 1 ՀԱՎԵԼՎԱԾԻ N 4 ԱՂՅՈՒՍԱԿՈՒՄ ԵՎ ՀԱՅԱՍՏԱՆԻ ՀԱՆՐԱՊԵՏՈՒԹՅԱՆ ԿԱՌԱՎԱՐՈՒԹՅԱՆ 2024 ԹՎԱԿԱՆԻ ԴԵԿՏԵՄԲԵՐԻ 27-Ի N 2060-Ն ՈՐՈՇՄԱՆ N 5 ՀԱՎԵԼՎԱԾԻ N 3 ԱՂՅՈՒՍԱԿՈՒՄ ԿԱՏԱՐՎՈՂ ՓՈՓՈԽՈՒԹՅՈՒՆՆԵՐԸ ԵՎ ԼՐԱՑՈՒՄՆԵՐԸ
G7: հազար դրամներով
B8: Ծրագրային դասիչը | D8: Բյուջետային հատկացումների գլխավոր կարգադրիչների, ծրագրերի, միջոցառումների և միջոցառումները կատարող պետական մարմինների անվանումները | E8: Ցուցանիշների փոփոխությունը (ավելացումները նշված են դրական նշանով, իսկ նվազեցումները` փակագծերում)
E10: Տարի
B11: ծրագիրը | C11: միջոցառումը | E11: ընդամենը | F11: այդ թվում՝
F12: վարկային միջոցներ | G12: համաֆինան_x000D_ սավորում
D13: ԸՆԴԱՄԵՆԸ | E13: =F13+G13 -> 0 | F13: =F15+F16 -> 0 | G13: =G15+G16 -> 0
D14: այդ թվում`
D15: - ԸՆԹԱՑԻԿ ԾԱԽՍԵՐ | E15: -324356.7 | F15: 0 | G15: -324356.7
D16: - ՈՉ ՖԻՆԱՆՍԱԿԱՆ ԱԿՏԻՎՆԵՐԻ ԳԾՈՎ ԾԱԽՍԵՐ | E16: 324356.7 | F16: 0 | G16: 324356.7
D17: ՀՀ տարածքային կառավարման և ենթակառուցվածքների նախարարություն | E17: =E19 -> 0 | F17: =F19 -> 0 | G17: =G19 -> 0
D18: այդ թվում`
B19: 1049 | D19: Ճանապարհային ցանցի բարելավում | E19: =F19+G19 -> 0 | F19: =F21 -> 0 | G19: =G21+G30+G39+G50 -> 0
D20: այդ թվում`
C21: 11012 | D21: Եվրասիական զարգացման բանկի աջակցությամբ իրականացվող Հյուսիս-հարավ միջանցքի զարգացման ծրագրի համակարգում և կառավարում | E21: =F21+G21 -> -287000 | F21: =F23 -> 0 | G21: =G23 -> -287000
D22: այդ թվում` ըստ կատարողների
D23: ՀՀ տարածքային կառավարման և ենթակառուցվածքների նախարարություն | E23: =F23+G23 -> -287000 | F23: =F25 -> 0 | G23: =G25 -> -287000
D24: այդ թվում` բյուջետային ծախսերի տնտեսագիտական դասակարգման հոդվածներ
D25: ԸՆԴԱՄԵՆԸ ԾԱԽՍԵՐ | E25: =F25+G25 -> -287000 | F25: =F26 -> 0 | G25: =G26 -> -287000
D26: ԸՆԹԱՑԻԿ ԾԱԽՍԵՐ | E26: =F26+G26 -> -287000 | F26: =F27 -> 0 | G26: =G27 -> -287000
D27: ԴՐԱՄԱՇՆՈՐՀՆԵՐ | E27: =F27+G27 -> -287000 | F27: =F28 -> 0 | G27: =G28 -> -287000
D28: Կապիտալ դրամաշնորհներ պետական հատվածի այլ մակարդակներին | E28: =F28+G28 -> -287000 | F28: =F29 -> 0 | G28: =G29 -> -287000
D29: - Այլ կապիտալ դրամաշնորհներ | E29: =F29+G29 -> -287000 | F29: 0 | G29: -287000
C30: 11017 | D30: Հյուսիս-հարավ ճանապարհային միջանցքի զարգացման ծրագրի Քաջարանի թունելի և մոտեցումների համակարգում և կառավարում | E30: =F30+G30 -> -37356.7 | G30: =G32 -> -37356.7
D31: այդ թվում` ըստ կատարողների
D32: ՀՀ տարածքային կառավարման և ենթակառուցվածքների նախարարություն | E32: =F32+G32 -> -37356.7 | G32: =G34 -> -37356.7
D33: այդ թվում` բյուջետային ծախսերի տնտեսագիտական դասակարգման հոդվածներ
D34: ԸՆԴԱՄԵՆԸ ԾԱԽՍԵՐ | E34: =F34+G34 -> -37356.7 | G34: =G35 -> -37356.7
D35: ԸՆԹԱՑԻԿ ԾԱԽՍԵՐ | E35: =F35+G35 -> -37356.7 | G35: =G36 -> -37356.7
D36: ԴՐԱՄԱՇՆՈՐՀՆԵՐ | E36: =F36+G36 -> -37356.7 | G36: =G37 -> -37356.7
D37: Կապիտալ դրամաշնորհներ պետական հատվածի այլ մակարդակներին | E37: =F37+G37 -> -37356.7 | G37: =G38 -> -37356.7
D38: - Այլ կապիտալ դրամաշնորհներ | E38: =F38+G38 -> -37356.7 | G38: -37356.7
C39: 21006 | D39: Ասիական զարգացման բանկի աջակցությամբ իրականացվող Հյուսիս-հարավ միջանցքի զարգացման վարկային ծրագիր, Տրանշ 2 | E39: =F39+G39 -> 422000 | F39: 0 | G39: =G41 -> 422000
D40: այդ թվում` ըստ կատարողների
D41: ՀՀ տարածքային կառավարման և ենթակառուցվածքների նախարարություն | E41: =F41+G41 -> 422000 | F41: 0 | G41: =G43 -> 422000
D42: այդ թվում` բյուջետային ծախսերի տնտեսագիտական դասակարգման հոդվածներ
D43: ԸՆԴԱՄԵՆԸ ԾԱԽՍԵՐ | E43: =F43+G43 -> 422000 | F43: 0 | G43: =G44 -> 422000
D44: ՈՉ ՖԻՆԱՆՍԱԿԱՆ ԱԿՏԻՎՆԵՐԻ ԳԾՈՎ ԾԱԽՍԵՐ | E44: =F44+G44 -> 422000 | F44: 0 | G44: =G45 -> 422000
D45: ՀԻՄՆԱԿԱՆ ՄԻՋՈՑՆԵՐ | E45: =F45+G45 -> 422000 | F45: 0 | G45: =G46+G48 -> 422000
D46: ՇԵՆՔԵՐ ԵՎ ՇԻՆՈՒԹՅՈՒՆՆԵՐ | E46: =F46+G46 -> 324356.7 | F46: 0 | G46: =G47 -> 324356.7
D47: - Շենքերի և շինությունների շինարարություն | E47: =F47+G47 -> 324356.7 | F47: 0 | G47: =-G29-G38 -> 324356.7
D48: ԱՅԼ ՀԻՄՆԱԿԱՆ ՄԻՋՈՑՆԵՐ | E48: 97643.3 | F48: 0 | G48: =G49 -> 97643.3
D49: - Նախագծահետազոտական ծախսեր | E49: 97643.3 | F49: 0 | G49: =-G50 -> 97643.3
C50: 21011 | D50: Ասիական զարգացման բանկի աջակցությամբ իրականացվող Հյուսիս-հարավ միջանցքի զարգացման վարկային ծրագիր, Տրանշ 3 | E50: -97643.3 | F50: 0 | G50: -97643.3
D51: այդ թվում` ըստ կատարողների
D52: ՀՀ տարածքային կառավարման և ենթակառուցվածքների նախարարություն | E52: -97643.3 | F52: 0 | G52: -97643.3
D53: այդ թվում` բյուջետային ծախսերի տնտեսագիտական դասակարգման հոդվածներ
D54: ԸՆԴԱՄԵՆԸ ԾԱԽՍԵՐ | E54: -97643.3 | F54: 0 | G54: -97643.3
D55: ՈՉ ՖԻՆԱՆՍԱԿԱՆ ԱԿՏԻՎՆԵՐԻ ԳԾՈՎ ԾԱԽՍԵՐ | E55: -97643.3 | F55: 0 | G55: -97643.3
D56: ՀԻՄՆԱԿԱՆ ՄԻՋՈՑՆԵՐ | E56: -97643.3 | F56: 0 | G56: -97643.3
D57: ՇԵՆՔԵՐ ԵՎ ՇԻՆՈՒԹՅՈՒՆՆԵՐ | E57: -97643.3 | F57: 0 | G57: -97643.3
D58: - Շենքերի և շինությունների շինարարություն | E58: -97643.3 | F58: 0 | G58: -97643.3
C86: ՀԱՅԱՍՏԱՆԻ ՀԱՆՐԱՊԵՏՈՒԹՅԱՆ
C87: ՎԱՐՉԱՊԵՏԻ ԱՇԽԱՏԱԿԱԶՄԻ ՂԵԿԱՎԱՐ | E87: Ա. ՀԱՐՈՒԹՅՈՒՆՅԱՆ

Sheet 4
G1: Հավելված № 4
F2: ՀՀ կառավարության 2025 թվականի
G3: N ------------ -Ն որոշման
D4: «ՀԱՅԱՍՏԱՆԻ ՀԱՆՐԱՊԵՏՈՒԹՅԱՆ 2025 ԹՎԱԿԱՆԻ ՊԵՏԱԿԱՆ ԲՅՈՒՋԵԻ ՄԱՍԻՆ» ՕՐԵՆՔԻ N 1 ՀԱՎԵԼՎԱԾԻ N 7 ԱՂՅՈՒՍԱԿՈՒՄ ԼՐԱՑՈՒՄԸ ԵՎ ՓՈՓՈԽՈՒԹՅՈՒՆԸ,ՀԱՅԱՍՏԱՆԻ ՀԱՆՐԱՊԵՏՈՒԹՅԱՆ ԿԱՌԱՎԱՐՈՒԹՅԱՆ 2024 ԹՎԱԿԱՆԻ ԴԵԿՏԵՄԲԵՐԻ 27-Ի N 2060-Ն ՈՐՈՇՄԱՆ N 5 ՀԱՎԵԼՎԱԾԻ N 6 ԱՂՅՈՒՍԱԿՈՒՄ ԿԱՏԱՐՎՈՂ ՓՈՓՈԽՈՒԹՅՈՒՆՆԵՐԸ ԵՎ ԼՐԱՑՈՒՄՆԵՐԸ
G5: հազար դրամներով
D6: Ծրագրային դասիչը | F6: Հատկացումների տրամադրման նպատակները և բյուջետային գլխավոր կարգադրիչների, ծրագրերի, միջոցառումների և կատարող պետական մարմնի անվանումները | G6: Ցուցանիշների փոփոխությունը (ավելացումները նշված են դրական նշանով, իսկ նվազեցումները` փակագծերում)
D7: Ծրագիր | E7: Միջոցառում | G7: Տարի
F8: ԸՆԴԱՄԵՆԸ | G8: =G10 -> 12045691
F9: այդ թվում
F10: Կապիտալ սուբվենցիաներ համայնքներին | G10: =G12 -> 12045691
F11: այդ թվում`
F12: ՀՀ տարածքային կառավարման և ենթակառուցվածքների նախարարություն | G12: =G14 -> 12045691
F13: այդ թվում`
D14: 1212 | F14: Տարածքային զարգացում | G14: =G16 -> 12045691
F15: այդ թվում`
E16: 12007 | F16: ՀՀ մարզերին սուբվենցիաների տրամադրում՝ ենթակառուցվածքների զարգացման նպատակով | G16: =G18+G35+G48+G132+G144+G163+G203+G189+G90+G216 -> 12045691
F17: այդ թվում` ըստ կատարողների
F18: ՀՀ Արագածոտնի մարզպետի աշխատակազմ | G18: =SUM(G20:G34) -> 1423953.4
F19: այդ թվում` ըստ ուղղությունների
F20: Թալին համայնքի Ագարակավան, Կաքավաձոր, Աշնակ, Մաստարա, Կաթնաղբյուր, Արտենի բնակավայրերում խմելաջրի ցանցերի հիմնանորոգում /Ագարակավան, Կաքավաձոր և Կաթնաղբյուր բնակավայրեր/ | G20: 202000.2
F21: Թալին համայնքիԿարմրաշեն, Ոսկեթաս, Զովասար, Գառնահովիտ, Ներքին Սասնաշեն, Վերին Սասնաշեն բնակավայրերի գազիֆիկացում /1-ին փուլ/ /Կարմրաշեն, Ոսկեթաս, Զովասար, Գառնահովիտ բնակավայրեր/ | G21: 138869.8
F22: Թալին համայնքի Թալին և Կաթնաղբյուր բնակավայրերում մանկապարտեզների վերակառուցում /Թալին բնակավայրի թիվ 2 մանկապարտեզ/ | G22: 104055
F23: Թալին համայնքի Զարինջա, Կարմրաշեն, Ոսկեթաս, Զովասար, Ցամաքասար, Ներքին Սասնաշեն բնակավայրերում խմելաջրի ցանցերի հիմնանորոգում, Շղարշիկ բնակավայրում ՕԿՋ-ի, Ներքին Բազմաբերդ բնակավայրը սնուցող ջրատարի կառուցման աշխատանքներ /Կարմրաշեն, Ոսկեթաս, Զովասար բնակավայրեր/ | G23: 77729.1
F24: Թալին համայնքի Մաստարա, Ներքին Բազմաբերդ, Գետափ, Իրինդ բնակավայրերում ոռոգման համակարգերի հիմնանորոգման աշխատանքներ /Մաստարա, Ներքին Բազմաբերդ և Իրինդ բնակավայրեր/ | G24: 195825
F25: Թալին համայնքի Կարմրաշեն, Ոսկեթաս, Զովասար, Վերին Սասնաշեն, Ներքին Սասնաշեն, Վերին Բազմաբերդ և Շղարշիկ բնակավայրերում գազիֆիկացման աշխատանքներ | G25: 219924.9
F26: Թալին համայնքի Մաստարա, Ներքին Բազմաբերդ, Գետափ, Իրինդ բնակավայրերում ոռոգման համակարգերի հիմնանորոգման աշխատանքներ /Գետափ բնակավայր/ | G26: 66099.9
F27: Թալին համայնքի Զարինջա, Կարմրաշեն, Ոսկեթաս, Զովասար, Ցամաքասար, Ներքին Սասնաշեն բնակավայրերում խմելաջրի ցանցերի հիմնանորոգում, Շղարշիկ բնակավայրում ՕԿՋ-ի, Ներքին Բազմաբերդ բնակավայրը սնուցող ջրատարի կառուցման աշխատանքներ /Ներքին Սասնաշեն, Շղարշիկ և Ներքին Բազմաբերդ բնակավայրեր/ | G27: 81452.6
F28: Թալին համայնքի Աշնակ բնակավայրի Վ․Իսրաելյան փողովի ասֆալտբետոնե ծածկի հիմնանորոգում" | G28: 68650.1
F29: Ալագյազ համայնքի Ալագյազ, Ջամշլու, Ռյա Թազա, Կանիաշիր և Սադունց բնակավայրերում կանգառների կառուցում | G29: 19901.7
F30: Ապարան համայնքի Ապարան, Արագած, Արայի, Ափնագյուղ, Եղիպատրուշ, Ծաղկաշեն, Լուսագյուղ, Կայք, Չքնաղ, Վարդենիս, Վարդենուտ, Մելիքգյուղ, Քուչակ, Հարթավան․ Շենավան, Սարալանջ, Նիգավան, Թթուջուր, Ձորագլուխ, Երնջատափ բնակավայրերի ներհամայնքային ճանապարհների ասֆալտապատում /Ապարան/ | G30: 132130.3
F31: Արևուտ համայնքի Կանչ, Հակո, Թլիկ բնակավայրերում ՕԿՋ-ների և սնող ջրատարի կառուցում և Սորիկ բնակավայրում ՕԿՋ-ի կառուցում և սնող ջրատար վերականգնում | G31: 58372.1
... F34: Ծաղկահովիտ համայնքի Նորաշեն, Գեղադիր, Հնաբերդ, Գեղաձոր, Բերքառատ, Ծաղկահովիտ, Լեռնապար բնակավայրերի գազամատակարարման ներքին ցանցի կառուցում | G34: 68738.4
F35: ՀՀ Արարատի մարզպետի աշխատակազմ | G35: =SUM(G37:G47) -> 899972.3
F36: այդ թվում` ըստ ուղղությունների
F37: Արարատ համայնքի Արարատ քաղաքի ՈԿՖ բանավանի կեղտաջրերի մաքրման կայանի կառուցում-2-րդ փուլ | G37: 83802.6
F38: Արարատ համայնքի Արարատ քաղաքի Խանջյան փողոցի վերանորոգում ասֆալտապատմամբ | G38: 49560
F39: «Արարատ համայնքի Արարատ քաղաքի, Զանգակատուն, Վարդաշատ, Պարույր Սևակ, Երասխ, Արարատ, Ավշար և Նոյակերտ բնակավայրերի ճանապարհների վերանորոգում ասֆալտապատմամբ» | G39: -122.8
F40: Արտաշատ համայնքի Արտաշատ քաղաքում, Այգեպատ, Բուրաստան, Կանաչուտ, Մրգանուշ, Ջրաշեն, Լանջազատ բնակավայրերում նախադպրոցական հաստատությունների /մանկապարտեզներ/ կառուցում /Բուրաստան/ | G40: 113968.4
F41: Արտաշատ համայնքի Վարդաշեն, Աբովյան, Մրգանուշ, Հնաբերդ, Արևշատ, Դիտակ, Կանաչուտ, Դեղձուտ, Դվին, Բերդիկ, Նշավան բնակավայրերի փողոցների նորոգման, ասֆալտապատման աշխատանքներ /Բերդիկ, Հնաբերդ, Դվին/ | G41: 39843.1
F42: Արտաշատ համայնքի Արտաշատ քաղաք, Դալար, Մրգավան, Այգեզարդ, Այգեստան, Նարեկ, Վերին Արտաշատ, Շահումյան, Ոստան, Գետազատ, Նորաշեն, Ազատավան, Արաքսավան, Ջրաշեն, Դիմիտրով, Հովտաշեն, Մասիս, Բերքանուշ, Բաղրամյան բնակավայրերի փողոցների նորոգման, ասֆալտապատման աշխատանքներ / ք․Արտաշատի Նալբանդյան, Նար-Դոս, Երևանյան13 շենքի բակ, Շիրվանզադե, Թորոմոնյան, Ստեփանյան, Կասյան փողոցներ / | G42: 141478.2
F43: Արտաշատ համայնքի Բյուրավան, Վարդաշեն, Բուրաստան, Դալար, Դեղձուտ, Նշավան, Բարձրաշեն և Լանջազատ բնակավայրերի ոռոգման համակարգի կառուցում /նորոգում/ | G43: -172
F44: Մասիս համայնքի Դարակերտ, Մարմարաշեն, Նիզամի, Նոր Խարբերդ, Սայաթ-Նովա, Սիփանիկ բնակավայրերում ջրամատակարարման, ջրահեռացման համակարգի, մաքրման կայանի կառուցում /Մարմարաշեն, Դարակերտ/ | G44: 32712.2
F45: Մասիս համայնքի Ազատաշեն, Արբաթ, Արևաբույր, Գետափնյա, Գեղանիստ, Դաշտավան, Դարակերտ, Դարբնիկ, Զորակ, Խաչփար, Հայանիստ, Մարմարաշեն, Նորաբաց, Նոր Կյուրին, Ջրահովիտ և Սայաթ-Նովա բնակավայրերում ոռոգման համակարգի կառուցում և նորոգում /Դաշտավան, Դարբնիկ, Արևաբույր, Մարմարաշեն, Ջրահովիտ/ | G45: 451019.8
F46: Վեդի համայնքի Նոր Ուղի, Փոքր Վեդի, Վանաշեն, Սիսավան, Դաշտաքար, Շաղափ, Գինեվետ, Լանջանիստ և Նոր Կյանք բնակավայրերի ոռոգման ցանցերի կառուցում | G46: -3942.9
F47: Վեդի համայնքի Նոր Ուղի, Փոքր Վեդի, Վանաշեն, Սիսավան, Դաշտաքար, Շաղափ, Գինեվետ, Լանջանիստ և Նոր Կյանք բնակավայրերի ոռոգման ցանցերի կառուցում | G47: -8174.3
F48: ՀՀ Արմավիրի մարզպետի աշխատակազմ | G48: =SUM(G50:G89) -> 1248770
F49: այդ թվում` ըստ ուղղությունների
F50: Խոյ համայնքի Գեղակերտ գյուղում Մ.Սարյան, Մարշալ Բաղրամյան փողոցների և Մ.Մարշալ Բաղրամյան փողոցից մինչև մշակույթի տան հարակից տարածքի, Մոնթեավան գյուղում I-ին փողոցի /համայնքի կենտրոնական փողոց/, Այգեշատ գյուղի Երիտասարդական և Մայիսյան փողոցների, Դողս գյուղում Դողս-Աղավնատուն տանող ճանապարհի, Լեռնամերձ գյուղի Բարեկամություն փողոցի /գերեզմաններ տանող ճանապարհի ասֆալտապատման աշխատանքներ/Գեղակերտ գյուղում Մ.Սարյան, Մարշալ Բաղրամյան փողոցների և Մ.Մարշալ Բաղրամյան փողոցից մինչև մշակույթի տան հարակից տարածքի ասֆալտապատում/լրացուցիչ/ | G50: 1826.9
F51: Խոյ համայնքի Արշալույս բնակավայրի 19 և 35 փողոցների և Արագած բնակավայրի դեպի հուշարձան-պուրակ տանող ճանապարհի կապիտալ վերանորոգման, ասֆալտապատման աշխատանքներ /Արշալույս բնակավայրի 19 փողոցի կապիտալ վերանորոգման, ասֆալտապատման աշխատանքներ/ | G51: 32278.9
F52: Խոյ համայնքի Այգեշատ, Ամբերդ, Ծիածան, Ծաղկունք, Արագած, Դողս, Հովտամեջ բնակավայրերի ներտնտեսային ոռոգման ջրագծերի վերակառուցում/ Ծաղկունք բնակավայրի ներտնտեսային ոռոգման ջրագծերի վերակառուցում/ | G52: 24830.2
F53: Խոյ համայնքի Մրգաստան բնակավայրի եկեղեցի տանող ճանապարհի կապիտալ վերանորոգում՝ սալարկում և Մոնթեավան բնակավայրերի 1-ին փողոցի մայթերի սալարկում/Մրգաստան բնակավայրի եկեղեցի տանող ճանապարհի կապիտալ վերանորոգում՝ սալարկում/ | G53: 13269.1
F54: Խոյ համայնքի Մոնթեավան և Արագած բնակավայրերի հուշարձան-պուրակների կառուցում/Մոնթեավան բնակավայրի հուշարձան-պուրակի կառուցում/ | G54: 13947
F55: Խոյ համայնքի խորքային հորերի հիմնանորոգում /ՄրգաստանN1 / | G55: 7469.8
F56: Վաղարշապատ համայնքի Էջմիածին քաղաքի թիվ 6 «Արևիկ» մանկապարտեզի հիմնանորոգում և նոր մասնաշենքի կառուցում | G56: 151567.3
F57: Արմավիր համայնքի Արմավիր քաղաքի թիվ 11 մսուր-մանկապարտեզ ՀՈԱԿ-ի շենքի հիմնանորոգում | G57: 61845
F58: Արմավիր համայնքի Արմավիր քաղաքի թիվ 11 մսուր-մանկապարտեզ» ՀՈԱԿ-ի շենքի հիմնանորոգում, Արմավիր համայնքի Խանջյան գյուղի մանկապարտեզի շենքի հիմնանորոգում/ Խանջյան գյուղի մանկապարտեզի շենքի հիմնանորոգում/ | G58: 88459.1
F59: Արմավիր համայնքի «Արմավիր քաղաքի Հ.Ավետիսյան փողոցի Ս.Շահումյան- Խ.Աբովյան հատվածի և Սայաթ-Նովա փողոցի Արարատյան-Սայաթ-Նովա 5Ա բազմաբնակարան բնակելի շենք հատվածի խմելու ջրամատակարարման նոր համակարգի կառուցում, Արմավիր քաղաքի Մ.Բաղրամյան փողոցի 19, 21, 23, Հանրապետության փողոցի 35, 37, 39, 43 և Չարենց փողոցի 34, 36, Ա.Ջիվանի փողոցի 13, 15, 17, 19 և Սայաթ-Նովա 120, Մ.Մաշտոց փողոցի 3 Ա, Ե.Չարենց փողոցի 1/1, 5, 7, 9 բազմաբնակարան բնակելի շենքերի բակային տարածքների խմելու ջրամատակարարման նոր համակարգի կառուցում / Արմավիր քաղաքի Հ.Ավետիսյան փողոցի Ս.Շահումյան-Խ.Աբովյան հատվածի խմելու ջրամատակարարման նոր համակարգի կառուցում», «Արմավիր քաղաքի Մ.Բաղրամյան փողոցի 19, 21, 23 բազմաբնակարան բնակելի շենքերի բակային տարածքների խմելու ջրամատակարարման նոր համակարգի կառուցում» և «Արմավիր քաղաքի Մ.Մաշտոց փողոցի 3Ա բազմաբնակարան բնակելի շենքերի բակային տարածքների խմելու ջրամատակարարման նոր համակարգի կառուցում»/ | G59: 20071.1
F60: Արմավիր համայնքի Արմավիր քաղաքի Հ.Ավետիսյան փողոցի Ս.Շահումյան-Հանրապետություն հատվածի, Սայաթ-Նովա փողոցի Արարատյան-Սայաթ-Նովա 5Ա բազմաբնակարան բնակելի շենք հատվածի հիմնանորոգում։ Արմավիր քաղաքի Մ.Բաղրամյան փողոցի 19, 21, 23, Հանրապետության փողոցի 35, 37, 39, 43 և Չարենց փողոցի 34,36, Ա․ Ջիվանի փողոցի 13, 15, 17, 19 և Սայաթ-Նովա 120, Մ.Մաշտոց փողոցի 3 Ա, Ե.Չարենց փողոցի 1/1, 5, 7, 9 բազմաբնակարան բնակելի շենքերի բակային տարածքների հիմնանորոգում։ Սարդարապատ գյուղի թիվ 6, թիվ 9 փողոցների, Մյասնիկյան գյուղի Խանջյան փողոցի Երևանյան-Գագարին հատվածի, Լենուղի գյուղի թիվ 10 փողոցի հիմնանորոգում/Սարդարապատ գյուղի թիվ 6/ | G60: 19634.9
F61: Մեծամոր համայնքի քաղաք Մեծամոր 4-րդ թաղամաս 1-ին փողոց 2-րդ նրբանցք, գյուղ Ալաշկերտ 4-րդ, 21-րդ, 24-րդ, 25-րդ, 10-րդ, 26-րդ, 17-րդ, 19-րդ, 20-րդ փողոցների և 22-րդ փողոցի 2-րդ նրբա/Երասխահուն գյուղի 8-րդ փողոցի գազաֆիկացում/նցքի, գյուղ Ակնալիճ Մ. Մաշտոցի փողոցի, գյուղ Արմավիր 30-րդ, 31-րդ և 36-րդ փողոցների, գյուղ Այգեշատ 18-րդ, 19-րդ և 21-րդ փողոցների, Արգավանդ բնակավայրի, գյուղ Գետաշեն 1-ին փողոց 1-ին նրբանցք, 2-րդ փողոցի 3-րդ և 4-րդ նրբանցքները, 3-րդ փողոց, 5-րդ փողոց, 5-րդ փողոց 1-ին նրբանցք, 6-րդ փողոց 5-րդ նրբանցք, 7-րդ փողոց 3-րդ նրբանցք և 9-րդ փողոց 3-րդ նրբանցքի, գյուղ Երասխահուն 3-րդ, 21-րդ, 22-րդ և 23-րդ փողոցների, Երասխահուն գյուղի 8-րդ փողոցի, գյուղ Եղեգնուտ 6-րդ փողոց և 3-րդ փողոցի 2-րդ փակուղու, գյուղ Հայկավան 6-րդ փողոցի, գյուղ Նորապատ 9-րդ, 11- րդ, 23-րդ, 25-րդ, 40-րդ, 42-րդ և 44-րդ փողոցների, Նոր Կեսարիա բնակավայրի, գյուղ Ջրաշեն 3-րդ, 4-րդ, 10-րդ և 14-րդ փողոցների, գյուղ Վարդանաշեն 1-ին, 2-րդ, 3-րդ, 6-րդ և 7-րդ փողոցների, գյուղ Տանձուտ 14-րդ, 14/2-րդ նրբանցքի և 7-րդ փողոցների գազաֆիկացում և Ակնալիճ բնակավայրի Զիարատ եզդիական տաճար տանող հատվածում գազատարի կառուցում /Ալաշկերտ 4-րդ, 21-րդ, 24-րդ, 25-րդ, 10-րդ, 26-րդ, 17-րդ, 19-րդ, 20-րդ փողոցների և 22-րդ փողոցի 2-րդ նրբանցքի գազաֆիկացում, Գետաշեն 1-ին փողոց 1-ին նրբանցք, 2-րդ փողոցի 3-րդ և 4-րդ նրբանցքները, 3-րդ փողոց, 5-րդ փողոց, 5-րդ փողոց 1-ին նրբանցք, 6-րդ փողոց 5-րդ նրբանցք, 7-րդ փողոց 3-րդ նրբանցք և 9-րդ փողոց 3-րդ նրբանցքի գազաֆիկացում, Ջրաշեն 3-րդ, 4-րդ, 10-րդ և 14-րդ փողոցների գազաֆիկացում,Երասխահուն գյուղի 8-րդ փողոցի գազաֆիկացում/ | G61: 34842.2
... F89: Փարաքար համայնքի Թաիրով բնակավայրի Լեոյի և Ա.Խաչատրյան, Նարեկացի 1-ին փողոցների, Փարաքար բնակավայրի Էրեբունու, Կոմիտասի, Վ.Սարգսյան 1-ին և 2-րդ փողոցների, Մուսալեռ բնակավայրի Բաղրամյան փողոցի, Մերձավան բնակավայրի Երիտասարդության, Մասիսի փողոցի, Բաղրամյան բնակավայրի Կոմիտասի փողոցի, Արևաշատ բնակավայրի Երևանյան փողոցի, Նորակերտ բնակավայրի Կոմիտասի փողոցի, Այգեկ բնակավայրի 1-ին փողոցի ասֆալտապատում | G89: -14148.3
F90: ՀՀԳեղարքունիքի մարզպետի աշխատակազմ | G90: =SUM(G92:G131) -> 3435646.8
F91: այդ թվում` ըստ ուղղությունների
F92: Վարդենիս համայնքի Վարդենիս քաղաքի Գայի փողոցի ասֆալտապատում, միակողմանի մայթի կառուցում, Վ. Համբարձումյան փողոցի ասֆալտապատում, 6 բազմաբնակարան շենքի բակերի ասֆալտապատում/Երիտասարդության14,16, Արփունք բնակավայր տանող ճանապարհի ասֆալտապատում, Ակունք բնակավայրի 13-րդ փողոցի ասֆալտապատում, Տորֆավան բնակավայրի կենտրոնական փողոցի ասֆալտապատում, Ծովակ բնակավայրի 1 փողոցի, 11 փակուղի հասեցի ճանապարհի ասֆալտապատում, Կարճաղբյուր բնակավայրի 11-րդ և 13-րդ փողոցների ասֆալտապատում /Վ. Համբարձումյան/ | G92: 169233.2
F93: Վարդենիս համայնքի «Փամբակ, Արփունք, Ծովակ, Խաչաղբյուր, Ավազան, Ակունք, Կարճաղբյուր, Լճավան բնակավայրերում լուսավորության ցանցի կառուցում | G93: 17054.5
F94: Վարդենիս համայնքի Գեղամաբակ բնակավայրում խորքային հորի կառուցում, Ծովակ բնակավայրում 910 գծմ ոռոգման ներքին ցանցի և սելավատարի կառուցում, Կախակն բնակավայրում 1500 գծմ ոռոգման ցանցի կառուցում և վերակառուցում, Ակունք բնակավայրում 2730 գծմ ոռոգման ցանցի կառուցում և վերակառուցում, Ախպրաձոր բնակավայրում 1700 մ ոռոգման ջրի ջրագծի վերակառուցում /Ծովակ և Կախակն/ | G94: 57260.8
F95: Վարդենիս համայնքի Վարդենիս բնակավայրի Լ․ Ազգալդյան, Երիտասարդության, Հ․ Անդրեասյան, 10 բազմաբնակարան շենքերի /Երիտասարդության 2 ,3, 6,11 և 12, Վ․ Համբարձումյան 17և 19, Լեռնագործների1/1 և 1/2/ բակերի, Ակունք, Լուսակունք, Վանեվան, Ծովակ, Շատջրեք, Մեծ Մասրիկ բնակավայրերի համայնքային նշանակության փողոցների ասֆալտապատում /Վարդենիս քաղաքի Անդրեասյան, Ազգալդյան և Երիտասարդության, Մեծ Մասրիկ և Շատջրեք, Ծովակ, Լուսակունք և Վանեվան, Երիտասարդության 2, 3, 6, 11, 12 և Արզոյան 2 բազմաբնակարան բնակելի շենքերի բակեր/ | G95: 372447
F96: Վարդենիս համայնքի Գեղամասար բնակավայրի ՕԿՋ-ների և կապտաժների հիմնանորոգում, Նորաբակ, Ակունք, Փամբակ, Լուսակունք, Ազատ, Ծովակ և Լճավան բնակավայրերում խմելու ջրի ջրագծերի կառուցում կամ վերակառուցում /Ծովակ , Լճավան, Ազատ, Նորաբակ և Փամբակ / | G96: 164369.1
F97: Վարդենիս քաղաքի 10 բազմաբնակարան շենքերի (Արզոյան փողոց, շենք 2, Արզոյան փողոց, շենք 9, Երիտասարդության փողոց, շենք 15, Լեռնագործների փողոց, շենք 1/1, Չարենցի փողոց, շենք 46, Ռոմանի փողոց, շենք 2, Սեսմանուկյան փողոց, շենք 9, Սեսմանուկյան փողոց, շենք 13, Սեսմանուկյան փողոց, շենք 15, Ստեփանյան փողոց, շենք 9) տանիքների հիմնանորոգում /Արզոյան 2 և 9, Լեռնագործների 1/1, Խաչիկ Ստեփանյան 9/ | G97: 44598.7
F98: Վարդենիս համայնքի Գեղամաբակ բնակավայրում խորքային հորերի կառուցում, Ախպրաձորի ոռոգման արտաքին ցանց կառուցում, Ակունք և Կախակն բնակավայրերում ոռոգման ցանցի կառուցում և վերակառուցում, Ծովակում ոռոգման ներքին ցանցի և սելավատարի կառուցում / Ակունք բնակավայրում ոռոգման ցանցի կառուցում / | G98: 111744
F99: Վարդենիս համայնքի Վարդենիս քաղաքի Գայի փողոցի ասֆալտապատում, միակողմանի մայթի կառուցում, Վ. Համբարձումյան փողոցի ասֆալտապատում, 6 բազմաբնակարան շենքի բակերի ասֆալտապատում, Արփունք բնակավայր տանող ճանապարհի ասֆալտապատում, Ակունք բնակավայրի 13-րդ փողոցի ասֆալտապատում, Տորֆավան բնակավայրի կենտրոնական փողոցի ասֆալտապատում, Ծովակ բնակավայրի 1 փողոցի, 11 փակուղի հասցեի ճանապարհի ասֆալտապատում, Կարճաղբյուր բնակավայրի 11-րդ և 13-րդ փողոցների ասֆալտապատում /Վարդենիս քաղաքի Ռոմանի 2, Սեսմանուկյան 1, 3 և Վ. Համբարձումյան 11 բազմաբնակարան շենքերի բակեր/ | G99: -981.2
F100: Գավառ համայնքի Գավառ, Գանձակ, Նորատուս, Սարուխան և Կարմիրգյուղ բնակավայրերում ոռոգման և ջրահեռացման համակարգերի կառուցում | G100: 78187.5
F101: Գավառ համայնքի Գեղարքունիք և Լանջաղբյուր բնակավայրերում խմելու ջրագծերի կառուցում | G101: -12567.2
F102: Գավառ քաղաքում շատրվանային համակարգի տեղադրման աշխատանքներ | G102: -2105.1
F103: Արծվաքար թաղամասում ոռոգման համակարգի կառուցում | G103: -3154.9
... F131: Ճամբարակ համայնքի «Վ.Ճամբարակ թաղամասի ջրագծի արտաքին ցանցի կառուցման, ջրընդունիչի կառուցման և ջրամբարի կապիտալ վերանորոգման, Ճամբարակ քաղաքի Վերին Ճամբարակ թաղամասի ջրագծի ներքին ցանցի կառուցում, Ճամբարակ համայնքի Վահան բնակավայրի արտաքին ջրագծի, Ծափաթաղ բնակավայրի խմելու ջրագծի և ջրընդունիչի կառուցում /Վահան և Ծափաթաղ բնակավայրերում խմելու ջրագծերի կառուցում / | G131: 43603.4
F132: ՀՀ Լոռու մարզպետի աշխատակազմ | G132: =SUM(G134:G143) -> 365753
F133: այդ թվում` ըստ ուղղությունների
F134: Թումանյան համայնքի Չկալով բնակավայրի խմելու ջրի արտաքին ջրագծերի վերանորոգում | G134: 24612.8
F135: Թումանյան համայնքի Թումանյան բնակավայրի Կենտրոնական, 2-րդ, 3-րդ և 12-րդ փողոցների ասֆալտապատում | G135: 55381
F136: Փամբակ համայնքի Փամբակ և Արջուտ բնակավայրերի փողոցների ընթացիկ նորոգում ասֆալտապատման միջոցով | G136: 52168.5
F137: Փամբակ համայնքի Ձորագյուղ և Եղեգնուտ բն․ գազիֆիկացում /Ձորագյուղ բնակավայր/ | G137: 34226.5
F138: Սպիտակ համայնքի Սպիտակ բն. Խնկոյան և Ալ․ Մյասնիկյան փողոցների ասֆալտապատում՝ ջրահեռացման համակարգով, Տեր-Սիմոնյան, Պանրագործներ, Թորոսյան 1-ին նրբ․, Շվեցարական թաղ․ 1-ին նրբ․, Այգեստան թաղամաս, Գր․ Լուսավորիչ փողոցի և Ալ Մանուկյան 1-ին նրբ․ 11 շենքի բակային տարածքի ասֆալտապատում, Շիրակամուտ բն․ 3-րդ և 14-րդ փողոցների, Շենավան Խնկոյան բն․ կենտրոնական փողոցների, Կաթնաջուր բն․ 8-րդ փողոցի, Սարալանջ բն․ 2-րդ փողոցի, Հարթագյուղ բն․ 9-րդ փողոցի ասֆալտապատում /Շիրակամուտ,Կաթնաջուր/ | G138: 65286.3
F139: Սպիտակ համայնքի Սպիտակ բն․ Առափնյա թաղամասի և Դ․ Տեր-Սիմոնյան նրբանցքի, Սարամեջ բն․ 18-րդ փողոցի, Սարահարթ բն․ 5-րդ, 6-րդ և 15-րդ փողոցների, Նոր Խաչակապ բն․ 2-րդ փողոցի, Լեռնավան և Լուսաղբյուր բն․ փողոցների, Լեռնանցք և Շիրակամուտ բն․ գերեզմանատուն տանող ճանապարհների, Գոգարան բն․ 1-ին, 2-րդ և 3-րդ փողոցների, Գեղասար բն․ 6-րդ փողոցի, Ծաղկաբեր բն․ 1-ին փողոցի 3-րդ նրբ․ և 3-րդ փողոցի սալարկում տուֆ քարով, Ջրաշեն բն․ փողոցների, Մեծ Պարնի բն․ 3-րդ, 13-րդ և կենտրոնական փողոցների, Արևաշող բն․ 1-ին փողոցի 5-րդ, 8-րդ, 9-րդ և 13-րդ նրբանցքների սալարկում տուֆ քարով և ջրահեռացման համակարգով /Սարահարթ, Լեռնավան, Լեռնանցք բնակավայրեր/ | G139: 114370.5
F140: Շնող համայնքի Շնող բն․ 2-րդ, 6-րդ, 14-րդ, 15-րդ և 16-րդ փողոցների ջրաֆիկացում | G140: 28358.3
F141: Լոռի Բերդ համայնքի Ագարակ, Սվերդլով և Ուռուտ բն․ մանկապարտեզների շենքերի վերանորոգում /Ագարակ բնակավայր/ | G141: 10328.3
F142: Վանաձոր համայնքի Հրաչյա Ներսիսյան փողոցի հիմնանորոգում | G142: -43159.7
F143: Լերմոնտովո համայնքի Լերմոնտովո բնակավայրի ջրագծի փոխարինում | G143: 24180.5
F144: ՀՀ Կոտայքի մարզպետի աշխատակազմ | G144: =SUM(G146:G162) -> 1574784.3
F145: այդ թվում` ըստ ուղղությունների
F146: Ակունք համայնքի Ակունք բնակավայրի 21-րդ, Սուրբ Պողոս-Պետրոս եկեղեցական համալիր տանող ճանապարհի, Հատիս բնակավայրի 2-րդ, Կապուտան բնակավայրի 7-րդ, Նոր գյուղ բնակավայրի 2-րդ և 12-րդ, Սևաբերդ բնակավայրի 3-րդ, Զովաշեն բնակավայրի 1-ին փողոցների ասֆալտապատում | G146: 161125.3
F147: Ակունք համայնքի Զառ բնակավայրի Ռ․ Վասիլյան փողոցը մասնակի,Կոտայք բնակավայրի 4-րդ և 8-րդ փողոցների ասֆալտապատում | G147: 19580.6
F148: Նոր Հաճըն համայնքի Մրգաշեն բնակավայրի 2-րդ փողոցի 1-ին և 2-րդ հատվածների և 4-րդ փողոցի կոյուղագծերի վերակառուցում /Մրգաշեն բնակավայրի 2-րդ փողոցի 1-ին և 2-րդ հատվածների կոյուղագծերի վերակառուցում/ | G148: 20754.5
F149: Չարենցավան համայնքի Չարենցավան քաղաքի Ա. Գրիգորյանի անվան «Ծիծեռնակ»մսուր մանկապարտեզի շենքի մի մասնաշենքի հիմնանորոգում | G149: 140027.1
F150: Չարենցավան համայնքի Չարենցավան քաղաքի «Լուսաբաց» մսուր մանկապարտեզ ՀՈԱԿ-Ի վերակառուցում և գույքի ձեռք բերում | G150: 145623.9
F151: Գառնի համայնքի ճանապարհների ասֆալտապատում | G151: -7556.1
F152: Նաիրի համայնքի Եղվարդ քաղաքի, Քասախ, Պռոշյան, Արագյուղ բնակավայրերի խմելու ջրագծերի բարելավման աշխատանքներ /Եղվարդ/ | G152: 59957
F153: Նաիրի համայնքի Եղվարդ քաղաքի, Զովունի, Քասախ, Պռոշյան, Արագյուղ, Բուժական, Սարալանջ, Զորավան բնակավայրերի ասֆալտապատման աշխատանքներ/Զովունի/ | G153: 250991
F154: Նաիրի համայնքի «Զովունի մշակութային կենտրոն» ՀՈԱԿ-ի շենքի վերանորոգման աշխատանքներ | G154: 28828.4
F155: Նաիրի համայնքի Եղվարդ քաղաքում թեք տանիքների և շքամուտքերի վերանորոգում | G155: 106362.2
F156: Նաիրի համայնքի Եղվարդ քաղաքում ավտոկայանատեղիի կառուցում | G156: 38284.1
...

Sheet 5
K1: Հավելված N 5
K2: ՀՀ կառավարության 2025 թվականի
K3: ______________ ի ___Ն որոշման
B5: ՀԱՅԱՍՏԱՆԻ ՀԱՆՐԱՊԵՏՈՒԹՅԱՆ ԿԱՌԱՎԱՐՈՒԹՅԱՆ 2024 ԹՎԱԿԱՆԻ ԴԵԿՏԵՄԲԵՐԻ 27-Ի № 2060-Ն ՈՐՈՇՄԱՆ № 9 ՀԱՎԵԼՎԱԾՈՒՄ ԿԱՏԱՐՎՈՂ ՓՈՓՈԽՈՒԹՅՈՒՆՆԵՐԸ ԵՎ ԼՐԱՑՈՒՄՆԵՐԸ
K7: հազար դրամներով
B8: ԲԳԿ | C8: Ծրագիր | E8: Միջոցառում | I8: Իրականացնողը/ ակտիվն օգտագործողը/ շահառուի ընտրության չափորոշիչը | J8: Արդյունքային չափորոշիչը | K8: Ցուցանիշների փոփոխությունը (ավելացումները նշված են դրական նշանով
C9: Դասիչը | D9: Անվանումը | E9: Դասիչը | F9: Անվանումը | G9: Նկարագրությունը | H9: Տեսակը | K9: Տարի
B10: ԸՆԴԱՄԵՆԸ | K10: =K11+K39 -> 0
B11: ՀՀ տարածքային կառավարման և ենթակառուցվածքների նախարարություն | K11: =K12+K32 -> 12045691
C12: 1049 | D12: Ճանապարհային ցանցի բարելավում | K12: =K13+K18+K24+K28 -> 0
E13: 1049 - 11012 | F13: Եվրասիական զարգացման բանկի աջակցությամբ իրականացվող Հյուսիս-հարավ միջանցքի զարգացման ծրագրի համակարգում և կառավարում | K13: ='2'!H106 -> -287000
G14: Խորհրդատվական ծառայություններ և պահպանման ծախսեր
H15: Ծառայությունների մատուցում
I16: Ծառայությունը մատուցողի անվանումը` Մասնագիտացված միավոր
J17: Հողերի օտարում, շահառուների քանակ | K17: -180
E18: 1049 - 11017 | F18: Հյուսիս-հարավ ճանապարհային միջանցքի զարգացման ծրագրի Քաջարանի թունելի և մոտեցումների համակարգում և կառավարում | K18: ='3'!E30 -> -37356.7
G19: Խորհրդատվական ծառայություններ և պահպանման ծախսեր
H20: Ծառայությունների մատուցում
I21: Ծառայությունը մատուցողի անվանումը` Մասնագիտացված միավոր
J22: Հողերի օտարում, շահառուների քանակ | K22: -5
J23: Միջոցառման շրջանակներում իրականացվող ծախսերի կատարման տոկոս (ծրագրի սկզբից ներառյալ հաշվետու տարին) | K23: 2
E24: 1049 - 21006 | F24: Ասիական զարգացման բանկի աջակցությամբ իրականացվող Հյուսիս-հարավ միջանցքի զարգացման վարկային ծրագիր, Տրանշ 2 | K24: ='1'!H13 -> 422000
G25: Աշտարակ-Թալին 29+600կմ-71+500կմ հատվածի կառուցում
H26: Հանրության կողմից անմիջականորեն օգտագործվող ակտիվների հետ կապված միջոցառումներ
I27: Միջոցառումն իրականացնողի անվանումը` Մասնագիտացված միավոր
E28: 1049 - 21011 | F28: Ասիական զարգացման բանկի աջակցությամբ իրականացվող Հյուսիս-հարավ միջանցքի զարգացման վարկային ծրագիր, Տրանշ 3 | K28: ='1'!H14 -> -97643.3
G29: Հատված Թալին-Լանջիկ 71+500 կմ-90+200 կմ կառուցման շինարարական աշխատանքներ
H30: Հանրության կողմից անմիջականորեն օգտագործվող ակտիվների հետ կապված միջոցառումներ
I31: Միջոցառումն իրականացնողի անվանումը` Մասնագիտացված միավոր
C32: 1212 | D32: Տարածքային զարգացում | K32: =K33 -> 12045691
E33: 1212-12007 | F33: ՀՀ մարզերին սուբվենցիաների տրամադրում՝ ենթակառուցվածքների զարգացման նպատակով | K33: ='1'!H16 -> 12045691
G34: ՀՀ մարզերին սուբվենցիաների տրամադրում՝ ենթակառուցվածքների զարգացման նպատակով
H35: Տրանսֆերտների տրամադրում
I36: Շահառուների ընտրության չափորոշիչները` ՀՀ կառավարության 16.11.2006թ. «ՀՀ պետական բյուջեից համայնքներին սուբվենցիաների տրամադրման կարգը հաստատելու մասին» 1708-Ն որոշում
J37: ՀՀ համայնքների թիվը, հատ | K37: 2
J38: Ծրագրերի քանակ, հատ | K38: ='6'!K103+'6'!K96+'6'!K89+'6'!K82+'6'!K74+'6'!K67+'6'!K60+'6'!K52+'6'!K45+'6'!K37 -> 169
B39: ՀՀ կառավարություն | K39: =K40 -> -12045691
C40: 1139 | D40: ՀՀ կառավարության պահուստային ֆոնդ | K40: =K41+K45+K49 -> -12045691
E41: 1139 - 11001 | F41: ՀՀ կառավարության պահուստային ֆոնդ | K41: ='1'!H19 -> 12045691
G42: ՀՀ պետական բյուջեում նախատեսված ելքերի լրացուցիչ ֆինանսավորման, պետական բյուջեում չկանխատեսված ելքերի, ինչպես նաև բյուջետային երաշխիքների ապահովման ելքերի ֆինանսավորման ապահովում
H43: Ծառայությունների մատուցում
I44: Ծառայությունը մատուցողի անվանումը` ՀՀ կառավարություն
E45: 1139 - 11001 | F45: ՀՀ կառավարության պահուստային ֆոնդ | K45: ='1'!H20 -> -12045691
G46: ՀՀ պետական բյուջեում նախատեսված ելքերի լրացուցիչ ֆինանսավորման, պետական բյուջեում չկանխատեսված ելքերի, ինչպես նաև բյուջետային երաշխիքների ապահովման ելքերի ֆինանսավորման ապահովում
H47: Ծառայությունների մատուցում
I48: Ծառայությունը մատուցողի անվանումը` ՀՀ կառավարություն
E49: 1139 - 11003 | F49: Հարկաբյուջետային ռիսկերի կառավարման պահուստ | K49: ='1'!H21 -> -12045691
G50: Հարկաբյուջետային ռիսկերի կառավարման նպատակով նախատեսված միջոցներ
H51: Ծառայությունների մատուցում
I52: Ծառայությունը մատուցողի անվանումը` ՀՀ կառավարություն
D55: ՀԱՅԱՍՏԱՆԻ ՀԱՆՐԱՊԵՏՈՒԹՅԱՆ
D56: ՎԱՐՉԱՊԵՏԻ ԱՇԽԱՏԱԿԱԶՄԻ
E57: ՂԵԿԱՎԱՐ ՝ Ա. ՀԱՐՈՒԹՅՈՒՆՅԱՆ

Sheet 6
K1: Հավելված N 6
K2: ՀՀ կառավարության 2025 թվականի
K3: ______________ ի ___Ն որոշման
B5: ՀԱՅԱՍՏԱՆԻ ՀԱՆՐԱՊԵՏՈՒԹՅԱՆ ԿԱՌԱՎԱՐՈՒԹՅԱՆ 2024 ԹՎԱԿԱՆԻ ԴԵԿՏԵՄԲԵՐԻ 27-Ի № 2060-Ն ՈՐՈՇՄԱՆ № 9.1 ՀԱՎԵԼՎԱԾՈՒՄ ԿԱՏԱՐՎՈՂ ՓՈՓՈԽՈՒԹՅՈՒՆՆԵՐԸ ԵՎ ԼՐԱՑՈՒՄՆԵՐԸ
K6: հազար դրամներով
B7: ԲՍԿ | C7: Ծրագիր | E7: Միջոցառում | I7: Իրականացնողը/ ակտիվն օգտագործողը/ շահառուի ընտրության չափորոշիչը | J7: Արդյունքային չափորոշիչը | K7: Ցուցանիշների փոփոխությունը (ավելացումները նշված են դրական նշանով, իսկ նվազեցումները` փակագծերում)
C8: Դասիչը | D8: Անվանումը | E8: Դասիչը | F8: Անվանումը | G8: Նկարագրությունը | H8: Տեսակը | K8: Տարի
B9: ԸՆԴԱՄԵՆԸ | K9: =K10+K31+K39+K46+K54+K61+K68+K76+K83+K90+K97+K104 -> 0
B10: ՀՀ տարածքային կառավարման և ենթակառուցվածքների նախարարություն | K10: =K11 -> 0
C11: 1049 | D11: Ճանապարհային ցանցի բարելավում | K11: =K12+K17+K23+K27 -> 0
E12: 1049 - 11012 | F12: Եվրասիական զարգացման բանկի աջակցությամբ իրականացվող Հյուսիս-հարավ միջանցքի զարգացման ծրագրի համակարգում և կառավարում | K12: ='5'!K13 -> -287000
G13: Խորհրդատվական ծառայություններ և պահպանման ծախսեր
H14: Ծառայությունների մատուցում
I15: Ծառայությունը մատուցողի անվանումը` Մասնագիտացված միավոր
J16: Հողերի օտարում, շահառուների քանակ | K16: -180
E17: 1049 - 11017 | F17: Հյուսիս-հարավ ճանապարհային միջանցքի զարգացման ծրագրի Քաջարանի թունելի և մոտեցումների համակարգում և կառավարում | K17: ='5'!K18 -> -37356.7
G18: Խորհրդատվական ծառայություններ և պահպանման ծախսեր
H19: Ծառայությունների մատուցում
I20: Ծառայությունը մատուցողի անվանումը` Մասնագիտացված միավոր
J21: Հողերի օտարում, շահառուների քանակ | K21: -5
J22: Միջոցառման շրջանակներում իրականացվող ծախսերի կատարման տոկոս (ծրագրի սկզբից ներառյալ հաշվետու տարին) | K22: 2
E23: 1049 - 21006 | F23: Ասիական զարգացման բանկի աջակցությամբ իրականացվող Հյուսիս-հարավ միջանցքի զարգացման վարկային ծրագիր, Տրանշ 2 | K23: ='5'!K24 -> 422000
G24: Աշտարակ-Թալին 29+600կմ-71+500կմ հատվածի կառուցում
H25: Հանրության կողմից անմիջականորեն օգտագործվող ակտիվների հետ կապված միջոցառումներ
I26: Միջոցառումն իրականացնողի անվանումը` Մասնագիտացված միավոր
E27: 1049 - 21011 | F27: Ասիական զարգացման բանկի աջակցությամբ իրականացվող Հյուսիս-հարավ միջանցքի զարգացման վարկային ծրագիր, Տրանշ 3 | K27: ='5'!K28 -> -97643.3
G28: Հատված Թալին-Լանջիկ 71+500 կմ-90+200 կմ կառուցման շինարարական աշխատանքներ
H29: Հանրության կողմից անմիջականորեն օգտագործվող ակտիվների հետ կապված միջոցառումներ
I30: Միջոցառումն իրականացնողի անվանումը` Մասնագիտացված միավոր
B31: ՀՀ Արագածոտնի մարզպետի աշխատակազմ | K31: =K32 -> 1423953.4
C32: 1212 | D32: Տարածքային զարգացում | K32: =K33 -> 1423953.4
E33: 1212-12007 | F33: ՀՀ մարզերին սուբվենցիաների տրամադրում՝ ենթակառուցվածքների զարգացման նպատակով | K33: ='2'!H26 -> 1423953.4
G34: ՀՀ մարզերին սուբվենցիաների տրամադրում՝ ենթակառուցվածքների զարգացման նպատակով
H35: Տրանսֆերտների տրամադրում
I36: Շահառուների ընտրության չափորոշիչները` ՀՀ կառավարության 16.11.2006թ. «ՀՀ պետական բյուջեից համայնքներին սուբվենցիաների տրամադրման կարգը հաստատելու մասին» 1708-Ն որոշում
J37: Ծրագրերի քանակ, հատ | K37: 14
J38: ՀՀ համայնքների թիվը, հատ | K38: 1
B39: ՀՀ Արարատի մարզպետի աշխատակազմ | K39: =K40 -> 899972.3
C40: 1212 | D40: Տարածքային զարգացում | K40: =K41 -> 899972.3
E41: 1212-12007 | F41: ՀՀ մարզերին սուբվենցիաների տրամադրում՝ ենթակառուցվածքների զարգացման նպատակով | K41: ='2'!H33 -> 899972.3
G42: ՀՀ մարզերին սուբվենցիաների տրամադրում՝ ենթակառուցվածքների զարգացման նպատակով
H43: Տրանսֆերտների տրամադրում
I44: Շահառուների ընտրության չափորոշիչները` ՀՀ կառավարության 16.11.2006թ. «ՀՀ պետական բյուջեից համայնքներին սուբվենցիաների տրամադրման կարգը հաստատելու մասին» 1708-Ն որոշում
J45: Ծրագրերի քանակ, հատ | K45: 7
B46: ՀՀ Արմավիրի մարզպետի աշխատակազմ | K46: =K47 -> 1248770
C47: 1212 | D47: Տարածքային զարգացում | K47: =K48 -> 1248770
E48: 1212-12007 | F48: ՀՀ մարզերին սուբվենցիաների տրամադրում՝ ենթակառուցվածքների զարգացման նպատակով | K48: ='2'!H40 -> 1248770
G49: ՀՀ մարզերին սուբվենցիաների տրամադրում՝ ենթակառուցվածքների զարգացման նպատակով
H50: Տրանսֆերտների տրամադրում
I51: Շահառուների ընտրության չափորոշիչները` ՀՀ կառավարության 16.11.2006թ. «ՀՀ պետական բյուջեից համայնքներին սուբվենցիաների տրամադրման կարգը հաստատելու մասին» 1708-Ն որոշում
J52: Ծրագրերի քանակ, հատ | K52: 38
J53: ՀՀ համայնքների թիվը, հատ | K53: -1
B54: ՀՀ Գեղարքունիքի մարզպետի աշխատակազմ | K54: =K55 -> 3435646.8
C55: 1212 | D55: Տարածքային զարգացում | K55: =K56 -> 3435646.8
E56: 1212-12007 | F56: ՀՀ մարզերին սուբվենցիաների տրամադրում՝ ենթակառուցվածքների զարգացման նպատակով | K56: ='2'!H47 -> 3435646.8
G57: ՀՀ մարզերին սուբվենցիաների տրամադրում՝ ենթակառուցվածքների զարգացման նպատակով
H58: Տրանսֆերտների տրամադրում
I59: Շահառուների ընտրության չափորոշիչները` ՀՀ կառավարության 16.11.2006թ. «ՀՀ պետական բյուջեից համայնքներին սուբվենցիաների տրամադրման կարգը հաստատելու մասին» 1708-Ն որոշում
J60: Ծրագրերի քանակ, հատ | K60: 29
B61: ՀՀ Լոռու մարզպետի աշխատակազմ | K61: =K62 -> 365753
C62: 1212 | D62: Տարածքային զարգացում | K62: =K63 -> 365753
E63: 1212-12007 | F63: ՀՀ մարզերին սուբվենցիաների տրամադրում՝ ենթակառուցվածքների զարգացման նպատակով | K63: ='2'!H54 -> 365753
G64: ՀՀ մարզերին սուբվենցիաների տրամադրում՝ ենթակառուցվածքների զարգացման նպատակով
H65: Տրանսֆերտների տրամադրում
I66: Շահառուների ընտրության չափորոշիչները` ՀՀ կառավարության 16.11.2006թ. «ՀՀ պետական բյուջեից համայնքներին սուբվենցիաների տրամադրման կարգը հաստատելու մասին» 1708-Ն որոշում
J67: Ծրագրերի քանակ, հատ | K67: 9
B68: ՀՀ Կոտայքի մարզպետի աշխատակազմ | K68: =K69 -> 1574784.3
C69: 1212 | D69: Տարածքային զարգացում | K69: =K70 -> 1574784.3
E70: 1212-12007 | F70: ՀՀ մարզերին սուբվենցիաների տրամադրում՝ ենթակառուցվածքների զարգացման նպատակով | K70: ='2'!H61 -> 1574784.3
G71: ՀՀ մարզերին սուբվենցիաների տրամադրում՝ ենթակառուցվածքների զարգացման նպատակով
H72: Տրանսֆերտների տրամադրում
I73: Շահառուների ընտրության չափորոշիչները` ՀՀ կառավարության 16.11.2006թ. «ՀՀ պետական բյուջեից համայնքներին սուբվենցիաների տրամադրման կարգը հաստատելու մասին» 1708-Ն որոշում
J74: Ծրագրերի քանակ, հատ | K74: 16
J75: ՀՀ համայնքների թիվը, հատ | K75: 2
B76: ՀՀ Շիրակի մարզպետի աշխատակազմ | K76: =K77 -> 1500909
C77: 1212 | D77: Տարածքային զարգացում | K77: =K78 -> 1500909
E78: 1212-12007 | F78: ՀՀ մարզերին սուբվենցիաների տրամադրում՝ ենթակառուցվածքների զարգացման նպատակով | K78: ='2'!H68 -> 1500909
G79: ՀՀ մարզերին սուբվենցիաների տրամադրում՝ ենթակառուցվածքների զարգացման նպատակով
H80: Տրանսֆերտների տրամադրում
I81: Շահառուների ընտրության չափորոշիչները` ՀՀ կառավարության 16.11.2006թ. «ՀՀ պետական բյուջեից համայնքներին սուբվենցիաների տրամադրման կարգը հաստատելու մասին» 1708-Ն որոշում
J82: Ծրագրերի քանակ, հատ | K82: 24
B83: ՀՀ Սյունիքի մարզպետի աշխատակազմ | K83: =K84 -> 472609.8
C84: 1212 | D84: Տարածքային զարգացում | K84: =K85 -> 472609.8
E85: 1212-12007 | F85: ՀՀ մարզերին սուբվենցիաների տրամադրում՝ ենթակառուցվածքների զարգացման նպատակով | K85: ='2'!H75 -> 472609.8
G86: ՀՀ մարզերին սուբվենցիաների տրամադրում՝ ենթակառուցվածքների զարգացման նպատակով
H87: Տրանսֆերտների տրամադրում
I88: Շահառուների ընտրության չափորոշիչները` ՀՀ կառավարության 16.11.2006թ. «ՀՀ պետական բյուջեից համայնքներին սուբվենցիաների տրամադրման կարգը հաստատելու մասին» 1708-Ն որոշում
J89: Ծրագրերի քանակ, հատ | K89: 7
B90: ՀՀ Վայոց ձորի մարզպետի աշխատակազմ | K90: =K91 -> 283041.5
C91: 1212 | D91: Տարածքային զարգացում | K91: =K92 -> 283041.5
E92: 1212-12007 | F92: ՀՀ մարզերին սուբվենցիաների տրամադրում՝ ենթակառուցվածքների զարգացման նպատակով | K92: ='2'!H82 -> 283041.5
G93: ՀՀ մարզերին սուբվենցիաների տրամադրում՝ ենթակառուցվածքների զարգացման նպատակով
H94: Տրանսֆերտների տրամադրում
I95: Շահառուների ընտրության չափորոշիչները` ՀՀ կառավարության 16.11.2006թ. «ՀՀ պետական բյուջեից համայնքներին սուբվենցիաների տրամադրման կարգը հաստատելու մասին» 1708-Ն որոշում
J96: Ծրագրերի քանակ, հատ | K96: 11
B97: ՀՀ Տավուշի մարզպետի աշխատակազմ | K97: =K98 -> 840250.5
C98: 1212 | D98: Տարածքային զարգացում | K98: =K99 -> 840250.5
E99: 1212-12007 | F99: ՀՀ մարզերին սուբվենցիաների տրամադրում՝ ենթակառուցվածքների զարգացման նպատակով | K99: ='2'!H89 -> 840250.5
G100: ՀՀ մարզերին սուբվենցիաների տրամադրում՝ ենթակառուցվածքների զարգացման նպատակով
H101: Տրանսֆերտների տրամադրում
...
