Workbook

Sheet 1
A1: Հավելված N 1
A2: ՀՀ կառավարության 2025 թվականի
A3: ______________ ի ___Ն որոշման
B4: ՀԱՅԱՍՏԱՆԻ ՀԱՆՐԱՊԵՏՈՒԹՅԱՆ 2025 ԹՎԱԿԱՆԻ ՊԵՏԱԿԱՆ ԲՅՈՒՋԵԻ ՄԱՍԻՆ» ՕՐԵՆՔԻ N 1 ՀԱՎԵԼՎԱԾԻ N 2 ԱՂՅՈՒՍԱԿՈՒՄ ԿԱՏԱՐՎՈՂ ՎԵՐԱԲԱՇԽՈՒՄԸ ԵՎ ՀԱՅԱՍՏԱՆԻ ՀԱՆՐԱՊԵՏՈՒԹՅԱՆ ԿԱՌԱՎԱՐՈՒԹՅԱՆ 2024 ԹՎԱԿԱՆԻ ԴԵԿՏԵՄԲԵՐԻ 27-Ի N 2060-Ն ՈՐՈՇՄԱՆ N 5 ՀԱՎԵԼՎԱԾԻ N 1 ԱՂՅՈՒՍԱԿՈՒՄ ԿԱՏԱՐՎՈՂ ՓՈՓՈԽՈՒԹՅՈՒՆՆԵՐԸ ԵՎ ԼՐԱՑՈՒՄՆԵՐԸ
H5: հազար դրամներով
B6: ԲԳԿ | C6: Ծրագրային դասիչը | E6: ԲԳԿ/Ծրագրի /միջոցառման անվանումը | F6: Ծրագրի նպատակը/Միջոցառման նկարագրությունը | G6: Վերջնական արդյունքի նկարագրությունը/Միջոցառման տեսակը | H6: Ցուցանիշների փոփոխությունը (ավելացումները նշված են դրական նշանով, իսկ նվազեցումները` փակագծերում)
C7: Ծրագիր | D7: Միջոցառում | H7: Տարի
B8: ԸՆԴԱՄԵՆԸ | H8: =H9+H17 -> 0
B9: ՀՀ տարածքային կառավարման և ենթակառուցվածքների նախարարություն | H9: =H10+H15 -> 12045691
C10: 1049 | E10: Ճանապարհային ցանցի բարելավում | F10: Ճանապարհային ցանցի բարելավում և անվտանգ երթևեկության ապահովում | G10: Ճանապարհների ծածկի որակի և փոխադրումների արդյունավետության բարելավում, ճանապարհների վիճակով պայմանավորված պատահարների նվազում | H10: 0
D11: 1049 - 11012 | E11: Եվրասիական զարգացման բանկի աջակցությամբ իրականացվող Հյուսիս-հարավ միջանցքի զարգացման ծրագրի համակարգում և կառավարում | F11: Խորհրդատվական ծառայություններ և պահպանման ծախսեր | G11: Ծառայությունների մատուցում | H11: -287000
D12: 1049 - 11017 | E12: Հյուսիս-հարավ ճանապարհային միջանցքի զարգացման ծրագրի Քաջարանի թունելի և մոտեցումների համակարգում և կառավարում | F12: Խորհրդատվական ծառայություններ և պահպանման ծախսեր | G12: Ծառայությունների մատուցում | H12: -37356.7
D13: 1049 - 21006 | E13: Ասիական զարգացման բանկի աջակցությամբ իրականացվող Հյուսիս-հարավ միջանցքի զարգացման վարկային ծրագիր, Տրանշ 2 | F13: Աշտարակ-Թալին 29+600կմ-71+500կմ հատվածի կառուցում | G13: Հանրության կողմից անմիջականորեն օգտագործվող ակտիվների հետ կապված միջոցառումներ | H13: 422000
D14: 1049 - 21011 | E14: Ասիական զարգացման բանկի աջակցությամբ իրականացվող Հյուսիս-հարավ միջանցքի զարգացման վարկային ծրագիր, Տրանշ 3 | F14: Հատված Թալին-Լանջիկ 71+500 կմ-90+200 կմ կառուցման շինարարական աշխատանքներ | G14: Հանրության կողմից անմիջականորեն օգտագործվող ակտիվների հետ կապված միջոցառումներ | H14: -97643.3
C15: 1212 | E15: Տարածքային զարգացում | F15: Տարածքային համաչափ զարգացման խթանում | G15: ՀՀ համայնքների կառավարման արդյունավետության բարձրացում և տնտեսական գործունեության խթանում | H15: =H16 -> 12045691
D16: 1212-12007 | E16: ՀՀ մարզերին սուբվենցիաների տրամադրում՝ ենթակառուցվածքների զարգացման նպատակով | F16: ՀՀ մարզերին սուբվենցիաների տրամադրում՝ ենթակառուցվածքների զարգացման նպատակով | G16: Տրանսֆերտների տրամադրում | H16: ='2'!H24 -> 12045691
B17: ՀՀ կառավարություն | H17: =H18 -> -12045691
C18: 1139 | E18: ՀՀ կառավարության պահուստային ֆոնդ | F18: Պետական բյուջեում չկանխատեսված, ինչպես նաեւ բյուջետային երաշխիքների ապահովման ծախսերի ֆինանսավորման ապահովում | G18: Պահուստային ֆոնդի կառավարման արդյունավետության և թափանցիկության ապահովում | H18: =H19+H20+H21 -> -12045691
D19: 1139 - 11001 | E19: ՀՀ կառավարության պահուստային ֆոնդ | F19: ՀՀ պետական բյուջեում նախատեսված ելքերի լրացուցիչ ֆինանսավորման, պետական բյուջեում չկանխատեսված ելքերի, ինչպես նաև բյուջետային երաշխիքների ապահովման ելքերի ֆինանսավորման ապահովում | G19: Ծառայությունների մատուցում | H19: =-H20 -> 12045691
D20: 1139 - 11001 | E20: ՀՀ կառավարության պահուստային ֆոնդ | F20: ՀՀ պետական բյուջեում նախատեսված ելքերի լրացուցիչ ֆինանսավորման, պետական բյուջեում չկանխատեսված ելքերի, ինչպես նաև բյուջետային երաշխիքների ապահովման ելքերի ֆինանսավորման ապահովում | G20: Ծառայությունների մատուցում | H20: =H21 -> -12045691
D21: 1139 - 11003 | E21: Հարկաբյուջետային ռիսկերի կառավարման պահուստ | F21: Հարկաբյուջետային ռիսկերի կառավարման նպատակով նախատեսված միջոցներ | G21: Ծառայությունների մատուցում | H21: =-'2'!H24 -> -12045691
D23: ՀԱՅԱՍՏԱՆԻ ՀԱՆՐԱՊԵՏՈՒԹՅԱՆ ՎԱՐՉԱՊԵՏԻ ԱՇԽԱՏԱԿԱԶՄԻ ՂԵԿԱՎԱՐ՝ | F23: Ա.ՀԱՐՈՒԹՅՈՒՆՅԱՆ

Sheet 2
H1: Հավելված N2
H2: ՀՀ կառավարության 2025 թվականի
H3: ______________ ի ___Ն որոշման
B5: ՀԱՅԱՍՏԱՆԻ ՀԱՆՐԱՊԵՏՈՒԹՅԱՆ ԿԱՌԱՎԱՐՈՒԹՅԱՆ 2024 ԹՎԱԿԱՆԻ ԴԵԿՏԵՄԲԵՐԻ 27-Ի N 2060-Ն ՈՐՈՇՄԱՆ NN 3 ԵՎ 4 ՀԱՎԵԼՎԱԾՆԵՐՈՒՄ ԿԱՏԱՐՎՈՂ ՓՈՓՈԽՈՒԹՅՈՒՆՆԵՐԸ ԵՎ ԼՐԱՑՈՒՄՆԵՐԸ
H7: հազար դրամներով
B8: Գործառական դասիչը | E8: Ծրագրային դասիչը | G8: Բյուջետային հատկացումների գլխավոր կարգադրիչների, ծրագրերի, միջոցառումների և միջոցառումները կատարող պետական մարմինների անվանումները | H8: Ցուցանիշների փոփոխությունը (ավելացումները նշված են դրական նշանով, իսկ նվազեցումները` փակագծերում)
B9: Բաժին | C9: Խումբ | D9: Դաս | E9: Ծրագիր | F9: Միջոցառում | H9: Տարի
G10: ԸՆԴԱՄԵՆԸ | H10: =H12+H144 -> 0
G11: այդ թվում`
G12: ՀՀ տարածքային կառավարման և ենթակառուցվածքների նախարարություն | H12: =H14+H96 -> 12045691
G13: այդ թվում`
B14: 01 | G14: ԸՆԴՀԱՆՈՒՐ ԲՆՈՒՅԹԻ ՀԱՆՐԱՅԻՆ ԾԱՌԱՅՈՒԹՅՈՒՆՆԵՐ | H14: =H16 -> 12045691
G15: այդ թվում`
C16: 08 | G16: Կառավարության տարբեր մակարդակների միջև իրականացվող ընդհանուր բնույթի տրանսֆերտներ | H16: =H18 -> 12045691
G17: այդ թվում`
D18: 01 | G18: Կառավարության տարբեր մակարդակների միջև իրականացվող ընդհանուր բնույթի տրանսֆերտներ | H18: =H20 -> 12045691
G19: այդ թվում`
G20: ՀՀ տարածքային կառավարման և ենթակառուցվածքների նախարարություն | H20: =H22 -> 12045691
G21: այդ թվում`
E22: 1212 | G22: Տարածքային զարգացում | H22: =H24 -> 12045691
G23: այդ թվում
F24: 12007 | G24: ՀՀ մարզերին սուբվենցիաների տրամադրում` ենթակառուցվածքների զարգացման նպատակով | H24: =H26+H33+H40+H47+H54+H61+H68+H75+H82+H89 -> 12045691
G25: այդ թվում` ըստ կատարողների
G26: ՀՀ Արագածոտնի մարզպետի աշխատակազմ | H26: =H28 -> 1423953.4
G27: այդ թվում` բյուջետային ծախսերի տնտեսագիտական դասակարգման հոդվածներ
G28: ԸՆԴԱՄԵՆԸ ԾԱԽՍԵՐ | H28: =H29 -> 1423953.4
G29: ԸՆԹԱՑԻԿ ԾԱԽՍԵՐ | H29: =H30 -> 1423953.4
G30: ԴՐԱՄԱՇՆՈՐՀՆԵՐ | H30: =H31 -> 1423953.4
G31: Կապիտալ դրամաշնորհներ պետական հատվածի այլ մակարդակներին | H31: =H32 -> 1423953.4
G32: - Կապիտալ սուբվենցիաներ համայնքներին | H32: ='4'!G18 -> 1423953.4
G33: ՀՀ Արարատի մարզպետի աշխատակազմ | H33: =H35 -> 899972.3
G34: այդ թվում` բյուջետային ծախսերի տնտեսագիտական դասակարգման հոդվածներ
G35: ԸՆԴԱՄԵՆԸ ԾԱԽՍԵՐ | H35: =H36 -> 899972.3
G36: ԸՆԹԱՑԻԿ ԾԱԽՍԵՐ | H36: =H37 -> 899972.3
G37: ԴՐԱՄԱՇՆՈՐՀՆԵՐ | H37: =H38 -> 899972.3
G38: Կապիտալ դրամաշնորհներ պետական հատվածի այլ մակարդակներին | H38: =H39 -> 899972.3
G39: - Կապիտալ սուբվենցիաներ համայնքներին | H39: ='4'!G35 -> 899972.3
G40: ՀՀ Արմավիրի մարզպետի աշխատակազմ | H40: =H42 -> 1248770
G41: այդ թվում` բյուջետային ծախսերի տնտեսագիտական դասակարգման հոդվածներ
G42: ԸՆԴԱՄԵՆԸ ԾԱԽՍԵՐ | H42: =H43 -> 1248770
...

Sheet 3
G1: Հավելված N3
G2: ՀՀ կառավարության 2025 թվականի
G3: ______________ ի ___Ն որոշման
B5: «ՀԱՅԱՍՏԱՆԻ ՀԱՆՐԱՊԵՏՈՒԹՅԱՆ 2025 ԹՎԱԿԱՆԻ ՊԵՏԱԿԱՆ ԲՅՈՒՋԵԻ ՄԱՍԻՆ» ՀԱՅԱՍՏԱՆԻ ՀԱՆՐԱՊԵՏՈՒԹՅԱՆ ՕՐԵՆՔԻ N 1 ՀԱՎԵԼՎԱԾԻ N 4 ԱՂՅՈՒՍԱԿՈՒՄ ԵՎ ՀԱՅԱՍՏԱՆԻ ՀԱՆՐԱՊԵՏՈՒԹՅԱՆ ԿԱՌԱՎԱՐՈՒԹՅԱՆ 2024 ԹՎԱԿԱՆԻ ԴԵԿՏԵՄԲԵՐԻ 27-Ի N 2060-Ն ՈՐՈՇՄԱՆ N 5 ՀԱՎԵԼՎԱԾԻ N 3 ԱՂՅՈՒՍԱԿՈՒՄ ԿԱՏԱՐՎՈՂ ՓՈՓՈԽՈՒԹՅՈՒՆՆԵՐԸ ԵՎ ԼՐԱՑՈՒՄՆԵՐԸ
G7: հազար դրամներով
B8: Ծրագրային դասիչը | D8: Բյուջետային հատկացումների գլխավոր կարգադրիչների, ծրագրերի, միջոցառումների և միջոցառումները կատարող պետական մարմինների անվանումները | E8: Ցուցանիշների փոփոխությունը (ավելացումները նշված են դրական նշանով, իսկ նվազեցումները` փակագծերում)
E10: Տարի
B11: ծրագիրը | C11: միջոցառումը | E11: ընդամենը | F11: այդ թվում՝
F12: վարկային միջոցներ | G12: համաֆինան_x000D_ սավորում
D13: ԸՆԴԱՄԵՆԸ | E13: =F13+G13 -> 0 | F13: =F15+F16 -> 0 | G13: =G15+G16 -> 0
D14: այդ թվում`
D15: - ԸՆԹԱՑԻԿ ԾԱԽՍԵՐ | E15: -324356.7 | F15: 0 | G15: -324356.7
D16: - ՈՉ ՖԻՆԱՆՍԱԿԱՆ ԱԿՏԻՎՆԵՐԻ ԳԾՈՎ ԾԱԽՍԵՐ | E16: 324356.7 | F16: 0 | G16: 324356.7
D17: ՀՀ տարածքային կառավարման և ենթակառուցվածքների նախարարություն | E17: =E19 -> 0 | F17: =F19 -> 0 | G17: =G19 -> 0
D18: այդ թվում`
B19: 1049 | D19: Ճանապարհային ցանցի բարելավում | E19: =F19+G19 -> 0 | F19: =F21 -> 0 | G19: =G21+G30+G39+G50 -> 0
D20: այդ թվում`
C21: 11012 | D21: Եվրասիական զարգացման բանկի աջակցությամբ իրականացվող Հյուսիս-հարավ միջանցքի զարգացման ծրագրի համակարգում և կառավարում | E21: =F21+G21 -> -287000 | F21: =F23 -> 0 | G21: =G23 -> -287000
D22: այդ թվում` ըստ կատարողների
D23: ՀՀ տարածքային կառավարման և ենթակառուցվածքների նախարարություն | E23: =F23+G23 -> -287000 | F23: =F25 -> 0 | G23: =G25 -> -287000
D24: այդ թվում` բյուջետային ծախսերի տնտեսագիտական դասակարգման հոդվածներ
D25: ԸՆԴԱՄԵՆԸ ԾԱԽՍԵՐ | E25: =F25+G25 -> -287000 | F25: =F26 -> 0 | G25: =G26 -> -287000
D26: ԸՆԹԱՑԻԿ ԾԱԽՍԵՐ | E26: =F26+G26 -> -287000 | F26: =F27 -> 0 | G26: =G27 -> -287000
D27: ԴՐԱՄԱՇՆՈՐՀՆԵՐ | E27: =F27+G27 -> -287000 | F27: =F28 -> 0 | G27: =G28 -> -287000
D28: Կապիտալ դրամաշնորհներ պետական հատվածի այլ մակարդակներին | E28: =F28+G28 -> -287000 | F28: =F29 -> 0 | G28: =G29 -> -287000
D29: - Այլ կապիտալ դրամաշնորհներ | E29: =F29+G29 -> -287000 | F29: 0 | G29: -287000
C30: 11017 | D30: Հյուսիս-հարավ ճանապարհային միջանցքի զարգացման ծրագրի Քաջարանի թունելի և մոտեցումների համակարգում և կառավարում | E30: =F30+G30 -> -37356.7 | G30: =G32 -> -37356.7
D31: այդ թվում` ըստ կատարողների
D32: ՀՀ տարածքային կառավարման և ենթակառուցվածքների նախարարություն | E32: =F32+G32 -> -37356.7 | G32: =G34 -> -37356.7
D33: այդ թվում` բյուջետային ծախսերի տնտեսագիտական դասակարգման հոդվածներ
D34: ԸՆԴԱՄԵՆԸ ԾԱԽՍԵՐ | E34: =F34+G34 -> -37356.7 | G34: =G35 -> -37356.7
D35: ԸՆԹԱՑԻԿ ԾԱԽՍԵՐ | E35: =F35+G35 -> -37356.7 | G35: =G36 -> -37356.7
D36: ԴՐԱՄԱՇՆՈՐՀՆԵՐ | E36: =F36+G36 -> -37356.7 | G36: =G37 -> -37356.7
D37: Կապիտալ դրամաշնորհներ պետական հատվածի այլ մակարդակներին | E37: =F37+G37 -> -37356.7 | G37: =G38 -> -37356.7
D38: - Այլ կապիտալ դրամաշնորհներ | E38: =F38+G38 -> -37356.7 | G38: -37356.7
C39: 21006 | D39: Ասիական զարգացման բանկի աջակցությամբ իրականացվող Հյուսիս-հարավ միջանցքի զարգացման վարկային ծրագիր, Տրանշ 2 | E39: =F39+G39 -> 422000 | F39: 0 | G39: =G41 -> 422000
D40: այդ թվում` ըստ կատարողների
D41: ՀՀ տարածքային կառավարման և ենթակառուցվածքների նախարարություն | E41: =F41+G41 -> 422000 | F41: 0 | G41: =G43 -> 422000
D42: այդ թվում` բյուջետային ծախսերի տնտեսագիտական դասակարգման հոդվածներ
D43: ԸՆԴԱՄԵՆԸ ԾԱԽՍԵՐ | E43: =F43+G43 -> 422000 | F43: 0 | G43: =G44 -> 422000
...

Sheet 4
G1: Հավելված № 4
F2: ՀՀ կառավարության 2025 թվականի
G3: N ------------ -Ն որոշման
D4: «ՀԱՅԱՍՏԱՆԻ ՀԱՆՐԱՊԵՏՈՒԹՅԱՆ 2025 ԹՎԱԿԱՆԻ ՊԵՏԱԿԱՆ ԲՅՈՒՋԵԻ ՄԱՍԻՆ» ՕՐԵՆՔԻ N 1 ՀԱՎԵԼՎԱԾԻ N 7 ԱՂՅՈՒՍԱԿՈՒՄ ԼՐԱՑՈՒՄԸ ԵՎ ՓՈՓՈԽՈՒԹՅՈՒՆԸ,ՀԱՅԱՍՏԱՆԻ ՀԱՆՐԱՊԵՏՈՒԹՅԱՆ ԿԱՌԱՎԱՐՈՒԹՅԱՆ 2024 ԹՎԱԿԱՆԻ ԴԵԿՏԵՄԲԵՐԻ 27-Ի N 2060-Ն ՈՐՈՇՄԱՆ N 5 ՀԱՎԵԼՎԱԾԻ N 6 ԱՂՅՈՒՍԱԿՈՒՄ ԿԱՏԱՐՎՈՂ ՓՈՓՈԽՈՒԹՅՈՒՆՆԵՐԸ ԵՎ ԼՐԱՑՈՒՄՆԵՐԸ
G5: հազար դրամներով
D6: Ծրագրային դասիչը | F6: Հատկացումների տրամադրման նպատակները և բյուջետային գլխավոր կարգադրիչների, ծրագրերի, միջոցառումների և կատարող պետական մարմնի անվանումները | G6: Ցուցանիշների փոփոխությունը (ավելացումները նշված են դրական նշանով, իսկ նվազեցումները` փակագծերում)
D7: Ծրագիր | E7: Միջոցառում | G7: Տարի
F8: ԸՆԴԱՄԵՆԸ | G8: =G10 -> 12045691
F9: այդ թվում
F10: Կապիտալ սուբվենցիաներ համայնքներին | G10: =G12 -> 12045691
F11: այդ թվում`
F12: ՀՀ տարածքային կառավարման և ենթակառուցվածքների նախարարություն | G12: =G14 -> 12045691
F13: այդ թվում`
D14: 1212 | F14: Տարածքային զարգացում | G14: =G16 -> 12045691
F15: այդ թվում`
E16: 12007 | F16: ՀՀ մարզերին սուբվենցիաների տրամադրում՝ ենթակառուցվածքների զարգացման նպատակով | G16: =G18+G35+G48+G132+G144+G163+G203+G189+G90+G216 -> 12045691
F17: այդ թվում` ըստ կատարողների
F18: ՀՀ Արագածոտնի մարզպետի աշխատակազմ | G18: =SUM(G20:G34) -> 1423953.4
F19: այդ թվում` ըստ ուղղությունների
F20: Թալին համայնքի Ագարակավան, Կաքավաձոր, Աշնակ, Մաստարա, Կաթնաղբյուր, Արտենի բնակավայրերում խմելաջրի ցանցերի հիմնանորոգում /Ագարակավան, Կաքավաձոր և Կաթնաղբյուր բնակավայրեր/ | G20: 202000.2
F21: Թալին համայնքիԿարմրաշեն, Ոսկեթաս, Զովասար, Գառնահովիտ, Ներքին Սասնաշեն, Վերին Սասնաշեն բնակավայրերի գազիֆիկացում /1-ին փուլ/ /Կարմրաշեն, Ոսկեթաս, Զովասար, Գառնահովիտ բնակավայրեր/ | G21: 138869.8
F22: Թալին համայնքի Թալին և Կաթնաղբյուր բնակավայրերում մանկապարտեզների վերակառուցում /Թալին բնակավայրի թիվ 2 մանկապարտեզ/ | G22: 104055
F23: Թալին համայնքի Զարինջա, Կարմրաշեն, Ոսկեթաս, Զովասար, Ցամաքասար, Ներքին Սասնաշեն բնակավայրերում խմելաջրի ցանցերի հիմնանորոգում, Շղարշիկ բնակավայրում ՕԿՋ-ի, Ներքին Բազմաբերդ բնակավայրը սնուցող ջրատարի կառուցման աշխատանքներ /Կարմրաշեն, Ոսկեթաս, Զովասար բնակավայրեր/ | G23: 77729.1
F24: Թալին համայնքի Մաստարա, Ներքին Բազմաբերդ, Գետափ, Իրինդ բնակավայրերում ոռոգման համակարգերի հիմնանորոգման աշխատանքներ /Մաստարա, Ներքին Բազմաբերդ և Իրինդ բնակավայրեր/ | G24: 195825
F25: Թալին համայնքի Կարմրաշեն, Ոսկեթաս, Զովասար, Վերին Սասնաշեն, Ներքին Սասնաշեն, Վերին Բազմաբերդ և Շղարշիկ բնակավայրերում գազիֆիկացման աշխատանքներ | G25: 219924.9
F26: Թալին համայնքի Մաստարա, Ներքին Բազմաբերդ, Գետափ, Իրինդ բնակավայրերում ոռոգման համակարգերի հիմնանորոգման աշխատանքներ /Գետափ բնակավայր/ | G26: 66099.9
F27: Թալին համայնքի Զարինջա, Կարմրաշեն, Ոսկեթաս, Զովասար, Ցամաքասար, Ներքին Սասնաշեն բնակավայրերում խմելաջրի ցանցերի հիմնանորոգում, Շղարշիկ բնակավայրում ՕԿՋ-ի, Ներքին Բազմաբերդ բնակավայրը սնուցող ջրատարի կառուցման աշխատանքներ /Ներքին Սասնաշեն, Շղարշիկ և Ներքին Բազմաբերդ բնակավայրեր/ | G27: 81452.6
F28: Թալին համայնքի Աշնակ բնակավայրի Վ․Իսրաելյան փողովի ասֆալտբետոնե ծածկի հիմնանորոգում" | G28: 68650.1
F29: Ալագյազ համայնքի Ալագյազ, Ջամշլու, Ռյա Թազա, Կանիաշիր և Սադունց բնակավայրերում կանգառների կառուցում | G29: 19901.7
F30: Ապարան համայնքի Ապարան, Արագած, Արայի, Ափնագյուղ, Եղիպատրուշ, Ծաղկաշեն, Լուսագյուղ, Կայք, Չքնաղ, Վարդենիս, Վարդենուտ, Մելիքգյուղ, Քուչակ, Հարթավան․ Շենավան, Սարալանջ, Նիգավան, Թթուջուր, Ձորագլուխ, Երնջատափ բնակավայրերի ներհամայնքային ճանապարհների ասֆալտապատում /Ապարան/ | G30: 132130.3
F31: Արևուտ համայնքի Կանչ, Հակո, Թլիկ բնակավայրերում ՕԿՋ-ների և սնող ջրատարի կառուցում և Սորիկ բնակավայրում ՕԿՋ-ի կառուցում և սնող ջրատար վերականգնում | G31: 58372.1
... F34: Ծաղկահովիտ համայնքի Նորաշեն, Գեղադիր, Հնաբերդ, Գեղաձոր, Բերքառատ, Ծաղկահովիտ, Լեռնապար բնակավայրերի գազամատակարարման ներքին ցանցի կառուցում | G34: 68738.4
F35: ՀՀ Արարատի մարզպետի աշխատակազմ | G35: =SUM(G37:G47) -> 899972.3
F36: այդ թվում` ըստ ուղղությունների
F37: Արարատ համայնքի Արարատ քաղաքի ՈԿՖ բանավանի կեղտաջրերի մաքրման կայանի կառուցում-2-րդ փուլ | G37: 83802.6
F38: Արարատ համայնքի Արարատ քաղաքի Խանջյան փողոցի վերանորոգում ասֆալտապատմամբ | G38: 49560
F39: «Արարատ համայնքի Արարատ քաղաքի, Զանգակատուն, Վարդաշատ, Պարույր Սևակ, Երասխ, Արարատ, Ավշար և Նոյակերտ բնակավայրերի ճանապարհների վերանորոգում ասֆալտապատմամբ» | G39: -122.8
F40: Արտաշատ համայնքի Արտաշատ քաղաքում, Այգեպատ, Բուրաստան, Կանաչուտ, Մրգանուշ, Ջրաշեն, Լանջազատ բնակավայրերում նախադպրոցական հաստատությունների /մանկապարտեզներ/ կառուցում /Բուրաստան/ | G40: 113968.4
F41: Արտաշատ համայնքի Վարդաշեն, Աբովյան, Մրգանուշ, Հնաբերդ, Արևշատ, Դիտակ, Կանաչուտ, Դեղձուտ, Դվին, Բերդիկ, Նշավան բնակավայրերի փողոցների նորոգման, ասֆալտապատման աշխատանքներ /Բերդիկ, Հնաբերդ, Դվին/ | G41: 39843.1
F42: Արտաշատ համայնքի Արտաշատ քաղաք, Դալար, Մրգավան, Այգեզարդ, Այգեստան, Նարեկ, Վերին Արտաշատ, Շահումյան, Ոստան, Գետազատ, Նորաշեն, Ազատավան, Արաքսավան, Ջրաշեն, Դիմիտրով, Հովտաշեն, Մասիս, Բերքանուշ, Բաղրամյան բնակավայրերի փողոցների նորոգման, ասֆալտապատման աշխատանքներ / ք․Արտաշատի Նալբանդյան, Նար-Դոս, Երևանյան13 շենքի բակ, Շիրվանզադե, Թորոմոնյան, Ստեփանյան, Կասյան փողոցներ / | G42: 141478.2
...

Sheet 5
K1: Հավելված N 5
K2: ՀՀ կառավարության 2025 թվականի
K3: ______________ ի ___Ն որոշման
B5: ՀԱՅԱՍՏԱՆԻ ՀԱՆՐԱՊԵՏՈՒԹՅԱՆ ԿԱՌԱՎԱՐՈՒԹՅԱՆ 2024 ԹՎԱԿԱՆԻ ԴԵԿՏԵՄԲԵՐԻ 27-Ի № 2060-Ն ՈՐՈՇՄԱՆ № 9 ՀԱՎԵԼՎԱԾՈՒՄ ԿԱՏԱՐՎՈՂ ՓՈՓՈԽՈՒԹՅՈՒՆՆԵՐԸ ԵՎ ԼՐԱՑՈՒՄՆԵՐԸ
K7: հազար դրամներով
B8: ԲԳԿ | C8: Ծրագիր | E8: Միջոցառում | I8: Իրականացնողը/ ակտիվն օգտագործողը/ շահառուի ընտրության չափորոշիչը | J8: Արդյունքային չափորոշիչը | K8: Ցուցանիշների փոփոխությունը (ավելացումները նշված են դրական նշանով
C9: Դասիչը | D9: Անվանումը | E9: Դասիչը | F9: Անվանումը | G9: Նկարագրությունը | H9: Տեսակը | K9: Տարի
B10: ԸՆԴԱՄԵՆԸ | K10: =K11+K39 -> 0
B11: ՀՀ տարածքային կառավարման և ենթակառուցվածքների նախարարություն | K11: =K12+K32 -> 12045691
C12: 1049 | D12: Ճանապարհային ցանցի բարելավում | K12: =K13+K18+K24+K28 -> 0
E13: 1049 - 11012 | F13: Եվրասիական զարգացման բանկի աջակցությամբ իրականացվող Հյուսիս-հարավ միջանցքի զարգացման ծրագրի համակարգում և կառավարում | K13: ='2'!H106 -> -287000
G14: Խորհրդատվական ծառայություններ և պահպանման ծախսեր
H15: Ծառայությունների մատուցում
I16: Ծառայությունը մատուցողի անվանումը` Մասնագիտացված միավոր
J17: Հողերի օտարում, շահառուների քանակ | K17: -180
E18: 1049 - 11017 | F18: Հյուսիս-հարավ ճանապարհային միջանցքի զարգացման ծրագրի Քաջարանի թունելի և մոտեցումների համակարգում և կառավարում | K18: ='3'!E30 -> -37356.7
G19: Խորհրդատվական ծառայություններ և պահպանման ծախսեր
H20: Ծառայությունների մատուցում
I21: Ծառայությունը մատուցողի անվանումը` Մասնագիտացված միավոր
J22: Հողերի օտարում, շահառուների քանակ | K22: -5
J23: Միջոցառման շրջանակներում իրականացվող ծախսերի կատարման տոկոս (ծրագրի սկզբից ներառյալ հաշվետու տարին) | K23: 2
E24: 1049 - 21006 | F24: Ասիական զարգացման բանկի աջակցությամբ իրականացվող Հյուսիս-հարավ միջանցքի զարգացման վարկային ծրագիր, Տրանշ 2 | K24: ='1'!H13 -> 422000
G25: Աշտարակ-Թալին 29+600կմ-71+500կմ հատվածի կառուցում
H26: Հանրության կողմից անմիջականորեն օգտագործվող ակտիվների հետ կապված միջոցառումներ
I27: Միջոցառումն իրականացնողի անվանումը` Մասնագիտացված միավոր
E28: 1049 - 21011 | F28: Ասիական զարգացման բանկի աջակցությամբ իրականացվող Հյուսիս-հարավ միջանցքի զարգացման վարկային ծրագիր, Տրանշ 3 | K28: ='1'!H14 -> -97643.3
G29: Հատված Թալին-Լանջիկ 71+500 կմ-90+200 կմ կառուցման շինարարական աշխատանքներ
H30: Հանրության կողմից անմիջականորեն օգտագործվող ակտիվների հետ կապված միջոցառումներ
I31: Միջոցառումն իրականացնողի անվանումը` Մասնագիտացված միավոր
C32: 1212 | D32: Տարածքային զարգացում | K32: =K33 -> 12045691
E33: 1212-12007 | F33: ՀՀ մարզերին սուբվենցիաների տրամադրում՝ ենթակառուցվածքների զարգացման նպատակով | K33: ='1'!H16 -> 12045691
G34: ՀՀ մարզերին սուբվենցիաների տրամադրում՝ ենթակառուցվածքների զարգացման նպատակով
H35: Տրանսֆերտների տրամադրում
I36: Շահառուների ընտրության չափորոշիչները` ՀՀ կառավարության 16.11.2006թ. «ՀՀ պետական բյուջեից համայնքներին սուբվենցիաների տրամադրման կարգը հաստատելու մասին» 1708-Ն որոշում
J37: ՀՀ համայնքների թիվը, հատ | K37: 2
J38: Ծրագրերի քանակ, հատ | K38: ='6'!K103+'6'!K96+'6'!K89+'6'!K82+'6'!K74+'6'!K67+'6'!K60+'6'!K52+'6'!K45+'6'!K37 -> 169
B39: ՀՀ կառավարություն | K39: =K40 -> -12045691
C40: 1139 | D40: ՀՀ կառավարության պահուստային ֆոնդ | K40: =K41+K45+K49 -> -12045691
E41: 1139 - 11001 | F41: ՀՀ կառավարության պահուստային ֆոնդ | K41: ='1'!H19 -> 12045691
G42: ՀՀ պետական բյուջեում նախատեսված ելքերի լրացուցիչ ֆինանսավորման, պետական բյուջեում չկանխատեսված ելքերի, ինչպես նաև բյուջետային երաշխիքների ապահովման ելքերի ֆինանսավորման ապահովում
...

Sheet 6
K1: Հավելված N 6
K2: ՀՀ կառավարության 2025 թվականի
K3: ______________ ի ___Ն որոշման
B5: ՀԱՅԱՍՏԱՆԻ ՀԱՆՐԱՊԵՏՈՒԹՅԱՆ ԿԱՌԱՎԱՐՈՒԹՅԱՆ 2024 ԹՎԱԿԱՆԻ ԴԵԿՏԵՄԲԵՐԻ 27-Ի № 2060-Ն ՈՐՈՇՄԱՆ № 9.1 ՀԱՎԵԼՎԱԾՈՒՄ ԿԱՏԱՐՎՈՂ ՓՈՓՈԽՈՒԹՅՈՒՆՆԵՐԸ ԵՎ ԼՐԱՑՈՒՄՆԵՐԸ
K6: հազար դրամներով
B7: ԲՍԿ | C7: Ծրագիր | E7: Միջոցառում | I7: Իրականացնողը/ ակտիվն օգտագործողը/ շահառուի ընտրության չափորոշիչը | J7: Արդյունքային չափորոշիչը | K7: Ցուցանիշների փոփոխությունը (ավելացումները նշված են դրական նշանով, իսկ նվազեցումները` փակագծերում)
C8: Դասիչը | D8: Անվանումը | E8: Դասիչը | F8: Անվանումը | G8: Նկարագրությունը | H8: Տեսակը | K8: Տարի
B9: ԸՆԴԱՄԵՆԸ | K9: =K10+K31+K39+K46+K54+K61+K68+K76+K83+K90+K97+K104 -> 0
B10: ՀՀ տարածքային կառավարման և ենթակառուցվածքների նախարարություն | K10: =K11 -> 0
C11: 1049 | D11: Ճանապարհային ցանցի բարելավում | K11: =K12+K17+K23+K27 -> 0
E12: 1049 - 11012 | F12: Եվրասիական զարգացման բանկի աջակցությամբ իրականացվող Հյուսիս-հարավ միջանցքի զարգացման ծրագրի համակարգում և կառավարում | K12: ='5'!K13 -> -287000
G13: Խորհրդատվական ծառայություններ և պահպանման ծախսեր
H14: Ծառայությունների մատուցում
I15: Ծառայությունը մատուցողի անվանումը` Մասնագիտացված միավոր
J16: Հողերի օտարում, շահառուների քանակ | K16: -180
E17: 1049 - 11017 | F17: Հյուսիս-հարավ ճանապարհային միջանցքի զարգացման ծրագրի Քաջարանի թունելի և մոտեցումների համակարգում և կառավարում | K17: ='5'!K18 -> -37356.7
G18: Խորհրդատվական ծառայություններ և պահպանման ծախսեր
H19: Ծառայությունների մատուցում
I20: Ծառայությունը մատուցողի անվանումը` Մասնագիտացված միավոր
J21: Հողերի օտարում, շահառուների քանակ | K21: -5
J22: Միջոցառման շրջանակներում իրականացվող ծախսերի կատարման տոկոս (ծրագրի սկզբից ներառյալ հաշվետու տարին) | K22: 2
E23: 1049 - 21006 | F23: Ասիական զարգացման բանկի աջակցությամբ իրականացվող Հյուսիս-հարավ միջանցքի զարգացման վարկային ծրագիր, Տրանշ 2 | K23: ='5'!K24 -> 422000
G24: Աշտարակ-Թալին 29+600կմ-71+500կմ հատվածի կառուցում
H25: Հանրության կողմից անմիջականորեն օգտագործվող ակտիվների հետ կապված միջոցառումներ
I26: Միջոցառումն իրականացնողի անվանումը` Մասնագիտացված միավոր
E27: 1049 - 21011 | F27: Ասիական զարգացման բանկի աջակցությամբ իրականացվող Հյուսիս-հարավ միջանցքի զարգացման վարկային ծրագիր, Տրանշ 3 | K27: ='5'!K28 -> -97643.3
G28: Հատված Թալին-Լանջիկ 71+500 կմ-90+200 կմ կառուցման շինարարական աշխատանքներ
H29: Հանրության կողմից անմիջականորեն օգտագործվող ակտիվների հետ կապված միջոցառումներ
I30: Միջոցառումն իրականացնողի անվանումը` Մասնագիտացված միավոր
B31: ՀՀ Արագածոտնի մարզպետի աշխատակազմ | K31: =K32 -> 1423953.4
C32: 1212 | D32: Տարածքային զարգացում | K32: =K33 -> 1423953.4
E33: 1212-12007 | F33: ՀՀ մարզերին սուբվենցիաների տրամադրում՝ ենթակառուցվածքների զարգացման նպատակով | K33: ='2'!H26 -> 1423953.4
G34: ՀՀ մարզերին սուբվենցիաների տրամադրում՝ ենթակառուցվածքների զարգացման նպատակով
H35: Տրանսֆերտների տրամադրում
I36: Շահառուների ընտրության չափորոշիչները` ՀՀ կառավարության 16.11.2006թ. «ՀՀ պետական բյուջեից համայնքներին սուբվենցիաների տրամադրման կարգը հաստատելու մասին» 1708-Ն որոշում
J37: Ծրագրերի քանակ, հատ | K37: 14
J38: ՀՀ համայնքների թիվը, հատ | K38: 1
B39: ՀՀ Արարատի մարզպետի աշխատակազմ | K39: =K40 -> 899972.3
C40: 1212 | D40: Տարածքային զարգացում | K40: =K41 -> 899972.3
E41: 1212-12007 | F41: ՀՀ մարզերին սուբվենցիաների տրամադրում՝ ենթակառուցվածքների զարգացման նպատակով | K41: ='2'!H33 -> 899972.3
...
