Workbook
Name \A: #REF!
Name _tab10: #REF!
Name _tab11: #REF!
Name _tab12: #REF!
Name _tab13: #REF!
Name _tab14: #REF!
Name _tab15: #REF!
Name _tab16: #REF!
Name _tab17: #REF!
Name _tab18: #REF!
Name _tab19: #REF!
Name _tab20: #REF!
Name _tab21: #REF!
Name _tab22: #REF!
Name _tab23: #REF!
Name _tab24: #REF!
Name _tab5: #REF!
Name _tab6: #REF!
Name _tab7: #REF!
Name _tab8: #REF!
Name _tab9: #REF!
Name aaa: #REF!
Name aaaa: #REF!
Name aaaaa: #REF!
Name AgencyCode: #REF!
Name AgencyName: #REF!
Name alis: #REF!
Name alisa: #REF!
Name als: #REF!
Name ampop_krchat: #REF!
Name Armata: #REF!
Name asd: #REF!
Name åû: #REF!
Name BOP: #REF!
Name BOPfoot: #REF!
Name davit: #REF!
Name DebtCG: '[1]Fis-Debt'!#REF!
Name DebtGG: #REF!
Name fff: #REF!
Name Functional1: #REF!
Name ggg: #REF!
Name h: #REF!
Name Hav: #REF!,#REF!
Name havelvac: #REF!
Name mas: #REF!
Name mass: #REF!
Name MonExo: #REF!
Name MonGrow: [2]BM!#REF!
Name PANature: #REF!
Name par_count: #REF!,#REF!,#REF!,#REF!,#REF!,#REF!,#REF!,#REF!,#REF!,#REF!,#REF!,#REF!,#REF!,#REF!,#REF!
Name par_qual: #REF!,#REF!,#REF!,#REF!,#REF!
Name par_time: #REF!,#REF!,#REF!,#REF!
Name par2.12s: #REF!
Name par2.4s: #REF!,#REF!,#REF!,#REF!,#REF!,#REF!,#REF!,#REF!,#REF!,#REF!,#REF!,#REF!,#REF!,#REF!,#REF!,#REF!
Name par2.5s: #REF!,#REF!
Name par2.6s: #REF!,#REF!,#REF!,#REF!
Name par2.7s: #REF!,#REF!
Name par2.9s: #REF!,#REF!,#REF!,#REF!,#REF!,#REF!,#REF!,#REF!,#REF!,#REF!,#REF!,#REF!,#REF!,#REF!,#REF!,#REF!
Name par4.10s: #REF!,#REF!
Name par4.11d: #REF!,#REF!,#REF!,#REF!,#REF!

Sheet Havelvats 1
A1: Հավելված 1 ՀՀ կառավարության 2025 թվականի____________ի N _____-Ն որոշման
A3: «ՀԱՅԱՍՏԱՆԻ ՀԱՆՐԱՊԵՏՈՒԹՅԱՆ 2025 ԹՎԱԿԱՆԻ ՊԵՏԱԿԱՆ ԲՅՈՒՋԵԻ ՄԱՍԻՆ» ՕՐԵՆՔԻ N 1 ՀԱՎԵԼՎԱԾԻ N 2 ԱՂՅՈՒՍԱԿՈՒՄ ԿԱՏԱՐՎՈՂ ՎԵՐԱԲԱՇԽՈՒՄԸ, ՀԱՅԱՍՏԱՆԻ ՀԱՆՐԱՊԵՏՈՒԹՅԱՆ ԿԱՌԱՎԱՐՈՒԹՅԱՆ 2024 ԹՎԱԿԱՆԻ ԴԵԿՏԵՄԲԵՐԻ 27-Ի N 2060-Ն ՈՐՈՇՄԱՆ N 5 ՀԱՎԵԼՎԱԾԻ N 1 ԱՂՅՈՒՍԱԿՈՒՄ ԿԱՏԱՐՎՈՂ ՓՈՓՈԽՈՒԹՅՈՒՆՆԵՐԸ
G4: հազար դրամներով
A5: ԲԳԿ | B5: Ծրագրային դասիչը | D5: ԲԳԿ/Ծրագրի /միջոցառման անվանումը | E5: Ծրագրի նպատակը/Միջոցառման նկարագրությունը | F5: Վերջնական արդյունքի նկարագրությունը/Միջոցառման տեսակը | G5: Ցուցանիշների փոփոխությունը (ավելացումները նշված են դրական նշանով, իսկ նվազեցումները՝ փակագծերում)
B6: Ծրագիր | C6: Միջոցառում | G6: Տարի
A7: ԸՆԴԱՄԵՆԸ | G7: =+G8 -> 0
A8: ՀՀ էկոնոմիկայի նախարարություն | G8: =G9 -> 0
B9: 1190 | D9: Զբոսաշրջության զարգացման ծրագիր | E9: Հայաստանի և հայկական զբոսաշրջային արդյունքի մրցունակության և ճանաչելիության բարձրացում | F9: Զբոսաշրջիկների թվաքանակի ավելացում | G9: =G10+G11 -> 0
C10: 1190 - 12001 | D10: Համաշխարհային բանկի աջակցությամբ իրականացվող Տեղական տնտեսության և ենթակառուցվածքների զարգացման ծրագրի շրջանակներում ՀՀ տարբեր մարզերում զբոսաշրջության հետ կապված ենթակառուցվածքների բարելավմանն ուղղված միջոցառումներ | E10: Ընտրված մարզերում զբոսաշրջության հետ կապված ենթակառուցվածքների, այդ թվում` ճանապարհների, ավտոկայանատեղերի, ջրամատակարարման համակարգերի, լուսավորության վերանորոգում և նորովի կառուցում | F10: Տրանսֆերտների տրամադրում | G10: =+'Havelvats 2'!G20 -> 40983.2
C11: 1190 - 12002 | D11: Համաշխարհային բանկի աջակցությամբ իրականացվող Զբոսաշրջության և մարզային ենթակառուցվածքների բարելավում | E11: Միջոցառումն ընդգրկում է զբոսաշրջային կլաստերների համապարփակ և կայուն զարգացման ծրագրերի բարելավման առաջնայնություն, քաղաքային և համայնքային ենթակառուցվածքների համապարփակ արդիականացում և վերակառուցում | F11: Տրանսֆերտների տրամադրում | G11: =+'Havelvats 2'!G33 -> -40983.2

Sheet Havelvats 2
A1: Հավելված 2 ՀՀ կառավարության 2025 թվականի____________ի N _____-Ն որոշման
A3: ՀԱՅԱՍՏԱՆԻ ՀԱՆՐԱՊԵՏՈՒԹՅԱՆ ԿԱՌԱՎԱՐՈՒԹՅԱՆ 2024 ԹՎԱԿԱՆԻ ԴԵԿՏԵՄԲԵՐԻ 27-Ի N 2060-Ն ՈՐՈՇՄԱՆ NN 3 ԵՎ 4 ՀԱՎԵԼՎԱԾՆԵՐՈՒՄ ԿԱՏԱՐՎՈՂ ՓՈՓՈԽՈՒԹՅՈՒՆՆԵՐԸ
G4: հազար դրամներով
A5: Գործառնական դասիչ | D5: Ծրագրային դասիչը | F5: Բյուջետային ծախսերի գործառական դասակարգման բաժինների, խմբերի և դասերի, բյուջետային ծրագրերի միջոցառումների, բյուջետային հատկացումների գլխավոր կարգադրիչների անվանումները | G5: Ցուցանիշների փոփոխությունը (ավելացումները նշված են դրական նշանով, իսկ նվազեցումները՝ փակագծերում)
A6: Բաժին | B6: Խումբ | C6: Դաս | D6: Ծրագիր | E6: Միջոցառում | G6: Տարի
F7: ԸՆԴԱՄԵՆԸ ԾԱԽՍԵՐ | G7: =+G9 -> 0
F8: այդ թվում`
F9: ՀՀ էկոնոմիկայի նախարարություն | G9: =+G11 -> 0
F10: այդ թվում`
A11: 04 | F11: ՏՆՏԵՍԱԿԱՆ ՀԱՐԱԲԵՐՈՒԹՅՈՒՆՆԵՐ | G11: =+G12 -> 0
B12: 09 | F12: Տնտեսական հարաբերություններ (այլ դասերին չպատկանող) | G12: =G14 -> 0
F13: այդ թվում`
C14: 01 | F14: Տնտեսական հարաբերություններ (այլ դասերին չպատկանող) | G14: =G16 -> 0
F15: այդ թվում`
F16: ՀՀ էկոնոմիկայի նախարարություն | G16: =G18 -> 0
F17: այդ թվում`
D18: 1190 | F18: Զբոսաշրջության զարգացման ծրագիր | G18: =G20+G33 -> 0
F19: այդ թվում`
E20: 12001 | F20: =+'Havelvats 1'!D10 -> Համաշխարհային բանկի աջակցությամբ իրականացվող Տեղական տնտեսության և ենթակառուցվածքների զարգացման ծրագրի շրջանակներում ՀՀ տարբեր մարզերում զբոսաշրջության հետ կապված ենթակառուցվածքների բարելավմանն ուղղված միջոցառումներ | G20: =+G22 -> 40983.2
F21: այդ թվում` ըստ կատարողների
F22: ՀՀ էկոնոմիկայի նախարարություն | G22: =+G24 -> 40983.2
F23: այդ թվում` բյուջետային ծախսերի տնտեսագիտական դասակարգման հոդվածներ
F24: ԸՆԴԱՄԵՆԸ ԾԱԽՍԵՐ | G24: =+G25 -> 40983.2
F25: ՈՉ ՖԻՆԱՆՍԱԿԱՆ ԱԿՏԻՎՆԵՐԻ ԳԾՈՎ ԾԱԽՍԵՐ | G25: =+G26 -> 40983.2
F26: ՀԻՄՆԱԿԱՆ ՄԻՋՈՑՆԵՐ | G26: =+G27+G29+G31 -> 40983.2
F27: ՇԵՆՔԵՐ ԵՎ ՇԻՆՈՒԹՅՈՒՆՆԵՐ | G27: =+G28 -> 41408.2
F28: - Շենքերի և շինությունների շինարարություն | G28: =+'Havelvats 3'!F23 -> 41408.2
F29: ԱՅԼ ՀԻՄՆԱԿԱՆ ՄԻՋՈՑՆԵՐ | G29: =+G30 -> -309.3
F30: - Նախագծահետազոտական ծախսեր | G30: =+'Havelvats 3'!F25 -> -309.3
F31: ՄԵՔԵՆԱՆԵՐ ԵՎ ՍԱՐՔԱՎՈՐՈՒՄՆԵՐ | G31: =+G32 -> -115.7
F32: - Վարչական սարքավորումներ | G32: =+'Havelvats 3'!F27 -> -115.7
E33: 12002 | F33: =+'Havelvats 1'!D11 -> Համաշխարհային բանկի աջակցությամբ իրականացվող Զբոսաշրջության և մարզային ենթակառուցվածքների բարելավում | G33: =+G35 -> -40983.2
F34: այդ թվում` ըստ կատարողների
F35: ՀՀ էկոնոմիկայի նախարարություն | G35: =+G37 -> -40983.2
F36: այդ թվում` բյուջետային ծախսերի տնտեսագիտական դասակարգման հոդվածներ
F37: ԸՆԴԱՄԵՆԸ ԾԱԽՍԵՐ | G37: =+G38 -> -40983.2
F38: ՈՉ ՖԻՆԱՆՍԱԿԱՆ ԱԿՏԻՎՆԵՐԻ ԳԾՈՎ ԾԱԽՍԵՐ | G38: =+G39 -> -40983.2
F39: ՀԻՄՆԱԿԱՆ ՄԻՋՈՑՆԵՐ | G39: =+G40 -> -40983.2
F40: ՇԵՆՔԵՐ ԵՎ ՇԻՆՈՒԹՅՈՒՆՆԵՐ | G40: =+G41 -> -40983.2
F41: - Շենքերի և շինությունների շինարարություն | G41: =+'Havelvats 3'!D28 -> -40983.2

Sheet Havelvats 3
A1: Հավելված 3 ՀՀ կառավարության 2025 թվականի____________ի N _____-Ն որոշման
A3: «ՀԱՅԱՍՏԱՆԻ ՀԱՆՐԱՊԵՏՈՒԹՅԱՆ 2025 ԹՎԱԿԱՆԻ ՊԵՏԱԿԱՆ ԲՅՈՒՋԵԻ ՄԱՍԻՆ» ՕՐԵՆՔԻ N 1 ՀԱՎԵԼՎԱԾԻ N 4 ԱՂՅՈՒՍԱԿՈՒՄ ԵՎ ՀԱՅԱՍՏԱՆԻ ՀԱՆՐԱՊԵՏՈՒԹՅԱՆ ԿԱՌԱՎԱՐՈՒԹՅԱՆ 2024 ԹՎԱԿԱՆԻ ԴԵԿՏԵՄԲԵՐԻ 27-Ի N 2060-Ն ՈՐՈՇՄԱՆ N 5 ՀԱՎԵԼՎԱԾԻ N 3 ԱՂՅՈՒՍԱԿՈՒՄ ԿԱՏԱՐՎՈՂ ՓՈՓՈԽՈՒԹՅՈՒՆՆԵՐԸ
E4: հազար դրամներով
A5: Ծրագրային դասիչը | C5: Բյուջետային հատկացումների գլխավոր կարգադրիչների, ծրագրերի, միջոցառումների և միջոցառումները կատարող պետական մարմինների անվանումները | D5: Ցուցանիշների փոփոխությունները (ավելացումները նշված են դրական նշանով, իսկ նվազեցումները՝ փակագծերում)
D6: Տարի
A7: Ծրագիր | B7: Միջոց_x000D_առում | D7: Ընդամենը | E7: այդ թվում`
E8: Վարկային միջոցներ | F8: Համաֆինան սավորում
C9: ԸՆԴԱՄԵՆԸ | D9: =+E9+F9 -> 0 | E9: =E11+E12 -> 0 | F9: =F11+F12 -> 0
C10: այդ թվում`
C11: ԸՆԹԱՑԻԿ ԾԱԽՍԵՐ | D11: =+E11+F11 -> 0 | F11: 0
C12: ՈՉ ՖԻՆԱՆՍԱԿԱՆ ԱԿՏԻՎՆԵՐԻ ԳԾՈՎ ԾԱԽՍԵՐ | D12: =+E12+F12 -> 0 | F12: =+F20+F33 -> 0
A13: 1190 | C13: Զբոսաշրջության զարգացման ծրագիր | D13: =+E13+F13 -> 0 | F13: =+F15+F28 -> 0
C14: այդ թվում`
B15: 12001 | C15: =+'Havelvats 1'!D10 -> Համաշխարհային բանկի աջակցությամբ իրականացվող Տեղական տնտեսության և ենթակառուցվածքների զարգացման ծրագրի շրջանակներում ՀՀ տարբեր մարզերում զբոսաշրջության հետ կապված ենթակառուցվածքների բարելավմանն ուղղված միջոցառումներ | D15: =+E15+F15 -> 40983.2 | F15: =+F17 -> 40983.2
C16: այդ թվում` ըստ կատարողների
C17: ՀՀ էկոնոմիկայի նախարարություն | D17: =+E17+F17 -> 40983.2 | F17: =+F19 -> 40983.2
C18: այդ թվում` բյուջետային ծախսերի տնտեսագիտական դասակարգման հոդվածներ
C19: ԸՆԴԱՄԵՆԸ ԾԱԽՍԵՐ | D19: =+E19+F19 -> 40983.2 | F19: =+F20 -> 40983.2
C20: ՈՉ ՖԻՆԱՆՍԱԿԱՆ ԱԿՏԻՎՆԵՐԻ ԳԾՈՎ ԾԱԽՍԵՐ | D20: =+E20+F20 -> 40983.2 | F20: =+F21 -> 40983.2
C21: ՀԻՄՆԱԿԱՆ ՄԻՋՈՑՆԵՐ | D21: =+E21+F21 -> 40983.2 | F21: =+F22+F24+F26 -> 40983.2
C22: ՇԵՆՔԵՐ ԵՎ ՇԻՆՈՒԹՅՈՒՆՆԵՐ | D22: =+E22+F22 -> 41408.2 | F22: =+F23 -> 41408.2
C23: - Շենքերի և շինությունների շինարարություն | D23: =+E23+F23 -> 41408.2 | F23: =-21103.4+62511.6 -> 41408.2
C24: ԱՅԼ ՀԻՄՆԱԿԱՆ ՄԻՋՈՑՆԵՐ | D24: =+E24+F24 -> -309.3 | F24: =+F25 -> -309.3
C25: - Նախագծահետազոտական ծախսեր | D25: =+E25+F25 -> -309.3 | F25: =-309.3 -> -309.3
C26: ՄԵՔԵՆԱՆԵՐ ԵՎ ՍԱՐՔԱՎՈՐՈՒՄՆԵՐ | D26: =+E26+F26 -> -115.7 | F26: =+F27 -> -115.7
C27: - Վարչական սարքավորումներ | D27: =+E27+F27 -> -115.7 | F27: -115.7
B28: 12002 | C28: =+'Havelvats 1'!D11 -> Համաշխարհային բանկի աջակցությամբ իրականացվող Զբոսաշրջության և մարզային ենթակառուցվածքների բարելավում | D28: =+E28+F28 -> -40983.2 | F28: =+F30 -> -40983.2
C29: այդ թվում` ըստ կատարողների
C30: ՀՀ էկոնոմիկայի նախարարություն | D30: =+E30+F30 -> -40983.2 | F30: =+F32 -> -40983.2
C31: այդ թվում` բյուջետային ծախսերի տնտեսագիտական դասակարգման հոդվածներ
C32: ԸՆԴԱՄԵՆԸ ԾԱԽՍԵՐ | D32: =+E32+F32 -> -40983.2 | F32: =+F33 -> -40983.2
C33: ՈՉ ՖԻՆԱՆՍԱԿԱՆ ԱԿՏԻՎՆԵՐԻ ԳԾՈՎ ԾԱԽՍԵՐ | D33: =+E33+F33 -> -40983.2 | F33: =+F34 -> -40983.2
C34: ՀԻՄՆԱԿԱՆ ՄԻՋՈՑՆԵՐ | D34: =+E34+F34 -> -40983.2 | F34: =+F35 -> -40983.2
C35: ՇԵՆՔԵՐ ԵՎ ՇԻՆՈՒԹՅՈՒՆՆԵՐ | D35: =+E35+F35 -> -40983.2 | F35: =+F36 -> -40983.2
C36: - Շենքերի և շինությունների շինարարություն | D36: =+E36+F36 -> -40983.2 | F36: -40983.2

Sheet Havelvats 4
A1: Հավելված 4 ՀՀ կառավարության 2025 թվականի____________ի N _____-Ն որոշման
A3: ՀԱՅԱՍՏԱՆԻ ՀԱՆՐԱՊԵՏՈՒԹՅԱՆ ԿԱՌԱՎԱՐՈՒԹՅԱՆ 2024 ԹՎԱԿԱՆԻ ԴԵԿՏԵՄԲԵՐԻ 27-Ի N 2060-Ն ՈՐՈՇՄԱՆ NN 9 ԵՎ 9.1 ՀԱՎԵԼՎԱԾՆԵՐՈՒՄ ԿԱՏԱՐՎՈՂ ՓՈՓՈԽՈՒԹՅՈՒՆՆԵՐԸ ԵՎ ԼՐԱՑՈՒՄՆԵՐԸ
J4: հազար դրամներով
A5: ԲԳԿ/ԲՍԿ | B5: Ծրագիր | D5: Միջոցառում | H5: Իրականացնողը/ ակտիվն օգտագործողը/ շահառուի ընտրության չափորոշիչը | I5: Արդյունքային չափորոշիչը | J5: Ցուցանիշների փոփոխությունը (ավելացումները նշված են դրական նշանով, իսկ նվազեցումները՝ փակագծերում)
B6: Դասիչը | C6: Անվա-նումը | D6: Դասիչը | E6: Անվա-նումը | F6: Նկարագրու-թյունը | G6: Տեսակը | J6: Տարի
A7: ԸՆԴԱՄԵՆԸ | J7: =+J8 -> 0
A8: ՀՀ էկոնոմիկայի նախարարություն | J8: =J9 -> 0
B9: 1190 | C9: Զբոսաշրջության զարգացման ծրագիր | J9: =+J10+J19 -> 0
D10: 1190 - 12001 | E10: =+'Havelvats 1'!D10 -> Համաշխարհային բանկի աջակցությամբ իրականացվող Տեղական տնտեսության և ենթակառուցվածքների զարգացման ծրագրի շրջանակներում ՀՀ տարբեր մարզերում զբոսաշրջության հետ կապված ենթակառուցվածքների բարելավմանն ուղղված միջոցառումներ | J10: =+'Havelvats 2'!G20 -> 40983.2
F11: =+'Havelvats 1'!E10 -> Ընտրված մարզերում զբոսաշրջության հետ կապված ենթակառուցվածքների, այդ թվում` ճանապարհների, ավտոկայանատեղերի, ջրամատակարարման համակարգերի, լուսավորության վերանորոգում և նորովի կառուցում
G12: =+'Havelvats 1'!F10 -> Տրանսֆերտների տրամադրում
H13: Շահառուների ընտրության չափորոշիչները` Մասնագիտացված միավոր
I14: Թիրախային տարածքներում մասնավոր հատվածի ներդրումների ծավալի աճ (միլիոն ԱՄՆ դոլար) | J14: 4.5
I15: Ընտրված զբոսաշրջային վայրերի բարելավված մուտքային ճանապարհներ (կմ) | J15: 1.8 կմ
I16: Զբոսաշրջային շրջանի երկայնքով գտնվող ժառանգության օբյեկտներում կառուցված զբոսաշրջային հարմարությունների թիվը | J16: 1
I17: Փողոցային լուսավորության փոխարինված (տեղադրված սյուների և լամպերի) թիվը | J17: 63
I18: Բարելավված զբոսայգիների թիվը | J18: 1
D19: 1190 - 12002 | E19: =+'Havelvats 1'!D11 -> Համաշխարհային բանկի աջակցությամբ իրականացվող Զբոսաշրջության և մարզային ենթակառուցվածքների բարելավում | J19: =+'Havelvats 2'!G33 -> -40983.2
F20: =+'Havelvats 1'!E11 -> Միջոցառումն ընդգրկում է զբոսաշրջային կլաստերների համապարփակ և կայուն զարգացման ծրագրերի բարելավման առաջնայնություն, քաղաքային և համայնքային ենթակառուցվածքների համապարփակ արդիականացում և վերակառուցում
G21: =+'Havelvats 1'!F11 -> Տրանսֆերտների տրամադրում
H22: Շահառուների ընտրության չափորոշիչները` Մասնագիտացված միավոր
