Workbook

Sheet ST Action Plan
D1: 2019-2020թթ. ՀԱՅԱՍՏԱՆԻ ՀԱՆՐԱՊԵՏՈՒԹՅԱՆ ԴԱՏԱԿԱՆ ԵՎ ԻՐԱՎԱԿԱՆ ԲԱՐԵՓՈԽՈՒՄՆԵՐԻ ՌԱԶՄԱՎԱՐՈՒԹՅՈՒՆԻՑ ԲԽՈՂ 2021-2023թթ. ԳՈՐԾՈՂՈՒԹՅՈՒՆՆԵՐԻ ԾՐԱԳՐԻ ԾԱԽՍԵՐԻ ԳՆԱՀԱՏԱԿԱՆ
D3: Նպատակ 1.Անցումային արդարադատության գործիքակազմի կիրառման միջոցով իրական ժողովրդավարության հաստատում և իրավունքի գերակայության ամրապնդում
D4: Գործողություն | E4: Պատասխանատու մարմին | F4: Ծախսերի գնահատական, հազար դրամ | H4: Ընդամենը | I4: Ֆինանսավորման աղբյուր
F5: 2019 թվական | G5: 2020 թվական
A6: 2 | B6: 1 | C6: 1 | D6: «Փաստահավաք հանձնաժողովի կազմավորման կարգի և գործունեության մասին» օրենքի մշակում: | E6: ՀՀ արդարադատության նախարարություն | F6: 0 | G6: 0 | H6: =SUM(F6:G6) -> 0 | I6: Օրենքով չարգելված միջոցներ: | K6: Fact-finding
A7: 2 | B7: 1 | C7: 2 | D7: Փաստահավաք հանձնաժողովի ձևավորում | E7: Ազգային Ժողով Վարչապետի աշխատակազմ (համաձայնությամբ) | F7: 0 | G7: ='Cost details'!B11/1000 -> 179431.2 | H7: =SUM(F7:G7) -> 179431.2 | I7: Օրենքով չարգելված միջոցներ: | K7: Fact-finding
D8: Ընդամենը Նպատակ 1 | F8: =F7+F6 -> 0 | G8: =G7+G6 -> 179431.2 | H8: =SUM(F8:G8) -> 179431.2
A9: 2 | D9: 0
A10: 2 | B10: 2 | C10: 1 | D10: Սահմանադրական բարեփոխումների հանձնաժողովի կազմն ու աշխատակարգը սահմանող փաստաթղթրի մշակում և ընդունում | E10: ՀՀ արդարադատության նախարարություն Վարչապետի աշխատակազմ (համաձայնությամբ) | F10: 0 | G10: 0 | H10: =SUM(F10:G10) -> 0 | I10: Օրենքով չարգելված միջոցներ:
D11: Ընդամենը Նպատակ 2 | F11: =F10 -> 0 | G11: =G10 -> 0 | H11: =SUM(F11:G11) -> 0
A12: 2 | D12: Նպատակ 3. Ընտրական օրենսդրության բարեփոխում
A13: 2 | B13: 3 | C13: 1 | D13: ՀՀ ընտրական օրենսգրքի փոփոխությունների և լրացումների փաթեթի մշակում | E13: ՀՀ արդարադատության նախարարություն | F13: 0 | G13: 0 | H13: =SUM(F13:G13) -> 0 | I13: Օրենքով չարգելված միջոցներ:
D14: Ընդամենը Նպատակ 3 | F14: =F13 -> 0 | G14: =G13 -> 0 | H14: =SUM(F14:G14) -> 0
A15: 2 | D15: Նպատակ 4. Դատական իշխանության անկախության և անաչառության ամրապնդում, կոռուպցիայից և հովանավորչությունից զերծ դատական համակարգ
A16: 2 | B16: 4 | C16: 1 | D16: «Հայաստանի Հանրապետության դատական օրենսգիրք» սահմանադրական օրենքում կատարել փոփոխություններ և լրացումներ՝ ուղղված դատավորին կարգապահական պատասխանատվության ենթարկելու հիմքերի կատարելագործմանը, որոնք, ի թիվս այլնի, ներառում են. | E16: ՀՀ արդարադատության նախարարություն, ՀՀ ԱԺ Պետական-իրավական հարցերի մշտական հանձնաժողով (համաձայնությամբ: | F16: 0 | G16: 0 | H16: =SUM(F16:G16) -> 0 | I16: Օրենքով չարգելված միջոցներ:
A17: 2 | D17: 1. հստակեցնել դատավորի լիազորությունների դադարեցման համար հիմք հանդիսացող էական կարգապահական խախտումների ցանկը՝ ապահովելու համար իրավական որոշակիությունը. | F17: 0 | G17: 0 | H17: =SUM(F17:G17) -> 0
A18: 2 | D18: 2. հստակեցնել դատական սխալը դատավորի կողմից իր մասնագիտական գործունեության ընթացքում մարդու իրավունքների և ազատությունների հիմնարար խախտումից տարանջատելու հիմքերը. | F18: 0 | G18: 0 | H18: =SUM(F18:G18) -> 0
A19: 2 | D19: 3. հստակեցնել դատավորի վարքագծի կանոնները՝ դրանցից հանելով այն կանոնները, որոնք ձևակերպված են ոչ հստակ կամ որոնք բնույթով ոչ թե կարգապահական, այլ էթիկայի կանոններ են: | F19: 0 | G19: 0 | H19: =SUM(F19:G19) -> 0
A20: 2 | B20: 4 | C20: 2 | D20: Հստակեցնել «Հայաստանի Հանրապետության դատական օրենսգիրք» սահմանադրական օրենքում՝ | E20: ՀՀ արդարադատության նախարարություն, ՀՀ ԱԺ Պետական-իրավական հարցերի մշտական հանձնաժողով (համաձայնությամբ): | F20: 0 | G20: 0 | H20: =SUM(F20:G20) -> 0 | I20: Օրենքով չարգելված միջոցներ:
A21: 2 | D21: 1.կարգապահական վարույթի և դատավորին կարգապահական պատասխանատվության ենթարկելու հարցի քննության ընթացակարգերը. | F21: 0 | G21: 0
A22: 2 | D22: 2.դատավորին կարգապահական պատասխանատվության ենթարկելու վերաբերյալ որոշումների բողոքարկման ընթացակարգը. | F22: 0 | G22: 0
A23: 2 | D23: 3. ընդլայնել Բարձրագույն դատական խորհրդի՝ դատավորին կարգապահական պատասխանատվության ենթարկելու հարցի քննարկման հետ կապված լիազորությունները: | F23: 0 | G23: 0
A24: 2 | B24: 4 | C24: 3 | D24: «Հայաստանի Հանրապետության դատական օրենսգիրք» սահմանադրական օրենքում հստակեցնել ԲԴԽ անդամների համար նախատեսված կարգապահական պատասխանատվության հիմքերը և ընթացակարգը: | E24: ՀՀ արդարադատության նախարարություն, ՀՀ ԱԺ Պետական-իրավական հարցերի մշտական հանձնաժողով (համաձայնությամբ): | F24: 0 | G24: 0 | H24: =SUM(F24:G24) -> 0 | I24: Օրենքով չարգելված միջոցներ:
A25: 2 | B25: 4 | C25: 4 | D25: «Հայաստանի Հանրապետության դատական օրենսգիրք» սահմանադրական օրենքում կատարել լրացում՝ դատավորի նկատմամբ կարգապահական վարույթ հարուցելու իրավասություն ունեցող մարմինների ցանկը համալրելով Կոռուպցիայի կանխարգելման հանձնաժողովով: | E25: ՀՀ արդարադատության նախարարություն, ՀՀ ԱԺ Պետական-իրավական հարցերի մշտական հանձնաժողով և Կոռուպցիայի կանխարգելման հանձնաժողով (համաձայնությամբ): | F25: 0 | G25: 0 | H25: =SUM(F25:G25) -> 0 | I25: Օրենքով չարգելված միջոցներ:
A26: 2 | B26: 4 | C26: 5 | D26: «Հայաստանի Հանրապետության դատական օրենսգիրք» սահմանադրական օրենքում, «Կոռուպցիայի կանխարգելման հանձնաժողովի մասին» և «Հանրային ծառայության մասին» օրենքներում սահմանել դատավորների բարեվարքության գնահատման համար անհրաժեշտ կառուցակարգեր՝ ուղղված. | E26: ՀՀ արդարադատության նախարարություն, ՀՀ ԱԺ Պետական-իրավական հարցերի մշտական հանձնաժողով և Կոռուպցիայի կանխարգելման հանձնաժողով (համաձայնությամբ): | F26: 0 | G26: 0 | H26: =SUM(F26:G26) -> 0 | I26: Օրենքով չարգելված միջոցներ:
A27: 2 | B27: 4 | C27: 6 | D27: «Հայաստանի Հանրապետության դատական օրենսգիրք» սահմանադրական օրենքում կատարել փոփոխություն՝ նպատակ ունանալով Կարգապահական հարցերի հանձնաժողովի փոխարեն ստեղծել Էթիկայի և կարգապահական հարցերի հանձնաժողով, որի անդամները կընտրվեն ոչ թե հինգ, այլ երկու տարով և որը կընդգրկի ոչ միայն դատավորներին, այլև ՄԻՊ և հանրության ներկայացուցիչների: | E27: ՀՀ արդարադատության նախարարություն, ՀՀ ԱԺ Պետական-իրավական հարցերի մշտական հանձնաժողով և Կոռուպցիայի կանխարգելման հանձնաժողով (համաձայնությամբ): | F27: 0 | G27: 0 | H27: =SUM(F27:G27) -> 0 | I27: Օրենքով չարգելված միջոցներ:
A28: 2 | B28: 4 | C28: 7 | D28: Վերապատրաստել. | F28: ='Cost details'!F60/2/1000 -> 8394 | G28: ='Cost details'!B18/1000 -> 917.322 | H28: =G28+F28 -> 9311.322 | K28: Trainings
A29: 2 | D29: 1.ԲԴԽ անդամներին՝ նպատակ ունենալով զարգացնել նրանց կարողությունները կատարված օրենսդրական փոփոխությունների և ներդրված նոր մեխանիզմների կիրառման բնագավառում. | E29: ՀՀ արդարադատության նախարարություն, ՀՀ արդարադատության ակադեմիա, Կոռուպցիայի կանխարգելման հանձնաժողով (համաձայնությամբ):
A30: 2 | D30: 2.Կոռուպցիայի կանխարգելման հանձնաժողովի անդամներին՝ նպատակ ունենալով զարգացնել նրանց կարողությունները կատարված օրենսդրական փոփոխությունների և ներդրված նոր մեխանիզմների կիրառման բնագավառում:
D31: Ընդամենը Նպատակ 4 | F31: =F28+F27+F26+F25+F24+F20 -> 8394 | G31: =G28+G27+G26+G25+G24+G20 -> 917.322 | H31: =SUM(F31:G31) -> 9311.322
A32: 2 | D32: Նպատակ 5. Դատական իշխանության անկախության և անաչառության ամրապնդում Ռազմավարական ուղղություն՝ Դատավորների թեկնածուների հավակնորդների որակավորման ստուգման կարգի կատարելագործում
A33: 2 | B33: 5 | C33: 1 | D33: «Հայաստանի Հանրապետության դատական օրենսգիրք» սահմանադրական օրենքում կատարել փոփոխություններ և լրացումներ ուղղված՝ | E33: ՀՀ արդարադատության նախարարություն, Բարձրագույն դատական խորհուրդ (համաձայնությամբ): | F33: 0 | G33: 0 | H33: =SUM(F33:G33) -> 0
A34: 2 | D34: ա) գնահատման հանձնաժողովի կազմավորման կարգի փոփոխությանը. | F34: 0 | G34: 0
A35: 2 | D35: բ) գնահատման չափանիշների հստակեցմանը և գնահատման պատճառաբանվածության ապահովմանը. | F35: 0 | G35: 0
A36: 2 | D36: գ) հարցազրույցի փուլում միջազգային առաջատար հոգեբանական ինստիտուտների կողմից կազմված հոգեբանական թեստի անցկացմանը. | F36: 0 | G36: 0
A37: 2 | D37: դ) քննության արդյունքների բողոքարկման ընթացակարգի ներդրմանը և Բարձրագույն դատական խորհրդի որոշման ընդունման թափանցիկության ապահովմանը: | F37: 0 | G37: 0
A38: 2 | B38: 5 | C38: 2 | D38: Մշակել օրենսդրական փոփոխություններ ուղղված՝ դատավորի աշխատավարձի և դրա նկատմամբ սահմանված հավելավճարների, դատավորի կենսաթոշակի ավելացմանը, ինչպես նաև հանրային ծառայողին տրամադրվող այլ սոցիալական երաշխիքների ապահովմանը: | E38: ՀՀ արդարադատության նախարարություն, ՀՀ ֆինանսների նախարարություն և ԲԴԽ (համաձայնությամբ): | F38: 0 | G38: 0 | H38: =SUM(F38:G38) -> 0 | I38: Օրենքով չարգելված միջոցներ:
A39: 2 | B39: 5 | C39: 3 | D39: Իրականացնել դատավորների վերապատրաստումներ հետևյալ բնագավառներում՝ | E39: ՀՀ արդարադատության նախարարություն և ՀՀ արդարադատության ակադեմիա: | F39: ='Cost details'!F60/1000 -> 16788 | G39: ='Cost details'!B24/1000 -> 3996.903 | H39: =SUM(F39:G39) -> 20784.903 | I39: Օրենքով չարգելված միջոցներ: | K39: Trainings
A40: 2 | D40: ա) կոռուպցիոն, տնտեսական և պաշտոնեական հանցագործությունների քննություն,
A41: 2 | D41: բ) էլեկտրոնային արդարադատության գործիքների ներդրմանը զուգահեռ կարևորվում է դատավորների՝ էլեկտրոնային կրիչների վրա գտնվող ապացույցների հետ աշխատելու հմտությունների զարգացումը,
...

Sheet LT Action Plan
D2: 2021-2023թթ. ՀԱՅԱՍՏԱՆԻ ՀԱՆՐԱՊԵՏՈՒԹՅԱՆ ԴԱՏԱԿԱՆ ԵՎ ԻՐԱՎԱԿԱՆ ԲԱՐԵՓՈԽՈՒՄՆԵՐԻ ՌԱԶՄԱՎԱՐՈՒԹՅՈՒՆԻՑ ԲԽՈՂ 2021-2023թթ. ԳՈՐԾՈՂՈՒԹՅՈՒՆՆԵՐԻ ԾՐԱԳՐԻ ԾԱԽՍԵՐԻ ԳՆԱՀԱՏԱԿԱՆ
D5: Նպատակ 1.Անցումային արդարադատության միջոցով լիարժեք ժողովրդավարության հաստատում և իրավունքի գերակայության ամրապնդում
D6: Գործողություն | E6: Պատասխանատու մարմին | F6: Ծախսերի գնահատական, հազար դրամ | J6: Ֆինանսավորման աղբյուր
F7: 2021 թվական | G7: 2022 թվական | H7: 2023 թվական | I7: Ընդամենը
A8: 3 | B8: 1 | C8: 1 | D8: Փաստահավաք հանձնաժողովի կողմից իր գործունեության իրականացում, զեկույցի ներկայացում և ՀՀ կառավարությանն ու ՀՀ ԱԺ-ին խորհրդատվական եզրակացության տրամադրում | E8: Փաստահավաք հանձնաժողով | F8: ='Cost details'!B11/1000 -> 179431.2 | G8: 0 | H8: 0 | I8: =SUM(F8:H8) -> 179431.2 | J8: Օրենքով չարգելված միջոցներ | L8: Fact-finding
A9: 3 | B9: 1 | C9: 2 | D9: Փաստահավաք հանձնաժողովի զեկույցի ամփոփման հիման վրա ձեռնարկել խախտումներից տուժած անձանց իրավունքների վերականգնմանն ուղղված միջոցառումներ | E9: ՀՀ արդարադատության նախարարություն | F9: 0 | G9: 0 | H9: 0 | I9: =SUM(F9:H9) -> 0 | J9: Օրենքով չարգելված միջոցներ
A10: 3 | B10: 1 | C10: 4 | D10: Փաստահավաք հանձնաժողովի զեկույցի ամփոփման հիման վրա ձեռնարկել խախտումների կրկնությունը բացառելուն ուղղված ինստիտուցիոնալ բարեփոխումներ | E10: ՀՀ արդարադատության նախարարություն | F10: 0 | G10: 0 | H10: 0 | I10: =SUM(F10:H10) -> 0 | J10: Օրենքով չարգելված միջոցներ
D11: Ընդամենը Նպատակ 1 | F11: =F10+F9+F8 -> 179431.2 | G11: =G10+G9+G8 -> 0 | H11: =H10+H9+H8 -> 0 | I11: =SUM(F11:H11) -> 179431.2
A12: 3 | D12: Նպատակ 2. Սահմանադրական բարեփոխումների իրականացում
A13: 3 | B13: 2 | C13: 1 | D13: Սահմանադրական բարեփոխումների հանձնաժողովի կողմից սահմանադրական բարեփոխումների նախագծի մշակում | E13: ՀՀ արդարադատության նախարարություն, Սահմանադրական բարեփոխումների հանձնաժողով (համաձայնությամբ): | F13: 0 | G13: 0 | H13: 0 | I13: =SUM(F13:H13) -> 0 | J13: Օրենքով չարգելված միջոցներ
A14: 3 | B14: 2 | C14: 2 | D14: Սահմանադրական բարեփոխումների նախագծի հանրային քննարկում և սահմանադրական հանրաքվեի նախաձեռնում | E14: Արդարադատության նախրարություն | F14: 0 | G14: 0 | H14: 2800000 | I14: =SUM(F14:H14) -> 2800000 | L14: Central Electoral Commission
D15: Ընդամենը Նպատակ 2 | F15: =F14+F13 -> 0 | G15: =G14+G13 -> 0 | H15: =H14+H13 -> 2800000 | I15: =SUM(F15:H15) -> 2800000
A16: 3 | D16: Նպատակ 3. Դատական իշխանության հանրային հաշվետվողականության կառուցակարգերի բարելավում
A17: 3 | B17: 3 | C17: 1 | D17: Դատական գործերի էլեկտրոնային մակագրության և բաշխման կարգի կատարելագործում | E17: ՀՀ արդարադատության նախարարություն, Բարձրագույն դատական խորհուրդ (համաձայնությամբ) | F17: 0 | G17: 0 | I17: =SUM(F17:H17) -> 0 | J17: Օրենքով չարգելված միջոցներ
A18: 3 | B18: 3 | C18: 2 | D18: Ներդնել հանրության համար հասանելի առցանց ռեժիմում գործող դատարանների գործունեությունն ամփոփող զեկույցների և վիճակագրության հրապարակման կառուցակարգ | E18: ՀՀ արդարադատության նախարարություն, Բարձրագույն դատական խորհուրդ (համաձայնությամբ)։ | F18: 0 | G18: 0 | I18: =SUM(F18:H18) -> 0
D19: Ընդամենը Նպատակ 3 | F19: =F18+F17 -> 0 | G19: =G18+G17 -> 0 | H19: =H18+H17 -> 0 | I19: =SUM(F19:H19) -> 0
A20: 3 | D20: Նպատակ 4. Պետական և տեղական ինքնակառավարման մարմինների կողմից մատուցվող ծառայությունների միասնական հարթակի ապահովում
A21: 3 | B21: 4 | C21: 1 | D21: Պետական և տեղական ինքնակառավարման մարմինների կողմից մատուցվող որոշ ծառայությունների մատուցման միասնական կենտրոնի ստեղծումը «մեկ կանգառ, մեկ պատուհան» սկզբունքի կիրառմամբ | E21: ՀՀ արդարադատության նախարարություն | F21: 0 | G21: 0 | H21: 0 | I21: Պետական որոշ ծառայությունների մատուցման միասնական առնվազն մեկ կենտրոն է ստեղծվել | J21: Օրենքով չարգելված միջոցներ
D22: Ընդամենը Նպատակ 4 | F22: =F21 -> 0 | G22: =G21 -> 0 | H22: =H21 -> 0 | I22: =SUM(F22:H22) -> 0
A23: 3 | D23: Նպատակ 5. Դատարանների գործունեության արդյունավետության բարձրացում
A24: 3 | D24: Ռազմավարական ուղղություններ՝
A25: 3 | D25: Դատարանների ծանրաբեռնվածության նվազեցում և դատական քննության ողջամիտ ժամկետի ապահովում
A26: 3 | D26: Դատավորների և նրանց աշխատակազմի կարողությունների բարձրացում
A27: 3 | B27: 5 | C27: 1ա | D27: Դատավորների և դատավորների օգնականների թվի ավելացում | E27: ՀՀ արդարադատության նախարարություն, Բարձրագույն դատական խորհուրդ (համաձայնությամբ) | F27: ='Cost details'!D137*1000 -> 369442.14 | G27: ='Cost details'!E137*1000 -> 742391.7 | H27: ='Cost details'!F137*1000 -> 706664.43 | I27: =SUM(F27:H27) -> 1818498.3 | J27: Օրենքով չարգելված միջոցներ | L27: Judiciary
C28: 1բ | D28: Դատավորների աշխատավարձերի բարձրացում (որպես հետևանք 2019-2020թթ. Գործողությունների ծրագրով նախատեսված օրենսդրական փոփոխությունների արդյունքնում դատավորների աշխատավարձերի բարձրացման) | F28: ='Cost details'!D135*1000 -> 832097.37 | G28: ='Cost details'!E135*1000 -> 832097.37 | I28: =SUM(F28:H28) -> 1664194.7 | L28: Judiciary
A29: 3 | B29: 5 | C29: 2 | D29: Շարունակել իրականացնել դատավորների վերապատրաստումներ հետևյալ բնագավառներում՝ | E29: ՀՀ արդարադատության նախարարություն, ՀՀ արդարադատության ակադեմիա (համաձայնությամբ) | F29: ='Cost details'!B24/1000 -> 3996.903 | G29: =F29 -> 3996.903 | H29: ='Cost details'!D24 -> 0 | I29: =SUM(F29:H33) -> 7993.806 | J29: Օրենքով չարգելված միջոցներ: | L29: Trainings
A30: 3 | D30: ա) կոռուպցիոն, տնտեսական և պաշտոնեական հանցագործությունների քննություն,
A31: 3 | D31: բ) էլեկտրոնային արդարադատության գործիքների ներդրմանը զուգահեռ կարևորվում է դատավորների՝ էլեկտրոնային կրիչների վրա գտնվող ապացույցների հետ աշխատելու հմտությունների զարգացումը,
A32: 3 | D32: գ) մասնագիտական վարքագծի կանոններ և էթիկա,
A33: 3 | D33: դ) «Մարդու իրավունքների և հիմնարար ազատությունների պաշտպանության մասին» եվրոպական կոնվենցիայի կոնկրետ հոդվածների վերաբերյալ Մարդու իրավունքների եվրոպական դատարանի նախադեպային իրավունք:
A34: 3 | B34: 5 | C34: 3 | D34: Դատարաններին ապահովել իրենց արդյունավետ գործունեության համար անհրաժեշտ շենքային պայմաններով | E34: ՀՀ ֆինանսների նախարարություն | F34: =('Cost details'!D113+'Cost details'!D114)*1000 -> 3169036 | G34: ='Cost details'!E115*1000 -> 2044128 | H34: 0 | I34: =SUM(F34:H34) -> 5213164 | J34: Օրենքով չարգելված միջոցներ | L34: Judiciary
D35: Ընդամենը Նպատակ 5 | F35: =SUM(F27:F34) -> 4374572.4 | G35: =SUM(G27:G34) -> 3622614 | H35: =SUM(H27:H34) -> 706664.43 | I35: =SUM(I27:I34) -> 8703850.8
A36: 3 | D36: Նպատակ 6. Դատական փորձաքննությունների արդյունավետության բարձրացում
A37: 3 | B37: 6 | C37: 1 | D37: ՀՀ-ում գործող պետական դատափորձագիտական հիմնարկները միավորել մեկ միասնական կենտրոնում, այդ կենտրոնին տրամադրել իր գործունեության արդյունավետության բարձրացման համար անհրաժեշտ տեխնիկա: | E37: ՀՀ արդարադատության նախարարություն, ՀՀ ֆինանսների նախարարություն | F37: 15000 | G37: =300000*500/2000 -> 75000 | H37: =300000*500/2000 -> 75000 | I37: =SUM(F37:H37) -> 165000 | J37: Օրենքով չարգելված միջոցներ: | L37: MOJ
A38: 3 | B38: 6 | C38: 2 | D38: Անձնական տվյալների պաշտպանության գործակալության կարողությունների զարգացում, տեխնիկական ու ծրագրային ապահովում | E38: ՀՀ արդարադատության նախարարություն | F38: ='Cost details'!F60/1000+'Cost details'!B37/1000 -> 17312.184 | G38: 0 | H38: 0 | I38: =SUM(F38:H38) -> 17312.184 | J38: Օրենքով չարգելված միջոցներ | L38: Trainings
A39: 3 | C39: 3 | D39: «Անձնական տվյալների ավտոմատացված մշակման դեպքում անհատների պաշտպանության մասին» կոնվենցիայի փոփոխող արձանագրության ստորագրում և վավերացում | E39: ՀՀ արդարադատության նախարարություն | F39: 0 | G39: 0 | H39: 0 | I39: =SUM(F39:H39) -> 0 | J39: Օրենքով չարգելված միջոցներ
D40: Ընդամենը Նպատակ 6 | F40: =F39+F38+F37 -> 32312.184 | G40: =G39+G38+G37 -> 75000 | H40: =H39+H38+H37 -> 75000
A41: 3 | D41: Նպատակ 7. Քաղաքացիական արդարադատության արդյունավետության բարձրացում
A42: 3 | B42: 7 | C42: 1 | D42: ՀՀ քաղաքացիական դատավարության օրենսգրքում և Հաշտարարության մասին օրենքում փոփոխությունների կատարում: | E42: ՀՀ արդարադատության նախարարություն, ՀՀ բարձրագույն դատական խորհուրդ (համաձայնությամբ): | F42: 0 | G42: 0 | H42: 0 | I42: =SUM(F42:H42) -> 0 | J42: Պետական բյուջե կամ օրենքով չարգելված այլ միջոցներ:
A43: 3 | B43: 7 | C43: 2 | D43: ՀՀ քաղաքացիական դատավարության օրենսգրքի կիրառության ընթացքում ծագած խնդիրների առանձնացում և դրանց լուծման նպատակով փոփոխությունների կատարում: | E43: ՀՀ արդարադատության նախարարություն, ՀՀ բարձրագույն դատական խորհուրդ (համաձայնությամբ): | F43: 0 | G43: 0 | H43: 0 | I43: =SUM(F43:H43) -> 0 | J43: Պետական բյուջե
...

Sheet E-justice
D1: e4 | E1: Պատասխանատումարմին | F1: Ծախսերի գնահատական, հազար դրամ
F2: 2019թ. 2-րդ կիսամյակ | G2: 2020 | H2: 2021 | I2: 2022 | J2: 2023
A3: 4 | B3: 1 | C3: 1 | D3: 1.Իրականացնել արդարադատության ոլորտի մարմիններում գործող տվյալների շտեմարանների և էլեկտրոնային համակարգերի ուսումնասիրություն: Իրականացված է ԵՄ տեխնիկական աջակցության միջոցով: | E3: ՀՀ արդարադատության նախարարություն | F3: 0 | G3: 0 | H3: 0 | I3: 0 | J3: 0
B4: 1 | C4: 2 | D4: 2.Մշակել էլեկտրոնային արդարադատության համակարգի ընդհանուր տեխնիկական նկարագիրը: Իրականացված է ԵՄ տեխնիկական աջակցության միջոցով: | E4: ՀՀ արդարադատության նախարարություն, ՀՀ բարձր տեխնոլոգիական արդյունաբերության նախարարություն(համակատարող) | F4: 0 | G4: 0 | H4: 0 | I4: 0 | J4: 0
B5: 1 | C5: 3 | D5: 3.ՀՀ վարչական և ՀՀ քաղաքացիականդատավարությանօրենսգրքերում կատարել փոփոխություններ՝ վերանայելով էլեկտրոնային եղանակով ծանուցումները: | E5: ՀՀ արդարադատության նախարարություն, ՀՀբարձրագույն դատական խորհուրդ (համաձայնությամբ): | F5: 0 | G5: 0 | H5: 0 | I5: 0 | J5: 0
B6: 1 | C6: 4 | D6: 4.Դատարաններում ներդնել և գործարկել էլեկտրոնային կառավարման միասնական համակարգ (Տե՛ս 11-րդ կետի ծախսերի գնահատականը) | E6: ՀՀ արդարադատության նախարարություն, արդարադատության ոլորտի շահագրգիռ մարմիններ
B7: 1 | C7: 5 | D7: 5.ՀՀ վարչական և ՀՀ քաղաքացիականդատավարությանօրենսգրքերում կատարել փոփոխություններ՝ ներդնելով էլեկտրոնային եղանակով փաստաթղթերի ներկայացման ընթացակարգեր: (Տե՛ս 11-րդ կետի ծախսերի գնահատականը) | E7: ՀՀ արդարադատության նախարարություն, ՀՀ բարձրագույն դատական խորհուրդ (համաձայնությամբ):
B8: 1 | C8: 6 | D8: 6.Դատարաններում ներդնել էլեկտրոնային փաստաթղթաշրջանառության համակարգ: (Տե՛ս 11-րդ կետի ծախսերի գնահատականը) | E8: ՀՀ Արդարադատության նախարարություն , ՀՀ Բարձրագույն դատական խորհուրդ (համաձայնությամբ)
B9: 1 | C9: 7 | D9: 7.Ներդնել դատական իշխանությանն առնչվող գերատեսչություների հետ տեղեկատվության տրամադրման և ստացման համակարգ (Interconnectivity and Ciber-Security) | E9: ՀՀ Արդարադատության նախարարություն , ՀՀ Բարձրագույն դատական խորհուրդ (համաձայնությամբ) | H9: =331000*500/2/1000 -> 82750 | I9: =331000*500/2/1000 -> 82750
B10: 1 | C10: 8 | D10: 8.Ներդնել և գործարկել սնանկության էլեկտրոնային հարթակը (e-bankruptcy): (Տե՛ս 11-րդ կետի ծախսերի գնահատականը) | E10: ՀՀ Արդարադատության նախարարություն
B11: 1 | C11: 9 | D11: 9.Ներդնել և գործարկել էլեկտրոնային արդարադատության միասնական համակարգի քաղաքացիական և վարչական գործերով էլեկտրոնային մոդուլը: (Տե՛ս 11-րդ կետի ծախսերի գնահատականը) | E11: ՀՀ Արդարադատության նախարարություն , ՀՀ Բարձրագույն դատական խորհուրդ (համաձայնությամբ)
B12: 1 | C12: 10 | D12: 10. Ներդնել և գործարկել էլեկտրոնային արդարադատության միասնական համակարգի քրեական գործերով էլեկտրոնային մոդուլը: (Տե՛ս 11-րդ կետի ծախսերի գնահատականը) | E12: ՀՀ Արդարադատության նախարարություն , ՀՀ Բարձրագույն դատական խորհուրդ (համաձայնությամբ),ՀԿԱԾ (համաձայնությամբ), Պրոբացիայի ծառայություն (համաձայնությամբ), քրեակատարողական ծառայություն (համաձայնությամբ), ՀՀ գլխավոր դատախազություն (համաձայնությամբ), Ոստիկանություն (համաձայնությամբ), Հատուկ քննչական ծառայություն (համաձայնությամբ), ԱԱԾ (համաձայնությամբ), Քննչական կոմիտե (համաձայնությամբ), ՊԵԿ (համաձայնությամբ)
D13: 11. Էլեկտրոնային արդարադատության (e-judiciary) ծրագրի մշակում և ներդրում (4-րդ, 5-րդ, 6-րդ, 8-րդ, 9-րդ և 10-րդ կետեր), ՀՀ գլխավոր դատախազության համակարգչային ծրագրի մշակում և Արդարադատության նախարարության (ներառյալ առանձնացված ստորաբաժանումները) համակարգչային ծրագրի մշակում | G13: =('Cost details'!$E218-'Cost details'!$E214)*500/2000 -> 1427650 | H13: =('Cost details'!$E218-'Cost details'!$E214)*500/2000 -> 1427650
A14: 4 | B14: 1 | C14: 12 | D14: Տվյալների կենտրոնի ստեղծում | H14: ='Cost details'!D232*500/1000 -> 1410137.9 | I14: ='Cost details'!D237*500/1000 -> 886986.34
A15: 4 | B15: 1 | C15: 13 | D15: Համակարգիչներ | G15: ='Cost details'!E227/2000 -> 131500 | H15: =G15 -> 131500
D16: Ընդամենը Նպատակ 1 | F16: =SUM(F3:F14) -> 0 | G16: =SUM(G3:G15) -> 1559150 | H16: =SUM(H3:H15) -> 3052037.9 | I16: =SUM(I3:I15) -> 969736.34 | J16: =SUM(J3:J14) -> 0
D17: Նպատակ 2. Հանրային կառավարման արդարադատության բնագավառի էլեկտրոնային համակարգերի և տվյալների էլեկտրոնային բազաների մատչելիության ապահովում և արդիականացում
A18: 4 | B18: 2 | C18: 1 | D18: 1.Էլեկտրոնային նոտարական e-notary համակարգի զարգացում | E18: ՀՀ արդարադաատության նախարարություն | F18: 0 | G18: 7500 | H18: 7500 | I18: 0 | J18: 0
A19: 4 | B19: 2 | C19: 2 | D19: 2.Նոտարի կողմից Էլեկտրոնային եղանակով վավերացման ենթակա էլեկտրոնային պայմանագրերի և փաստաթղթերի փոխանակման համար անհրաժեշտ էլեկտրոնային համակարգի ներդրում | E19: ՀՀ արդարադաատության նախարարություն ՀՀ Կենտրոնական բանկ (համակատարող) | F19: 0 | G19: 6000 | H19: 6000 | I19: 0 | J19: 0
A20: 4 | B20: 2 | C20: 3 | D20: 3.ՀՀ հրապարակային ծանուցումների պաշտոնական ինտերնետային կայքի արդիականացում | F20: 0 | G20: =200000*475/2000 -> 47500 | H20: =200000*475/2000 -> 47500 | I20: 0 | J20: 0
A21: 4 | B21: 2 | C21: 4 | D21: 4.Իրավաբանական անձանց էլեկտրոնային գրանցման e-register համակարգի արդիականացում | F21: 0 | G21: =300000*475/2000 -> 71250 | H21: =300000*475/2000 -> 71250 | I21: 0 | J21: 0
A22: 4 | B22: 2 | C22: 5 | D22: 5.Իրավաբանական անձանց պետական ռեգիստրի արխիվային նյութերի թվայնացում, թվային արխիվների ստեղծում | F22: 0 | G22: =250000*475/2000 -> 59375 | H22: =250000*475/2000 -> 59375 | I22: 0 | J22: 0
D23: Ընդամենը Նպատակ 2 | F23: =SUM(F18:F22) -> 0 | G23: =SUM(G18:G22) -> 191625 | H23: =SUM(H18:H22) -> 191625 | I23: =SUM(I18:I22) -> 0 | J23: =SUM(J18:J22) -> 0
D27: Ծախսերի ամփոփ գնահատական, հազար դրամ
F28: 2019թ. 2-րդ կիսամյակ | G28: 2020 թվական | H28: 2021 թվական | I28: 2022 թվական | J28: 2023 թվական | K28: Ընդամենը՝ յուրաքանչյուր նպատակի գծով
D29: =D16 -> Ընդամենը Նպատակ 1 | F29: =F16 -> 0 | G29: =G16 -> 1559150 | H29: =H16 -> 3052037.9 | I29: =I16 -> 969736.34 | J29: =J16 -> 0 | K29: =SUM(F29:J29) -> 5580924.3
D30: =D23 -> Ընդամենը Նպատակ 2 | F30: =F23 -> 0 | G30: =G23 -> 191625 | H30: =H23 -> 191625 | I30: =I23 -> 0 | J30: =J23 -> 0 | K30: =SUM(F30:J30) -> 383250
D31: ԸՆԴԱՄԵՆԸ Էլեկտրոնային արդարադատություն | F31: =F30+F29 -> 0 | G31: =G30+G29 -> 1750775 | H31: =H30+H29 -> 3243662.9 | I31: =I30+I29 -> 969736.34 | J31: =J30+J29 -> 0 | K31: =K30+K29 -> 5964174.3
D34: Cost Estimates for E-Justice AP, AMD thousand
E35: =E28 -> 0 | F35: 2nd half of 2019 | G35: 2020 | H35: =2021 -> 2021 | I35: 2022 | J35: 2023 | K35: Total for each Objective
D36: Total for Objective 1 | E36: =E29 -> 0 | F36: =F29 -> 0 | G36: =G29 -> 1559150 | H36: =H29 -> 3052037.9 | I36: =I29 -> 969736.34 | J36: =J29 -> 0 | K36: =K29 -> 5580924.3
D37: Total for Objective 2 | E37: =E30 -> 0 | F37: =F30 -> 0 | G37: =G30 -> 191625 | H37: =H30 -> 191625 | I37: =I30 -> 0 | J37: =J30 -> 0 | K37: =K30 -> 383250
D38: TOTAL FOR E-JUSTICE | E38: =E31 -> 0 | F38: =F31 -> 0 | G38: =G31 -> 1750775 | H38: =H31 -> 3243662.9 | I38: =I31 -> 969736.34 | J38: =J31 -> 0 | K38: =K31 -> 5964174.3
F41: 2nd half of 2019 | G41: 2020 | H41: =2021 -> 2021 | I41: 2022 | J41: 2023 | K41: Total for each Modul/component
D42: Interconnectivity and cybersecurity | H42: ='E-justice'!H9 -> 82750 | I42: ='E-justice'!I9 -> 82750 | K42: =SUM(F42:J42) -> 165500
D43: Data Centre | H43: ='E-justice'!H14 -> 1410137.9 | I43: ='E-justice'!I14 -> 886986.34 | K43: =SUM(F43:J43) -> 2297124.3
D44: e-Judicary* | G44: 75000 | H44: =75000+'Cost details'!E222/2000 -> 140750 | I44: ='Cost details'!E222/2000 -> 65750 | K44: =SUM(F44:J44) -> 281500
D45: Prosecution | G45: 62500 | H45: =G45+'Cost details'!E226/2000 -> 88800 | I45: ='Cost details'!E226/2000 -> 26300 | K45: =SUM(F45:J45) -> 177600
D46: MoJ and subordinate inst (prisons and probation) | G46: =75000+G23 -> 266625 | H46: =75000+'Cost details'!E223/2000+H23 -> 306075 | I46: ='Cost details'!E223/2000+I23 -> 39450 | K46: =SUM(F46:J46) -> 612150
D47: TOTAL FOR IT | F47: =SUM(F42:F46) -> 0 | G47: =SUM(G42:G46) -> 404125 | H47: =SUM(H42:H46) -> 2028512.9 | I47: =SUM(I42:I46) -> 1101236.3 | J47: =SUM(J42:J46) -> 0 | K47: =SUM(K42:K46) -> 3533874.3

Sheet Costing summary
A1: Ծախսերի ամփոփ գնահատական, հազար դրամ
B2: 2019թ. 2-րդ կիսամյակ | C2: 2020 թվական | D2: 2021 թվական | E2: 2022 թվական | F2: 2023 թվական | G2: Ընդամենը՝ գործողությունների յուրաքանչյուր ծրագրի գծով
A3: ='ST Action Plan'!D133 -> ԸՆԴԱՄԵՆԸ (2019-2020) | B3: ='ST Action Plan'!F133 -> 61758 | C3: ='ST Action Plan'!G133 -> 370311.57 | G3: =SUM(B3:F3) -> 432069.57
A4: ='LT Action Plan'!D96 -> ԸՆԴԱՄԵՆԸ (2021-2023) | D4: ='LT Action Plan'!F96 -> 5226417.1 | E4: ='LT Action Plan'!G96 -> 4384346 | F4: ='LT Action Plan'!H96 -> 4275036.7 | G4: =SUM(B4:F4) -> 13885800
A5: ='E-justice'!D31 -> ԸՆԴԱՄԵՆԸ Էլեկտրոնային արդարադատություն | B5: ='E-justice'!F31 -> 0 | C5: ='E-justice'!G31 -> 1750775 | D5: ='E-justice'!H31 -> 3243662.9 | E5: ='E-justice'!I31 -> 969736.34 | F5: ='E-justice'!J31 -> 0 | G5: =SUM(B5:F5) -> 5964174.3
A6: ԸՆԴԱՄԵՆԸ Ռազմավարության գծով | B6: =SUM(B3:B5) -> 61758 | C6: =SUM(C3:C5) -> 2121086.6 | D6: =SUM(D3:D5) -> 8470080 | E6: =SUM(E3:E5) -> 5354082.3 | F6: =SUM(F3:F5) -> 4275036.7 | G6: =SUM(B6:F6) -> 20282044
A8: =A1 -> Ծախսերի ամփոփ գնահատական, հազար դրամ
B9: 2nd half of 2019 | C9: 2020 | D9: =2021 -> 2021 | E9: 2022 | F9: 2023 | G9: Total for each Objective
A10: TOTAL for 2019-2020 | B10: =B3 -> 61758 | C10: =C3 -> 370311.57 | D10: =D3 -> 0 | E10: =E3 -> 0 | F10: =F3 -> 0 | G10: =G3 -> 432069.57
A11: TOTAL for 2021-2023 | B11: =B4 -> 0 | C11: =C4 -> 0 | D11: =D4 -> 5226417.1 | E11: =E4 -> 4384346 | F11: =F4 -> 4275036.7 | G11: =G4 -> 13885800
A12: TOTAL for E-Justice | B12: =B5 -> 0 | C12: =C5 -> 1750775 | D12: =D5 -> 3243662.9 | E12: =E5 -> 969736.34 | F12: =F5 -> 0 | G12: =G5 -> 5964174.3
A13: TOTAL FOR STRATEGY | B13: =B6 -> 61758 | C13: =C6 -> 2121086.6 | D13: =D6 -> 8470080 | E13: =E6 -> 5354082.3 | F13: =F6 -> 4275036.7 | G13: =G6 -> 20282044
A19: Calculation of financial gap for justice reform
A20: EUR 1= AMD 526 | B20: 2nd quarter 2019 | C20: 2020 | D20: 2021 | E20: 2022 | F20: 2023 | G20: Total | I20: 526
A21: ST Action Plan | B21: ='ST Action Plan'!F152 -> 61758 | C21: ='ST Action Plan'!G152 -> 370311.57 | G21: =SUM(B21:F21) -> 432069.57
A22: LT Action Plan | D22: ='LT Action Plan'!F124 -> 5226417.1 | E22: ='LT Action Plan'!G124 -> 4384346 | F22: ='LT Action Plan'!H124 -> 4275036.7 | G22: =SUM(B22:F22) -> 13885800
A23: E-justice | B23: ='E-justice'!F31 -> 0 | C23: ='E-justice'!G31 -> 1750775 | D23: ='E-justice'!H31 -> 3243662.9 | E23: ='E-justice'!I31 -> 969736.34 | F23: ='E-justice'!J31 -> 0 | G23: =SUM(B23:F23) -> 5964174.3
A24: Grand total reform costs in 1000 dram | B24: =SUM(B21:B23) -> 61758 | C24: =SUM(C21:C23) -> 2121086.6 | D24: =SUM(D21:D23) -> 8470080 | E24: =SUM(E21:E23) -> 5354082.3 | F24: =SUM(F21:F23) -> 4275036.7 | G24: =SUM(B24:F24) -> 20282044
A25: GOA financing | D25: ='Cost details'!D169*1000 -> 3302760.5 | E25: ='Cost details'!E169*1000 -> 2044128
A26: Financial Gap after the GOA fiancing | B26: =B24-B25 -> 61758 | C26: =C24-C25 -> 2121086.6 | D26: =D24-D25 -> 5167319.5 | E26: =E24-E25 -> 3309954.3 | F26: =F24-F25 -> 4275036.7 | G26: =G24-G25 -> 20282044
A27: Financial Gap in 1000 Euros | B27: =B26/$I$20 -> 117.41065 | C27: =C26/$I$20 -> 4032.484 | D27: =D26/$I$20 -> 9823.8014 | E27: =E26/$I$20 -> 6292.6888 | F27: =F26/$I$20 -> 8127.4461 | G27: =G26/$I$20 -> 38559.018
A28: Hereof estmated EU budget suport, 1000 EUR | D28: 5000 | E28: 5500 | F28: 5500 | G28: =SUM(B28:F28) -> 16000
A29: Hereof support by EU to tendering of e-justice software solutions, 1000 EUR | C29: 1200
A31: Financial gap to be covered by other donors or the MOF, 1000 EUR | B31: =B27-B28-B29-B30 -> 117.41065 | C31: =C27-C28-C29-C30 -> 2832.484 | D31: =D27-D28-D29-D30 -> 4823.8014 | E31: =E27-E28-E29-E30 -> 792.68885 | F31: =F27-F28-F29-F30 -> 2627.4461 | G31: =G27-G28-G29-G30 -> 22559.018
A33: Note: there are substantil other DP support, but it all concerns technical assistance

Sheet Cost details
A1: Fact-finding commission
A2: Number of members | B2: 20
A3: Salary coefficient | B3: 7.5
A4: Base Salary, AMD | B4: 66140
A5: Number of man.months per member | B5: 0.5
A6: Total Annual Salary for the Members, AMD | B6: =B4*B3*B2*12*B5 -> 59526000
A7: Number of staff/secretariat | B7: 30
A8: Average monthly salaries, AMD | B8: 300000
A9: Total Annual Salaries for the Secretariat, AMD | B9: =B8*B7*12 -> 108000000
A10: Other expenses/office supply etc. @ 20% of salaries | B10: =B6*0.2 -> 11905200
A11: TOTAL for Fact-finding commission | B11: =B10+B6+B9 -> 179431200
A14: SJC+CPC training | B14: 2.4.7
A15: Number of participants | B15: =9+5 -> 14
A16: Number of hours | B16: 40
A17: Training cost per participant as judges | B17: =E78 -> 131046
A18: Total cost of training | B18: =B17*B16/C$78*B15 -> 917322
B20: 2.5.3
A21: Number of participants | B21: =244/2 -> 122
A22: Number of hours | B22: 20
A23: Training cost per participant as judges | B23: =B17 -> 131046
A24: Total cost of training | B24: =B23*B22/C$78*B21 -> 3996903
B26: 2.9.2
A27: Number of participants | B27: =B80+B81 -> 682
A28: Number of hours | B28: 40
A29: Training cost per participant as investigators | B29: =E80 -> 23416
A30: Total cost of training | B30: =B29*B28/C$80*B27 -> 21292949
B33: 3.6.2
A34: Number of participants | B34: 8
A35: Number of hours | B35: 40
A36: Training cost per participant as judges | B36: =B23 -> 131046
A37: Total cost of training | B37: =B36*B35/C$78*B34 -> 524184
A52: Development of training materials
A53: AMD | B53: unit | C53: number of units | D53: Number of positions | E53: Unit price/cost | F53: Total
A54: Coordinator | B54: month | C54: 5 | D54: 1 | E54: 700000 | F54: =+E54*D54*C54 -> 3500000
A55: Expert | B55: month | C55: 5 | D55: 2 | E55: 425000 | F55: =+E55*D55*C55 -> 4250000
A56: Editor | B56: month | C56: 4 | D56: 1 | E56: 560000 | F56: =+E56*D56*C56 -> 2240000
A57: Printing | B57: copies | C57: 200 | E57: 20000 | F57: =+E57*C57 -> 4000000
A58: Total w/o VAT | F58: =SUM(F54:F57) -> 13990000
A59: VAT @ 20% | F59: =F58*0.2 -> 2798000
A60: TOTAL including VAT | F60: =F59+F58 -> 16788000
...
