Workbook
Name _tab10: #REF!
Name _tab10: #REF!
Name _tab10: #REF!
Name _tab10: #REF!
Name _tab11: #REF!
Name _tab11: #REF!
Name _tab11: #REF!
Name _tab11: #REF!
Name _tab12: #REF!
Name _tab12: #REF!
Name _tab12: #REF!
Name _tab12: #REF!
Name _tab13: #REF!
Name _tab13: #REF!
Name _tab13: #REF!
Name _tab13: #REF!
Name _tab14: #REF!
Name _tab14: #REF!
Name _tab14: #REF!
Name _tab14: #REF!
Name _tab15: #REF!
Name _tab15: #REF!
Name _tab15: #REF!
Name _tab15: #REF!
Name _tab16: #REF!
Name _tab16: #REF!
Name _tab16: #REF!
Name _tab16: #REF!
Name _tab17: #REF!
Name _tab17: #REF!
Name _tab17: #REF!
Name _tab17: #REF!
Name _tab18: #REF!
Name _tab18: #REF!
Name _tab18: #REF!
Name _tab18: #REF!
Name _tab19: #REF!
Name _tab19: #REF!
Name _tab19: #REF!
Name _tab19: #REF!
Name _tab20: #REF!
Name _tab20: #REF!
Name _tab20: #REF!
Name _tab20: #REF!
Name _tab21: #REF!
Name _tab21: #REF!
Name _tab21: #REF!
Name _tab21: #REF!
Name _tab22: #REF!
Name _tab22: #REF!
Name _tab22: #REF!
Name _tab22: #REF!
Name _tab23: #REF!
Name _tab23: #REF!
Name _tab23: #REF!
Name _tab23: #REF!
Name _tab24: #REF!
Name _tab24: #REF!
Name _tab24: #REF!
Name _tab24: #REF!

Sheet 1
G1: Հավելված N 1
G2: ='2'!G2 -> ՀՀ կառավարության 2025 թվականի
G3: ='2'!G3 -> ______________ ի N ___ -Ն որոշման
A5: «ՀԱՅԱՍՏԱՆԻ ՀԱՆՐԱՊԵՏՈՒԹՅԱՆ 2025 ԹՎԱԿԱՆԻ ՊԵՏԱԿԱՆ ԲՅՈՒՋԵԻ ՄԱՍԻՆ» ՀԱՅԱՍՏԱՆԻ ՀԱՆՐԱՊԵՏՈՒԹՅԱՆ ՕՐԵՆՔԻ N 1 ՀԱՎԵԼՎԱԾԻ N 2 ԱՂՅՈՒՍԱԿՈՒՄ
A6: ԿԱՏԱՐՎՈՂ ՎԵՐԱԲԱՇԽՈՒՄԸ ԵՎ ՀԱՅԱՍՏԱՆԻ ՀԱՆՐԱՊԵՏՈՒԹՅԱՆ ԿԱՌԱՎԱՐՈՒԹՅԱՆ 2024 ԹՎԱԿԱՆԻ ԴԵԿՏԵՄԲԵՐԻ 27-Ի N 2060-Ն ՈՐՈՇՄԱՆ
A7: N 5 ՀԱՎԵԼՎԱԾԻ N 1 ԱՂՅՈՒՍԱԿՈՒՄ ԿԱՏԱՐՎՈՂ ՓՈՓՈԽՈՒԹՅՈՒՆՆԵՐԸ
G8: հազար դրամ
A9: ԲԳԿ | B9: Ծրագրային դասիչը | D9: ԲԳԿ/Ծրագրի /միջոցառման անվանումը | E9: Ծրագրի նպատակը/ Միջոցառման նկարագրությունը | F9: Վերջնական արդյունքի նկարագրությունը/ Միջոցառման տեսակը | G9: Ցուցանիշների փոփոխությունը (ավելացումները նշված են դրական նշանով, իսկ նվազեցումները՝ փակագծերում)
B10: Ծրագիր | C10: Միջոցառում | G10: տարի
A11: ԸՆԴԱՄԵՆԸ | G11: =+G12+G15 -> 0
A12: ՀՀ վարչապետի աշխատակազմ | G12: =+G13 -> -7634.2
B13: 1136 | D13: ՀՀ Վարչապետի լիազորությունների իրականացման ապահովում | E13: Աջակցել կառավարության, վարչապետի և փոխվարչապետերի գործունեությանը | F13: ՀՀ կառավարության և վարչապետի որոշումների ու հանձնարարականների կատարման վերահսկողության ապահովում | G13: =+G14 -> -7634.2
C14: 1136 - 11001 | D14: Ծառայությունների, ծրագրերի համակարգում | E14: Աջակցություն ՀՀ կառավարությանը` քաղաքականության և ծրագրերի մշակման և իրականացման գործընթացում, վերահսկողության կատարման գործընթացում | F14: Ծառայությունների մատուցում | G14: -7634.2
A15: ՀՀ արտաքին գործերի նախարարություն | G15: =+G16 -> 7634.2
B16: 1128 | D16: Օտարերկրյա պետություններում ՀՀ դիվանագիտական ծառայության մարմինների գործունեության կազմակերպում և իրականացում | E16: Միջազգային ասպարեզում ՀՀ շահերի պաշտպանություն և դիրքորոշումների առաջ մղում | F16: Երկկողմ և բազմակողմ միջազգային հարթակներում գործունեության ծավալում և օտարերկրյա պետություններում ՀՀ քաղաքացիների և իրավաբանական անձանց շահերի պաշտպանության ապահովում | G16: =+G17 -> 7634.2
C17: 1128 - 11001 | D17: Օտարերկրյա պետություններում և միջազգային կազմակերպություններում հավատարմագրված ՀՀ դիվանագիտական ծառայության մարմինների գործունեության իրականացում | E17: Օտարերկրյա պետություններում և միջազգային կազմակերպություններում դիվանագիտական գործունեության միջոցով արտաքին գործերի բնագավառում ՀՀ Կառավարության քաղաքականության իրականացում, հյուպատոսական ծառայության մատուցում | F17: Ծառայությունների մատուցում | G17: 7634.2

Sheet 2
G1: Հավելված N 2
G2: ՀՀ կառավարության 2025 թվականի
G3: ______________ ի N ___ -Ն որոշման
A5: ՀԱՅԱՍՏԱՆԻ ՀԱՆՐԱՊԵՏՈՒԹՅԱՆ ԿԱՌԱՎԱՐՈՒԹՅԱՆ 2024 ԹՎԱԿԱՆԻ ԴԵԿՏԵՄԲԵՐԻ 27-Ի N 2060-Ն ՈՐՈՇՄԱՆ
A6: N 3 և N 4 ՀԱՎԵԼՎԱԾՆԵՐՈՒՄ ԿԱՏԱՐՎՈՂ ՓՈՓՈԽՈՒԹՅՈՒՆՆԵՐԸ
G7: հազար դրամ
A8: Գործառական դասիչը | D8: Ծրագրային դասիչը | F8: Բյուջետային ծախսերի գործառական դասակարգման բաժինների, խմբերի և դասերի, բյուջետային ծրագրերի միջոցառումների, բյուջետային հատկացումների գլխավոր կարգադրիչների անվանումները | G8: Ցուցանիշների փոփոխությունը (ավելացումները նշված են դրական նշանով, իսկ նվազեցումները՝ փակագծերում)
A9: բաժին | B9: խումբ | C9: դաս | D9: ծրագիր | E9: միջոցա-ռում | G9: տարի
F10: ԸՆԴԱՄԵՆԸ ԾԱԽՍԵՐ | G10: =+G12 -> 0
F11: այդ թվում`
A12: 01 | F12: ԸՆԴՀԱՆՈՒՐ ԲՆՈՒՅԹԻ ՀԱՆՐԱՅԻՆ ԾԱՌԱՅՈՒԹՅՈՒՆՆԵՐ | G12: =+G14 -> 0
F13: այդ թվում`
B14: 01 | F14: Օրենսդիր և գործադիր մարմիններ, պետական կառավարում, ֆինանսական և հարկաբյուջետային հարաբերություններ, արտաքին հարաբերություններ | G14: =+G16+G31 -> 0
F15: այդ թվում`
C16: 01 | F16: Օրենսդիր և գործադիր մարմիններ, պետական կառավարում | G16: =G20 -> -7634.2
F17: այդ թվում`
F18: ՀՀ վարչապետի աշխատակազմ | G18: =+G20 -> -7634.2
F19: այդ թվում`
D20: 1136 | F20: ՀՀ Վարչապետի լիազորությունների իրականացման ապահովում | G20: =G22 -> -7634.2
F21: այդ թվում`
E22: 11001 | F22: Ծառայությունների, ծրագրերի համակարգում | G22: =G24 -> -7634.2
F23: այդ թվում` ըստ կատարողների
F24: ՀՀ վարչապետի աշխատակազմ | G24: =G26 -> -7634.2
F25: այդ թվում` բյուջետային ծախսերի տնտեսագիտական դասակարգման հոդվածներ
F26: ԸՆԴԱՄԵՆԸ ԾԱԽՍԵՐ | G26: =G27 -> -7634.2
F27: ԸՆԹԱՑԻԿ ԾԱԽՍԵՐ | G27: =G28 -> -7634.2
F28: ԱՇԽԱՏԱՆՔԻ ՎԱՐՁԱՏՐՈՒԹՅՈՒՆ | G28: =+G29 -> -7634.2
F29: Դրամով վճարվող աշխատավարձեր և հավելավճարներ | G29: =G30 -> -7634.2
F30: - Աշխատողների աշխատավարձեր և հավելավճարներ | G30: =+'1'!G14 -> -7634.2
C31: 03 | F31: Արտաքին հարաբերություններ | G31: =G35 -> 7634.2
F32: այդ թվում`
F33: ՀՀ արտաքին գործերի նախարարություն | G33: =+G35 -> 7634.2
F34: այդ թվում`
D35: 1128 | F35: Օտարերկրյա պետություններում ՀՀ դիվանագիտական ծառայության մարմինների գործունեության կազմակերպում և իրականացում | G35: =G37 -> 7634.2
F36: այդ թվում`
E37: 11001 | F37: Օտարերկրյա պետություններում և միջազգային կազմակերպություններում հավատարմագրված ՀՀ դիվանագիտական ծառայության մարմինների գործունեության իրականացում | G37: =G39 -> 7634.2
F38: այդ թվում` ըստ կատարողների
F39: ՀՀ արտաքին գործերի նախարարություն | G39: =G41 -> 7634.2
F40: այդ թվում` բյուջետային ծախսերի տնտեսագիտական դասակարգման հոդվածներ
F41: ԸՆԴԱՄԵՆԸ ԾԱԽՍԵՐ | G41: =G42 -> 7634.2
...

Sheet 3
J1: Հավելված N 3
J2: ='2'!G2 -> ՀՀ կառավարության 2025 թվականի
J3: ='2'!G3 -> ______________ ի N ___ -Ն որոշման
A6: ՀԱՅԱՍՏԱՆԻ ՀԱՆՐԱՊԵՏՈՒԹՅԱՆ ԿԱՌԱՎԱՐՈՒԹՅԱՆ 2024 ԹՎԱԿԱՆԻ ԴԵԿՏԵՄԲԵՐԻ 27-Ի N 2060-Ն ՈՐՈՇՄԱՆ NN 9 ԵՎ 9.1 ՀԱՎԵԼՎԱԾՆԵՐՈՒՄ ԿԱՏԱՐՎՈՂ ՓՈՓՈԽՈՒԹՅՈՒՆՆԵՐԸ
J7: հազար դրամ
A8: ԲԳԿ/ԲՍԿ | B8: Ծրագիր | D8: Միջոցառում | H8: Իրականացնողը/ ակտիվն օգտագործողը/ շահառուի ընտրության չափորոշիչը | I8: Արդյունքային չափորոշիչը | J8: Ցուցանիշների փոփոխությունը (ավելացումները նշված են դրական նշանով, իսկ նվազեցումները՝ փակագծերում)
B9: Դասիչը | C9: Անվա-նումը | D9: Դասիչը | E9: Անվա-նումը | F9: Նկարագրու-թյունը | G9: Տեսակը | J9: տարի
A10: ԸՆԴԱՄԵՆԸ | J10: =+J11+J17 -> 0
A11: ՀՀ վարչապետի աշխատակազմ | J11: =J12 -> -7634.2
B12: 1136 | C12: ՀՀ Վարչապետի լիազորությունների իրականացման ապահովում | J12: =+J13 -> -7634.2
D13: 1136 - 11001 | E13: Ծառայությունների, ծրագրերի համակարգում | J13: =+'2'!G30 -> -7634.2
F14: Աջակցություն ՀՀ կառավարությանը` քաղաքականության և ծրագրերի մշակման և իրականացման գործընթացում, վերահսկողության կատարման գործընթացում
G15: Ծառայությունների մատուցում
H16: Ծառայությունը մատուցողի անվանումը` ՀՀ վարչապետի աշխատակազմ
A17: ՀՀ արտաքին գործերի նախարարություն | J17: =J18 -> 7634.2
B18: 1128 | C18: Օտարերկրյա պետություններում ՀՀ դիվանագիտական ծառայության մարմինների գործունեության կազմակերպում և իրականացում | J18: =+J19 -> 7634.2
D19: 1128 - 11001 | E19: Օտարերկրյա պետություններում և միջազգային կազմակերպություններում հավատարմագրված ՀՀ դիվանագիտական ծառայության մարմինների գործունեության իրականացում | J19: =+'2'!G44 -> 7634.2
F20: Օտարերկրյա պետություններում և միջազգային կազմակերպություններում դիվանագիտական գործունեության միջոցով արտաքին գործերի բնագավառում ՀՀ Կառավարության քաղաքականության իրականացում, հյուպատոսական ծառայության մատուցում
G21: Ծառայությունների մատուցում
H22: Ծառայությունը մատուցողի անվանումը` Օտարերկրյա պետություններում ՀՀ դիվանագիտական ծառայության մարմիններ

Sheet Sheet1
A1: 4239 | B1: 20939.6
A2: 4252 | B2: 4001.2
A3: 4261 | B3: 24221.5
A4: 4264 | B4: 658398.2
A5: 4267 | B5: 51113.2
A6: 4269 | B6: 58135.2
A7: 5121 | B7: 34800
A8: 5122 | B8: 30780.6
A9: 5129 | B9: 165718.2
A10: 5132 | B10: 33.2
