Workbook
Name a: #REF!
Name a: #REF!
Name a: #REF!
Name a: #REF!
Name AgencyCode: #REF!
Name AgencyCode: #REF!
Name AgencyCode: #REF!
Name AgencyCode: #REF!
Name AgencyName: #REF!
Name AgencyName: #REF!
Name AgencyName: #REF!
Name AgencyName: #REF!
Name åû: #REF!
Name åû: #REF!
Name åû: #REF!
Name BOP: #REF!
Name BOP: #REF!
Name BOPfoot: #REF!
Name BOPfoot: #REF!
Name davit: #REF!
Name davit: #REF!
Name davit: #REF!
Name DebtCG: #REF!
Name DebtCG: #REF!
Name DebtGG: #REF!
Name DebtGG: #REF!
Name Functional1: #REF!
Name Functional1: #REF!
Name Functional1: #REF!
Name Functional1: #REF!
Name ggg: #REF!
Name ggg: #REF!
Name ggg: #REF!
Name hav: #REF!
Name hav: #REF!
Name mas: #REF!
Name mas: #REF!
Name mas: #REF!
Name mass: #REF!
Name mass: #REF!
Name mass: #REF!
Name MonExo: #REF!
Name MonExo: #REF!
Name MonGrow: #REF!
Name MonGrow: #REF!
Name PANature: #REF!
Name PANature: #REF!
Name PANature: #REF!
Name PANature: #REF!
Name PAType: #REF!
Name PAType: #REF!
Name PAType: #REF!
Name PAType: #REF!
Name Performance2: #REF!
Name Performance2: #REF!
Name Performance2: #REF!
Name Performance2: #REF!
Name PerformanceType: #REF!
Name PerformanceType: #REF!
Name PerformanceType: #REF!

Sheet Հավելված N 1
F1: Հավելված N 1
F2: ՀՀ կառավարության 2026 թվականի
F3: ______________ ի ___Ն որոշման
A6: «ՀԱՅԱUՏԱՆԻ ՀԱՆՐԱՊԵՏՈՒԹՅԱՆ 2026 ԹՎԱԿԱՆԻ ՊԵՏԱԿԱՆ ԲՅՈՒՋԵԻ ՄԱUԻՆ» ՀԱՅԱUՏԱՆԻ ՀԱՆՐԱՊԵՏՈՒԹՅԱՆ OՐԵՆՔԻ N 1 ՀԱՎԵԼՎԱԾԻ N 2 ԱՂՅՈՒՍԱԿՈՒՄ ԿԱՏԱՐՎՈՂ ՎԵՐԱԲԱՇԽՈՒՄԸ ԵՎ ՀԱՅԱՍՏԱՆԻ ՀԱՆՐԱՊԵՏՈՒԹՅԱՆ ԿԱՌԱՎԱՐՈՒԹՅԱՆ 2025 ԹՎԱԿԱՆԻ ԴԵԿՏԵՄԲԵՐԻ 25-Ի N 1910-Ն ՈՐՈՇՄԱՆ N 5 ՀԱՎԵԼՎԱԾԻ N 1 ԱՂՅՈՒՍԱԿՈՒՄ ԿԱՏԱՐՎՈՂ ՓՈՓՈԽՈՒԹՅՈՒՆԸ ԵՎ ԼՐԱՑՈՒՄԸ
J9: հազ. դրամներով
A10: ԲԳԿ | B10: Ծրագրային դասիչը | D10: ԲԳԿ/Ծրագրի /միջոցառման անվանումը | E10: Ծրագրի նպատակը/Միջոցառման նկարագրությունը | F10: Վերջնական արդյունքի նկարագրությունը/Միջոցառման տեսակը | G10: Ցուցանիշների փոփոխությունը (ավելացումները նշված են դրական նշանով, իսկ նվազեցումները փակագծերում)
G11: Առաջին եռամսյակ | H11: Առաջին կիսամյակ | I11: Ինն ամիս | J11: Տարի
B12: Ծրագիր | C12: Միջոցառում
A13: ԸՆԴԱՄԵՆԸ | G13: =+G15 -> 0 | H13: =+H15 -> 0 | I13: =+I15 -> 0 | J13: =+J15 -> 0
A14: այդ թվում՝
A15: ՀՀ ԿՐԹՈՒԹՅԱՆ, ԳԻՏՈՒԹՅԱՆ, ՄՇԱԿՈՒՅԹԻ ԵՎ ՍՊՈՐՏԻ ՆԱԽԱՐԱՐՈՒԹՅՈՒՆ | G15: =+G16+G18 -> 0 | H15: =+H16+H18 -> 0 | I15: =+I16+I18 -> 0 | J15: =+J16+J18 -> 0
B16: 1041 | D16: Մեծ նվաճումների սպորտ | E16: Նպաստել Հայաստանում մեծ սպորտի շարունակական զարգացմանը և միջազգային հարթակներում ՀՀ դիրքի բարելավմանը | F16: ՀՀ առաջնությունների ընդլայնում, միջազգային սպորտային միջոցառումներին մասնակցության և նվաճումների ապահովում | G16: =+G17 -> 100000 | H16: =+H17 -> 0 | I16: =+I17 -> 0 | J16: =+J17 -> 0
C17: 1041 - 32001 | D17: Մանկապատանեկան մարզադպրոցներին, մարզաձևերի ազգային ֆեդերացիաներին և այլ մարզական կազմակերպություններին գույքով ապահովում | E17: Սպորտի զարգացման նպատակով մարզադպրոցներին, ազգային ֆեդերացիաներին և այլ մարզական կազմակերպություններին մարզական և այլ անհրաժեշտ գույքի տրամադրում | F17: Այլ պետական կազմակերպությունների կողմից օգտագործվող ոչ ֆինանսական ակտիվների հետ գործառնություններ | G17: =+'Հավելված N 2'!G26 -> 100000 | H17: =+'Հավելված N 2'!H26 -> 0 | I17: =+'Հավելված N 2'!I26 -> 0 | J17: =+'Հավելված N 2'!J26 -> 0
B18: 1163 | D18: Մասսայական սպորտ | E18: Բնակչության շրջանում առողջ ապրելակերպի արմատավորում, անհատի բազմակողմանի ու ներդաշնակ զարգացման գործում ֆիզիկական կուլտուրայի և սպորտի դերի բարձրացում | F18: Սպորտի նկատմամբ հետաքրքրվածության և մասնակցության ընդլայնում | G18: =+G19 -> -100000 | H18: =+H19 -> 0 | I18: =+I19 -> 0 | J18: =+J19 -> 0
C19: 1163 - 12001 | D19: Աջակցություն համայնքներին մարզական հաստատությունների շենքային պայմանների բարելավման համար | E19: Համայնքային ենթակայության մարզական հաստատությունների վերանորոգում և կառուցում | F19: Տրանսֆերտների տրամադրում | G19: =+'Հավելված N 2'!G45 -> -100000 | H19: =+'Հավելված N 2'!H45 -> 0 | I19: =+'Հավելված N 2'!I45 -> 0 | J19: =+'Հավելված N 2'!J45 -> 0

Sheet Հավելված N 2
F1: Հավելված N 2
F2: ՀՀ կառավարության 2026 թվականի
F3: ______________ ի ___Ն որոշման
A7: ՀԱՅԱՍՏԱՆԻ ՀԱՆՐԱՊԵՏՈՒԹՅԱՆ ԿԱՌԱՎԱՐՈՒԹՅԱՆ 2025 ԹՎԱԿԱՆԻ ԴԵԿՏԵՄԲԵՐԻ 25-Ի N 1910-Ն ՈՐՈՇՄԱՆ N 3 ԵՎ N 4 ՀԱՎԵԼՎԱԾՆԵՐՈՒՄ ԿԱՏԱՐՎՈՂ ՓՈՓՈԽՈՒԹՅՈՒՆԸ ԵՎ ԼՐԱՑՈՒՄԸ
J10: հազ. դրամներով
A11: Գործառական դասիչը | D11: Ծրագրային դասիչը | F11: Բյուջետային հատկացումների գլխավոր կարգադրիչների, ծրագրերի, միջոցառումների և միջոցառումները կատարող պետական մարմինների անվանումները | G11: Ցուցանիշների փոփոխությունը (ավելացումները նշված են դրական նշանով, իսկ նվազեցումները փակագծերում)
A12: Բաժին | B12: Խումբ | C12: Դաս | D12: Ծրագիր | E12: Միջոցառում | G12: Առաջին եռամսյակ | H12: Առաջին կիսամյակ | I12: Ինն ամիս | J12: Տարի
F13: ԸՆԴԱՄԵՆԸ | G13: =+G15 -> 0 | H13: =+H15 -> 0 | I13: =+I15 -> 0 | J13: =+J15 -> 0
F14: այդ թվում՝
F15: ՀՀ ԿՐԹՈՒԹՅԱՆ, ԳԻՏՈՒԹՅԱՆ, ՄՇԱԿՈՒՅԹԻ ԵՎ ՍՊՈՐՏԻ ՆԱԽԱՐԱՐՈՒԹՅՈՒՆ | G15: =+G16+G35 -> 0 | H15: =+H16+H35 -> 0 | I15: =+I16+I35 -> 0 | J15: =+J16+J35 -> 0
A16: 08 | F16: ՀԱՆԳԻՍՏ, ՄՇԱԿՈՒՅԹ ԵՎ ԿՐՈՆ | G16: =+G18 -> 100000 | H16: =+H18 -> 0 | I16: =+I18 -> 0 | J16: =+J18 -> 0
F17: այդ թվում`
B18: 01 | F18: Հանգստի և սպորտի ծառայություններ | G18: =+G20 -> 100000 | H18: =+H20 -> 0 | I18: =+I20 -> 0 | J18: =+J20 -> 0
F19: այդ թվում`
C20: 01 | F20: Հանգստի և սպորտի ծառայություններ | G20: =+G22 -> 100000 | H20: =+H22 -> 0 | I20: =+I22 -> 0 | J20: =+J22 -> 0
F21: այդ թվում`
F22: ՀՀ կրթության, գիտության, մշակույթի և սպորտի նախարարություն | G22: =+G24 -> 100000 | H22: =+H24 -> 0 | I22: =+I24 -> 0 | J22: =+J24 -> 0
F23: այդ թվում`
D24: 1041 | E24: Մեծ նվաճումների սպորտ | G24: =+G26 -> 100000 | H24: =+H26 -> 0 | I24: =+I26 -> 0 | J24: =+J26 -> 0
F25: այդ թվում`
E26: 32001 | F26: Մանկապատանեկան մարզադպրոցներին, մարզաձևերի ազգային ֆեդերացիաներին և այլ մարզական ազմակերպություններին գույքով ապահովում | G26: =+G28 -> 100000 | H26: =+H28 -> 0 | I26: =+I28 -> 0 | J26: =+J28 -> 0
F27: այդ թվում` ըստ կատարողների
F28: ՀՀ կրթության գիտության մշակույթի և սպորտի նախարարություն | G28: =+G30 -> 100000 | H28: =+H30 -> 0 | I28: =+I30 -> 0 | J28: =+J30 -> 0
F29: այդ թվում՝ բյուջետային ծախսերի տնտեսագիտական դասակարգման հոդվածներ
F30: ԸՆԹԱՑԻԿ ԾԱԽՍԵՐ | G30: =G31 -> 100000 | H30: =H31 -> 0 | I30: =I31 -> 0 | J30: =J31 -> 0
F31: ՈՉ ՖԻՆԱՆՍԱԿԱՆ ԱԿՏԻՎՆԵՐԻ ԳԾՈՎ ԾԱԽՍԵՐ | G31: =+G32 -> 100000 | H31: =+H32 -> 0 | I31: =+I32 -> 0 | J31: =+J32 -> 0
F32: ՀԻՄՆԱԿԱՆ ՄԻՋՈՑՆԵՐ | G32: =+G33 -> 100000 | H32: =+H33 -> 0 | I32: =+I33 -> 0 | J32: =+J33 -> 0
F33: ՄԵՔԵՆԱՆԵՐ ԵՎ ՍԱՐՔԱՎՈՐՈՒՄՆԵՐ | G33: =+G34 -> 100000 | H33: =+H34 -> 0 | I33: =+I34 -> 0 | J33: =+J34 -> 0
F34: - Այլ մեքենաներ և սարքավորումներ | G34: =+'Հավելված N 3'!E15 -> 100000 | H34: =+'Հավելված N 3'!F15 -> 0 | I34: =+'Հավելված N 3'!G15 -> 0 | J34: =+'Հավելված N 3'!H15 -> 0
A35: 09 | F35: ԿՐԹՈՒԹՅՈՒՆ | G35: =+G37 -> -100000 | H35: =+H37 -> 0 | I35: =+I37 -> 0 | J35: =+J37 -> 0
F36: այդ թվում`
B37: 06 | F37: Կրթությանը տրամադրվող օժանդակ ծառայություններ | G37: =+G39 -> -100000 | H37: =+H39 -> 0 | I37: =+I39 -> 0 | J37: =+J39 -> 0
F38: այդ թվում`
C39: 01 | F39: Կրթությանը տրամադրվող օժանդակ ծառայություններ | G39: =+G41 -> -100000 | H39: =+H41 -> 0 | I39: =+I41 -> 0 | J39: =+J41 -> 0
F40: այդ թվում`
F41: ՀՀ կրթության, գիտության, մշակույթի և սպորտի նախարարություն | G41: =+G43 -> -100000 | H41: =+H43 -> 0 | I41: =+I43 -> 0 | J41: =+J43 -> 0
F42: այդ թվում`
D43: 1163 | E43: Մասսայական սպորտ | G43: =+G45 -> -100000 | H43: =+H45 -> 0 | I43: =+I45 -> 0 | J43: =+J45 -> 0
F44: այդ թվում`
E45: 12001 | F45: Աջակցություն համայնքներին մարզական հաստատությունների շենքային պայմանների բարելավման համար | G45: =+G47 -> -100000 | H45: =+H47 -> 0 | I45: =+I47 -> 0 | J45: =+J47 -> 0
...

Sheet Հավելված N 3
G1: Հավելված N 3
E2: ՀՀ կառավարության 2026 թվականի
G3: ______________ ի ___Ն որոշման
B6: ՀԱՅԱՍՏԱՆԻ ՀԱՆՐԱՊԵՏՈՒԹՅԱՆ ԿԱՌԱՎԱՐՈՒԹՅԱՆ 2025 ԹՎԱԿԱՆԻ ԴԵԿՏԵՄԲԵՐԻ 25-Ի N 1910-Ն ՈՐՈՇՄԱՆ N 5 ՀԱՎԵԼՎԱԾԻ N 2 ԱՂՅՈՒՍԱԿՈՒՄ ԿԱՏԱՐՎՈՂ ՓՈՓՈԽՈՒԹՅՈՒՆԸ ԵՎ ԼՐԱՑՈՒՄԸ
H8: հազ. դրամներով
B9: Ծրագրային դասիչ | D9: Բյուջետային գլխավոր կարգադրիչների, ծրագրերի, միջոցառումների, միջոցառումները կատարող պետական մարմինների և ուղղությունների անվանումները | E9: Ցուցանիշների փոփոխությունը (ավելացումները նշված են դրական նշանով, իսկ նվազեցումները՝ փակագծերում)
B10: Ծրագիր | C10: Միջոցառում | E10: Առաջին եռամսյակ | F10: Առաջին կիսամյակ | G10: Ինն ամիս | H10: Տարի
D11: ՀՀ ԿՐԹՈՒԹՅԱՆ, ԳԻՏՈՒԹՅԱՆ, ՄՇԱԿՈՒՅԹԻ ԵՎ ՍՊՈՐՏԻ ՆԱԽԱՐԱՐՈՒԹՅՈՒՆ | E11: =+E13+E16 -> 0 | F11: =+F13+F16 -> 0 | G11: =+G13+G16 -> 0 | H11: =+H13+H16 -> 0
D12: այդ թվում՝
B13: 1041 | C13: 32001 | D13: Մանկապատանեկան մարզադպրոցներին, մարզաձևերի ազգային ֆեդերացիաներին այլ մարզական կազմակերպություններին գույքով ապահովում | E13: =+E15 -> 100000 | F13: =+F15 -> 0 | G13: =+G15 -> 0 | H13: =+H15 -> 0
D14: այդ թվում` ըստ կատարողների
D15: ՀՀ կրթության, գիտության, մշակույթի և սպորտի նախարարություն | E15: 100000 | F15: =+F17 -> 0 | G15: =+G17 -> 0 | H15: =+H17 -> 0
B16: 1163 | C16: 12001 | D16: Աջակցություն համայնքներին մարզական հաստատությունների շենքային պայմանների բարելավման համար | E16: =+E18 -> -100000 | F16: =+F18 -> 0 | G16: =+G18 -> 0 | H16: =+H18 -> 0
D17: այդ թվում` ըստ կատարողների
D18: ՀՀ քաղաքաշինության կոմիտե | E18: =+E20 -> -100000 | F18: =+F20 -> 0 | G18: =+G20 -> 0 | H18: =+H20 -> 0
D19: այդ թվում՝ ըստ ուղղությունների
D20: ՀՀ Շիրակի մարզ | E20: =+E21 -> -100000 | F20: =+F21 -> 0 | G20: =+G21 -> 0 | H20: =+H21 -> 0
D21: =+'[1]Հավելված N 3'!C18 -> Արթուր Ալեքսանյանի անվան նոր սպորտային համալիր | E21: -100000 | F21: 0 | G21: 0 | H21: 0

Sheet Հավելված N 4
K1: Հավելված N 4
K2: ՀՀ կառավարության 2026 թվականի
K3: ______________ ի ___Ն որոշման
A6: ՀԱՅԱՍՏԱՆԻ ՀԱՆՐԱՊԵՏՈՒԹՅԱՆ ԿԱՌԱՎԱՐՈՒԹՅԱՆ 2025 ԹՎԱԿԱՆԻ ԴԵԿՏԵՄԲԵՐԻ 25-Ի N 1910-Ն ՈՐՈՇՄԱՆ N 9 ՀԱՎԵԼՎԱԾՈՒՄ ԿԱՏԱՐՎՈՂ ՓՈՓՈԽՈՒԹՅՈՒՆԸ ԵՎ ԼՐԱՑՈՒՄԸ
L8: հազար դրամներոով
A9: ԲԳԿ | B9: Ծրագիր | D9: Միջոցառում | H9: Իրականացնողը/ ակտիվն օգտագործողը/ շահառուի ընտրության չափորոշիչը | I9: Արդյունքային չափորոշիչը | J9: Ցուցանիշների փոփոխությունը (ավելացումները նշված են դրական նշանով, իսկ նվազեցումները՝ փակագծերում)
B10: Դասիչը | C10: Անվանումը | D10: Դասիչը | E10: Անվանումը | F10: Նկարագրությունը | G10: Տեսակը | J10: Առաջին եռամսյակ | K10: Առաջին կիսամյակ | L10: Ինն ամիս | M10: Տարի
A11: ԸՆԴԱՄԵՆԸ | J11: =+J13 -> 0 | K11: =+K13 -> 0 | L11: =+L13 -> 0 | M11: =+M13 -> 0
A12: այդ թվում՝
A13: ՀՀ ԿՐԹՈՒԹՅԱՆ, ԳԻՏՈՒԹՅԱՆ, ՄՇԱԿՈԻՅԹԻ ԵՎ ՍՊՈՐՏԻ ՆԱԽԱՐԱՐՈՒԹՅՈՒՆ | J13: =+J14+J20 -> 0 | K13: =+K14+K20 -> 0 | L13: =+L14+L20 -> 0 | M13: =+M14+M20 -> 0
B14: 1041 | C14: Մեծ նվաճումների սպորտ | J14: =+J15 -> 100000 | K14: =+K15 -> 0 | L14: =+L15 -> 0 | M14: =+M15 -> 0
D15: 1041 - 32001 | E15: Մանկապատանեկան մարզադպրոցներին, մարզաձևերի ազգային ֆեդերացիաներին և այլ մարզական կազմակերպություններին գույքով ապահովում | J15: =+'Հավելված N 1'!G17 -> 100000 | K15: =+'Հավելված N 1'!H17 -> 0 | L15: =+'Հավելված N 1'!I17 -> 0 | M15: =+'Հավելված N 1'!J17 -> 0
F16: Սպորտի զարգացման նպատակով մարզադպրոցներին, ազգային ֆեդերացիաներին և այլ մարզական կազմակերպություններին մարզական և այլ անհրաժեշտ գույքի տրամադրում
G17: Այլ պետական կազմակերպությունների կողմից օգտագործվող ոչ ֆինանսական ակտիվների հետ գործառնություններ
H18: Ակտիվն օգտագործող կազմակերպության անվանումը` Մարզական կազմակերպություններ
B20: 1163 | C20: Մասսայական սպորտ | J20: =+J21 -> -100000 | K20: =+K21 -> 0 | L20: =+L21 -> 0 | M20: =+M21 -> 0
D21: 1163 - 12001 | E21: Աջակցություն համայնքներին մարզական հաստատությունների շենքային պայմանների բարելավման համար | J21: =+'Հավելված N 1'!G19 -> -100000 | K21: =+'Հավելված N 1'!H19 -> 0 | L21: =+'Հավելված N 1'!I19 -> 0 | M21: =+'Հավելված N 1'!J19 -> 0
F22: Համայնքային ենթակայության մարզական հաստատությունների վերանորոգում և կառուցում
G23: Տրանսֆերտների տրամադրում
H24: Շահառուների ընտրության չափորոշիչները` ՀՀ համայնքների ենթակայության մարզական հաստատությունների շենքային պայմանների բարելավման անհրաժեշտությունը

Sheet Հավելված N 5
K1: Հավելված N 5
K2: ՀՀ կառավարության 2026 թվականի
K3: ______________ ի ___Ն որոշման
A6: ՀԱՅԱՍՏԱՆԻ ՀԱՆՐԱՊԵՏՈՒԹՅԱՆ ԿԱՌԱՎԱՐՈՒԹՅԱՆ 2025 ԹՎԱԿԱՆԻ ԴԵԿՏԵՄԲԵՐԻ 25-Ի N 1910-Ն ՈՐՈՇՄԱՆ N 9.1 ՀԱՎԵԼՎԱԾՈՒՄ ԿԱՏԱՐՎՈՂ ՓՈՓՈԽՈՒԹՅՈՒՆԸ ԵՎ ԼՐԱՑՈՒՄԸ
L8: հազար դրամներոով
A9: ԲՍԿ | B9: Ծրագիր | D9: Միջոցառում | H9: Իրականացնողը/ ակտիվն օգտագործողը/ շահառուի ընտրության չափորոշիչը | I9: Արդյունքային չափորոշիչը | J9: Ցուցանիշների փոփոխությունը (ավելացումները նշված են դրական նշանով, իսկ նվազեցումները՝ փակագծերում)
B10: Դասիչը | C10: Անվանումը | D10: Դասիչը | E10: Անվանումը | F10: Նկարագրությունը | G10: Տեսակը | J10: Առաջին եռամսյակ | K10: Առաջին կիսամյակ | L10: Ինն ամիս | M10: Տարի
A11: ԸՆԴԱՄԵՆԸ | J11: =+J13+J20 -> 0 | K11: =+K13+K20 -> 0 | L11: =+L13+L20 -> 0 | M11: =+M13+M20 -> 0
A12: այդ թվում՝
A13: ՀՀ ԿՐԹՈՒԹՅԱՆ, ԳԻՏՈՒԹՅԱՆ, ՄՇԱԿՈԻՅԹԻ ԵՎ ՍՊՈՐՏԻ ՆԱԽԱՐԱՐՈՒԹՅՈՒՆ | J13: =+J14 -> 100000 | K13: =+K14 -> 0 | L13: =+L14 -> 0 | M13: =+M14 -> 0
B14: 1041 | C14: Մեծ նվաճումների սպորտ | J14: =+J15 -> 100000 | K14: =+K15 -> 0 | L14: =+L15 -> 0 | M14: =+M15 -> 0
D15: 1041 - 32001 | E15: Մանկապատանեկան մարզադպրոցներին, մարզաձևերի ազգային ֆեդերացիաներին և այլ մարզական կազմակերպություններին գույքով ապահովում | J15: =+'Հավելված N 2'!G28 -> 100000 | K15: =+'Հավելված N 2'!H28 -> 0 | L15: =+'Հավելված N 2'!I28 -> 0 | M15: =+'Հավելված N 2'!J28 -> 0
F16: Սպորտի զարգացման նպատակով մարզադպրոցներին, ազգային ֆեդերացիաներին և այլ մարզական կազմակերպություններին մարզական և այլ անհրաժեշտ գույքի տրամադրում
G17: Այլ պետական կազմակերպությունների կողմից օգտագործվող ոչ ֆինանսական ակտիվների հետ գործառնություններ
H18: Ակտիվն օգտագործող կազմակերպության անվանումը` Մարզական կազմակերպություններ
A20: ՀՀ ՔԱՂԱՔԱՇԻՆՈՒԹՅԱՆ ԿՈՄԻՏԵ | J20: =+J21 -> -100000 | K20: =+K21 -> 0 | L20: =+L21 -> 0 | M20: =+M21 -> 0
B21: 1163 | C21: Մասսայական սպորտ | J21: =+J22 -> -100000 | K21: =+K22 -> 0 | L21: =+L22 -> 0 | M21: =+M22 -> 0
D22: 1163 - 12001 | E22: Աջակցություն համայնքներին մարզական հաստատությունների շենքային պայմանների բարելավման համար | J22: =+'Հավելված N 2'!G47 -> -100000 | K22: =+'Հավելված N 2'!H47 -> 0 | L22: =+'Հավելված N 2'!I47 -> 0 | M22: =+'Հավելված N 2'!J47 -> 0
F23: Համայնքային ենթակայության մարզական հաստատությունների վերանորոգում և կառուցում
G24: Տրանսֆերտների տրամադրում
H25: Շահառուների ընտրության չափորոշիչները` ՀՀ համայնքների ենթակայության մարզական հաստատությունների շենքային պայմանների բարելավման անհրաժեշտությունը
