Workbook
Name \A: #REF!
Name _tab10: #REF!
Name _tab10: #REF!
Name _tab11: #REF!
Name _tab12: #REF!
Name _tab13: #REF!
Name _tab14: #REF!
Name _tab15: #REF!
Name _tab16: #REF!
Name _tab17: #REF!
Name _tab18: #REF!
Name _tab19: #REF!
Name _tab20: #REF!
Name _tab21: #REF!
Name _tab22: #REF!
Name _tab23: #REF!
Name _tab24: #REF!
Name _tab5: #REF!
Name _tab6: #REF!
Name _tab7: #REF!
Name _tab8: #REF!
Name _tab9: #REF!
Name aaaa: #REF!
Name aaaaa: #REF!
Name AgencyCode: #REF!
Name AgencyCode: #REF!
Name AgencyName: #REF!
Name ampop_krchat: #REF!
Name Armata: #REF!
Name asd: #REF!
Name åû: #REF!
Name BOP: #REF!
Name BOPfoot: #REF!
Name davit: #REF!
Name DebtCG: '[1]Fis-Debt'!#REF!
Name DebtGG: #REF!
Name fff: #REF!
Name Functional1: #REF!
Name ggg: #REF!
Name h: #REF!
Name Hav: #REF!,#REF!
Name mas: #REF!
Name mass: #REF!
Name MonExo: #REF!
Name MonGrow: [2]BM!#REF!
Name PANature: #REF!
Name PANature: #REF!
Name par_count: #REF!,#REF!,#REF!,#REF!,#REF!,#REF!,#REF!,#REF!,#REF!,#REF!,#REF!,#REF!,#REF!,#REF!,#REF!
Name par_count: #REF!,#REF!,#REF!,#REF!,#REF!,#REF!,#REF!,#REF!,#REF!,#REF!,#REF!,#REF!,#REF!,#REF!,#REF!
Name par_qual: #REF!,#REF!,#REF!,#REF!,#REF!
Name par_qual: #REF!,#REF!,#REF!,#REF!,#REF!
Name par_time: #REF!,#REF!,#REF!,#REF!
Name par_time: #REF!,#REF!,#REF!,#REF!
Name par2.12s: #REF!
Name par2.12s: #REF!
Name par2.4s: #REF!,#REF!,#REF!,#REF!,#REF!,#REF!,#REF!,#REF!,#REF!,#REF!,#REF!,#REF!,#REF!,#REF!,#REF!,#REF!
Name par2.4s: #REF!,#REF!,#REF!,#REF!,#REF!,#REF!,#REF!,#REF!,#REF!,#REF!,#REF!,#REF!,#REF!,#REF!,#REF!,#REF!
Name par2.5s: #REF!,#REF!
Name par2.5s: #REF!,#REF!
Name par2.6s: #REF!,#REF!,#REF!,#REF!

Sheet Հավելված 1
A1: Հավելված N 1 ՀՀ կառավարության 2026 թվականի ––-------------------–––––––– N –––––– որոշման
A3: ՀԱՅԱUՏԱՆԻ ՀԱՆՐԱՊԵՏՈՒԹՅԱՆ ԿԱՌԱՎԱՐՈՒԹՅԱՆ 2025 ԹՎԱԿԱՆԻ ԴԵԿՏԵՄԲԵՐԻ 25-Ի N 1910-Ն ՈՐՈՇՄԱՆ N 1 ՀԱՎԵԼՎԱԾԻ N 1 ԱՂՅՈՒՍԱԿՈՒՄ ԿԱՏԱՐՎՈՂ ՓՈՓՈԽՈՒԹՅՈՒՆՆԵՐԸ
D4: հազար դրամներով
A5: Պետական բյուջեի դեֆիցիտի ֆինանսավորման աղբյուրներն ու դրանց տարրերի անվանումները | B5: Ցուցանիշների փոփոխությունը (նվազեցումները նշված են փակագծերում)
B6: Առաջին եռամսյակ | C6: Առաջին կիսամյակ | D6: Ինն ամիս | E6: Տարի
A7: ԸՆԴԱՄԵՆԸ | B7: =+B9 -> 180170.5 | C7: =+C9 -> 180170.5 | D7: =+D9 -> 180170.5 | E7: =+E9 -> 0
A8: այդ թվում՝
A9: Ա.Ներքին աղբյուրներ-ընդամենը | B9: =+B11 -> 180170.5 | C9: =+C11 -> 180170.5 | D9: =+D11 -> 180170.5 | E9: =+E11 -> 0
A10: այդ թվում՝
A11: 2. Ֆինանսական զուտ ակտիվներ | B11: =+B12 -> 180170.5 | C11: =+C12 -> 180170.5 | D11: =+D12 -> 180170.5 | E11: =+E12 -> 0
A12: 2.6.Այլ | B12: =+B13 -> 180170.5 | C12: =+C13 -> 180170.5 | D12: =+D13 -> 180170.5 | E12: =+E13 -> 0
A13: ժամանակավորապես ազատ միջոցներ | B13: =+'Հավելված 3'!G7 -> 180170.5 | C13: =+'Հավելված 3'!H7 -> 180170.5 | D13: =+'Հավելված 3'!I7 -> 180170.5 | E13: =+'Հավելված 3'!J7*-1 -> 0

Sheet Հավելված 2
A1: Հավելված N 2 ՀՀ կառավարության 2026 թվականի ____________ի N _____-Ն որոշման
A3: «ՀԱՅԱՍՏԱՆԻ ՀԱՆՐԱՊԵՏՈՒԹՅԱՆ 2026 ԹՎԱԿԱՆԻ ՊԵՏԱԿԱՆ ԲՅՈՒՋԵԻ ՄԱՍԻՆ» ՕՐԵՆՔԻ N 1 ՀԱՎԵԼՎԱԾԻ N 2 ԱՂՅՈՒՍԱԿՈՒՄ ԿԱՏԱՐՎՈՂ ՎԵՐԱԲԱՇԽՈՒՄԸ, ՀԱՅԱՍՏԱՆԻ ՀԱՆՐԱՊԵՏՈՒԹՅԱՆ ԿԱՌԱՎԱՐՈՒԹՅԱՆ 2025 ԹՎԱԿԱՆԻ ԴԵԿՏԵՄԲԵՐԻ 25-Ի N 1910-Ն ՈՐՈՇՄԱՆ N 5 ՀԱՎԵԼՎԱԾԻ N 1 ԱՂՅՈՒՍԱԿՈՒՄ ԿԱՏԱՐՎՈՂ ՓՈՓՈԽՈՒԹՅՈՒՆՆԵՐԸ
I4: հազար դրամներով
A5: ԲԳԿ | B5: Ծրագրային դասիչը | D5: ԲԳԿ/Ծրագրի /միջոցառման անվանումը | E5: Ծրագրի նպատակը/Միջոցառման նկարագրությունը | F5: Վերջնական արդյունքի նկարագրությունը/Միջոցառման տեսակը | G5: Ցուցանիշների փոփոխությունները (ավելացումներ նշված են դրական նշանով, նվազեցումները՝ փակագծերում)
B6: Ծրագիր | C6: Միջոցառում | G6: Առաջին եռամսյակ | H6: Առաջին կիսամյակ | I6: Ինն ամիս | J6: Տարի
A7: ԸՆԴԱՄԵՆԸ | G7: =+G8 -> 180170.5 | H7: =+H8 -> 180170.5 | I7: =+I8 -> 180170.5 | J7: =+J8 -> 0
A8: ՀՀ էկոնոմիկայի նախարարություն | G8: =+G9+G11+G13 -> 180170.5 | H8: =+H9+H11+H13 -> 180170.5 | I8: =+I9+I11+I13 -> 180170.5 | J8: =+J9+J11+J13 -> 0
B9: 1022 | D9: Գյուղատնտեսության խթանման ծրագիր | E9: Գյուղատնտեսական մթերքի և դրանց վերամշակումից ստացվող սննդամթերքի ծավալների ավելացում | F9: Գյուղատնտեսական մթերքների ծավալների ավելացում: Օգտագործվող վարելահողերի ավելացում: Պտուղբանջարեղենի և խաղողի վերամշակումից ստացված արտադրանքի ծավալների աճ | G9: =+G10 -> 0 | H9: =+H10 -> 0 | I9: =+I10 -> 0 | J9: =+J10 -> -80170.5
C10: 1022 - 12010 | D10: Անասնաբուծության ճյուղում իրականացվող ներդրումային ծրագրերին աջակցություն | E10: Անասնաբուծության ճյուղում իրականացվող առնվազն 1 մլրդ դրամի ներդրումներից կապիտալ ներդրումների մասնակի փոխհատուցում | F10: Տրանսֆերտների տրամադրում | G10: =+'Հավելված 3'!G45 -> 0 | H10: =+'Հավելված 3'!H45 -> 0 | I10: =+'Հավելված 3'!I45 -> 0 | J10: =+'Հավելված 3'!J45 -> -80170.5
B11: 1116 | D11: Անասնաբուժական ծառայություններ | E11: Անասնահամաճարակային կայուն ֆոնի ապահովում | F11: Գյուղատնտեսական կենդանիների վարակամերժության ապահովում | G11: =+G12 -> 180170.5 | H11: =+H12 -> 180170.5 | I11: =+I12 -> 180170.5 | J11: =+J12 -> 180170.5
C12: 1116-11001 | D12: Գյուղատնտեսական կենդանիների պատվաստում | E12: Անասնաբուժական ծառայության հակահամաճարակային միջոցառումների, կենդանիների հիվանդությունների կանխարգելման աշխատանքների կազմակերպում և համակարգում, անհրաժեշտ նյութերի ձեռքբերում | F12: Ծառայությունների մատուցում | G12: =+'Հավելված 3'!G56 -> 180170.5 | H12: =+'Հավելված 3'!H56 -> 180170.5 | I12: =+'Հավելված 3'!I56 -> 180170.5 | J12: =+'Հավելված 3'!J56 -> 180170.5
B13: 1165 | D13: Ներդրումների և արտահանման խթանման ծրագիր | E13: Ներդրումների ներգրավման և արտահանման խթանում | F13: Նախորդ տարվա համեմատ ներդրումների և արտահանման ծավալների աճ | G13: =+G14 -> 0 | H13: =+H14 -> 0 | I13: =+I14 -> 0 | J13: =+J14 -> -100000
C14: 1165 - 12006 | D14: Հայաստանի Հանարապետության տնտեսապես բարդ ապրանքների արտադրությամբ զբաղվող առևտրային ընկերություններին պետական աջակցություն | E14: Տնտեսական բարդության ինդեքսը օգտագործելով` պետական աջակցությունն առաջնահերթորեն տրամադրել այն տնտեսվարողներին, որոնք պատրաստվում են արտադրել 0.2 տնտեսական բարդության ցուցիչից ավելի բարձր ինդեքս ունեցող ապրանքներ | F14: Տրանսֆերտների տրամադրում | G14: =+'Հավելված 3'!G28 -> 0 | H14: =+'Հավելված 3'!H28 -> 0 | I14: =+'Հավելված 3'!I28 -> 0 | J14: =+'Հավելված 3'!J28 -> -100000

Sheet Հավելված 3
F1: Հավելված 3 ՀՀ կառավարության 2026 թվականի ____________ի N _____-Ն որոշման
A3: ՀԱՅԱՍՏԱՆԻ ՀԱՆՐԱՊԵՏՈՒԹՅԱՆ ԿԱՌԱՎԱՐՈՒԹՅԱՆ 2025 ԹՎԱԿԱՆԻ ԴԵԿՏԵՄԲԵՐԻ 25-Ի N 1910-Ն ՈՐՈՇՄԱՆ NN 3 ԵՎ 4 ՀԱՎԵԼՎԱԾՆԵՐՈՒՄ ԿԱՏԱՐՎՈՂ ՓՈՓՈԽՈՒԹՅՈՒՆՆԵՐԸ
J4: հազար դրամներով
A5: Գործառնական դասիչ | D5: Ծրագրային դասիչը | F5: Բյուջետային ծախսերի գործառական դասակարգման բաժինների, խմբերի և դասերի, բյուջետային ծրագրերի միջոցառումների, բյուջետային հատկացումների գլխավոր կարգադրիչների անվանումները | G5: Ցուցանիշների փոփոխությունը (ավելացումները նշված են դրական նշանով, իսկ նվազեցումները՝ փակագծերում)
A6: Բաժին | B6: Խումբ | C6: Դաս | D6: Ծրագիր | E6: Միջոցառում | G6: Առաջին եռամսյակ | H6: Առաջին կիսամյակ | I6: Ինն ամիս | J6: Տարի
F7: ԸՆԴԱՄԵՆԸ ԾԱԽՍԵՐ | G7: =+G9 -> 180170.5 | H7: =+H9 -> 180170.5 | I7: =+I9 -> 180170.5 | J7: =+J9 -> 0
F8: այդ թվում`
F9: ՀՀ էկոնոմիկայի նախարարություն | G9: =+G11 -> 180170.5 | H9: =+H11 -> 180170.5 | I9: =+I11 -> 180170.5 | J9: =+J11 -> 0
F10: այդ թվում`
A11: 04 | F11: ՏՆՏԵՍԱԿԱՆ ՀԱՐԱԲԵՐՈՒԹՅՈՒՆՆԵՐ | G11: =+G12+G29 -> 180170.5 | H11: =+H12+H29 -> 180170.5 | I11: =+I12+I29 -> 180170.5 | J11: =+J12+J29 -> 0
B12: 01 | F12: Ընդհանուր բնույթի տնտեսական, առևտրային և աշխատանքի գծով հարաբերություններ | G12: =+G14 -> 0 | H12: =+H14 -> 0 | I12: =+I14 -> 0 | J12: =+J14 -> -100000
F13: այդ թվում`
C14: 01 | F14: Ընդհանուր բնույթի տնտեսական և առևտրային հարաբերություններ | G14: =+G16 -> 0 | H14: =+H16 -> 0 | I14: =+I16 -> 0 | J14: =+J16 -> -100000
F15: այդ թվում`
F16: ՀՀ էկոնոմիկայի նախարարություն | G16: =+G18 -> 0 | H16: =+H18 -> 0 | I16: =+I18 -> 0 | J16: =+J18 -> -100000
F17: այդ թվում`
D18: 1165 | F18: Ներդրումների և արտահանման խթանման ծրագիր | G18: =+G20 -> 0 | H18: =+H20 -> 0 | I18: =+I20 -> 0 | J18: =+J20 -> -100000
F19: այդ թվում`
E20: 12006 | F20: Հայաստանի Հանարապետության տնտեսապես բարդ ապրանքների արտադրությամբ զբաղվող առևտրային ընկերություններին պետական աջակցություն | G20: =+G22 -> 0 | H20: =+H22 -> 0 | I20: =+I22 -> 0 | J20: =+J22 -> -100000
F21: այդ թվում` ըստ կատարողների
F22: ՀՀ էկոնոմիկայի նախարարություն | G22: =+G24 -> 0 | H22: =+H24 -> 0 | I22: =+I24 -> 0 | J22: =+J24 -> -100000
F23: այդ թվում` բյուջետային ծախսերի տնտեսագիտական դասակարգման հոդվածներ
F24: ԸՆԴԱՄԵՆԸ ԾԱԽՍԵՐ | G24: =+G25 -> 0 | H24: =+H25 -> 0 | I24: =+I25 -> 0 | J24: =+J25 -> -100000
F25: ԸՆԹԱՑԻԿ ԾԱԽՍԵՐ | G25: =+G26 -> 0 | H25: =+H26 -> 0 | I25: =+I26 -> 0 | J25: =+J26 -> -100000
F26: ԴՐԱՄԱՇՆՈՐՀՆԵՐ | G26: =G27 -> 0 | H26: =H27 -> 0 | I26: =I27 -> 0 | J26: =J27 -> -100000
F27: Ընթացիկ դրամաշնորհներ պետական հատվածի այլ մակարդակներին | G27: =G28 -> 0 | H27: =H28 -> 0 | I27: =I28 -> 0 | J27: =J28 -> -100000
F28: - Այլ ընթացիկ դրամաշնորհներ | G28: 0 | H28: 0 | I28: 0 | J28: -100000
B29: 02 | F29: Գյուղատնտեսություն, անտառային տնտեսություն, ձկնորսություն և որսորդություն | G29: =+G31 -> 180170.5 | H29: =+H31 -> 180170.5 | I29: =+I31 -> 180170.5 | J29: =+J31 -> 100000
F30: այդ թվում`
C31: 01 | F31: Գյուղատնտեսություն | G31: =+G33 -> 180170.5 | H31: =+H33 -> 180170.5 | I31: =+I33 -> 180170.5 | J31: =+J33 -> 100000
F32: այդ թվում`
F33: ՀՀ էկոնոմիկայի նախարարություն | G33: =+G35+G46 -> 180170.5 | H33: =+H35+H46 -> 180170.5 | I33: =+I35+I46 -> 180170.5 | J33: =+J35+J46 -> 100000
F34: այդ թվում`
D35: 1022 | F35: =+'Հավելված 2'!D9 -> Գյուղատնտեսության խթանման ծրագիր | G35: =+G37 -> 0 | H35: =+H37 -> 0 | I35: =+I37 -> 0 | J35: =+J37 -> -80170.5
F36: այդ թվում`
E37: 12010 | F37: Անասնաբուծության ճյուղում իրականացվող ներդրումային ծրագրերին աջակցություն | G37: =+G39 -> 0 | H37: =+H39 -> 0 | I37: =+I39 -> 0 | J37: =+J39 -> -80170.5
F38: այդ թվում` ըստ կատարողների
F39: ՀՀ էկոնոմիկայի նախարարություն | G39: =+G41 -> 0 | H39: =+H41 -> 0 | I39: =+I41 -> 0 | J39: =+J41 -> -80170.5
F40: այդ թվում` բյուջետային ծախսերի տնտեսագիտական դասակարգման հոդվածներ
F41: ԸՆԴԱՄԵՆԸ ԾԱԽՍԵՐ | G41: =+G42 -> 0 | H41: =+H42 -> 0 | I41: =+I42 -> 0 | J41: =+J42 -> -80170.5
...

Sheet Հավելված 4
D1: Հավելված 4
C2: ՀՀ կառավարության 2026 թվականի
C3: ___________ ___-ի N _______ -Ն որոշման
A6: ՀԱՅԱՍՏԱՆԻ ՀԱՆՐԱՊԵՏՈՒԹՅԱՆ ԿԱՌԱՎԱՐՈՒԹՅԱՆ 2025 ԹՎԱԿԱՆԻ ԴԵԿՏԵՄԲԵՐԻ25-Ի N 1910-Ն ՈՐՈՇՄԱՆ N 5 ՀԱՎԵԼՎԱԾԻ 7 ԱՂՅՈՒՍԱԿՈՒՄ ԿԱՏԱՐՎՈՂ ՓՈՓՈԽՈՒԹՅՈՒՆԸ
G7: հազար դրամներով
A8: Ծրագրային դասիչ | C8: Բյուջետային հատկացումների գլխավոր կարգադրիչների, ծրագրերի, միջոցառումների, ծախսային ուղղությունների անվանումները | F8: Միջոցառումները կատարող պետական մարմինների և դրամաշնորհ ստացող տնտեսվարող սուբյեկտների անվանումները | G8: Ցուցանիշների փոփոխությունները (նվազեցումները նշված են փակագծերում)
A9: Ծրագիր | B9: Միջոցառում | G9: Տարի
A10: 1 | B10: 2 | C10: 3 | F10: 4 | G10: 5
A11: Ընդամենը | G11: =+G12 -> -100000
A12: ՀՀ էկոնոմիկայի նախարարություն | G12: =+G13 -> -100000
A13: 1165 | B13: Ներդրումների և արտահանման խթանման ծրագիր | G13: =+G14 -> -100000
B14: 12006 | C14: Հայաստանի Հանրապետության տնտեսապես բարդ ապրանքների արտադրությամբ զբաղվող առևտրային ընկերություններին պետական աջակցություն | F14: ՀՀ էկոնոմիկայի նախարարություն | G14: =+G15 -> -100000
F15: ՀՀ կառավարության կողմից հաստատված համապատասխան ծրագրի չափանիշները բավարարող շահառուներ | G15: =+'Հավելված 3'!J28 -> -100000

Sheet Հավելված 5
A1: Հավելված 5 ՀՀ կառավարության 2026 թվականի ____________ի N _____-Ն որոշման
A2: ՀԱՅԱՍՏԱՆԻ ՀԱՆՐԱՊԵՏՈՒԹՅԱՆ ԿԱՌԱՎԱՐՈՒԹՅԱՆ 2025 ԹՎԱԿԱՆԻ ԴԵԿՏԵՄԲԵՐԻ 25-Ի N 1910-Ն ՈՐՈՇՄԱՆ N 9 ԵՎ 9.1 ՀԱՎԵԼՎԱԾՆԵՐՈՒՄ ԿԱՏԱՐՎՈՂ ՓՈՓՈԽՈՒԹՅՈՒՆՆԵՐԸ
M3: հազար դրամներով
A4: ԲԳԿ | B4: Ծրագիր | D4: Միջոցառում | H4: Իրականացնողը/ ակտիվն օգտագործողը/ շահառուի ընտրության չափորոշիչը | I4: Արդյունքային չափորոշիչը | J4: Ցուցանիշների փոփոխությունը (ավելացումները նշված են դրական նշանով, իսկ նվազեցումները՝ փակագծերում)
B5: Դասիչը | C5: Անվա-նումը | D5: Դասիչը | E5: Անվա-նումը | F5: Նկարագրու-թյունը | G5: Տեսակը | J5: Առաջին եռամսյակ | K5: Առաջին կիսամյակ | L5: Ինն ամիս | M5: Տարի
A6: ԸՆԴԱՄԵՆԸ | J6: =+J7 -> 180170.5 | K6: =+K7 -> 180170.5 | L6: =+L7 -> 180170.5 | M6: =+M7 -> 0
A7: ՀՀ էկոնոմիկայի նախարարություն | J7: =+J8+J13+J18 -> 180170.5 | K7: =+K8+K13+K18 -> 180170.5 | L7: =+L8+L13+L18 -> 180170.5 | M7: =+M8+M13+M18 -> 0
B8: 1022 | C8: Գյուղատնտեսության խթանման ծրագիր | J8: =+J9 -> 0 | K8: =+K9 -> 0 | L8: =+L9 -> 0 | M8: =+M9 -> -80170.5
D9: 1022 - 12010 | E9: Անասնաբուծության ճյուղում իրականացվող ներդրումային ծրագրերին աջակցություն | J9: 0 | K9: 0 | L9: 0 | M9: =+'Հավելված 3'!J45 -> -80170.5
F10: Անասնաբուծության ճյուղում իրականացվող առնվազն 1 մլրդ դրամի ներդրումներից կապիտալ ներդրումների մասնակի փոխհատուցում
G11: Տրանսֆերտների տրամադրում
H12: Շահառուների ընտրության չափորոշիչները` ՀՀ գյուղատնտեսական տնտեսավարողներ՛ ընտրված ՀՀ կառավարության 03.03.2022թ. թիվ 276-Լ որոշմամբ հաստատված ծրագրի չափանիշներին համապատասխան
B13: 1116 | C13: Անասնաբուժական ծառայություններ | J13: =+J14 -> 180170.5 | K13: =+K14 -> 180170.5 | L13: =+L14 -> 180170.5 | M13: =+M14 -> 180170.5
D14: 1116 - 11001 | E14: Գյուղատնտեսական կենդանիների պատվաստում | J14: =+'Հավելված 3'!G56 -> 180170.5 | K14: =+'Հավելված 3'!H56 -> 180170.5 | L14: =+'Հավելված 3'!I56 -> 180170.5 | M14: =+'Հավելված 3'!J56 -> 180170.5
F15: Անասնաբուժական ծառայության հակահամաճարակային միջոցառումների, կենդանիների հիվանդությունների կանխարգելման աշխատանքների կազմակերպում և համակարգում, անհրաժեշտ նյութերի ձեռքբերում
G16: Ծառայությունների մատուցում
H17: Ծառայությունը մատուցողի անվանումը` Մասնագիտացված կազմակերպություններ
B18: 1165 | C18: Ներդրումների և արտահանման խթանման ծրագիր | J18: =+J19 -> 0 | K18: =+K19 -> 0 | L18: =+L19 -> 0 | M18: =+M19 -> -100000
D19: 1165 - 12006 | E19: Հայաստանի Հանարապետության տնտեսապես բարդ ապրանքների արտադրությամբ զբաղվող առևտրային ընկերություններին պետական աջակցություն | J19: =+'Հավելված 3'!G28 -> 0 | K19: =+'Հավելված 3'!H28 -> 0 | L19: =+'Հավելված 3'!I28 -> 0 | M19: =+'Հավելված 3'!J28 -> -100000
F20: Տնտեսական բարդության ինդեքսը օգտագործելով` պետական աջակցությունն առաջնահերթորեն տրամադրել այն տնտեսվարողներին, որոնք պատրաստվում են արտադրել 0.2 տնտեսական բարդության ցուցիչից ավելի բարձր ինդեքս ունեցող ապրանքներ
G21: Տրանսֆերտների տրամադրում
H22: Շահառուների ընտրության չափորոշիչները` Կառավարության 2023թ հոկտեմբերի 26-ի 1867-Ն որոշման չափանիշներին համապատասխանող շահառուներ
I23: ներդրումային ծրագրով նախատեսված նվազագույն ներդրման պայմաններում աջակցություն ստացող տնտեսավարողների թիվ, ընկերություն | M23: -1

Sheet Հավելված 6
F1: Հավելված 6 ՀՀ կառավարության 2026 թվականի ____________ի N _____-Ն որոշման
A3: ՀԱՅԱՍՏԱՆԻ ՀԱՆՐԱՊԵՏՈՒԹՅԱՆ ԿԱՌԱՎԱՐՈՒԹՅԱՆ 2025 ԹՎԱԿԱՆԻ ԴԵԿՏԵՄԲԵՐԻ 25-Ի N 1910-Ն ՈՐՈՇՄԱՆ N 10 ՀԱՎԵԼՎԱԾՈՒՄ ԿԱՏԱՐՎՈՂ ՓՈՓՈԽՈՒԹՅՈՒՆԸ
A4: ՀՀ էկոնոմիկայի նախարարություն
A5: Գնման առարկայի | E5: Գնման ձևը (ընթացակարգը) | F5: Չափի միավորը | G5: Ցուցանիշների փոփոխությունները (ավելացումները նշված են դրական նշանով)
A6: Միջանցիկ կոդը` ըստ CPV դասակարգման | B6: անվանումը | G6: Միավորի գինը (ՀՀ դրամ) | H6: Քանակը | I6: Գումարը (հազար դրամով)
A7: 1 | B7: 2 | E7: 3 | F7: 4 | G7: 5 | H7: 6 | I7: 7
A8: ՀՀ էկոնոմիկայի նախարարություն | I8: =+I10 -> 180170.46
A9: Բաժին 04 | B9: Խումբ 02 | C9: Դաս 01 | D9: Գյուղատնտեսություն | I9: =+I10 -> 180170.46
A10: 1116 11001 | B10: Գյուղատնտեսական կենդանիների պատվաստում | I10: =+I11 -> 180170.46
B11: ՄԱՍ I. Ա Պ Ր Ա Ն Ք Ն Ե Ր | I11: =+I12 -> 180170.46
A12: 33651257-515 | B12: անասնաբուժության մեջ կիրառվող պատվաստանյութեր | E12: ԷԱՃ | F12: մլ | G12: 161.5 | H12: 1115606.6 | I12: =+H12*G12/1000 -> 180170.46
