Workbook
Name a: #REF!
Name a: #REF!
Name a: #REF!
Name a: #REF!
Name a: #REF!
Name a: #REF!
Name AgencyCode: #REF!
Name AgencyCode: #REF!
Name AgencyCode: #REF!
Name AgencyCode: #REF!
Name AgencyCode: #REF!
Name AgencyCode: #REF!
Name AgencyCode: #REF!
Name AgencyCode: #REF!
Name AgencyName: #REF!
Name AgencyName: #REF!
Name AgencyName: #REF!
Name AgencyName: #REF!
Name AgencyName: #REF!
Name AgencyName: #REF!
Name åû: #REF!
Name åû: #REF!
Name åû: #REF!
Name åû: #REF!
Name åû: #REF!
Name BOP: #REF!
Name BOP: #REF!
Name BOPfoot: #REF!
Name BOPfoot: #REF!
Name davit: #REF!
Name davit: #REF!
Name davit: #REF!
Name davit: #REF!
Name davit: #REF!
Name DebtCG: #REF!
Name DebtCG: #REF!
Name DebtGG: #REF!
Name DebtGG: #REF!
Name Functional1: #REF!
Name Functional1: #REF!
Name Functional1: #REF!
Name Functional1: #REF!
Name Functional1: #REF!
Name Functional1: #REF!
Name ggg: #REF!
Name ggg: #REF!
Name ggg: #REF!
Name ggg: #REF!
Name ggg: #REF!
Name hav: #REF!
Name hav: #REF!
Name hav: #REF!
Name hav: #REF!
Name mas: #REF!
Name mas: #REF!
Name mas: #REF!
Name mas: #REF!
Name mas: #REF!
Name mass: #REF!
Name mass: #REF!

Sheet Հավելված N 1 
C1: Հավելված N 1
C2: ՀՀ կառավարության 2026 թվականի
C3: ______________ ի ___Ն որոշման
A5: «ՀԱՅԱՍՏԱՆԻ ՀԱՆՐԱՊԵՏՈՒԹՅԱՆ 2026 ԹՎԱԿԱՆԻ ՊԵՏԱԿԱՆ ԲՅՈՒՋԵԻ ՄԱՍԻՆ» ՀԱՅԱՍՏԱՆԻ ՀԱՆՐԱՊԵՏՈՒԹՅԱՆ ՕՐԵՆՔԻ 2-ՐԴ ՀՈԴՎԱԾԻ ԱՂՅՈՒՍԱԿԻ ՑՈՒՑԱՆԻՇՆԵՐՈՒՄ ԿԱՏԱՐՎՈՂ ՓՈՓՈԽՈՒԹՅՈՒՆՆԵՐԸ
D6: հազ. դրամներով
D7: Ցուցանիշների փոփոխությունը (ավելացումները նշված են դրական նշանով)
A8: Եկամուտների գծով | D8: =+'Հավելված N 2 '!G11 -> 225082.8
A9: Ծախսերի գծով | D9: =+'Հավելված N 3'!J13 -> 225082.8
A10: Դեֆիցիտը (պակասուրդը) | D10: =+D9-D8 -> 0

Sheet Հավելված N 2 
C1: Հավելված N 2
C2: ՀՀ կառավարության 2026 թվականի
C3: ______________ ի ___Ն որոշման
A6: «ՀԱՅԱՍՏԱՆԻ ՀԱՆՐԱՊԵՏՈՒԹՅԱՆ 2026 ԹՎԱԿԱՆԻ ՊԵՏԱԿԱՆ ԲՅՈՒՋԵԻ ՄԱՍԻՆ» ՀԱՅԱՍՏԱՆԻ ՀԱՆՐԱՊԵՏՈՒԹՅԱՆ ՕՐԵՆՔԻ 6-ՐԴ ՀՈԴՎԱԾԻ ԱՂՅՈՒՍԱԿՈՒՄ ԵՎ ՀԱՅԱՍՏԱՆԻ ՀԱՆՐԱՊԵՏՈՒԹՅԱՆ ԿԱՌԱՎԱՐՈՒԹՅԱՆ 2025 ԹՎԱԿԱՆԻ ԴԵԿՏԵՄԲԵՐԻ 25-Ի N 1910-Ն ՈՐՈՇՄԱՆ N 2 ՀԱՎԵԼՎԱԾԻ ԱՂՅՈՒՍԱԿՈՒՄ ԿԱՏԱՐՎՈՂ ՓՈՓՈԽՈՒԹՅՈՒՆՆԵՐԸ
G8: հազ. դրամներով
A9: Եկամտատեսակ | D9: Ցուցանիշների փոփոխությունը (ավելացումները նշված են դրական նշանով)
D10: Առաջին եռամսյակ | E10: Առաջին կիսամյակ | F10: Ինն ամիս | G10: Տարի
A11: ՊԵՏԱԿԱՆ ԲՅՈՒՋԵԻ ԵԿԱՄՈՒՏՆԵՐ | D11: =+D12 -> 225082.8 | E11: =+E12 -> 225082.8 | F11: =+F12 -> 225082.8 | G11: =+G12 -> 225082.8
A12: Ընդամենը | D12: =+D14 -> 225082.8 | E12: =+E14 -> 225082.8 | F12: =+F14 -> 225082.8 | G12: =+G14 -> 225082.8
A13: այդ թվում՝
A14: Հարկային եկամուտներ և պետական տուրքեր | D14: =+G14 -> 225082.8 | E14: =+G14 -> 225082.8 | F14: =+G14 -> 225082.8 | G14: 225082.8

Sheet Հավելված N 3
F1: Հավելված N 3
F2: ՀՀ կառավարության 2026 թվականի
F3: ______________ ի ___Ն որոշման
A6: «ՀԱՅԱUՏԱՆԻ ՀԱՆՐԱՊԵՏՈՒԹՅԱՆ 2026 ԹՎԱԿԱՆԻ ՊԵՏԱԿԱՆ ԲՅՈՒՋԵԻ ՄԱUԻՆ» ՀԱՅԱUՏԱՆԻ ՀԱՆՐԱՊԵՏՈՒԹՅԱՆ OՐԵՆՔԻ N 1 ՀԱՎԵԼՎԱԾԻ N 2 ԱՂՅՈՒՍԱԿՈՒՄ ԿԱՏԱՐՎՈՂ ՎԵՐԱԲԱՇԽՈՒՄԸ ԵՎ ՀԱՅԱՍՏԱՆԻ ՀԱՆՐԱՊԵՏՈՒԹՅԱՆ ԿԱՌԱՎԱՐՈՒԹՅԱՆ 2025 ԹՎԱԿԱՆԻ ԴԵԿՏԵՄԲԵՐԻ 25-Ի N 1910-Ն ՈՐՈՇՄԱՆ N 5 ՀԱՎԵԼՎԱԾԻ N 1 ԱՂՅՈՒՍԱԿՈՒՄ ԿԱՏԱՐՎՈՂ ՓՈՓՈԽՈՒԹՅՈՒՆՆԵՐԸ ԵՎ ԼՐԱՑՈՒՄՆԵՐԸ
J9: հազ. դրամներով
A10: ԲԳԿ | B10: Ծրագրային դասիչը | D10: ԲԳԿ/Ծրագրի /միջոցառման անվանումը | E10: Ծրագրի նպատակը/Միջոցառման նկարագրությունը | F10: Վերջնական արդյունքի նկարագրությունը/Միջոցառման տեսակը | G10: Ցուցանիշների փոփոխությունը (ավելացումները նշված են դրական նշանով, իսկ նվազեցումները փակագծերում)
G11: Առաջին եռամսյակ | H11: Առաջին կիսամյակ | I11: Ինն ամիս | J11: Տարի
B12: Ծրագիր | C12: Միջոցառում
A13: ԸՆԴԱՄԵՆԸ | G13: =+G15+G19 -> 225082.8 | H13: =+H15+H19 -> 225082.8 | I13: =+I15+I19 -> 225082.8 | J13: =+J15+J19 -> 225082.8
A14: այդ թվում՝
A15: ՀՀ ԿՐԹՈՒԹՅԱՆ, ԳԻՏՈՒԹՅԱՆ, ՄՇԱԿՈՒՅԹԻ ԵՎ ՍՊՈՐՏԻ ՆԱԽԱՐԱՐՈՒԹՅՈՒՆ | G15: =+G16 -> 311905.4 | H15: =+H16 -> 311905.4 | I15: =+I16 -> 311905.4 | J15: =+J16 -> 311905.4
B16: 1130 | D16: Կրթության, գիտության, մշակույթի և սպորտի բնագավառի պետական քաղաքականության մշակում, ծրագրերի համակարգում և մոնիտորինգ | E16: Ապահովել համընդհանուր, հավասարապես հասանելի, ներառական և որակյալ կրթություն՛ բավարարելով տնտեսության ու հասարակության պահանջները, լիարժեք ծառայելով ազգային շահերին | F16: Կրթության, գիտության, մշակույթի և սպորտի բնագավառում իրականացվող ծրագրերի ազդեցության և արդյունավետության բարելավում | G16: =+G17 -> 311905.4 | H16: =+H17 -> 311905.4 | I16: =+I17 -> 311905.4 | J16: =+J17 -> 311905.4
C17: 1130-31003 | D17: Կրթության, գիտության, մշակույթի և սպորտի ոլորտներին առնչվող անշարժ գույքի ձեռքբերում | E17: ՀՀ կրթության, գիտության, մշակույթի և սպորտի նախարարության կողմից շենքերի և շինությունների ձեռքբերում և հաշվառում նախարարության հաշվեկշռում | F17: Պետական մարմինների կողմից օգտագործվող ոչ ֆինանսական ակտիվների հետ գործառնություններ | G17: =+'Հավելված N 4'!G26 -> 311905.4 | H17: =+'Հավելված N 4'!H26 -> 311905.4 | I17: =+'Հավելված N 4'!I26 -> 311905.4 | J17: =+'Հավելված N 4'!J26 -> 311905.4
A19: ՀՀ ԿԱՌԱՎԱՐՈՒԹՅՈՒՆ | G19: =+G20 -> -86822.6 | H19: =+H20 -> -86822.6 | I19: =+I20 -> -86822.6 | J19: =+J20 -> -86822.6
B20: 1139 | D20: ՀՀ կառավարության պահուստային ֆոնդ | E20: Պետական բյուջեում չկանխատեսված, ինչպես նաեւ բյուջետային երաշխիքների ապահովման ծախսերի ֆինանսավորման ապահովում | F20: Պահուստային ֆոնդի կառավարման արդյունավետության և թափանցիկության ապահովում | G20: =SUM(G21:G22) -> -86822.6 | H20: =SUM(H21:H22) -> -86822.6 | I20: =SUM(I21:I22) -> -86822.6 | J20: =SUM(J21:J22) -> -86822.6
C21: 1139 - 11001 | D21: ՀՀ կառավարության պահուստային ֆոնդ | E21: ՀՀ պետական բյուջեում նախատեսված ելքերի լրացուցիչ ֆինանսավորման, պետական բյուջեում չկանխատեսված ելքերի, ինչպես նաև բյուջետային երաշխիքների ապահովման ելքերի ֆինանսավորման ապահովում | F21: Ծառայությունների մատուցում | G21: =+H21 -> 225082.8 | H21: =+I21 -> 225082.8 | I21: =+J21 -> 225082.8 | J21: 225082.8
C22: 1139 - 11001 | D22: ՀՀ կառավարության պահուստային ֆոնդ | E22: ՀՀ պետական բյուջեում նախատեսված ելքերի լրացուցիչ ֆինանսավորման, պետական բյուջեում չկանխատեսված ելքերի, ինչպես նաև բյուջետային երաշխիքների ապահովման ելքերի ֆինանսավորման ապահովում | F22: Ծառայությունների մատուցում | G22: =+H22 -> -311905.4 | H22: =+I22 -> -311905.4 | I22: =+J22 -> -311905.4 | J22: -311905.4

Sheet Հավելված N 4
F1: Հավելված N 4
F2: ՀՀ կառավարության 2026 թվականի
F3: ______________ ի ___Ն որոշման
A7: ՀԱՅԱՍՏԱՆԻ ՀԱՆՐԱՊԵՏՈՒԹՅԱՆ ԿԱՌԱՎԱՐՈՒԹՅԱՆ 2025 ԹՎԱԿԱՆԻ ԴԵԿՏԵՄԲԵՐԻ 25-Ի N 1910-Ն ՈՐՈՇՄԱՆ N 3 ԵՎ N 4 ՀԱՎԵԼՎԱԾՆԵՐՈՒՄ ԿԱՏԱՐՎՈՂ ՓՈՓՈԽՈՒԹՅՈՒՆՆԵՐԸ ԵՎ ԼՐԱՑՈՒՄՆԵՐԸ
J10: հազ. դրամներով
A11: Գործառական դասիչը | D11: Ծրագրային դասիչը | F11: Բյուջետային հատկացումների գլխավոր կարգադրիչների, ծրագրերի, միջոցառումների և միջոցառումները կատարող պետական մարմինների անվանումները | G11: Ցուցանիշների փոփոխությունը (ավելացումները նշված են դրական նշանով, իսկ նվազեցումները փակագծերում)
A12: Բաժին | B12: Խումբ | C12: Դաս | D12: Ծրագիր | E12: Միջոցառում | G12: Առաջին եռամսյակ | H12: Առաջին կիսամյակ | I12: Ինն ամիս | J12: Տարի
F13: ԸՆԴԱՄԵՆԸ | G13: =+G15+G40 -> 225082.8 | H13: =+H15+H40 -> 225082.8 | I13: =+I15+I40 -> 225082.8 | J13: =+J15+J40 -> 225082.8
F14: այդ թվում՝
F15: ՀՀ ԿՐԹՈՒԹՅԱՆ, ԳԻՏՈՒԹՅԱՆ, ՄՇԱԿՈՒՅԹԻ ԵՎ ՍՊՈՐՏԻ ՆԱԽԱՐԱՐՈՒԹՅՈՒՆ | G15: =+G16 -> 311905.4 | H15: =+H16 -> 311905.4 | I15: =+I16 -> 311905.4 | J15: =+J16 -> 311905.4
A16: 09 | F16: ԿՐԹՈՒԹՅՈՒՆ | G16: =+G18 -> 311905.4 | H16: =+H18 -> 311905.4 | I16: =+I18 -> 311905.4 | J16: =+J18 -> 311905.4
F17: այդ թվում`
B18: 08 | F18: Կրթություն (այլ դասերին չպատկանող) | G18: =+G20 -> 311905.4 | H18: =+H20 -> 311905.4 | I18: =+I20 -> 311905.4 | J18: =+J20 -> 311905.4
F19: այդ թվում`
C20: 01 | F20: Կրթություն (այլ դասերին չպատկանող) | G20: =+G22 -> 311905.4 | H20: =+H22 -> 311905.4 | I20: =+I22 -> 311905.4 | J20: =+J22 -> 311905.4
F21: այդ թվում`
F22: ՀՀ կրթության, գիտության, մշակույթի և սպորտի նախարարություն | G22: =+G24 -> 311905.4 | H22: =+H24 -> 311905.4 | I22: =+I24 -> 311905.4 | J22: =+J24 -> 311905.4
F23: այդ թվում`
D24: 1130 | E24: Կրթության, գիտության, մշակույթի և սպորտի բնագավառի պետական քաղաքականության մշակում, ծրագրերի համակարգում և մոնիտորինգ | G24: =+G26 -> 311905.4 | H24: =+H26 -> 311905.4 | I24: =+I26 -> 311905.4 | J24: =+J26 -> 311905.4
F25: այդ թվում`
E26: 31003 | F26: Կրթության, գիտության, մշակույթի և սպորտի ոլորտներին առնչվող անշարժ գույքի ձեռքբերում | G26: =+G28 -> 311905.4 | H26: =+H28 -> 311905.4 | I26: =+I28 -> 311905.4 | J26: =+J28 -> 311905.4
F27: այդ թվում` ըստ կատարողների
F28: ՀՀ կրթության գիտության մշակույթի և սպորտի նախարարություն | G28: =+G30 -> 311905.4 | H28: =+H30 -> 311905.4 | I28: =+I30 -> 311905.4 | J28: =+J30 -> 311905.4
F29: այդ թվում՝ բյուջետային ծախսերի տնտեսագիտական դասակարգման հոդվածներ
F30: ԸՆԹԱՑԻԿ ԾԱԽՍԵՐ | G30: =+G31+G35 -> 311905.4 | H30: =+H31+H35 -> 311905.4 | I30: =+I31+I35 -> 311905.4 | J30: =+J31+J35 -> 311905.4
F31: ԸՆԹԱՑԻԿ ԾԱԽՍԵՐ | G31: =+G32 -> 74476.1 | H31: =+H32 -> 74476.1 | I31: =+I32 -> 74476.1 | J31: =+J32 -> 74476.1
F32: ԱՅԼ ԾԱԽՍԵՐ | G32: =+G33 -> 74476.1 | H32: =+H33 -> 74476.1 | I32: =+I33 -> 74476.1 | J32: =+J33 -> 74476.1
F33: ՀԱՐԿԵՐ, ՊԱՐՏԱԴԻՐ ՎՃԱՐՆԵՐ ԵՎ ՏՈՒՅԺԵՐ, ՈՐՈՆՔ ԿԱՌԱՎԱՐՄԱՆ ՏԱՐԲԵՐ ՄԱԿԱՐԴԱԿՆԵՐԻ ԿՈՂՄԻՑ ԿԻՐԱՌՎՈՒՄ ԵՆ ՄԻՄՅԱՆՑ ՆԿԱՏՄԱՄԲ | G33: =+G34 -> 74476.1 | H33: =+H34 -> 74476.1 | I33: =+I34 -> 74476.1 | J33: =+J34 -> 74476.1
F34: - Պարտադիր վճարներ | G34: =+J34 -> 74476.1 | H34: =+J34 -> 74476.1 | I34: =+J34 -> 74476.1 | J34: =+ROUNDUP(236929.221*5%,1)+62629.6 -> 74476.1
F35: ՈՉ ՖԻՆԱՆՍԱԿԱՆ ԱԿՏԻՎՆԵՐԻ ԳԾՈՎ ԾԱԽՍԵՐ | G35: =+G36 -> 237429.3 | H35: =+H36 -> 237429.3 | I35: =+I36 -> 237429.3 | J35: =+J36 -> 237429.3
F36: ՀԻՄՆԱԿԱՆ ՄԻՋՈՑՆԵՐ | G36: =+G37 -> 237429.3 | H36: =+H37 -> 237429.3 | I36: =+I37 -> 237429.3 | J36: =+J37 -> 237429.3
F37: ՇԵՆՔԵՐ ԵՎ ՇԻՆՈՒԹՅՈՒՆՆԵՐ | G37: =+G38 -> 237429.3 | H37: =+H38 -> 237429.3 | I37: =+I38 -> 237429.3 | J37: =+J38 -> 237429.3
F38: - Շենքերի և շինությունների ձեռքբերում | G38: =+'Հավելված N 6'!E15 -> 237429.3 | H38: =+'Հավելված N 6'!F15 -> 237429.3 | I38: =+'Հավելված N 6'!G15 -> 237429.3 | J38: =+'Հավելված N 6'!H15 -> 237429.3
F40: ՀՀ ԿԱՌԱՎԱՐՈՒԹՅՈՒՆ | G40: =+G41 -> -86822.6 | H40: =+H41 -> -86822.6 | I40: =+I41 -> -86822.6 | J40: =+J41 -> -86822.6
A41: 11 | F41: ՀԻՄՆԱԿԱՆ ԲԱԺԻՆՆԵՐԻՆ ՉԴԱՍՎՈՂ ՊԱՀՈՒՍՏԱՅԻՆ ՖՈՆԴԵՐ | G41: =+G43 -> -86822.6 | H41: =+H43 -> -86822.6 | I41: =+I43 -> -86822.6 | J41: =+J43 -> -86822.6
F42: այդ թվում`
B43: 01 | F43: ՀՀ կառավարության և համայնքների պահուստային ֆոնդ | G43: =+G45 -> -86822.6 | H43: =+H45 -> -86822.6 | I43: =+I45 -> -86822.6 | J43: =+J45 -> -86822.6
F44: այդ թվում`
C45: 01 | F45: ՀՀ կառավարության պահուստային ֆոնդ | G45: =+G47 -> -86822.6 | H45: =+H47 -> -86822.6 | I45: =+I47 -> -86822.6 | J45: =+J47 -> -86822.6
F46: այդ թվում`
F47: ՀՀ կրթության, գիտության, մշակույթի և սպորտի նախարարություն | G47: =+G49 -> -86822.6 | H47: =+H49 -> -86822.6 | I47: =+I49 -> -86822.6 | J47: =+J49 -> -86822.6
F48: այդ թվում`
D49: 1139 | E49: ՀՀ կառավարության պահուստային ֆոնդ | G49: =+G51+G59 -> -86822.6 | H49: =+H51+H59 -> -86822.6 | I49: =+I51+I59 -> -86822.6 | J49: =+J51+J59 -> -86822.6
F50: այդ թվում`
E51: 11001 | F51: ՀՀ կառավարության պահուստային ֆոնդ | G51: =+G53 -> 225082.8 | H51: =+H53 -> 225082.8 | I51: =+I53 -> 225082.8 | J51: =+J53 -> 225082.8
F52: այդ թվում` ըստ կատարողների
F53: ՀՀ կառավարություն | G53: =+G55 -> 225082.8 | H53: =+H55 -> 225082.8 | I53: =+I55 -> 225082.8 | J53: =+J55 -> 225082.8
F54: այդ թվում՝ բյուջետային ծախսերի տնտեսագիտական դասակարգման հոդվածներ
F55: ԸՆԴԱՄԵՆԸ ԾԱԽՍԵՐ | G55: =+G56 -> 225082.8 | H55: =+H56 -> 225082.8 | I55: =+I56 -> 225082.8 | J55: =+J56 -> 225082.8
F56: ԸՆԹԱՑԻԿ ԾԱԽՍԵՐ | G56: =+G57 -> 225082.8 | H56: =+H57 -> 225082.8 | I56: =+I57 -> 225082.8 | J56: =+J57 -> 225082.8
F57: ԱՅԼ ԾԱԽՍԵՐ | G57: =+G58 -> 225082.8 | H57: =+H58 -> 225082.8 | I57: =+I58 -> 225082.8 | J57: =+J58 -> 225082.8
F58: - Պահուստային միջոցներ | G58: 225082.8 | H58: 225082.8 | I58: 225082.8 | J58: 225082.8
E59: 11001 | F59: ՀՀ կառավարության պահուստային ֆոնդ | G59: =+G61 -> -311905.4 | H59: =+H61 -> -311905.4 | I59: =+I61 -> -311905.4 | J59: =+J61 -> -311905.4
F60: այդ թվում` ըստ կատարողների
F61: ՀՀ կառավարություն | G61: =+G63 -> -311905.4 | H61: =+H63 -> -311905.4 | I61: =+I63 -> -311905.4 | J61: =+J63 -> -311905.4
F62: այդ թվում՝ բյուջետային ծախսերի տնտեսագիտական դասակարգման հոդվածներ
F63: ԸՆԴԱՄԵՆԸ ԾԱԽՍԵՐ | G63: =+G64 -> -311905.4 | H63: =+H64 -> -311905.4 | I63: =+I64 -> -311905.4 | J63: =+J64 -> -311905.4
F64: ԸՆԹԱՑԻԿ ԾԱԽՍԵՐ | G64: =+G65 -> -311905.4 | H64: =+H65 -> -311905.4 | I64: =+I65 -> -311905.4 | J64: =+J65 -> -311905.4
F65: ԱՅԼ ԾԱԽՍԵՐ | G65: =+G66 -> -311905.4 | H65: =+H66 -> -311905.4 | I65: =+I66 -> -311905.4 | J65: =+J66 -> -311905.4
F66: - Պահուստային միջոցներ | G66: =-G51-86322.6-500 -> -311905.4 | H66: =-H51-86322.6-500 -> -311905.4 | I66: =-I51-86322.6-500 -> -311905.4 | J66: =-J51-86322.6-500 -> -311905.4

Sheet Հավելված N 5 
F1: Հավելված N 5
F2: ՀՀ կառավարության 2026 թվականի
F3: ______________ ի ___Ն որոշման
A5: «ՀԱՅԱUՏԱՆԻ ՀԱՆՐԱՊԵՏՈՒԹՅԱՆ 2026 ԹՎԱԿԱՆԻ ՊԵՏԱԿԱՆ ԲՅՈՒՋԵԻ ՄԱUԻՆ» ՀԱՅԱUՏԱՆԻ ՀԱՆՐԱՊԵՏՈՒԹՅԱՆ OՐԵՆՔԻ N 1 ՀԱՎԵԼՎԱԾԻ N 3 ԱՂՅՈՒՍԱԿՈՒՄ ԿԱՏԱՐՎՈՂ ԼՐԱՑՈՒՄԸ
G8: հազ. դրամներով
A9: Ծրագրային դասիչ | C9: Բյուջետային գլխավոր կարգադրիչների, ծրագրերի, միջոցառումների, միջոցառումները կատարող պետական մարմինների և ուղղությունների անվանումները | D9: Ընդամենը | E9: Ցուցանիշների փոփոխությունը (ավելացումները նշված են դրական նշանով)
A10: Ծրագիր | B10: Միջոցառում | E10: Կառուցման աշխատանքներ | F10: Վերակառուցման, վերանորոգման և վերականգնման աշխատանքներ | G10: Նախագծահե- տազոտական, գեոդեզիա- քարտեզագրա- կան աշխա- տանքներ | H10: Ոչ ֆինանսական այլ ակտիվների ձեռքբերում
C11: ԸՆԴԱՄԵՆԸ | D11: =SUM(E11:H11) -> 237429.3 | E11: =+E13 -> 0 | F11: =+F13 -> 0 | G11: =+G13 -> 0 | H11: =+H13 -> 237429.3
C12: այդ թվում՝
C13: ՀՀ ԿՐԹՈՒԹՅԱՆ, ԳԻՏՈՒԹՅԱՆ, ՄՇԱԿՈՒՅԹԻ ԵՎ ՍՊՈՐՏԻ ՆԱԽԱՐԱՐՈՒԹՅՈՒՆ | D13: =SUM(E13:H13) -> 237429.3 | E13: =+E15 -> 0 | F13: =+F15 -> 0 | G13: =+G15 -> 0 | H13: =+H15 -> 237429.3
C14: այդ թվում`
A15: 1130 | B15: 31003 | C15: Կրթության, գիտության, մշակույթի և սպորտի ոլորտներին առնչվող անշարժ գույքի ձեռքբերում | D15: =SUM(E15:H15) -> 237429.3 | E15: =+E17 -> 0 | F15: =+F17 -> 0 | G15: =+G17 -> 0 | H15: =+H17 -> 237429.3
C16: այդ թվում`
C17: ՀՀ Լոռու մարզ | D17: =SUM(E17:H17) -> 237429.3 | E17: =+E18 -> 0 | F17: =+F18 -> 0 | G17: =+G18 -> 0 | H17: =+H18 -> 237429.3
C18: ՀՀ Լոռու մարզի Վանաձոր քաղաքի Զ. Անդրանիկի 8 հասցեում գտնվող անշարժ գույք | D18: =+E18+F18+G18+H18 -> 237429.3 | H18: =+'Հավելված N 9'!I17 -> 237429.3

Sheet Հավելված N 6
G1: Հավելված N 6
E2: ՀՀ կառավարության 2026 թվականի
G3: ______________ ի ___Ն որոշման
B6: ՀԱՅԱՍՏԱՆԻ ՀԱՆՐԱՊԵՏՈՒԹՅԱՆ ԿԱՌԱՎԱՐՈՒԹՅԱՆ 2025 ԹՎԱԿԱՆԻ ԴԵԿՏԵՄԲԵՐԻ 25-Ի N 1910-Ն ՈՐՈՇՄԱՆ N 5 ՀԱՎԵԼՎԱԾԻ N 2 ԱՂՅՈՒՍԱԿՈՒՄ ԿԱՏԱՐՎՈՂ ԼՐԱՑՈՒՄԸ
H8: հազ. դրամներով
B9: Ծրագրային դասիչ | D9: Բյուջետային գլխավոր կարգադրիչների, ծրագրերի, միջոցառումների, միջոցառումները կատարող պետական մարմինների և ուղղությունների անվանումները | E9: Ցուցանիշների փոփոխությունը (ավելացումները նշված են դրական նշանով, իսկ նվազեցումները՝ փակագծերում)
B10: Ծրագիր | C10: Միջոցառում | E10: Առաջին եռամսյակ | F10: Առաջին կիսամյակ | G10: Ինն ամիս | H10: Տարի
D11: ՀՀ ԿՐԹՈՒԹՅԱՆ, ԳԻՏՈՒԹՅԱՆ, ՄՇԱԿՈՒՅԹԻ ԵՎ ՍՊՈՐՏԻ ՆԱԽԱՐԱՐՈՒԹՅՈՒՆ | E11: =+E13 -> 237429.3 | F11: =+F13 -> 237429.3 | G11: =+G13 -> 237429.3 | H11: =+H13 -> 237429.3
D12: այդ թվում՝
B13: 1130 | C13: 31003 | D13: Կրթության, գիտության, մշակույթի և սպորտի ոլորտներին առնչվող անշարժ գույքի ձեռքբերում | E13: =+E15 -> 237429.3 | F13: =+F15 -> 237429.3 | G13: =+G15 -> 237429.3 | H13: =+H15 -> 237429.3
D14: այդ թվում` ըստ կատարողների
D15: ՀՀ կրթության, գիտության, մշակույթի և սպորտի նախարարություն | E15: =+E17 -> 237429.3 | F15: =+F17 -> 237429.3 | G15: =+G17 -> 237429.3 | H15: =+H17 -> 237429.3
D16: այդ թվում`ըստ ուղղությունների
D17: ՀՀ Լոռու մարզ | E17: =+E18 -> 237429.3 | F17: =+F18 -> 237429.3 | G17: =+G18 -> 237429.3 | H17: =+H18 -> 237429.3
D18: =+'Հավելված N 5 '!C18 -> ՀՀ Լոռու մարզի Վանաձոր քաղաքի Զ. Անդրանիկի 8 հասցեում գտնվող անշարժ գույք | E18: =+H18 -> 237429.3 | F18: =+H18 -> 237429.3 | G18: =+H18 -> 237429.3 | H18: =+'Հավելված N 5 '!D18 -> 237429.3

Sheet Հավելված N 7
K1: Հավելված N 7
K2: ՀՀ կառավարության 2026 թվականի
K3: ______________ ի ___Ն որոշման
A6: ՀԱՅԱՍՏԱՆԻ ՀԱՆՐԱՊԵՏՈՒԹՅԱՆ ԿԱՌԱՎԱՐՈՒԹՅԱՆ 2025 ԹՎԱԿԱՆԻ ԴԵԿՏԵՄԲԵՐԻ 25-Ի N 1910-Ն ՈՐՈՇՄԱՆ N 9 ՀԱՎԵԼՎԱԾՈՒՄ ԿԱՏԱՐՎՈՂ ՓՈՓՈԽՈՒԹՅՈՒՆՆԵՐԸ ԵՎ ԼՐԱՑՈՒՄՆԵՐԸ
L8: հազար դրամներոով
A9: ԲԳԿ | B9: Ծրագիր | D9: Միջոցառում | H9: Իրականացնողը/ ակտիվն օգտագործողը/ շահառուի ընտրության չափորոշիչը | I9: Արդյունքային չափորոշիչը | J9: Ցուցանիշների փոփոխությունը (ավելացումները նշված են դրական նշանով, իսկ նվազեցումները՝ փակագծերում)
B10: Դասիչը | C10: Անվանումը | D10: Դասիչը | E10: Անվանումը | F10: Նկարագրությունը | G10: Տեսակը | J10: Առաջին եռամսյակ | K10: Առաջին կիսամյակ | L10: Ինն ամիս | M10: Տարի
A11: ԸՆԴԱՄԵՆԸ | J11: =+J13+J22 -> 225082.8 | K11: =+K13+K22 -> 225082.8 | L11: =+L13+L22 -> 225082.8 | M11: =+M13+M22 -> 225082.8
A12: այդ թվում՝
A13: ՀՀ ԿՐԹՈՒԹՅԱՆ, ԳԻՏՈՒԹՅԱՆ, ՄՇԱԿՈԻՅԹԻ ԵՎ ՍՊՈՐՏԻ ՆԱԽԱՐԱՐՈՒԹՅՈՒՆ | J13: =+J14 -> 311905.4 | K13: =+K14 -> 311905.4 | L13: =+L14 -> 311905.4 | M13: =+M14 -> 311905.4
B14: 1130 | C14: Կրթության, գիտության, մշակույթի և սպորտի բնագավառի պետական քաղաքականության մշակում, ծրագրերի համակարգում և մոնիտորինգ | J14: =+J15 -> 311905.4 | K14: =+K15 -> 311905.4 | L14: =+L15 -> 311905.4 | M14: =+M15 -> 311905.4
D15: 1130 - 31003 | E15: Կրթության, գիտության, մշակույթի և սպորտի ոլորտներին առնչվող անշարժ գույքի ձեռքբերում | J15: =+'Հավելված N 3'!G17 -> 311905.4 | K15: =+'Հավելված N 3'!H17 -> 311905.4 | L15: =+'Հավելված N 3'!I17 -> 311905.4 | M15: =+'Հավելված N 3'!J17 -> 311905.4
F16: ՀՀ կրթության, գիտության, մշակույթի և սպորտի նախարարության կողմից շենքերի և շինությունների ձեռքբերում և հաշվառում նախարարության հաշվեկշռում
G17: Պետական մարմինների կողմից օգտագործվող ոչ ֆինանսական ակտիվների հետ գործառնություններ
H18: Ակտիվն օգտագործող կազմակերպության անվանումը` ՀՀ կրթության, գիտության, մշակույթի և սպորտի նախարարություն
I19: Ձեռբերվող շինությունների քանակը, հատ | K19: 1 | M19: 1
A22: ՀՀ ԿԱՌԱՎԱՐՈՒԹՅՈՒՆ | J22: =+J23 -> -86822.6 | K22: =+K23 -> -86822.6 | L22: =+L23 -> -86822.6 | M22: =+M23 -> -86822.6
B23: 1139 | C23: ՀՀ կառավարության պահուստային ֆոնդ | J23: =+J24+J28 -> -86822.6 | K23: =+K24+K28 -> -86822.6 | L23: =+L24+L28 -> -86822.6 | M23: =+M24+M28 -> -86822.6
D24: 1139 - 11001 | E24: ՀՀ կառավարության պահուստային ֆոնդ | J24: =+'Հավելված N 3'!G21 -> 225082.8 | K24: =+'Հավելված N 3'!H21 -> 225082.8 | L24: =+'Հավելված N 3'!I21 -> 225082.8 | M24: =+'Հավելված N 3'!J21 -> 225082.8
F25: ՀՀ պետական բյուջեում նախատեսված ելքերի լրացուցիչ ֆինանսավորման, պետական բյուջեում չկանխատեսված ելքերի, ինչպես նաև բյուջետային երաշխիքների ապահովման ելքերի ֆինանսավորման ապահովում
G26: Ծառայությունների մատուցում
H27: Ծառայությունը մատուցողի անվանումը` ՀՀ կառավարություն
D28: 1139 - 11001 | E28: ՀՀ կառավարության պահուստային ֆոնդ | J28: =+'Հավելված N 3'!G22 -> -311905.4 | K28: =+'Հավելված N 3'!H22 -> -311905.4 | L28: =+'Հավելված N 3'!I22 -> -311905.4 | M28: =+'Հավելված N 3'!J22 -> -311905.4
F29: ՀՀ պետական բյուջեում նախատեսված ելքերի լրացուցիչ ֆինանսավորման, պետական բյուջեում չկանխատեսված ելքերի, ինչպես նաև բյուջետային երաշխիքների ապահովման ելքերի ֆինանսավորման ապահովում
G30: Ծառայությունների մատուցում
H31: Ծառայությունը մատուցողի անվանումը` ՀՀ կառավարություն

Sheet Հավելված N 8
K1: Հավելված N 8
K2: ՀՀ կառավարության 2026 թվականի
K3: ______________ ի ___Ն որոշման
A6: ՀԱՅԱՍՏԱՆԻ ՀԱՆՐԱՊԵՏՈՒԹՅԱՆ ԿԱՌԱՎԱՐՈՒԹՅԱՆ 2025 ԹՎԱԿԱՆԻ ԴԵԿՏԵՄԲԵՐԻ 25-Ի N 1910-Ն ՈՐՈՇՄԱՆ N 9.1 ՀԱՎԵԼՎԱԾՈՒՄ ԿԱՏԱՐՎՈՂ ՓՈՓՈԽՈՒԹՅՈՒՆՆԵՐԸ ԵՎ ԼՐԱՑՈՒՄՆԵՐԸ
L8: հազար դրամներոով
A9: ԲՍԿ | B9: Ծրագիր | D9: Միջոցառում | H9: Իրականացնողը/ ակտիվն օգտագործողը/ շահառուի ընտրության չափորոշիչը | I9: Արդյունքային չափորոշիչը | J9: Ցուցանիշների փոփոխությունը (ավելացումները նշված են դրական նշանով, իսկ նվազեցումները՝ փակագծերում)
B10: Դասիչը | C10: Անվանումը | D10: Դասիչը | E10: Անվանումը | F10: Նկարագրությունը | G10: Տեսակը | J10: Առաջին եռամսյակ | K10: Առաջին կիսամյակ | L10: Ինն ամիս | M10: Տարի
A11: ԸՆԴԱՄԵՆԸ | J11: =+J13+J21 -> 225082.8 | K11: =+K13+K21 -> 225082.8 | L11: =+L13+L21 -> 225082.8 | M11: =+M13+M21 -> 225082.8
A12: այդ թվում՝
A13: ՀՀ ԿՐԹՈՒԹՅԱՆ, ԳԻՏՈՒԹՅԱՆ, ՄՇԱԿՈԻՅԹԻ ԵՎ ՍՊՈՐՏԻ ՆԱԽԱՐԱՐՈՒԹՅՈՒՆ | J13: =+J14 -> 311905.4 | K13: =+K14 -> 311905.4 | L13: =+L14 -> 311905.4 | M13: =+M14 -> 311905.4
B14: 1130 | C14: Կրթության, գիտության, մշակույթի և սպորտի բնագավառի պետական քաղաքականության մշակում, ծրագրերի համակարգում և մոնիտորինգ | J14: =+J15 -> 311905.4 | K14: =+K15 -> 311905.4 | L14: =+L15 -> 311905.4 | M14: =+M15 -> 311905.4
D15: 1130 - 31003 | E15: Կրթության, գիտության, մշակույթի և սպորտի ոլորտներին առնչվող անշարժ գույքի ձեռքբերում | J15: =+'Հավելված N 4'!G28 -> 311905.4 | K15: =+'Հավելված N 4'!H28 -> 311905.4 | L15: =+'Հավելված N 4'!I28 -> 311905.4 | M15: =+'Հավելված N 4'!J28 -> 311905.4
F16: ՀՀ կրթության, գիտության, մշակույթի և սպորտի նախարարության կողմից շենքերի և շինությունների ձեռքբերում և հաշվառում նախարարության հաշվեկշռում
G17: Պետական մարմինների կողմից օգտագործվող ոչ ֆինանսական ակտիվների հետ գործառնություններ
H18: Ակտիվն օգտագործող կազմակերպության անվանումը` ՀՀ կրթության, գիտության, մշակույթի և սպորտի նախարարություն
I19: Ձեռբերվող շինությունների քանակը, հատ | K19: 1 | M19: 1
A21: ՀՀ ԿԱՌԱՎԱՐՈՒԹՅՈՒՆ | J21: =+J22 -> -86822.6 | K21: =+K22 -> -86822.6 | L21: =+L22 -> -86822.6 | M21: =+M22 -> -86822.6
B22: 1139 | C22: ՀՀ կառավարության պահուստային ֆոնդ | J22: =+J23+J27 -> -86822.6 | K22: =+K23+K27 -> -86822.6 | L22: =+L23+L27 -> -86822.6 | M22: =+M23+M27 -> -86822.6
D23: 1139 - 11001 | E23: ՀՀ կառավարության պահուստային ֆոնդ | J23: =+'Հավելված N 4'!G53 -> 225082.8 | K23: =+'Հավելված N 4'!H53 -> 225082.8 | L23: =+'Հավելված N 4'!I53 -> 225082.8 | M23: =+'Հավելված N 4'!J53 -> 225082.8
F24: ՀՀ պետական բյուջեում նախատեսված ելքերի լրացուցիչ ֆինանսավորման, պետական բյուջեում չկանխատեսված ելքերի, ինչպես նաև բյուջետային երաշխիքների ապահովման ելքերի ֆինանսավորման ապահովում
G25: Ծառայությունների մատուցում
H26: Ծառայությունը մատուցողի անվանումը` ՀՀ կառավարություն
D27: 1139 - 11001 | E27: ՀՀ կառավարության պահուստային ֆոնդ | J27: =+'Հավելված N 4'!G61 -> -311905.4 | K27: =+'Հավելված N 4'!H61 -> -311905.4 | L27: =+'Հավելված N 4'!I61 -> -311905.4 | M27: =+'Հավելված N 4'!J61 -> -311905.4
F28: ՀՀ պետական բյուջեում նախատեսված ելքերի լրացուցիչ ֆինանսավորման, պետական բյուջեում չկանխատեսված ելքերի, ինչպես նաև բյուջետային երաշխիքների ապահովման ելքերի ֆինանսավորման ապահովում
G29: Ծառայությունների մատուցում
H30: Ծառայությունը մատուցողի անվանումը` ՀՀ կառավարություն

Sheet Հավելված N 9
H1: Հավելված N 9
H2: ՀՀ կառավարության 2026 թվականի
H3: ______________ ի ___Ն որոշման
A6: ՀԱՅԱՍՏԱՆԻ ՀԱՆՐԱՊԵՏՈՒԹՅԱՆ ԿԱՌԱՎԱՐՈՒԹՅԱՆ 2025 ԹՎԱԿԱՆԻ ԴԵԿՏԵՄԲԵՐԻ 25-Ի N 1910-Ն N 10 ՀԱՎԵԼՎԱԾՈՒՄ ԿԱՏԱՐՎՈՂ ԼՐԱՑՈՒՄՆԵՐԸ
A10: Կոդը | B10: Անվանումը | E10: Գնման ձևը | F10: Չափման միավորը | G10: Միավորի գինը | H10: Ցուցանիշների փոփոխությունը (ավելացումները նշված են դրական նշանով)
H11: Քանակը | I11: Գումարը (հազար դրամ)
A12: 1 | B12: 2 | E12: 3 | F12: 4 | G12: 5 | H12: 6 | I12: 7
A13: ՀՀ կրթության, գիտության, մշակույթի և սպորտի նախարարություն | I13: =+I14 -> 237429.3
A14: Բաժին N 09 | B14: Խումբ N 08 | C14: Դաս N 01 | D14: Կրթություն (այլ դասերին չպատկանող) | I14: =+I15 -> 237429.3
A15: 1130-31003 | B15: Կրթության, գիտության, մշակույթի և սպորտի ոլորտներին առնչվող անշարժ գույքի ձեռքբերում | I15: =+I16 -> 237429.3
B16: ՄԱՍ I. ԱՊՐԱՆՔՆԵՐ | I16: =+I17 -> 237429.3
A17: 44211130 | B17: անշարժ գույք | E17: ՄԱ | F17: հատ | G17: =236929221+500000 -> 237429221 | H17: 1 | I17: =+ROUNDUP(H17*G17/1000,1) -> 237429.3
