Workbook

Sheet 1․
J1: Հավելված N 1
K2: ՀՀ կառավարության 2026 թվականի
K3: ______________ ի ___Ն որոշման
B5: «ՀԱՅԱUՏԱՆԻ ՀԱՆՐԱՊԵՏՈՒԹՅԱՆ 2026 ԹՎԱԿԱՆԻ ՊԵՏԱԿԱՆ ԲՅՈՒՋԵԻ ՄԱUԻՆ» OՐԵՆՔԻ N 1 ՀԱՎԵԼՎԱԾԻ N 2 ԱՂՅՈՒՍԱԿՈՒՄ ԿԱՏԱՐՎՈՂ ՎԵՐԱԲԱՇԽՈՒՄԸ ԵՎ ՀԱՅԱՍՏԱՆԻ ՀԱՆՐԱՊԵՏՈՒԹՅԱՆ ԿԱՌԱՎԱՐՈՒԹՅԱՆ 2025 ԹՎԱԿԱՆԻ ԴԵԿՏԵՄԲԵՐԻ 25-Ի N 1910-Ն ՈՐՈՇՄԱՆ N 5 ՀԱՎԵԼՎԱԾԻ N 1 ԱՂՅՈՒՍԱԿՈՒՄ ԿԱՏԱՐՎՈՂ ՓՈՓՈԽՈՒԹՅՈՒՆՆԵՐԸ ԵՎ ԼՐԱՑՈՒՄՆԵՐԸ
J6: հազար դրամներով
B7: ԲԳԿ | C7: Ծրագրային դասիչը | E7: ԲԳԿ/Ծրագրի /միջոցառման անվանումը | F7: Ծրագրի նպատակը/Միջոցառման նկարագրությունը | G7: Վերջնական արդյունքի նկարագրությունը/Միջոցառման տեսակը | H7: Ցուցանիշների փոփոխությունը (ավելացումները նշված են դրական նշանով, իսկ նվազեցումները՝ փակագծերում)
H8: Առաջին եռամսյակ | I8: Առաջին կիսամյակ | J8: Ինն ամիս | K8: Տարի
C9: Ծրագիր | D9: Միջոցառում
B10: ԸՆԴԱՄԵՆԸ | H10: =H11 -> 0 | I10: =I11 -> 0 | J10: =J11 -> 0 | K10: =K11 -> 0
B11: ՀՀ տարածքային կառավարման և ենթակառուցվածքների նախարարություն | H11: =H12 -> 0 | I11: =I12 -> 0 | J11: =J12 -> 0 | K11: =K12 -> 0
C12: 1049 | E12: Ճանապարհային ցանցի բարելավում | F12: Ճանապարհային ցանցի բարելավում և անվտանգ երթևեկության ապահովում | G12: Ճանապարհների ծածկի որակի և փոխադրումների արդյունավետության բարելավում, ճանապարհների վիճակով պայմանավորված պատահարների նվազում | H12: =H13+H14 -> 0 | I12: =I13+I14 -> 0 | J12: =J13+J14 -> 0 | K12: =K13+K14 -> 0
D13: 1049 - 11002 | E13: Մարզային նշանակության ավտոճանապարհների պահպանման և անվտանգ երթևեկության ծառայություններ | F13: Հողային պաստառի, երթևեկելի մասի, արհեստական կառույցների և կահավորման տարրերի նորմատիվ մակարդակում պահպանում և շահագործում | G13: Ծառայությունների մատուցում | H13: 1100 | I13: 1100 | J13: 1100 | K13: 1100
D14: 1049 - 21001 | E14: Պետական նշանակության ավտոճանապարհների հիմնանորոգում | F14: Միջպետական, հանրապետական և մարզային նշանակության ավտոճոնապարհների քայքայված ծածկի վերանորոգում, մաշված ծածկի փոխարինում | G14: Հանրության կողմից անմիջականորեն օգտագործվող ակտիվների հետ կապված միջոցառումներ | H14: ='2.'!H33 -> -1100 | I14: ='2.'!I33 -> -1100 | J14: ='2.'!J33 -> -1100 | K14: ='2.'!K33 -> -1100
D19: ՀԱՅԱՍՏԱՆԻ ՀԱՆՐԱՊԵՏՈՒԹՅԱՆ ՎԱՐՉԱՊԵՏԻ ԱՇԽԱՏԱԿԱԶՄԻ ՂԵԿԱՎԱՐ՝ | F19: Ա.ՀԱՐՈՒԹՅՈՒՆՅԱՆ

Sheet 2.
K1: Հավելված N 2
K2: ՀՀ կառավարության 2026 թվականի
K3: ______________ ի ___Ն որոշման
B5: ՀԱՅԱՍՏԱՆԻ ՀԱՆՐԱՊԵՏՈՒԹՅԱՆ ԿԱՌԱՎԱՐՈՒԹՅԱՆ 2025 ԹՎԱԿԱՆԻ ԴԵԿՏԵՄԲԵՐԻ 25-Ի N 1910-Ն ՈՐՈՇՄԱՆ NN 3 ԵՎ 4 ՀԱՎԵԼՎԱԾՆԵՐՈՒՄ ԿԱՏԱՐՎՈՂ ՓՈՓՈԽՈՒԹՅՈՒՆՆԵՐԸ ԵՎ ԼՐԱՑՈՒՄՆԵՐԸ
K7: հազար դրամներով
B8: Գործառական դասիչը | E8: Ծրագրային դասիչը | G8: Բյուջետային հատկացումների գլխավոր կարգադրիչների, ծրագրերի, միջոցառումների և միջոցառումները կատարող պետական մարմինների անվանումները | H8: Ցուցանիշների փոփոխությունը (ավելացումները նշված են դրական նշանով, իսկ նվազեցումները` փակագծերում)
B9: Բաժին | C9: Խումբ | D9: Դաս | E9: Ծրագիր | F9: Միջոցառում | H9: Առաջին եռամսյակ | I9: Առաջին կիսամյակ | J9: Ինն ամիս | K9: Տարի
G10: ԸՆԴԱՄԵՆԸ | H10: =H12 -> 0 | I10: =I12 -> 0 | J10: =J12 -> 0 | K10: =K12 -> 0
G11: այդ թվում`
G12: ՀՀ տարածքային կառավարման և ենթակառուցվածքների նախարարություն | H12: =H14 -> 0 | I12: =I14 -> 0 | J12: =J14 -> 0 | K12: =K14 -> 0
G13: այդ թվում`
B14: 04 | G14: ՏՆՏԵՍԱԿԱՆ ՀԱՐԱԲԵՐՈՒԹՅՈՒՆՆԵՐ | H14: =H16 -> 0 | I14: =I16 -> 0 | J14: =J16 -> 0 | K14: =K16 -> 0
G15: այդ թվում`
C16: 05 | G16: ՏՐԱՆՍՊՈՐՏ | H16: =H18 -> 0 | I16: =I18 -> 0 | J16: =J18 -> 0 | K16: =K18 -> 0
G17: այդ թվում`
D18: 01 | G18: Ճանապարհային տրանսպորտ | H18: =H20 -> 0 | I18: =I20 -> 0 | J18: =J20 -> 0 | K18: =K20 -> 0
G19: այդ թվում`
G20: ՀՀ տարածքային կառավարման և ենթակառուցվածքների նախարարություն | H20: =H22 -> 0 | I20: =I22 -> 0 | J20: =J22 -> 0 | K20: =K22 -> 0
G21: այդ թվում`
E22: 1049 | G22: Ճանապարհային ցանցի բարելավում | H22: =H24+H33 -> 0 | I22: =I24+I33 -> 0 | J22: =J24+J33 -> 0 | K22: =K24+K33 -> 0
G23: այդ թվում`
F24: 11002 | G24: Մարզային նշանակության ավտոճանապարհների պահպանման և անվտանգ երթևեկության ծառայություններ | H24: 1100 | I24: 1100 | J24: 1100 | K24: 1100
G25: այդ թվում` ըստ կատարողների
G26: ՀՀ Տավուշի մարզպետի աշխատակազմ | H26: 1100 | I26: 1100 | J26: 1100 | K26: 1100
G27: այդ թվում` բյուջետային ծախսերի տնտեսագիտական դասակարգման հոդվածներ
G28: ԸՆԴԱՄԵՆԸ ԾԱԽՍԵՐ | H28: 1100 | I28: 1100 | J28: 1100 | K28: 1100
G29: ԸՆԹԱՑԻԿ ԾԱԽՍԵՐ | H29: 1100 | I29: 1100 | J29: 1100 | K29: 1100
G30: ԾԱՌԱՅՈՒԹՅՈՒՆՆԵՐԻ ԵՎ ԱՊՐԱՆՔՆԵՐԻ ՁԵՌՔԲԵՐՈՒՄ | H30: 1100 | I30: 1100 | J30: 1100 | K30: 1100
G31: Այլ մասնագիտական ծառայությունների ձեռքբերում | H31: 1100 | I31: 1100 | J31: 1100 | K31: 1100
G32: - Մասնագիտական ծառայություններ | H32: 1100 | I32: 1100 | J32: 1100 | K32: 1100
F33: 21001 | G33: Պետական նշանակության ավտոճանապարհների հիմնանորոգում | H33: =H35+H42+H49+H56+H65+H72 -> -1100 | I33: =I35+I42+I49+I56+I65+I72 -> -1100 | J33: =J35+J42+J49+J56+J65+J72 -> -1100 | K33: =K35+K42+K49+K56+K65+K72 -> -1100
G34: այդ թվում` ըստ կատարողների
G35: ՀՀ կառավարություն | H35: =H37 -> -8915.2 | I35: =I37 -> -339297.7 | J35: =J37 -> -339297.7 | K35: =K37 -> -339297.7
G36: այդ թվում` բյուջետային ծախսերի տնտեսագիտական դասակարգման հոդվածներ
G37: ԸՆԴԱՄԵՆԸ ԾԱԽՍԵՐ | H37: =H38 -> -8915.2 | I37: =I38 -> -339297.7 | J37: =J38 -> -339297.7 | K37: =K38 -> -339297.7
G38: ՈՉ ՖԻՆԱՆՍԱԿԱՆ ԱԿՏԻՎՆԵՐԻ ԳԾՈՎ ԾԱԽՍԵՐ | H38: =H39 -> -8915.2 | I38: =I39 -> -339297.7 | J38: =J39 -> -339297.7 | K38: =K39 -> -339297.7
G39: ՀԻՄՆԱԿԱՆ ՄԻՋՈՑՆԵՐ | H39: =H40 -> -8915.2 | I39: =I40 -> -339297.7 | J39: =J40 -> -339297.7 | K39: =K40 -> -339297.7
G40: ՇԵՆՔԵՐ ԵՎ ՇԻՆՈՒԹՅՈՒՆՆԵՐ | H40: =H41 -> -8915.2 | I40: =I41 -> -339297.7 | J40: =J41 -> -339297.7 | K40: =K41 -> -339297.7
G41: - Շենքերի և շինությունների կապիտալ վերանորոգում | H41: =-H42-H49-H56-H65-H72-H32 -> -8915.2 | I41: =-I42-I49-I56-I65-I72-I32 -> -339297.7 | J41: =-J42-J49-J56-J65-J72-J32 -> -339297.7 | K41: =-K42-K49-K56-K65-K72-K32 -> -339297.7
G42: ՀՀ Արագածոտնի մարզպետի աշխատակազմ | H42: 2085.6 | I42: 2085.6 | J42: 2085.6 | K42: 2085.6
G43: այդ թվում`բյուջետային ծախսերի տնտեսագիտական դասակարգման հոդվածներ
G44: ԸՆԴԱՄԵՆԸ ԾԱԽՍԵՐ | H44: 2085.6 | I44: 2085.6 | J44: 2085.6 | K44: 2085.6
G45: ՈՉ ՖԻՆԱՆՍԱԿԱՆ ԱԿՏԻՎՆԵՐԻ ԳԾՈՎ ԾԱԽՍԵՐ | H45: 2085.6 | I45: 2085.6 | J45: 2085.6 | K45: 2085.6
G46: ՀԻՄՆԱԿԱՆ ՄԻՋՈՑՆԵՐ | H46: 2085.6 | I46: 2085.6 | J46: 2085.6 | K46: 2085.6
G47: ԱՅԼ ՀԻՄՆԱԿԱՆ ՄԻՋՈՑՆԵՐ | H47: 2085.6 | I47: 2085.6 | J47: 2085.6 | K47: 2085.6
G48: - Նախագծահետազոտական ծախսեր | H48: 2085.6 | I48: 2085.6 | J48: 2085.6 | K48: 2085.6
G49: ՀՀ Գեղարքունիքի մարզպետի աշխատակազմ | H49: 894 | I49: 894 | J49: 894 | K49: 894
G50: այդ թվում`բյուջետային ծախսերի տնտեսագիտական դասակարգման հոդվածներ
G51: ԸՆԴԱՄԵՆԸ ԾԱԽՍԵՐ | H51: 894 | I51: 894 | J51: 894 | K51: 894
G52: ՈՉ ՖԻՆԱՆՍԱԿԱՆ ԱԿՏԻՎՆԵՐԻ ԳԾՈՎ ԾԱԽՍԵՐ | H52: 894 | I52: 894 | J52: 894 | K52: 894
G53: ՀԻՄՆԱԿԱՆ ՄԻՋՈՑՆԵՐ | H53: 894 | I53: 894 | J53: 894 | K53: 894
G54: ԱՅԼ ՀԻՄՆԱԿԱՆ ՄԻՋՈՑՆԵՐ | H54: 894 | I54: 894 | J54: 894 | K54: 894
G55: - Նախագծահետազոտական ծախսեր | H55: 894 | I55: 894 | J55: 894 | K55: 894
G56: ՀՀ Լոռու մարզպետի աշխատակազմ | H56: 3075.6 | I56: 333458.1 | J56: 333458.1 | K56: 333458.1
G57: այդ թվում`բյուջետային ծախսերի տնտեսագիտական դասակարգման հոդվածներ
G58: ԸՆԴԱՄԵՆԸ ԾԱԽՍԵՐ | H58: 3075.6 | I58: 333458.1 | J58: 333458.1 | K58: 333458.1
G59: ՈՉ ՖԻՆԱՆՍԱԿԱՆ ԱԿՏԻՎՆԵՐԻ ԳԾՈՎ ԾԱԽՍԵՐ | H59: 3075.6 | I59: 333458.1 | J59: 333458.1 | K59: 333458.1
G60: ՀԻՄՆԱԿԱՆ ՄԻՋՈՑՆԵՐ | H60: 3075.6 | I60: 333458.1 | J60: 333458.1 | K60: 333458.1
G61: ՇԵՆՔԵՐ ԵՎ ՇԻՆՈՒԹՅՈՒՆՆԵՐ | H61: 0 | I61: 330382.5 | J61: 330382.5 | K61: 330382.5
G62: - Շենքերի և շինությունների կապիտալ վերանորոգում | H62: 0 | I62: 330382.5 | J62: 330382.5 | K62: 330382.5
G63: ԱՅԼ ՀԻՄՆԱԿԱՆ ՄԻՋՈՑՆԵՐ | H63: 3075.6 | I63: 3075.6 | J63: 3075.6 | K63: 3075.6
G64: - Նախագծահետազոտական ծախսեր | H64: 3075.6 | I64: 3075.6 | J64: 3075.6 | K64: 3075.6
G65: ՀՀ Սյունիքի մարզպետի աշխատակազմ | H65: 660 | I65: 660 | J65: 660 | K65: 660
G66: այդ թվում`բյուջետային ծախսերի տնտեսագիտական դասակարգման հոդվածներ
G67: ԸՆԴԱՄԵՆԸ ԾԱԽՍԵՐ | H67: 660 | I67: 660 | J67: 660 | K67: 660
G68: ՈՉ ՖԻՆԱՆՍԱԿԱՆ ԱԿՏԻՎՆԵՐԻ ԳԾՈՎ ԾԱԽՍԵՐ | H68: 660 | I68: 660 | J68: 660 | K68: 660
G69: ՀԻՄՆԱԿԱՆ ՄԻՋՈՑՆԵՐ | H69: 660 | I69: 660 | J69: 660 | K69: 660
G70: ԱՅԼ ՀԻՄՆԱԿԱՆ ՄԻՋՈՑՆԵՐ | H70: 660 | I70: 660 | J70: 660 | K70: 660
G71: - Նախագծահետազոտական ծախսեր | H71: 660 | I71: 660 | J71: 660 | K71: 660
G72: ՀՀ Տավուշի մարզպետի աշխատակազմ | H72: 1100 | I72: 1100 | J72: 1100 | K72: 1100
G73: այդ թվում`բյուջետային ծախսերի տնտեսագիտական դասակարգման հոդվածներ
G74: ԸՆԴԱՄԵՆԸ ԾԱԽՍԵՐ | H74: 1100 | I74: 1100 | J74: 1100 | K74: 1100
G75: ՈՉ ՖԻՆԱՆՍԱԿԱՆ ԱԿՏԻՎՆԵՐԻ ԳԾՈՎ ԾԱԽՍԵՐ | H75: 1100 | I75: 1100 | J75: 1100 | K75: 1100
G76: ՀԻՄՆԱԿԱՆ ՄԻՋՈՑՆԵՐ | H76: 1100 | I76: 1100 | J76: 1100 | K76: 1100
G77: ԱՅԼ ՀԻՄՆԱԿԱՆ ՄԻՋՈՑՆԵՐ | H77: 1100 | I77: 1100 | J77: 1100 | K77: 1100
G78: - Նախագծահետազոտական ծախսեր | H78: 1100 | I78: 1100 | J78: 1100 | K78: 1100
D80: ՀԱՅԱՍՏԱՆԻ ՀԱՆՐԱՊԵՏՈՒԹՅԱՆ ՎԱՐՉԱՊԵՏԻ ԱՇԽԱՏԱԿԱԶՄԻ ՂԵԿԱՎԱՐ՝ | G80: Ա.ՀԱՐՈՒԹՅՈՒՆՅԱՆ

Sheet 3.
I1: Հավելված N 3
I2: ՀՀ կառավարության 2026 թվականի
I3: ______________ ի ___Ն որոշման
B5: «ՀԱՅԱՍՏԱՆԻ ՀԱՆՐԱՊԵՏՈՒԹՅԱՆ 2026 ԹՎԱԿԱՆԻ ՊԵՏԱԿԱՆ ԲՅՈՒՋԵԻ ՄԱՍԻՆ» ՕՐԵՆՔԻ N 1 ՀԱՎԵԼՎԱԾԻ N 3 ԱՂՅՈՒՍԱԿՈՒՄ ԿԱՏԱՐՎՈՂ ՓՈՓՈԽՈՒԹՅՈՒՆԸ ԵՎ ԼՐԱՑՈՒՄՆԵՐԸ
H6: հազար դրամներով
B7: Ծրագրային դասիչ | D7: Բյուջետային գլխավոր կարգադրիչների, ծրագրերի, միջոցառումների և ուղղությունների անվանումները | E7: Ցուցանիշների փոփոխությունը (ավելացումները նշված են դրական նշանով, իսկ նվազեցումները` փակագծերում)
E8: Ընդամենը, | F8: այդ թվում՝
B9: Ծրագիր | C9: Միջոցառում | F9: Կառուցման աշխատանքներ | G9: Վերակառուցման, վերանորոգման և վերականգնման աշխատանքներ | H9: Նախագծահե- տազոտական, գեոդեզիա- քարտեզագրական աշխատանքներ | I9: Ոչ ֆինանսական այլ ակտիվների ձեռքբերում
D10: ԸՆԴԱՄԵՆԸ | E10: =F10+G10+H10+I10 -> -1100 | F10: 0 | G10: =G12 -> -8915.2 | H10: =H12 -> 7815.2 | I10: =I12 -> 0
D11: այդ թվում՝
D12: ՀՀ ՏԱՐԱԾՔԱՅԻՆ ԿԱՌԱՎԱՐՄԱՆ ԵՎ ԵՆԹԱԿԱՌՈՒՑՎԱԾՔՆԵՐԻ ՆԱԽԱՐԱՐՈՒԹՅՈՒՆ | E12: =E14 -> -1100 | F12: =F14 -> 0 | G12: =G14 -> -8915.2 | H12: =H14 -> 7815.2 | I12: =I14 -> 0
D13: այդ թվում`
B14: 1049 | C14: 21001 | D14: Պետական նշանակության ավտոճանապարհների հիմնանորոգում | E14: =F14+G14+H14+I14 -> -1100 | F14: 0 | G14: =G16+G18+G20+G26+G28+G31 -> -8915.2 | H14: =H16+H18+H20+H26+H28+H31 -> 7815.2 | I14: =I16+I18+I20+I26+I28+I31 -> 0
D15: այդ թվում`
D16: ՀՀ Արագածոտնի մարզ | E16: 2085.6 | F16: 0 | G16: 0 | H16: 2085.6 | I16: =I17 -> 0
D17: ՀՀ Արագածոտնի մարզի Գետափի հմ/դ0.2կմ, Վերին Սասնաշենի Մ․ Մանուկյանի անվան հիմնական դպրոցից 0.1կմ և մարզային նշանակության Տ-1-41, 1.5կմ ավտոճանապարհների ասֆալտապատման աշխատանքների նախագծանախահաշվային փաստաթղթերի ձեռքբերում | E17: 2085.6 | F17: 0 | G17: 0 | H17: 2085.6 | I17: 0
D18: ՀՀ Գեղարքունիքի մարզ | E18: 894 | F18: 0 | G18: 0 | H18: 894 | I18: =I19 -> 0
D19: Տ-4-82,/Հ-7/-Ծափաթաղ մարզային նշանակության ավտոճանապարհի կմ 0+00-կմ0+800 հատվածի հիմնանորոգման աշխատանքների նախագծանախահաշվային փաստաթղթերի ձեռքբերում | E19: 894 | F19: 0 | G19: 0 | H19: 894 | I19: 0
D20: ՀՀ Լոռու մարզ | E20: 333458.1 | F20: 0 | G20: 330382.5 | H20: 3075.6 | I20: =I21+I22+I23+I24+I25 -> 0
D21: ՀՀ Լոռու մարզի Թումանյան համայնքի Աթան բնակավայրի 4-րդ փողոցի 0.4 կմ երկարությամբ ճանապարհահատվածի ասֆալտապատման աշխատանքների նախագծանախահաշվային փաստաթղթերի ձեռքբերում | E21: 660 | F21: 0 | G21: 0 | H21: 660 | I21: 0
D22: ՀՀ Լոռու մարզի Փամբակ համայնքի Բազում բնակավայրի 5-րդ փողոցի 1-ին փակուղու 0.8 կմ և 3-րդ փողոցից դեպի կրթահամալիր տանող ճանապարհի 0.4 կմ երկարությամբ հատվածների հիմնանորոգման աշխատանքների նախագծանախահաշվային փաստաթղթերի ձեռքբերում | E22: 1537.8 | F22: 0 | G22: 0 | H22: 1537.8 | I22: 0
D23: ՀՀ Լոռու մարզի Թումանյան համայնքի Շամուտ բնակավայրի 1-ին փողոցի 0.7 կմ երկարությամբ ճանապարհահատվածի ասֆալտապատման աշխատանքների նախագծանախահաշվային փաստաթղթերի ձեռքբերում | E23: 877.8 | F23: 0 | G23: 0 | H23: 877.8 | I23: 0
D24: Մ-3-Ամրակից 0.4 կմ երկարությամբ հատվածի և Մ- 3-Ստեփանավանի թիվ 3 հ/դպրոց 0.6 կմ երկարությամբ հատվածի ասֆալտապատման աշխատանքներ | E24: 245098 | F24: 0 | G24: 245098 | H24: 0 | I24: 0
D25: S-5-62, (Հ-34/ - Բովաձոր մարզային նշանակության ավտոճանապարհի կմ1+340-կմ 1+756.5 հատվածի ասֆալտապատման աշխատանքներ | E25: 85284.5 | F25: 0 | G25: 85284.5 | H25: 0 | I25: 0
D26: ՀՀ Սյունիքի մարզ | E26: 660 | F26: 0 | G26: 0 | H26: 660 | I26: 0
D27: Սյունիքի մարզի Քաջարան համայնքի Ձագիկավան բնակավայրի /Մ-2 միջպետական ճանապարհից մինչև Ձագիկավանի միջնակարգ դպրոց/ փողոցի ասֆալտապատման աշխատանքների նախագծանախահաշվային փաստաթղթերի ձեռքբերում | E27: 660 | F27: 0 | G27: 0 | H27: 660 | I27: 0
D28: ՀՀ Տավուշի մարզ | E28: 1100 | F28: 0 | G28: 0 | H28: 1100 | I28: 0
D29: ՀՀ Տավուշի մարզի Լուսաձորի կրթահամալիր տանող 0.31կմ երկարությամբ համայնքային նշանակության ճանապարհի հիմնանորոգման աշխատանքների նախագծանախահաշվային փաստաթղթերի ձեռքբերում | E29: 330 | F29: 0 | G29: 0 | H29: 330 | I29: 0
D30: ՀՀ Տավուշի մարզի Լուսաձորի կրթահամալիր տանող 0.45կմ երկարությամբ համայնքային նշանակության ճանապարհի հիմնանորգման աշխատանքների նախագծանախահաշվային փաստաթղթերի ձեռքբերում | E30: 770 | F30: 0 | G30: 0 | H30: 770 | I30: 0
D31: ՀՀ կառավարություն | E31: =F31+G31+H31+I31 -> -339297.7 | F31: 0 | G31: ='2.'!K35 -> -339297.7 | H31: 0 | I31: 0
E33: ՀԱՅԱՍՏԱՆԻ ՀԱՆՐԱՊԵՏՈՒԹՅԱՆ ՎԱՐՉԱՊԵՏԻ ԱՇԽԱՏԱԿԱԶՄԻ ՂԵԿԱՎԱՐ՝ | H33: Ա.ՀԱՐՈՒԹՅՈՒՆՅԱՆ

Sheet 4.
H1: Հավելված N 4
H2: ՀՀ կառավարության 2026 թվականի
H3: ______________ ի ___Ն որոշման
A5: ՀԱՅԱՍՏԱՆԻ ՀԱՆՐԱՊԵՏՈՒԹՅԱՆ ԿԱՌԱՎԱՐՈՒԹՅԱՆ 2025 ԹՎԱԿԱՆԻ ԴԵԿՏԵՄԲԵՐԻ 25-Ի N 1910-Ն ՈՐՈՇՄԱՆ N 5 ՀԱՎԵԼՎԱԾԻ N 2 ԱՂՅՈՒՍԱԿՈՒՄ ԿԱՏԱՐՎՈՂ ՓՈՓՈԽՈՒԹՅՈՒՆԸ ԵՎ ԼՐԱՑՈՒՄՆԵՐԸ
G7: հազար դրամներով
B8: Ծրագրային դասիչը | D8: Հատկացումների տրամադրման նպատակները և բյուջետային գլխավոր կարգադրիչների, ծրագրերի, միջոցառումների և կատարող պետական մարմնի անվանումները | E8: Ցուցանիշների փոփոխությունը (ավելացումները նշված են դրական նշանով, իսկ նվազեցումները՝ փակագծերում)
B9: Ծրագիր | C9: Միջոցառում | E9: Առաջին եռամսյակ | F9: Առաջին կիսամյակ | G9: Ինն ամիս | H9: Տարի
D10: ԸՆԴԱՄԵՆԸ | E10: =E12 -> -1100 | F10: =F12 -> -1100 | G10: =G12 -> -1100 | H10: =H12 -> -1100
D11: այդ թվում՝
D12: ՀՀ ՏԱՐԱԾՔԱՅԻՆ ԿԱՌԱՎԱՐՄԱՆ ԵՎ ԵՆԹԱԿԱՌՈՒՑՎԱԾՔՆԵՐԻ ՆԱԽԱՐԱՐՈՒԹՅՈՒՆ | E12: =E14 -> -1100 | F12: =F14 -> -1100 | G12: =G14 -> -1100 | H12: =H14 -> -1100
D13: այդ թվում`
B14: 1049 | C14: 21001 | D14: Պետական նշանակության ավտոճանապարհների հիմնանորոգում | E14: =E17+E20+E23+E30+E33+E16 -> -1100 | F14: =F17+F20+F23+F30+F33+F16 -> -1100 | G14: =G17+G20+G23+G30+G33+G16 -> -1100 | H14: =H17+H20+H23+H30+H33+H16 -> -1100
D15: այդ թվում` ըստ կատարողների
D16: ՀՀ կառավարություն | E16: ='2.'!H35 -> -8915.2 | F16: ='2.'!I35 -> -339297.7 | G16: ='2.'!J35 -> -339297.7 | H16: ='2.'!K35 -> -339297.7
D17: ՀՀ Արագածոտնի մարզպետի աշխատակազմ | E17: =E19 -> 2085.6 | F17: =F19 -> 2085.6 | G17: =G19 -> 2085.6 | H17: =H19 -> 2085.6
D18: այդ թվում` ըստ ուղղությունների
D19: ՀՀ Արագածոտնի մարզի Գետափի հմ/դ0.2կմ, Վերին Սասնաշենի Մ․ Մանուկյանի անվան հիմնական դպրոցից 0.1կմ և մարզային նշանակության Տ-1-41, 1.5կմ ավտոճանապարհների ասֆալտապատման աշխատանքների նախագծանախահաշվային փաստաթղթերի ձեռքբերում | E19: ='3.'!E17 -> 2085.6 | F19: =E19 -> 2085.6 | G19: =F19 -> 2085.6 | H19: =G19 -> 2085.6
D20: ՀՀ Գեղարքունիքի մարզպետի աշխատակազմ | E20: =E22 -> 894 | F20: =F22 -> 894 | G20: =G22 -> 894 | H20: =H22 -> 894
D21: այդ թվում` ըստ ուղղությունների
D22: Տ-4-82,/Հ-7/-Ծափաթաղ մարզային նշանակության ավտոճանապարհի կմ 0+00-կմ0+800 հատվածի հիմնանորոգման աշխատանքների նախագծանախահաշվային փաստաթղթերի ձեռքբերում | E22: ='3.'!E19 -> 894 | F22: =E22 -> 894 | G22: =F22 -> 894 | H22: =G22 -> 894
D23: ՀՀ Լոռու մարզպետի աշխատակազմ | E23: =E25+E26+E27+E28+E29 -> 3075.6 | F23: =F25+F26+F27+F28+F29 -> 333458.1 | G23: =G25+G26+G27+G28+G29 -> 333458.1 | H23: =H25+H26+H27+H28+H29 -> 333458.1
D24: այդ թվում` ըստ ուղղությունների
D25: ՀՀ Լոռու մարզի Թումանյան համայնքի Աթան բնակավայրի 4-րդ փողոցի 0.4 կմ երկարությամբ ճանապարհահատվածի ասֆալտապատման աշխատանքների նախագծանախահաշվային փաստաթղթերի ձեռքբերում | E25: ='3.'!E21 -> 660 | F25: =E25 -> 660 | G25: =F25 -> 660 | H25: =G25 -> 660
D26: ՀՀ Լոռու մարզի Փամբակ համայնքի Բազում բնակավայրի 5-րդ փողոցի 1-ին փակուղու 0.8 կմ և 3-րդ փողոցից դեպի կրթահամալիր տանող ճանապարհի 0.4 կմ երկարությամբ հատվածների հիմնանորոգման աշխատանքների նախագծանախահաշվային փաստաթղթերի ձեռքբերում | E26: ='3.'!E22 -> 1537.8 | F26: =E26 -> 1537.8 | G26: =F26 -> 1537.8 | H26: =G26 -> 1537.8
D27: ՀՀ Լոռու մարզի Թումանյան համայնքի Շամուտ բնակավայրի 1-ին փողոցի 0.7 կմ երկարությամբ ճանապարհահատվածի ասֆալտապատման աշխատանքների նախագծանախահաշվային փաստաթղթերի ձեռքբերում | E27: ='3.'!E23 -> 877.8 | F27: =E27 -> 877.8 | G27: =F27 -> 877.8 | H27: =G27 -> 877.8
D28: Մ-3-Ամրակից 0.4 կմ երկարությամբ հատվածի և Մ- 3-Ստեփանավանի թիվ 3 հ/դպրոց 0.6 կմ երկարությամբ հատվածի ասֆալտապատման աշխատանքներ | E28: 0 | F28: 245098 | G28: =F28 -> 245098 | H28: =G28 -> 245098
D29: S-5-62, (Հ-34/ - Բովաձոր մարզային նշանակության ավտոճանապարհի կմ1+340-կմ 1+756.5 հատվածի ասֆալտապատման աշխատանքներ | E29: 0 | F29: 85284.5 | G29: =F29 -> 85284.5 | H29: =G29 -> 85284.5
D30: ՀՀ Սյունիքի մարզպետի աշխատակազմ | E30: =E32 -> 660 | F30: =F32 -> 660 | G30: =G32 -> 660 | H30: =H32 -> 660
D31: այդ թվում` ըստ ուղղությունների
D32: Սյունիքի մարզի Քաջարան համայնքի Ձագիկավան բնակավայրի /Մ-2 միջպետական ճանապարհից մինչև Ձագիկավանի միջնակարգ դպրոց/ փողոցի ասֆալտապատման աշխատանքների նախագծանախահաշվային փաստաթղթերի ձեռքբերում | E32: ='3.'!E27 -> 660 | F32: =E32 -> 660 | G32: =F32 -> 660 | H32: =G32 -> 660
D33: ՀՀ Տավուշի մարզպետի աշխատակազմ | E33: =E35+E36 -> 1100 | F33: =F35+F36 -> 1100 | G33: =G35+G36 -> 1100 | H33: =H35+H36 -> 1100
D34: այդ թվում` ըստ ուղղությունների
D35: ՀՀ Տավուշի մարզի Լուսաձորի կրթահամալիր տանող 0.31կմ երկարությամբ համայնքային նշանակության ճանապարհի հիմնանորոգման աշխատանքների նախագծանախահաշվային փաստաթղթերի ձեռքբերում | E35: ='3.'!E29 -> 330 | F35: =E35 -> 330 | G35: =F35 -> 330 | H35: =G35 -> 330
D36: ՀՀ Տավուշի մարզի Լուսաձորի կրթահամալիր տանող 0.45կմ երկարությամբ համայնքային նշանակության ճանապարհի հիմնանորգման աշխատանքների նախագծանախահաշվային փաստաթղթերի ձեռքբերում | E36: ='3.'!H30 -> 770 | F36: =E36 -> 770 | G36: =F36 -> 770 | H36: =G36 -> 770
D41: ՀԱՅԱՍՏԱՆԻ ՀԱՆՐԱՊԵՏՈՒԹՅԱՆ ՎԱՐՉԱՊԵՏԻ ԱՇԽԱՏԱԿԱԶՄԻ ՂԵԿԱՎԱՐ՝ Ա.ՀԱՐՈՒԹՅՈՒՆՅԱՆ
D120: ՀԱՅԱՍՏԱՆԻ ՀԱՆՐԱՊԵՏՈՒԹՅԱՆ ՎԱՐՉԱՊԵՏԻ ԱՇԽԱՏԱԿԱԶՄԻ ՂԵԿԱՎԱՐ՝ | E120: Ա.ՀԱՐՈՒԹՅՈՒՆՅԱՆ

Sheet 5.
N1: Հավելված N5
N2: ՀՀ կառավարության 2026 թվականի
N3: ______________ ի ___Ն որոշման
B5: ՀԱՅԱՍՏԱՆԻ ՀԱՆՐԱՊԵՏՈՒԹՅԱՆ ԿԱՌԱՎԱՐՈՒԹՅԱՆ 2025 ԹՎԱԿԱՆԻ ԴԵԿՏԵՄԲԵՐԻ 25-Ի № 1910-Ն ՈՐՈՇՄԱՆ № 9 ՀԱՎԵԼՎԱԾՈՒՄ ԿԱՏԱՐՎՈՂ ՓՈՓՈԽՈՒԹՅՈՒՆՆԵՐԸ ԵՎ ԼՐԱՑՈՒՄՆԵՐԸ
N7: հազար դրամներով
B8: ԲԳԿ | C8: Ծրագիր | E8: Միջոցառում | I8: Իրականացնողը/ ակտիվն օգտագործողը/ շահառուի ընտրության չափորոշիչը | J8: Արդյունքային չափորոշիչը | K8: Ցուցանիշների փոփոխությունը (ավելացումները նշված են դրական նշանով, իսկ նվազեցումները՝ փակագծերում)
C9: Դասիչը | D9: Անվանումը | E9: Դասիչը | F9: Անվանումը | G9: Նկարագրությունը | H9: Տեսակը | K9: Առաջին եռամսյակ | L9: Առաջին կիսամյակ | M9: Ինն ամիս | N9: Տարի
B10: ԸՆԴԱՄԵՆԸ | K10: =K11 -> 0 | L10: =L11 -> 0 | M10: =M11 -> 0 | N10: =N11 -> 0
B11: ՀՀ տարածքային կառավարման և ենթակառուցվածքների նախարարություն | K11: =K12 -> 0 | L11: =L12 -> 0 | M11: =M12 -> 0 | N11: =N12 -> 0
C12: 1049 | D12: Ճանապարհային ցանցի բարելավում | K12: =K13+K18 -> 0 | L12: =L13+L18 -> 0 | M12: =M13+M18 -> 0 | N12: =N13+N18 -> 0
E13: 1049 - 11002 | F13: Մարզային նշանակության ավտոճանապարհների պահպանման և անվտանգ երթևեկության ծառայություններ | K13: ='1․'!H13 -> 1100 | L13: ='1․'!I13 -> 1100 | M13: ='1․'!J13 -> 1100 | N13: ='1․'!K13 -> 1100
G14: Հողային պաստառի, երթևեկելի մասի, արհեստական կառույցների և կահավորման տարրերի նորմատիվ մակարդակում պահպանում և շահագործում
H15: Ծառայությունների մատուցում
I16: Ծառայությունը մատուցողի անվանումը` Մարզպետարան, մրցութային կարգով ընտրված կազմակերպություններ
J17: Մասնագիտական ծառայությունների քանակ, հատ | L17: 1 | N17: 1
E18: 1049 - 21001 | F18: Պետական նշանակության ավտոճանապարհների հիմնանորոգում | K18: ='1․'!H14 -> -1100 | L18: ='1․'!I14 -> -1100 | M18: ='1․'!J14 -> -1100 | N18: ='1․'!K14 -> -1100
G19: Միջպետական, հանրապետական և մարզային նշանակության ավտոճոնապարհների քայքայված ծածկի վերանորոգում, մաշված ծածկի փոխարինում
H20: Հանրության կողմից անմիջականորեն օգտագործվող ակտիվների հետ կապված միջոցառումներ
I21: Միջոցառումն իրականացնողի անվանումը` Մասնագիտացված միավոր
J22: Նախագծանախահաշվային փաստաթղթերի քանակ, հատ | L22: ='6'!L16+'6'!L23+'6'!L30+'6'!L39+'6'!L51 -> 8 | N22: ='6'!N16+'6'!N23+'6'!N30+'6'!N39+'6'!N51 -> 8
D24: ՀԱՅԱՍՏԱՆԻ ՀԱՆՐԱՊԵՏՈՒԹՅԱՆ ՎԱՐՉԱՊԵՏԻ ԱՇԽԱՏԱԿԱԶՄԻ ՂԵԿԱՎԱՐ՝ Ա.ՀԱՐՈՒԹՅՈՒՆՅԱՆ
D41: ՀԱՅԱՍՏԱՆԻ ՀԱՆՐԱՊԵՏՈՒԹՅԱՆ
D42: ՎԱՐՉԱՊԵՏԻ ԱՇԽԱՏԱԿԱԶՄԻ
E43: ՂԵԿԱՎԱՐ ՝ Ա. ՀԱՐՈՒԹՅՈՒՆՅԱՆ

Sheet 6
N1: Հավելված N 6
N2: ՀՀ կառավարության 2026 թվականի
N3: ______________ ի ___Ն որոշման
B5: ՀԱՅԱՍՏԱՆԻ ՀԱՆՐԱՊԵՏՈՒԹՅԱՆ ԿԱՌԱՎԱՐՈՒԹՅԱՆ 2025 ԹՎԱԿԱՆԻ ԴԵԿՏԵՄԲԵՐԻ 25-Ի № 1910-Ն ՈՐՈՇՄԱՆ № 9.1 ՀԱՎԵԼՎԱԾՈՒՄ ԿԱՏԱՐՎՈՂ ՓՈՓՈԽՈՒԹՅՈՒՆՆԵՐԸ ԵՎ ԼՐԱՑՈՒՄՆԵՐԸ
N6: հազար դրամներով
B7: ԲՍԿ | C7: Ծրագիր | E7: Միջոցառում | I7: Իրականացնողը/ ակտիվն օգտագործողը/ շահառուի ընտրության չափորոշիչը | J7: Արդյունքային չափորոշիչը | K7: Ցուցանիշների փոփոխությունը (ավելացումները նշված են դրական նշանով, իսկ նվազեցումները` փակագծերում)
C8: Դասիչը | D8: Անվանումը | E8: Դասիչը | F8: Անվանումը | G8: Նկարագրությունը | H8: Տեսակը | K8: Առաջին եռամսյակ | L8: Առաջին կիսամյակ | M8: Ինն ամիս | N8: Տարի
B9: ԸՆԴԱՄԵՆԸ | K9: =K10+K17+K24+K33+K40+K52 -> 0 | L9: =L10+L17+L24+L33+L40+L52 -> 0 | M9: =M10+M17+M24+M33+M40+M52 -> 0 | N9: =N10+N17+N24+N33+N40+N52 -> 0
B10: ՀՀ Արագածոտնի մարզպետի աշխատակազմ | K10: =K11 -> 2085.6 | L10: =L11 -> 2085.6 | M10: =M11 -> 2085.6 | N10: =N11 -> 2085.6
C11: 1049 | D11: Ճանապարհային ցանցի բարելավում | K11: =K12 -> 2085.6 | L11: =L12 -> 2085.6 | M11: =M12 -> 2085.6 | N11: =N12 -> 2085.6
E12: 1049 - 21001 | F12: Պետական նշանակության ավտոճանապարհների հիմնանորոգում | K12: ='2.'!H42 -> 2085.6 | L12: ='2.'!I42 -> 2085.6 | M12: ='2.'!J42 -> 2085.6 | N12: ='2.'!K42 -> 2085.6
G13: Միջպետական, հանրապետական և մարզային նշանակության ավտոճոնապարհների քայքայված ծածկի վերանորոգում, մաշված ծածկի փոխարինում
H14: Հանրության կողմից անմիջականորեն օգտագործվող ակտիվների հետ կապված միջոցառումներ
I15: Միջոցառումն իրականացնողի անվանումը` Մասնագիտացված միավոր
J16: Նախագծանախահաշվային փաստաթղթերի քանակ, հատ | L16: 1 | N16: 1
B17: ՀՀ Գեղարքունիքի մարզպետի աշխատակազմ | K17: =K18 -> 894 | L17: =L18 -> 894 | M17: =M18 -> 894 | N17: =N18 -> 894
C18: 1049 | D18: Ճանապարհային ցանցի բարելավում | K18: =K19 -> 894 | L18: =L19 -> 894 | M18: =M19 -> 894 | N18: =N19 -> 894
E19: 1049 - 21001 | F19: Պետական նշանակության ավտոճանապարհների հիմնանորոգում | K19: ='2.'!H49 -> 894 | L19: ='2.'!I49 -> 894 | M19: ='2.'!J49 -> 894 | N19: ='2.'!K49 -> 894
G20: Միջպետական, հանրապետական և մարզային նշանակության ավտոճոնապարհների քայքայված ծածկի վերանորոգում, մաշված ծածկի փոխարինում
H21: Հանրության կողմից անմիջականորեն օգտագործվող ակտիվների հետ կապված միջոցառումներ
I22: Միջոցառումն իրականացնողի անվանումը` Մասնագիտացված միավոր
J23: Նախագծանախահաշվային փաստաթղթերի քանակ, հատ | L23: 1 | N23: 1
B24: ՀՀ Լոռու մարզպետի աշխատակազմ | K24: =K25 -> 3075.6 | L24: =L25 -> 333458.1 | M24: =M25 -> 333458.1 | N24: =N25 -> 333458.1
C25: 1049 | D25: Ճանապարհային ցանցի բարելավում | K25: =K26 -> 3075.6 | L25: =L26 -> 333458.1 | M25: =M26 -> 333458.1 | N25: =N26 -> 333458.1
E26: 1049 - 21001 | F26: Պետական նշանակության ավտոճանապարհների հիմնանորոգում | K26: ='2.'!H56 -> 3075.6 | L26: ='2.'!I56 -> 333458.1 | M26: ='2.'!J56 -> 333458.1 | N26: ='2.'!K56 -> 333458.1
G27: Միջպետական, հանրապետական և մարզային նշանակության ավտոճոնապարհների քայքայված ծածկի վերանորոգում, մաշված ծածկի փոխարինում
H28: Հանրության կողմից անմիջականորեն օգտագործվող ակտիվների հետ կապված միջոցառումներ
I29: Միջոցառումն իրականացնողի անվանումը` Մասնագիտացված միավոր
J30: Նախագծանախահաշվային փաստաթղթերի քանակ, հատ | L30: 3 | N30: 3
J31: Պետական նշանակության ավտոճանապարհներ, կիլոմետր այդ թվում՝ | N31: =N32 -> 1.42
J32: Մարզային նշանակության ավտոճանապարհներ, կիլոմետր | N32: 1.42
B33: ՀՀ Սյունիքի մարզպետի աշխատակազմ | K33: =K34 -> 660 | L33: =L34 -> 660 | M33: =M34 -> 660 | N33: =N34 -> 660
C34: 1049 | D34: Ճանապարհային ցանցի բարելավում | K34: =K35 -> 660 | L34: =L35 -> 660 | M34: =M35 -> 660 | N34: =N35 -> 660
E35: 1049 - 21001 | F35: Պետական նշանակության ավտոճանապարհների հիմնանորոգում | K35: ='2.'!H65 -> 660 | L35: ='2.'!I65 -> 660 | M35: ='2.'!J65 -> 660 | N35: ='2.'!K65 -> 660
G36: Միջպետական, հանրապետական և մարզային նշանակության ավտոճոնապարհների քայքայված ծածկի վերանորոգում, մաշված ծածկի փոխարինում
H37: Հանրության կողմից անմիջականորեն օգտագործվող ակտիվների հետ կապված միջոցառումներ
I38: Միջոցառումն իրականացնողի անվանումը` Մասնագիտացված միավոր
J39: Նախագծանախահաշվային փաստաթղթերի քանակ, հատ | L39: 1 | N39: 1
B40: ՀՀ Տավուշի մարզպետի աշխատակազմ | K40: =K41 -> 2200 | L40: =L41 -> 2200 | M40: =M41 -> 2200 | N40: =N41 -> 2200
C41: 1049 | D41: Ճանապարհային ցանցի բարելավում | K41: =K47+K42 -> 2200 | L41: =L47+L42 -> 2200 | M41: =M47+M42 -> 2200 | N41: =N47+N42 -> 2200
E42: 1049 - 11002 | F42: Մարզային նշանակության ավտոճանապարհների պահպանման և անվտանգ երթևեկության ծառայություններ | K42: ='2.'!H24 -> 1100 | L42: ='2.'!I24 -> 1100 | M42: ='2.'!J24 -> 1100 | N42: ='2.'!K24 -> 1100
G43: Հողային պաստառի, երթևեկելի մասի, արհեստական կառույցների և կահավորման տարրերի նորմատիվ մակարդակում պահպանում և շահագործում
H44: Ծառայությունների մատուցում
I45: Ծառայությունը մատուցողի անվանումը` Մարզպետարան, մրցութային կարգով ընտրված կազմակերպություններ
J46: Մասնագիտական ծառայությունների քանակ, հատ | L46: 1 | N46: 1
E47: 1049 - 21001 | F47: Պետական նշանակության ավտոճանապարհների հիմնանորոգում | K47: ='2.'!H72 -> 1100 | L47: ='2.'!I72 -> 1100 | M47: ='2.'!J72 -> 1100 | N47: ='2.'!K72 -> 1100
G48: Միջպետական, հանրապետական և մարզային նշանակության ավտոճոնապարհների քայքայված ծածկի վերանորոգում, մաշված ծածկի փոխարինում
H49: Հանրության կողմից անմիջականորեն օգտագործվող ակտիվների հետ կապված միջոցառումներ
I50: Միջոցառումն իրականացնողի անվանումը` Մասնագիտացված միավոր
J51: Նախագծանախահաշվային փաստաթղթերի քանակ, հատ | L51: 2 | N51: 2
B52: ՀՀ կառավարություն | K52: =K53 -> -8915.2 | L52: =L53 -> -339297.7 | M52: =M53 -> -339297.7 | N52: =N53 -> -339297.7
C53: 1049 | D53: Ճանապարհային ցանցի բարելավում | K53: =K54 -> -8915.2 | L53: =L54 -> -339297.7 | M53: =M54 -> -339297.7 | N53: =N54 -> -339297.7
E54: 1049 - 21001 | F54: Պետական նշանակության ավտոճանապարհների հիմնանորոգում | K54: ='2.'!H35 -> -8915.2 | L54: ='2.'!I35 -> -339297.7 | M54: ='2.'!J35 -> -339297.7 | N54: ='2.'!K35 -> -339297.7
G55: Միջպետական, հանրապետական և մարզային նշանակության ավտոճոնապարհների քայքայված ծածկի վերանորոգում, մաշված ծածկի փոխարինում
H56: Հանրության կողմից անմիջականորեն օգտագործվող ակտիվների հետ կապված միջոցառումներ
I57: ` Մասնագիտացված միավոր
J58: Պետական նշանակության ավտոճանապարհներ, կիլոմետր այդ թվում՝ | N58: =N59 -> -1.42
J59: Մարզային նշանակության ավտոճանապարհներ, կիլոմետր | N59: -1.42
D65: ՀԱՅԱՍՏԱՆԻ ՀԱՆՐԱՊԵՏՈՒԹՅԱՆ
D66: ՎԱՐՉԱՊԵՏԻ ԱՇԽԱՏԱԿԱԶՄԻ
E67: ՂԵԿԱՎԱՐ ՝ Ա. ՀԱՐՈՒԹՅՈՒՆՅԱՆ

Sheet 7
I1: Հավելված N 7
I2: ՀՀ կառավարության 2026 թվականի
I3: ______________ ի ___Ն որոշման
C5: ՀԱՅԱՍՏԱՆԻ ՀԱՆՐԱՊԵՏՈՒԹՅԱՆ ԿԱՌԱՎԱՐՈՒԹՅԱՆ 2025 ԹՎԱԿԱՆԻ ԴԵԿՏԵՄԲԵՐԻ 25-Ի N 1910-Ն ՈՐՈՇՄԱՆ N 10 ՀԱՎԵԼՎԱԾՈՒՄ ԿԱՏԱՐՎՈՂ ԼՐԱՑՈՒՄՆԵՐԸ
C7: Կոդը | D7: Անվանումը | E7: Գնման ձևը | F7: Չափման միավորը | G7: Միավորի գինը | H7: Ցուցանիշների փոփոխությունը (ավելացումները նշված են դրական նշանով)
H8: Քանակը | I8: Գումարը (հազար դրամով)
C9: Ընդամենը | I9: =I10+I16+I22+I39+I45 -> 339297.7
C10: ՀՀ Արագածոտնի մարզպետի աշխատակազմ | I10: =+I11 -> 2085.6
C11: Բաժին N 04 | D11: Խումբ N 05 | E11: Դաս N 01 | F11: Ճանապարհային տրանսպորտ | I11: =I12 -> 2085.6
C12: 1049 21001 | D12: Պետական նշանակության ավտոճանապարհների հիմնանորոգում | I12: =I13 -> 2085.6
C13: ՄԱՍ III. ԾԱՌԱՅՈՒԹՅՈՒՆՆԵՐ | I13: =SUM(I14:I15) -> 2085.6
C14: 71241200/508 | D14: նախագծերի պատրաստում, ծախսերի գնահատում | E14: ԲՄ | F14: դրամ | G14: =I14*1000 -> 1896000 | H14: 1 | I14: 1896
C15: 50531140/502 | D15: փորձաքննության ծառայություններ | E15: ՄԱ | F15: դրամ | G15: =I15*1000 -> 189600 | H15: 1 | I15: 189.6
C16: ՀՀ Գեղարքունիքի մարզպետի աշխատակազմ | I16: =+I17 -> 894
C17: Բաժին N 04 | D17: Խումբ N 05 | E17: Դաս N 01 | F17: Ճանապարհային տրանսպորտ | I17: =I18 -> 894
C18: 1049 21001 | D18: Պետական նշանակության ավտոճանապարհների հիմնանորոգում | I18: =I19 -> 894
C19: ՄԱՍ III. ԾԱՌԱՅՈՒԹՅՈՒՆՆԵՐ | I19: =SUM(I20:I21) -> 894
C20: 71241200/504 | D20: նախագծերի պատրաստում, ծախսերի գնահատում | E20: ՀԲՄ | F20: դրամ | G20: =I20*1000 -> 798000 | H20: 1 | I20: 798
C21: 50531140/502 | D21: փորձաքննության ծառայություններ | E21: ԳՀ | F21: դրամ | G21: =I21*1000 -> 96000 | H21: 1 | I21: 96
C22: ՀՀ Լոռու մարզպետի աշխատակազմ | I22: =+I23 -> 333458.1
C23: Բաժին N 04 | D23: Խումբ N 05 | E23: Դաս N 01 | F23: Ճանապարհային տրանսպորտ | I23: =I24 -> 333458.1
C24: 1049 21001 | D24: Պետական նշանակության ավտոճանապարհների հիմնանորոգում | I24: =I25+I28 -> 333458.1
C25: ՄԱՍ II ԱՇԽԱՏԱՆՔՆԵՐ | D25: ՄԱՍ II ԱՇԽԱՏԱՆՔՆԵՐ | I25: =I26+I27 -> 320849.9
C26: 45231177/501 | D26: Ճանաարհների վերանորոգման աշխատանքներ | E26: ԲՄ | F26: դրամ | G26: =I26*1000 -> 237960000 | H26: 1 | I26: 237960
C27: 45231177/503 | D27: Ճանաարհների վերանորոգման աշխատանքներ | E27: ԲՄ | F27: դրամ | G27: =I27*1000 -> 82889900 | H27: 1 | I27: 82889.9
C28: ՄԱՍ III. ԾԱՌԱՅՈՒԹՅՈՒՆՆԵՐ | I28: =SUM(I29:I38) -> 12608.2
C29: 71241200/506 | D29: նախագծերի պատրաստում, ծախսերի գնահատում | E29: ԳՀ | F29: դրամ | G29: =I29*1000 -> 600000 | H29: 1 | I29: 600
C30: 50531140/1 | D30: փորձաքննության ծառայություններ | E30: ՄԱ | F30: դրամ | G30: =I30*1000 -> 60000 | H30: 1 | I30: 60
C31: 71241200/507 | D31: նախագծերի պատրաստում, ծախսերի գնահատում | E31: ԳՀ | F31: դրամ | G31: =I31*1000 -> 1398000 | H31: 1 | I31: 1398
C32: 50531140/2 | D32: փորձաքննության ծառայություններ | E32: ՄԱ | F32: դրամ | G32: =I32*1000 -> 139800 | H32: 1 | I32: 139.8
C33: 71241200/504 | D33: նախագծերի պատրաստում, ծախսերի գնահատում | E33: ԳՀ | F33: դրամ | G33: =I33*1000 -> 798000 | H33: 1 | I33: 798
C34: 50531140/3 | D34: փորձաքննության ծառայություններ | E34: ՄԱ | F34: դրամ | G34: =I34*1000 -> 79800 | H34: 1 | I34: 79.8
C35: 71351540/1 | D35: տեխնիկական հսկողության ծառայություններ | E35: ԳՀ | F35: դրամ | G35: =I35*1000 -> 5491000 | H35: 1 | I35: 5491
C36: 98111140/1 | D36: հեղինակային հսկողության ծառայություններ | E36: ՄԱ | F36: դրամ | G36: =I36*1000 -> 1647000 | H36: 1 | I36: 1647
C37: 71351540/2 | D37: տեխնիկական հսկողության ծառայություններ | E37: ԳՀ | F37: դրամ | G37: =I37*1000 -> 1842000 | H37: 1 | I37: 1842
C38: 98111140/2 | D38: հեղինակային հսկողության ծառայություններ | E38: ՄԱ | F38: դրամ | G38: =I38*1000 -> 552600 | H38: 1 | I38: 552.6
C39: ՀՀ Սյունիքի մարզպետի աշխատակազմ | I39: =+I40 -> 660
C40: Բաժին N 04 | D40: Խումբ N 05 | E40: Դաս N 01 | F40: Ճանապարհային տրանսպորտ | I40: =I41 -> 660
C41: 1049 21001 | D41: Պետական նշանակության ավտոճանապարհների հիմնանորոգում | I41: =I42 -> 660
C42: ՄԱՍ III. ԾԱՌԱՅՈՒԹՅՈՒՆՆԵՐ | I42: =SUM(I43:I44) -> 660
C43: 71241200/501 | D43: նախագծերի պատրաստում, ծախսերի գնահատում | E43: ԳՀ | F43: դրամ | G43: =I43*1000 -> 600000 | H43: 1 | I43: 600
C44: 50531140/501 | D44: փորձաքննության ծառայություններ | E44: ՄԱ | F44: դրամ | G44: =I44*1000 -> 60000 | H44: 1 | I44: 60
C45: ՀՀ Տավուշի մարզպետի աշխատակազմ | I45: =+I46 -> 2200
C46: Բաժին N 04 | D46: Խումբ N 05 | E46: Դաս N 01 | F46: Ճանապարհային տրանսպորտ | I46: =I47+I53 -> 2200
C47: 1049 21001 | D47: Պետական նշանակության ավտոճանապարհների հիմնանորոգում | I47: =I48 -> 1100
C48: ՄԱՍ III. ԾԱՌԱՅՈՒԹՅՈՒՆՆԵՐ | I48: =SUM(I49:I52) -> 1100
C49: 71241200/502 | D49: նախագծերի պատրաստում, ծախսերի գնահատում | E49: ՀԲՄ | F49: դրամ | G49: =I49*1000 -> 300000 | H49: 1 | I49: 300
C50: 50531140/2 | D50: փորձաքննության ծառայություններ | E50: ՄԱ | F50: դրամ | G50: =I50*1000 -> 30000 | H50: 1 | I50: 30
C51: 71241200/506 | D51: նախագծերի պատրաստում, ծախսերի գնահատում | E51: ԲՄ | F51: դրամ | G51: =I51*1000 -> 700000 | H51: 1 | I51: 700
C52: 50531140/6 | D52: փորձաքննության ծառայություններ | E52: ՄԱ | F52: դրամ | G52: =I52*1000 -> 70000 | H52: 1 | I52: 70
C53: 1049 11002 | D53: Մարզային նշանակության ավտոճանապարհների պահպանման և անվտանգ երթևեկության ծառայություններ | I53: =I54 -> 1100
D54: ՄԱՍ III. ԾԱՌԱՅՈՒԹՅՈՒՆՆԵՐ | I54: =I55+I56 -> 1100
C55: 71241200/505 | D55: նախագծերի պատրաստում, ծախսերի գնահատում | E55: ԲՄ | F55: դրամ | G55: =I55*1000 -> 1000000 | H55: 1 | I55: 1000
C56: 50531140/5 | D56: փորձաքննության ծառայություններ | E56: ՄԱ | F56: դրամ | G56: =I56*1000 -> 100000 | H56: 1 | I56: 100
C59: ՀԱՅԱՍՏԱՆԻ ՀԱՆՐԱՊԵՏՈՒԹՅԱՆ
C60: ՎԱՐՉԱՊԵՏԻ ԱՇԽԱՏԱԿԱԶՄԻ
D61: ՂԵԿԱՎԱՐ ՝ Ա. ՀԱՐՈՒԹՅՈՒՆՅԱՆ
