Workbook

Sheet 1
K1: Հավելված N 1
K2: ՀՀ կառավարության 2026 թվականի
K3: ______________ ի ___Ն որոշման
B5: ՀԱՅԱՍՏԱՆԻ ՀԱՆՐԱՊԵՏՈՒԹՅԱՆ ԿԱՌԱՎԱՐՈՒԹՅԱՆ 2025 ԹՎԱԿԱՆԻ ԴԵԿՏԵՄԲԵՐԻ 25-Ի N 1910-Ն ՈՐՈՇՄԱՆ NN 3 ԵՎ 4 ՀԱՎԵԼՎԱԾՆԵՐՈՒՄ ԿԱՏԱՐՎՈՂ ՓՈՓՈԽՈՒԹՅՈՒՆՆԵՐԸ ԵՎ ԼՐԱՑՈՒՄՆԵՐԸ
K7: հազար դրամներով
B8: Գործառական դասիչը | E8: Ծրագրային դասիչը | G8: Բյուջետային հատկացումների գլխավոր կարգադրիչների, ծրագրերի, միջոցառումների և միջոցառումները կատարող պետական մարմինների անվանումները | H8: Ցուցանիշների փոփոխությունը (ավելացումները նշված են դրական նշանով, իսկ նվազեցումները` փակագծերում)
B9: Բաժին | C9: Խումբ | D9: Դաս | E9: Ծրագիր | F9: Միջոցառում | H9: Առաջին եռամսյակ | I9: Առաջին կիսամյակ | J9: Ինն ամիս | K9: Տարի
G10: ԸՆԴԱՄԵՆԸ | H10: =H12 -> 0 | I10: =I12 -> 0 | J10: =J12 -> 0 | K10: =K12 -> 0
G11: այդ թվում`
G12: ՀՀ տարածքային կառավարման և ենթակառուցվածքների նախարարություն | H12: =H14 -> 0 | I12: =I14 -> 0 | J12: =J14 -> 0 | K12: =K14 -> 0
G13: այդ թվում`
B14: 04 | G14: ՏՆՏԵՍԱԿԱՆ ՀԱՐԱԲԵՐՈՒԹՅՈՒՆՆԵՐ | H14: =H16 -> 0 | I14: =I16 -> 0 | J14: =J16 -> 0 | K14: =K16 -> 0
G15: այդ թվում`
C16: 05 | G16: ՏՐԱՆՍՊՈՐՏ | H16: =H18 -> 0 | I16: =I18 -> 0 | J16: =J18 -> 0 | K16: =K18 -> 0
G17: այդ թվում`
D18: 01 | G18: Ճանապարհային տրանսպորտ | H18: =H20 -> 0 | I18: =I20 -> 0 | J18: =J20 -> 0 | K18: =K20 -> 0
G19: այդ թվում`
G20: ՀՀ տարածքային կառավարման և ենթակառուցվածքների նախարարություն | H20: =H22 -> 0 | I20: =I22 -> 0 | J20: =J22 -> 0 | K20: =K22 -> 0
G21: այդ թվում`
E22: 1049 | G22: Ճանապարհային ցանցի բարելավում | H22: =H24 -> 0 | I22: =I24 -> 0 | J22: =J24 -> 0 | K22: =K24 -> 0
G23: այդ թվում`
F24: 21001 | G24: Պետական նշանակության ավտոճանապարհների հիմնանորոգում | H24: =H26+H33 -> 0 | I24: =I26+I33 -> 0 | J24: =J26+J33 -> 0 | K24: =K26+K33 -> 0
G25: այդ թվում` ըստ կատարողների
G26: ՀՀ տարածքային կառավարման և ենթակառուցվածքների նախարարություն | H26: 13670.3 | I26: 475463.2 | J26: 475463.2 | K26: 475463.2
G27: այդ թվում`բյուջետային ծախսերի տնտեսագիտական դասակարգման հոդվածներ
G28: ԸՆԴԱՄԵՆԸ ԾԱԽՍԵՐ | H28: 13670.3 | I28: 475463.2 | J28: 475463.2 | K28: 475463.2
G29: ՈՉ ՖԻՆԱՆՍԱԿԱՆ ԱԿՏԻՎՆԵՐԻ ԳԾՈՎ ԾԱԽՍԵՐ | H29: 13670.3 | I29: 475463.2 | J29: 475463.2 | K29: 475463.2
G30: ՀԻՄՆԱԿԱՆ ՄԻՋՈՑՆԵՐ | H30: 13670.3 | I30: 475463.2 | J30: 475463.2 | K30: 475463.2
G31: ԱՅԼ ՀԻՄՆԱԿԱՆ ՄԻՋՈՑՆԵՐ | H31: 13670.3 | I31: 475463.2 | J31: 475463.2 | K31: 475463.2
G32: - Նախագծահետազոտական ծախսեր | H32: 13670.3 | I32: 475463.2 | J32: 475463.2 | K32: 475463.2
G33: ՀՀ կառավարություն | H33: -13670.3 | I33: -475463.2 | J33: -475463.2 | K33: -475463.2
G34: այդ թվում` բյուջետային ծախսերի տնտեսագիտական դասակարգման հոդվածներ
G35: ԸՆԴԱՄԵՆԸ ԾԱԽՍԵՐ | H35: -13670.3 | I35: -475463.2 | J35: -475463.2 | K35: -475463.2
G36: ՈՉ ՖԻՆԱՆՍԱԿԱՆ ԱԿՏԻՎՆԵՐԻ ԳԾՈՎ ԾԱԽՍԵՐ | H36: -13670.3 | I36: -475463.2 | J36: -475463.2 | K36: -475463.2
G37: ՀԻՄՆԱԿԱՆ ՄԻՋՈՑՆԵՐ | H37: -13670.3 | I37: -475463.2 | J37: -475463.2 | K37: -475463.2
G38: ՇԵՆՔԵՐ ԵՎ ՇԻՆՈՒԹՅՈՒՆՆԵՐ | H38: -13670.3 | I38: -475463.2 | J38: -475463.2 | K38: -475463.2
G39: - Շենքերի և շինությունների կապիտալ վերանորոգում | H39: -13670.3 | I39: -475463.2 | J39: -475463.2 | K39: -475463.2
F40: 21002 | G40: Տրանսպորտային օբյեկտների հիմնանորոգում | H40: 0 | I40: 0 | J40: 0 | K40: 0
G41: այդ թվում` ըստ կատարողների
G42: ՀՀ տարածքային կառավարման և ենթակառուցվածքների նախարարություն | H42: 16453.1 | I42: 28044.5 | J42: 28044.5 | K42: 28044.5
...

Sheet 2
I1: Հավելված N 2
I2: ՀՀ կառավարության 2026 թվականի
I3: ______________ ի ___Ն որոշման
B5: «ՀԱՅԱՍՏԱՆԻ ՀԱՆՐԱՊԵՏՈՒԹՅԱՆ 2026 ԹՎԱԿԱՆԻ ՊԵՏԱԿԱՆ ԲՅՈՒՋԵԻ ՄԱՍԻՆ» ՕՐԵՆՔԻ N 1 ՀԱՎԵԼՎԱԾԻ N 3 ԱՂՅՈՒՍԱԿՈՒՄ ԿԱՏԱՐՎՈՂ ՓՈՓՈԽՈՒԹՅՈՒՆՆԵՐԸ ԵՎ ԼՐԱՑՈՒՄՆԵՐԸ
H6: հազար դրամներով
B7: Ծրագրային դասիչ | D7: Բյուջետային գլխավոր կարգադրիչների, ծրագրերի, միջոցառումների և ուղղությունների անվանումները | E7: Ցուցանիշների փոփոխությունը (ավելացումները նշված են դրական նշանով, իսկ նվազեցումները` փակագծերում)
E8: Ընդամենը, | F8: այդ թվում՝
B9: Ծրագիր | C9: Միջոցառում | F9: Կառուցման աշխատանքներ | G9: Վերակառուցման, վերանորոգման և վերականգնման աշխատանքներ | H9: Նախագծահե- տազոտական, գեոդեզիա- քարտեզագրական աշխատանքներ | I9: Ոչ ֆինանսական այլ ակտիվների ձեռքբերում
D10: ԸՆԴԱՄԵՆԸ | E10: 0 | F10: 0 | G10: -503507.7 | H10: 503507.7 | I10: 0
D11: այդ թվում՝
D12: ՀՀ ՏԱՐԱԾՔԱՅԻՆ ԿԱՌԱՎԱՐՄԱՆ ԵՎ ԵՆԹԱԿԱՌՈՒՑՎԱԾՔՆԵՐԻ ՆԱԽԱՐԱՐՈՒԹՅՈՒՆ | E12: 0 | F12: 0 | G12: -503507.7 | H12: 503507.7 | I12: 0
D13: այդ թվում`
B14: 1049 | C14: 21001 | D14: Պետական նշանակության ավտոճանապարհների հիմնանորոգում | E14: 0 | F14: 0 | G14: -475463.2 | H14: 475463.2 | I14: 0
D15: այդ թվում`
C16: 1 | D16: Միջպետական նշանակության ավտոճանապարհներ, այդ թվում | E16: 29556.1 | F16: 0 | G16: 0 | H16: 29556.1 | I16: 0
D17: Մ-2 միջպետական նշանակության ավտոմոբիլային ճանապարհի կմ 198+000 – կմ 199+000 հարակից հատվածում ծանրաքարշ և մեծ եզրաչափերով տրանսպորտային միջոցների անշարժ կշռման նոր հենակետին մոտեցնող ավտոճանապարհի կառուցում | E17: 2298 | F17: 0 | G17: 0 | H17: 2298 | I17: 0
D18: Մ-3, ՀՀ սահման-Մարգարա-Վանաձոր-Տաշիր-ՀՀ սահման միջպետական նշանակության ավտոճանապարհի կմ 11+400-կմ 17+900 հատվածի հիմնանորոգում | E18: 139.1 | F18: 0 | G18: 0 | H18: 139.1 | I18: 0
D19: Մ-3, ՀՀ սահման (Մարգարա)–Վանաձոր–Տաշիր-ՀՀ սահման միջպետական նշանակության ավտոճանապարհի Մ-3 Վաղարշապատի շրջանցի կմ 0+000 - կմ 4+600 հատվածի հիմնանորոգում(բացառությամբ կմ 2+100-ում գտնվող կամուրջի) | E19: 1175.7 | F19: 0 | G19: 0 | H19: 1175.7 | I19: 0
D20: Մ-3, ՀՀ սահման-Մարգարա-Վանաձոր-Տաշիր-ՀՀ սահման միջպետական նշանակության ավտոճանապարհի կմ22+152 -կմ27+000 հատվածի հիմնանորոգում | E20: 1854.4 | F20: 0 | G20: 0 | H20: 1854.4 | I20: 0
D21: Մ-3,ՀՀ սահման (Մարգարա)–Վանաձոր–Տաշիր-ՀՀ սահման միջպետական նշանակության ավտոճանապարհի կմ 177+900 (176+900) - կմ184+700 հատվածի հիմնանորոգում | E21: 18553.8 | F21: 0 | G21: 0 | H21: 18553.8 | I21: 0
D22: Մ-4, Երևան-Սևան-Իջևան-ՀՀսահման միջպետական նշանակության ավտոճանապարհի Երևան - Դիլիջան հատվածում լուսավորության համակարգի կառուցում | E22: 2040 | F22: 0 | G22: 0 | H22: 2040 | I22: 0
D23: Մ-5,Երևան–Արմավիր–ՀՀ սահման միջպետական նշանակության ավտոճանապարհի կմ52+000 - կմ58+400 հատվածի հիմնանորոգում | E23: 150.1 | F23: 0 | G23: 0 | H23: 150.1 | I23: 0
D24: Մ-6, Վանաձոր (Մ-3 հատման կետ) - Ալավերդի - ՀՀ սահման (Բագրատաշեն) միջպետական նշանակության ավտոճանապարհի կմ67+050 - կմ67+220 փլուզված հատվածի վերակառուցում | E24: 3345 | H24: 3345
C25: 2 | D25: Հանրապետական նշանակության ավտոճանապարհներ, այդ թվում | E25: 121707.3 | F25: 0 | G25: 0 | H25: 121707.3 | I25: 0
D26: Հ-2, /Հ-1/(Աբովյան) -Արզնի -/Հ-6/Նոր Գեղի հանրապետական նշանակության ավտոճանապարհի կմ1+400 -կմ8+088 հատվածի հիմնանորոգում | E26: 2546 | F26: 0 | G26: 0 | H26: 2546 | I26: 0
D27: Հ-4, Երևան -Եղվարդ -Արագյուղ -Հարթավան - /Մ-3/ հանրապետական նշանակության ավտոճանապարհի կմ 15+600-կմ28+000 հատվածի հիմնանորոգում | E27: 1048.6 | F27: 0 | G27: 0 | H27: 1048.6 | I27: 0
D28: Հ-5,Մոտեցում Աղվերանին հանրապետական նշանակության ավտոճանապարհի կմ6+800 - կմ10+600 հատվածի հիմնանորոգում | E28: 9319.5 | F28: 0 | G28: 0 | H28: 9319.5 | I28: 0
D29: Հ-10, /Հ-8/ (Ոսկետափ) - Վեդի - Լանջառ - /Մ-2/ հանրապետական նշանակության ավտոճանապարհի կմ9+250 - կմ16+600 հատվածի հիմնանորոգում | E29: 1638 | F29: 0 | G29: 0 | H29: 1638 | I29: 0
D30: Հ-11,/Մ-2/(Փոքր Վեդի)–Լուսառատ–Եղեգնավան- /Մ-2/ հանրապետական նշանակության ավտոճանապարհի կմ 4+000 - կմ 15+300 հատվածի հիմնանորոգում | E30: 2485.4 | F30: 0 | G30: 0 | H30: 2485.4 | I30: 0
D31: Հ-12, Մասիսի տրանսպորտային հանգույց- Մասիս - Ռանչպար - Արաքս-Ջրառատ- /Մ-3/ հանրապետական նշանակության ավտոճանապարհի կմ 9+500-կմ 22+850 հատվածի հիմնանորոգում | E31: 180.1 | F31: 0 | G31: 0 | H31: 180.1 | I31: 0
D32: Հ-13 /Մ-3/ (Վաղարշապատ) - Մասիս - /Մ-2/ հանրապետական նշանակության ավտոճանապարհի կմ0+000 - կմ10+300 հատվածի հիմնանորոգում (բացառությամբ կմ9 +800-ում գտնվող կամուրջի) | E32: 24565.5 | F32: 0 | G32: 0 | H32: 24565.5 | I32: 0
D33: Հ-21, /Հ-75/ - Հոռոմ-Արթիկ-Ալագյազ հանրապետական նշանակության ավտոճանապարհի կմ14+350 - կմ15+050 հատվածում շուրջ 620գծմ մայթերի կառուցում | E33: 640 | F33: 0 | G33: 0 | H33: 640 | I33: 0
D34: Հ-24, /Մ-3/ - Գյուլագարակ-Կուրթան-Ձորագյուղ-/Մ-6/ հանրապետական ավտոճանապարհի կմ2+300 - կմ3+600, Հ-24-ից մինչև Վարդաբլուրի դպրոց 0,2կմ երկարությամբ, Տ-5-70, /Հ-24/ - Հոբարձի տեղական նշանակության ավտոճանապարհի կմ0+000 - կմ0+900 հատվածների հիմնանորոգում | E34: 6278.4 | F34: 0 | G34: 0 | H34: 6278.4 | I34: 0
D35: Հ-36, /Մ-4/ (Իջևան) - Նավուր - Բերդ - Այգեպար հանրապետական նշանակության ավտոճանապարհի կմ 42+100(40+606)-կմ 51+900 հատվածի հիմնանորոգում | E35: 230.3 | F35: 0 | G35: 0 | H35: 230.3 | I35: 0
D36: Հ-36, /Մ-4/ (Իջևան) - Նավուր - Բերդ - Այգեպար հանրապետական նշանակության ավտոճանապարհի կմ 51+900 -կմ 56+460 հատվածի հիմնանորոգում | E36: 168.3 | F36: 0 | G36: 0 | H36: 168.3 | I36: 0
D37: Հ-37,/Մ-4/ - Այգեհովիտ - Վազաշեն - Պառավաքար - Այգեպար հանրապետական նշանակության ավտոճանապարհի կմ0+000 - կմ22+300 հատվածի հիմնանորոգում | E37: 367.5 | F37: 0 | G37: 0 | H37: 367.5 | I37: 0
... D46: Հ-80,/Մ-2/- Սիսիանի օդանավակայան հանրապետական նշանակության ավտոճանապարհի կմ 0+000 - կմ0+350 հատվածի հիմնանորոգում | E46: 874.2 | F46: 0 | G46: 0 | H46: 874.2 | I46: 0
C47: 3 | D47: Մարզային նշանակության ավտոճանապարհներ, այդ թվում | E47: 324199.8 | F47: 0 | G47: 0 | H47: 324199.8 | I47: 0
D48: Տ-1-8, /Մ-1/ - Կոշ - /Մ-1/, տեղական նշանակության ավտոճանապարհի կմ0+000-կմ2+300 հատվածի հիմնանորոգում | E48: 5640.8 | F48: 0 | G48: 0 | H48: 5640.8 | I48: 0
D49: Տ-1-20, Ապարան (Տ-1-44) - Սարալանջ տեղական նշանակության ավտոճանապարհի կմ 0+000-կմ 2+500 հատվածի հիմնանորոգում | E49: 6131.3 | F49: 0 | G49: 0 | H49: 6131.3 | I49: 0
...

Sheet 3
H1: Հավելված N 3
H2: ՀՀ կառավարության 2026 թվականի
H3: ______________ ի ___Ն որոշման
A5: ՀԱՅԱՍՏԱՆԻ ՀԱՆՐԱՊԵՏՈՒԹՅԱՆ ԿԱՌԱՎԱՐՈՒԹՅԱՆ 2025 ԹՎԱԿԱՆԻ ԴԵԿՏԵՄԲԵՐԻ 25-Ի N 1910-Ն ՈՐՈՇՄԱՆ N 5 ՀԱՎԵԼՎԱԾԻ N 2 ԱՂՅՈՒՍԱԿՈՒՄ ԿԱՏԱՐՎՈՂ ՓՈՓՈԽՈՒԹՅՈՒՆՆԵՐԸ ԵՎ ԼՐԱՑՈՒՄՆԵՐԸ
H7: հազար դրամներով
B8: Ծրագրային դասիչը | D8: Հատկացումների տրամադրման նպատակները և բյուջետային գլխավոր կարգադրիչների, ծրագրերի, միջոցառումների և կատարող պետական մարմնի անվանումները | E8: Ցուցանիշների փոփոխությունը (ավելացումները նշված են դրական նշանով, իսկ նվազեցումները` փակագծերում)
B9: Ծրագիր | C9: Միջոցառում | E9: Առաջին եռամսյակ | F9: Առաջին կիսամյակ | G9: Ինն ամիս | H9: Տարի
D10: ԸՆԴԱՄԵՆԸ | E10: =E12 -> 0 | F10: =F12 -> 0 | G10: =G12 -> 0 | H10: =H12 -> 0
D11: այդ թվում՝
D12: ՀՀ ՏԱՐԱԾՔԱՅԻՆ ԿԱՌԱՎԱՐՄԱՆ ԵՎ ԵՆԹԱԿԱՌՈՒՑՎԱԾՔՆԵՐԻ ՆԱԽԱՐԱՐՈՒԹՅՈՒՆ | E12: =E14 -> 0 | F12: =F14 -> 0 | G12: =G14 -> 0 | H12: =H14 -> 0
D13: այդ թվում`
B14: 1049 | C14: 21001 | D14: Պետական նշանակության ավտոճանապարհների հիմնանորոգում | E14: =E16+E17 -> 0 | F14: =F16+F17 -> 0 | G14: =G16+G17 -> 0 | H14: =H16+H17 -> 0
D15: այդ թվում` ըստ կատարողների
D16: ՀՀ կառավարություն | E16: -13670.3 | F16: -475463.2 | G16: -475463.2 | H16: -475463.2
D17: ՀՀ տարածքային կառավարման և ենթակառուցվածքների նախարարություն | E17: 13670.3 | F17: 475463.2 | G17: 475463.2 | H17: 475463.2
D18: այդ թվում՝ ըստ ուղղությունների
C19: 1 | D19: Միջպետական նշանակության ավտոճանապարհներ, այդ թվում | E19: 8617.3 | F19: 29556.1 | G19: 29556.1 | H19: 29556.1
D20: Մ-2 միջպետական նշանակության ավտոմոբիլային ճանապարհի կմ 198+000 – կմ 199+000 հարակից հատվածում ծանրաքարշ և մեծ եզրաչափերով տրանսպորտային միջոցների անշարժ կշռման նոր հենակետին մոտեցնող ավտոճանապարհի կառուցում | E20: 2298 | F20: 2298 | G20: 2298 | H20: 2298
D21: Մ-3, ՀՀ սահման-Մարգարա-Վանաձոր-Տաշիր-ՀՀ սահման միջպետական նշանակության ավտոճանապարհի կմ 11+400-կմ 17+900 հատվածի հիմնանորոգում | E21: 139.1 | F21: 139.1 | G21: 139.1 | H21: 139.1
D22: Մ-3, ՀՀ սահման (Մարգարա)–Վանաձոր–Տաշիր-ՀՀ սահման միջպետական նշանակության ավտոճանապարհի Մ-3 Վաղարշապատի շրջանցի կմ 0+000 - կմ 4+600 հատվածի հիմնանորոգում(բացառությամբ կմ 2+100-ում գտնվող կամուրջի) | E22: 1175.7 | F22: 1175.7 | G22: 1175.7 | H22: 1175.7
D23: Մ-3, ՀՀ սահման-Մարգարա-Վանաձոր-Տաշիր-ՀՀ սահման միջպետական նշանակության ավտոճանապարհի կմ22+152 -կմ27+000 հատվածի հիմնանորոգում | E23: 1854.4 | F23: 1854.4 | G23: 1854.4 | H23: 1854.4
D24: Մ-3,ՀՀ սահման (Մարգարա)–Վանաձոր–Տաշիր-ՀՀ սահման միջպետական նշանակության ավտոճանապարհի կմ 177+900 (176+900) - կմ184+700 հատվածի հիմնանորոգում | F24: 18553.8 | G24: 18553.8 | H24: 18553.8
D25: Մ-4, Երևան-Սևան-Իջևան-ՀՀսահման միջպետական նշանակության ավտոճանապարհի Երևան - Դիլիջան հատվածում լուսավորության համակարգի կառուցում | F25: 2040 | G25: 2040 | H25: 2040
D26: Մ-5,Երևան–Արմավիր–ՀՀ սահման միջպետական նշանակության ավտոճանապարհի կմ52+000 - կմ58+400 հատվածի հիմնանորոգում | E26: 150.1 | F26: 150.1 | G26: 150.1 | H26: 150.1
D27: Մ-6, Վանաձոր (Մ-3 հատման կետ) - Ալավերդի - ՀՀ սահման (Բագրատաշեն) միջպետական նշանակության ավտոճանապարհի կմ67+050 - կմ67+220 փլուզված հատվածի վերակառուցում | E27: 3000 | F27: 3345 | G27: 3345 | H27: 3345
C28: 2 | D28: Հանրապետական նշանակության ավտոճանապարհներ, այդ թվում | E28: 2256 | F28: 121707.3 | G28: 121707.3 | H28: 121707.3
D29: Հ-2, /Հ-1/(Աբովյան) -Արզնի -/Հ-6/Նոր Գեղի հանրապետական նշանակության ավտոճանապարհի կմ1+400 -կմ8+088 հատվածի հիմնանորոգում | E29: 2256 | F29: 2546 | G29: 2546 | H29: 2546
D30: Հ-4, Երևան -Եղվարդ -Արագյուղ -Հարթավան - /Մ-3/ հանրապետական նշանակության ավտոճանապարհի կմ 15+600-կմ28+000 հատվածի հիմնանորոգում | E30: 0 | F30: 1048.6 | G30: 1048.6 | H30: 1048.6
D31: Հ-5,Մոտեցում Աղվերանին հանրապետական նշանակության ավտոճանապարհի կմ6+800 - կմ10+600 հատվածի հիմնանորոգում | E31: 0 | F31: 9319.5 | G31: 9319.5 | H31: 9319.5
D32: Հ-10, /Հ-8/ (Ոսկետափ) - Վեդի - Լանջառ - /Մ-2/ հանրապետական նշանակության ավտոճանապարհի կմ9+250 - կմ16+600 հատվածի հիմնանորոգում | E32: 0 | F32: 1638 | G32: 1638 | H32: 1638
D33: Հ-11,/Մ-2/(Փոքր Վեդի)–Լուսառատ–Եղեգնավան- /Մ-2/ հանրապետական նշանակության ավտոճանապարհի կմ 4+000 - կմ 15+300 հատվածի հիմնանորոգում | E33: 0 | F33: 2485.4 | G33: 2485.4 | H33: 2485.4
D34: Հ-12, Մասիսի տրանսպորտային հանգույց- Մասիս - Ռանչպար - Արաքս-Ջրառատ- /Մ-3/ հանրապետական նշանակության ավտոճանապարհի կմ 9+500-կմ 22+850 հատվածի հիմնանորոգում | E34: 0 | F34: 180.1 | G34: 180.1 | H34: 180.1
D35: Հ-13 /Մ-3/ (Վաղարշապատ) - Մասիս - /Մ-2/ հանրապետական նշանակության ավտոճանապարհի կմ0+000 - կմ10+300 հատվածի հիմնանորոգում (բացառությամբ կմ9 +800-ում գտնվող կամուրջի) | E35: 0 | F35: 24565.5 | G35: 24565.5 | H35: 24565.5
D36: Հ-21, /Հ-75/ - Հոռոմ-Արթիկ-Ալագյազ հանրապետական նշանակության ավտոճանապարհի կմ14+350 - կմ15+050 հատվածում շուրջ 620գծմ մայթերի կառուցում | E36: 0 | F36: 640 | G36: 640 | H36: 640
D37: Հ-24, /Մ-3/ - Գյուլագարակ-Կուրթան-Ձորագյուղ-/Մ-6/ հանրապետական ավտոճանապարհի կմ2+300 - կմ3+600, Հ-24-ից մինչև Վարդաբլուրի դպրոց 0,2կմ երկարությամբ, Տ-5-70, /Հ-24/ - Հոբարձի տեղական նշանակության ավտոճանապարհի կմ0+000 - կմ0+900 հատվածների հիմնանորոգում | E37: 0 | F37: 6278.4 | G37: 6278.4 | H37: 6278.4
D38: Հ-36, /Մ-4/ (Իջևան) - Նավուր - Բերդ - Այգեպար հանրապետական նշանակության ավտոճանապարհի կմ 42+100(40+606)-կմ 51+900 հատվածի հիմնանորոգում | E38: 0 | F38: 230.3 | G38: 230.3 | H38: 230.3
D39: Հ-36, /Մ-4/ (Իջևան) - Նավուր - Բերդ - Այգեպար հանրապետական նշանակության ավտոճանապարհի կմ 51+900 -կմ 56+460 հատվածի հիմնանորոգում | E39: 0 | F39: 168.3 | G39: 168.3 | H39: 168.3
D40: Հ-37,/Մ-4/ - Այգեհովիտ - Վազաշեն - Պառավաքար - Այգեպար հանրապետական նշանակության ավտոճանապարհի կմ0+000 - կմ22+300 հատվածի հիմնանորոգում | E40: 0 | F40: 367.5 | G40: 367.5 | H40: 367.5
... D49: Հ-80,/Մ-2/- Սիսիանի օդանավակայան հանրապետական նշանակության ավտոճանապարհի կմ 0+000 - կմ0+350 հատվածի հիմնանորոգում | E49: 0 | F49: 874.2 | G49: 874.2 | H49: 874.2
C50: 3 | D50: Մարզային նշանակության ավտոճանապարհներ, այդ թվում | E50: 2797 | F50: 324199.8 | G50: 324199.8 | H50: 324199.8
...

Sheet 4
N1: Հավելված N4
N2: ՀՀ կառավարության 2026 թվականի
N3: ______________ ի ___Ն որոշման
B5: ՀԱՅԱՍՏԱՆԻ ՀԱՆՐԱՊԵՏՈՒԹՅԱՆ ԿԱՌԱՎԱՐՈՒԹՅԱՆ 2025 ԹՎԱԿԱՆԻ ԴԵԿՏԵՄԲԵՐԻ 25-Ի № 1910-Ն ՈՐՈՇՄԱՆ № 9 ՀԱՎԵԼՎԱԾՈՒՄ ԿԱՏԱՐՎՈՂ ԼՐԱՑՈՒՄՆԵՐԸ
N7: հազար դրամներով
B8: ԲԳԿ | C8: Ծրագիր | E8: Միջոցառում | I8: Իրականացնողը/ ակտիվն օգտագործողը/ շահառուի ընտրության չափորոշիչը | J8: Արդյունքային չափորոշիչը | K8: Ցուցանիշների փոփոխությունը (ավելացումները նշված են դրական նշանով
C9: Դասիչը | D9: Անվանումը | E9: Դասիչը | F9: Անվանումը | G9: Նկարագրությունը | H9: Տեսակը | K9: Առաջին եռամսյակ | L9: Առաջին կիսամյակ | M9: Ինն ամիս | N9: Տարի
B10: ԸՆԴԱՄԵՆԸ | K10: =K11 -> 0 | L10: =L11 -> 0 | M10: =M11 -> 0 | N10: =N11 -> 0
B11: ՀՀ տարածքային կառավարման և ենթակառուցվածքների նախարարություն | K11: =K12 -> 0 | L11: =L12 -> 0 | M11: =M12 -> 0 | N11: =N12 -> 0
C12: 1049 | D12: Ճանապարհային ցանցի բարելավում | K12: =K13 -> 0 | L12: =L13 -> 0 | M12: =M13 -> 0 | N12: =N13 -> 0
E13: 1049 - 21001 | F13: Պետական նշանակության ավտոճանապարհների հիմնանորոգում | K13: 0 | L13: 0 | M13: 0 | N13: 0
G14: Միջպետական, հանրապետական և մարզային նշանակության ավտոճոնապարհների քայքայված ծածկի վերանորոգում, մաշված ծածկի փոխարինում
H15: Հանրության կողմից անմիջականորեն օգտագործվող ակտիվների հետ կապված միջոցառումներ
I16: ` Մասնագիտացված միավոր
J17: Նախագծանախահաշվային փաստաթղթերի քանակ, հատ | L17: 82 | N17: 82
E18: 1049 - 21002 | F18: Տրանսպորտային օբյեկտների հիմնանորոգում | K18: ='1'!H58 -> 0 | L18: ='1'!I58 -> 0 | M18: ='1'!J58 -> 0 | N18: ='1'!K58 -> 0
G19: Ավտոմոբիլային ճանապարհների վրա գտնվող կամուրջների հիմնանորոգում
H20: Հանրության կողմից անմիջականորեն օգտագործվող ակտիվների հետ կապված միջոցառումներ
I21: ` Մասնագիտացված միավոր
J22: Նախագծանախահաշվային փաստաթղթերի քանակ, հատ | L22: 10 | N22: 10
B24: ՀԱՅԱՍՏԱՆԻ ՀԱՆՐԱՊԵՏՈՒԹՅԱՆ ՎԱՐՉԱՊԵՏԻ ԱՇԽԱՏԱԿԱԶՄԻ ՂԵԿԱՎԱՐ՝ | E24: Ա.ՀԱՐՈՒԹՅՈՒՆՅԱՆ
D47: ՀԱՅԱՍՏԱՆԻ ՀԱՆՐԱՊԵՏՈՒԹՅԱՆ
D48: ՎԱՐՉԱՊԵՏԻ ԱՇԽԱՏԱԿԱԶՄԻ
E49: ՂԵԿԱՎԱՐ ՝ Ա. ՀԱՐՈՒԹՅՈՒՆՅԱՆ

Sheet 5
N1: Հավելված N 5
N2: ՀՀ կառավարության 2026 թվականի
N3: ______________ ի ___Ն որոշման
B5: ՀԱՅԱՍՏԱՆԻ ՀԱՆՐԱՊԵՏՈՒԹՅԱՆ ԿԱՌԱՎԱՐՈՒԹՅԱՆ 2025 ԹՎԱԿԱՆԻ ԴԵԿՏԵՄԲԵՐԻ 25-Ի № 1910-Ն ՈՐՈՇՄԱՆ № 9.1 ՀԱՎԵԼՎԱԾՈՒՄ ԿԱՏԱՐՎՈՂ ՓՈՓՈԽՈՒԹՅՈՒՆՆԵՐԸ ԵՎ ԼՐԱՑՈՒՄՆԵՐԸ
N6: հազար դրամներով
B7: ԲՍԿ | C7: Ծրագիր | E7: Միջոցառում | I7: Իրականացնողը/ ակտիվն օգտագործողը/ շահառուի ընտրության չափորոշիչը | J7: Արդյունքային չափորոշիչը | K7: Ցուցանիշների փոփոխությունը (ավելացումները նշված են դրական նշանով, իսկ նվազեցումները` փակագծերում)
C8: Դասիչը | D8: Անվանումը | E8: Դասիչը | F8: Անվանումը | G8: Նկարագրությունը | H8: Տեսակը | K8: Առաջին եռամսյակ | L8: Առաջին կիսամյակ | M8: Ինն ամիս | N8: Տարի
B9: ԸՆԴԱՄԵՆԸ | K9: =K10+K22 -> 0 | L9: =L10+L22 -> 0 | M9: =M10+M22 -> 0 | N9: =N10+N22 -> 0
B10: ՀՀ տարածքային կառավարման և ենթակառուցվածքների նախարարություն | K10: 30123.4 | L10: 503507.7 | M10: 503507.7 | N10: 503507.7
C11: 1049 | D11: Ճանապարհային ցանցի բարելավում | K11: 30123.4 | L11: 503507.7 | M11: 503507.7 | N11: 503507.7
E12: 1049 - 21001 | F12: Պետական նշանակության ավտոճանապարհների հիմնանորոգում | K12: 13670.3 | L12: 475463.2 | M12: 475463.2 | N12: 475463.2
G13: Միջպետական, հանրապետական և մարզային նշանակության ավտոճոնապարհների քայքայված ծածկի վերանորոգում, մաշված ծածկի փոխարինում
H14: Հանրության կողմից անմիջականորեն օգտագործվող ակտիվների հետ կապված միջոցառումներ
I15: Միջոցառումն իրականացնողի անվանումը` Մասնագիտացված միավոր
J16: Նախագծանախահաշվային փաստաթղթերի քանակ, հատ | L16: 82 | N16: 82
E17: 1049 - 21002 | F17: Տրանսպորտային օբյեկտների հիմնանորոգում | K17: ='1'!H42 -> 16453.1 | L17: ='1'!I42 -> 28044.5 | M17: ='1'!J42 -> 28044.5 | N17: ='1'!K42 -> 28044.5
G18: Ավտոմոբիլային ճանապարհների վրա գտնվող կամուրջների հիմնանորոգում
H19: Հանրության կողմից անմիջականորեն օգտագործվող ակտիվների հետ կապված միջոցառումներ
I20: ` Մասնագիտացված միավոր
J21: Նախագծանախահաշվային փաստաթղթերի քանակ, հատ | L21: 10 | N21: 10
B22: ՀՀ կառավարություն | K22: -30123.4 | L22: -503507.7 | M22: -503507.7 | N22: -503507.7
C23: 1049 | D23: Ճանապարհային ցանցի բարելավում | K23: -30123.4 | L23: -503507.7 | M23: -503507.7 | N23: -503507.7
E24: 1049 - 21001 | F24: Պետական նշանակության ավտոճանապարհների հիմնանորոգում | K24: -13670.3 | L24: -475463.2 | M24: -475463.2 | N24: -475463.2
G25: Միջպետական, հանրապետական և մարզային նշանակության ավտոճոնապարհների քայքայված ծածկի վերանորոգում, մաշված ծածկի փոխարինում
H26: Հանրության կողմից անմիջականորեն օգտագործվող ակտիվների հետ կապված միջոցառումներ
I27: ` Մասնագիտացված միավոր
E28: 1049 - 21002 | F28: Տրանսպորտային օբյեկտների հիմնանորոգում | K28: -16453.1 | L28: -28044.5 | M28: -28044.5 | N28: -28044.5
G29: Ավտոմոբիլային ճանապարհների վրա գտնվող կամուրջների հիմնանորոգում
H30: Հանրության կողմից անմիջականորեն օգտագործվող ակտիվների հետ կապված միջոցառումներ
I31: ` Մասնագիտացված միավոր
D34: ՀԱՅԱՍՏԱՆԻ ՀԱՆՐԱՊԵՏՈՒԹՅԱՆ
D35: ՎԱՐՉԱՊԵՏԻ ԱՇԽԱՏԱԿԱԶՄԻ
E36: ՂԵԿԱՎԱՐ ՝ Ա. ՀԱՐՈՒԹՅՈՒՆՅԱՆ

Sheet 6
I1: Հավելված N 6
I2: ՀՀ կառավարության 2026 թվականի
I3: ______________ ի ___Ն որոշման
C5: ՀԱՅԱՍՏԱՆԻ ՀԱՆՐԱՊԵՏՈՒԹՅԱՆ ԿԱՌԱՎԱՐՈՒԹՅԱՆ 2025 ԹՎԱԿԱՆԻ ԴԵԿՏԵՄԲԵՐԻ 25-Ի N 1910-Ն ՈՐՈՇՄԱՆ N 10 ՀԱՎԵԼՎԱԾՈՒՄ ԿԱՏԱՐՎՈՂ ԼՐԱՑՈՒՄՆԵՐԸ
C7: Կոդը | D7: Անվանումը | E7: Գնման ձևը | F7: Չափման միավորը | G7: Միավորի գինը | H7: Ցուցանիշների փոփոխությունը (ավելացումները նշված են դրական նշանով, իսկ նվազեցումները` փակագծերում)
H8: Քանակը | I8: Գումարը (հազար դրամով)
C9: ՀՀ տարածքային կառավարման և ենթակառուցվածքների նախարարություն | I9: =+I10 -> 503506.83
C10: Բաժին N 04 | D10: Խումբ N 05 | E10: Դաս N 01 | F10: Ճանապարհային տրանսպորտ | I10: =+I11+I172 -> 503506.83
C11: 1049 21001 | D11: Պետական նշանակության ավտոճանապարհների հիմնանորոգում | I11: =I12 -> 475462.33
C12: ՄԱՍ III. ԾԱՌԱՅՈՒԹՅՈՒՆՆԵՐ | I12: =SUM(I13:I171) -> 475462.33
C13: 71241200/ | D13: նախագծերի պատրաստում, ծախսերի գնահատում | E13: ԲՄ | F13: դրամ | G13: 1998000 | H13: 1 | I13: =+H13*G13/1000 -> 1998
C14: 71241200/576 | D14: նախագծերի պատրաստում, ծախսերի գնահատում | E14: ԲՄ | F14: դրամ | G14: 100 | H14: 1 | I14: =+H14*G14/1000 -> 0.1
C15: 71241200/569 | D15: նախագծերի պատրաստում, ծախսերի գնահատում | E15: ԲՄ | F15: դրամ | G15: 1055700 | H15: 1 | I15: =+H15*G15/1000 -> 1055.7
C16: 71241200/ | D16: նախագծերի պատրաստում, ծախսերի գնահատում | E16: ԲՄ | F16: դրամ | G16: 1854360 | H16: 1 | I16: =+H16*G16/1000 -> 1854.36
C17: 71241200/533 | D17: նախագծերի պատրաստում, ծախսերի գնահատում | E17: ՀԲՄ | F17: դրամ | G17: 17340000 | H17: 1 | I17: =+H17*G17/1000 -> 17340
C18: 71241200/553 | D18: նախագծերի պատրաստում, ծախսերի գնահատում | E18: ԲՄ | F18: դրամ | G18: 100 | H18: 1 | I18: =+H18*G18/1000 -> 0.1
C19: 71241200/555 | D19: նախագծերի պատրաստում, ծախսերի գնահատում | E19: ՀԲՄ | F19: դրամ | G19: 3000000 | H19: 1 | I19: =+H19*G19/1000 -> 3000
C20: 71241200/ | D20: նախագծերի պատրաստում, ծախսերի գնահատում | E20: ԲՄ | F20: դրամ | G20: 2256000 | H20: 1 | I20: =+H20*G20/1000 -> 2256
C21: 71241200/ | D21: նախագծերի պատրաստում, ծախսերի գնահատում | E21: ԲՄ | F21: դրամ | G21: 699600 | H21: 1 | I21: =+H21*G21/1000 -> 699.6
C22: 71241200/522 | D22: նախագծերի պատրաստում, ծախսերի գնահատում | E22: ՀԲՄ | F22: դրամ | G22: 8550000 | H22: 1 | I22: =+H22*G22/1000 -> 8550
C23: 71241200/570 | D23: նախագծերի պատրաստում, ծախսերի գնահատում | E23: ԲՄ | F23: դրամ | G23: 1488000 | H23: 1 | I23: =+H23*G23/1000 -> 1488
C24: 71241200/571 | D24: նախագծերի պատրաստում, ծախսերի գնահատում | E24: ԲՄ | F24: դրամ | G24: 2288400 | H24: 1 | I24: =+H24*G24/1000 -> 2288.4
... C171: 50531140/582 | D171: փորձաքննության ծառայություններ | E171: ԳՀ | F171: դրամ | G171: 2040000 | H171: 1 | I171: =+H171*G171/1000 -> 2040
C172: 1049 21002 | D172: Տրանսպորտային օբյեկտների հիմնանորոգում | I172: =I173 -> 28044.5
C173: ՄԱՍ III. ԾԱՌԱՅՈՒԹՅՈՒՆՆԵՐ | I173: =SUM(I174:I193) -> 28044.5
C174: 71241200/541 | D174: նախագծերի պատրաստում, ծախսերի գնահատում | E174: ԲՄ | F174: դրամ | G174: 3000000 | H174: 1 | I174: =+H174*G174/1000 -> 3000
C175: 71241200/556 | D175: նախագծերի պատրաստում, ծախսերի գնահատում | E175: ԲՄ | F175: դրամ | G175: 2100000 | H175: 1 | I175: =+H175*G175/1000 -> 2100
C176: 71241200/ | D176: նախագծերի պատրաստում, ծախսերի գնահատում | E176: ՀԲՄ | F176: դրամ | G176: 720000 | H176: 1 | I176: =+H176*G176/1000 -> 720
C177: 71241200/540 | D177: նախագծերի պատրաստում, ծախսերի գնահատում | E177: ԲՄ | F177: դրամ | G177: 7998000 | H177: 1 | I177: =+H177*G177/1000 -> 7998
C178: 71241200/ | D178: նախագծերի պատրաստում, ծախսերի գնահատում | E178: ՀԲՄ | F178: դրամ | G178: 600000 | H178: 1 | I178: =+H178*G178/1000 -> 600
C179: 71241200/573 | D179: նախագծերի պատրաստում, ծախսերի գնահատում | E179: ԲՄ | F179: դրամ | G179: 2268000 | H179: 1 | I179: =+H179*G179/1000 -> 2268
C180: 71241200/574 | D180: նախագծերի պատրաստում, ծախսերի գնահատում | E180: ԲՄ | F180: դրամ | G180: 3800000 | H180: 1 | I180: =+H180*G180/1000 -> 3800
C181: 71241200/575 | D181: նախագծերի պատրաստում, ծախսերի գնահատում | E181: ԲՄ | F181: դրամ | G181: 2268000 | H181: 1 | I181: =+H181*G181/1000 -> 2268
C182: 71241200/550 | D182: նախագծերի պատրաստում, ծախսերի գնահատում | E182: ՀԲՄ | F182: դրամ | G182: 1200000 | H182: 1 | I182: =+H182*G182/1000 -> 1200
C183: 71241200/ | D183: նախագծերի պատրաստում, ծախսերի գնահատում | E183: ՀԲՄ | F183: դրամ | G183: 840000 | H183: 1 | I183: =+H183*G183/1000 -> 840
C184: 50531140/543 | D184: փորձաքննության ծառայություններ | E184: ԳՀ | F184: դրամ | G184: 420000 | H184: 1 | I184: =+H184*G184/1000 -> 420
C185: 50531140/ | D185: փորձաքննության ծառայություններ | E185: ԳՀ | F185: դրամ | G185: 252000 | H185: 1 | I185: =+H185*G185/1000 -> 252
... C193: 50531140/ | D193: փորձաքննության ծառայություններ | E193: ԳՀ | F193: դրամ | G193: 120000 | H193: 1 | I193: =+H193*G193/1000 -> 120
C195: ՀԱՅԱՍՏԱՆԻ ՀԱՆՐԱՊԵՏՈՒԹՅԱՆ
C196: ՎԱՐՉԱՊԵՏԻ ԱՇԽԱՏԱԿԱԶՄԻ
...
