Workbook
Name AgencyCode: #REF!
Name AgencyCode: #REF!
Name AgencyCode: #REF!
Name AgencyName: #REF!
Name AgencyName: #REF!
Name AgencyName: #REF!
Name davit: #REF!
Name davit: #REF!
Name Functional1: #REF!
Name Functional1: #REF!
Name Functional1: #REF!
Name PANature: #REF!
Name PANature: #REF!
Name PAType: #REF!
Name PAType: #REF!
Name Performance2: #REF!
Name Performance2: #REF!
Name PerformanceType: #REF!
Name PerformanceType: #REF!
Name Հավելված: #REF!
Name Հավելված: #REF!
Name Մաս: #REF!
Name Մաս: #REF!
Name շախմատիստ: #REF!
Name շախմատիստ: #REF!

Sheet Hav1
B2: Հավելված N 1
B3: ՀՀ կառավարության 2019 թվականի
B4: ------------------------ -ի N ---------- որոշման
A7: «ՀԱՅԱՍՏԱՆԻ ՀԱՆՐԱՊԵՏՈՒԹՅԱՆ 2019 ԹՎԱԿԱՆԻ ՊԵՏԱԿԱՆ ԲՅՈՒՋԵԻ ՄԱՍԻՆ» ՀԱՅԱՍՏԱՆԻ ՀԱՆՐԱՊԵՏՈՒԹՅԱՆ ՕՐԵՆՔԻ 2-ՐԴ ՀՈԴՎԱԾԻ ԱՂՅՈՒՍԱԿՈՒՄ ԿԱՏԱՐՎՈՂ ՓՈՓՈԽՈՒԹՅՈՒՆՆԵՐԸ
B9: (հազար դրամ)
B10: Ցուցանիշների փոփոխությունը (գումարների ավելացումը նշված է դրական նշանով)
A11: Եկամուտների գծով | B11: =+B12 -> 18148.7
A12: Ծախսերի գծով | B12: =+'Hav4'!G10 -> 18148.7
A13: Դեֆիցիտը (պակասուրդը) | B13: -

Sheet Hav2
A1: Հավելված N 2
B2: ՀՀ կառավարության 2019 թվականի
B3: --------------------- -ի N ---------- որոշման
A6: «ՀԱՅԱՍՏԱՆԻ ՀԱՆՐԱՊԵՏՈՒԹՅԱՆ 2019 ԹՎԱԿԱՆԻ ՊԵՏԱԿԱՆ ԲՅՈՒՋԵԻ ՄԱՍԻՆ» ՀԱՅԱՍՏԱՆԻ ՀԱՆՐԱՊԵՏՈՒԹՅԱՆ ՕՐԵՆՔԻ 6-ՐԴ ՀՈԴՎԱԾԻ ԱՂՅՈՒՍԱԿՈՒՄ ԵՎ ՀԱՅԱՍՏԱՆԻ ՀԱՆՐԱՊԵՏՈՒԹՅԱՆ ԿԱՌԱՎԱՐՈՒԹՅԱՆ 2018 ԹՎԱԿԱՆԻ ԴԵԿՏԵՄԲԵՐԻ 27-Ի N 1515-Ն ՈՐՈՇՄԱՆ N 2 ՀԱՎԵԼՎԱԾՈՒՄ ԿԱՏԱՐՎՈՂ ՓՈՓՈԽՈՒԹՅՈՒՆՆԵՐԸ
B8: (հազար դրամ)
A9: Պետական բյուջեի եկամուտները | B9: Ցուցանիշների փոփոխությունը (ավելացումները նշված են դրական նշանով)
B10: Տարի
A11: ԸՆԴԱՄԵՆԸ | B11: =+B13 -> 18148.7
A12: այդ թվում
A13: Պաշտոնական դրամաշնորհներ | B13: =+'Hav1'!B12 -> 18148.7

Sheet Hav 3
C1: Հավելված N 3
C2: ՀՀ կառավարության 2019 թվականի
C3: ______________ ի ___Ն որոշման
A4: «ՀԱՅԱՍՏԱՆԻ ՀԱՆՐԱՊԵՏՈՒԹՅԱՆ 2019 ԹՎԱԿԱՆԻ ՊԵՏԱԿԱՆ ԲՅՈՒՋԵԻ ՄԱՍԻՆ» ՀԱՅԱՍՏԱՆԻ ՀԱՆՐԱՊԵՏՈՒԹՅԱՆ ՕՐԵՆՔԻ N1 ՀԱՎԵԼՎԱԾԻ N1 ԱՂՅՈՒՍԱԿՈՒՄ ԿԱՏԱՐՎՈՂ ՓՈՓՈԽՈՒԹՅՈՒՆՆԵՐԸ
A5: Ծրագրային դասիչը | B5: Ծրագրի անվանումը | C5: Ցուցանիշների փոփոխությունը (ավելացումները նշված են դրական նշանով)
C6: Գումարը (հազար դրամ)
A7: Ընդամենը | C7: =+C8 -> 18148.7
A8: 9024 | B8: ՅՈՒՆԵՍԿՕ-ի մասնակցության ծրագրի շրջանակներում աջակցություն Հայաստանում կրթական ծրագրին | C8: =+'Hav2'!B13 -> 18148.7

Sheet Hav4
F1: ՀԱՎԵԼՎԱԾ N 4
F2: ՀՀ կառավարության 2019 թվականի
F3: ______________ ի ___Ն որոշման
A4: ՀԱՅԱՍՏԱՆԻ ՀԱՆՐԱՊԵՏՈՒԹՅԱՆ ԿԱՌԱՎԱՐՈՒԹՅԱՆ 2018 ԹՎԱԿԱՆԻ ԴԵԿՏԵՄԲԵՐԻ 27-Ի N 1515-Ն ՈՐՈՇՄԱՆ N3 և 4 ՀԱՎԵԼՎԱԾՆԵՐՈՒՄ ԿԱՏԱՐՎՈՂ ՓՈՓՈԽՈՒԹՅՈՒՆՆԵՐԸ ԵՎ ԼՐԱՑՈՒՄՆԵՐԸ
G6: (հազար դրամ)
A7: Գործառական դասիչը | D7: Ծրագրային դասիչը | F7: Բյուջետային ծախսերի գործառական դասակարգման բաժինների, խմբերի և դասերի, բյուջետային ծրագրերի միջոցառումների, բյուջետային հատկացումների գլխավոր կարգադրիչների անվանումները | G7: Ցուցանիշների փոփոխություն (ավելավումները նշված են դրական նշանով)
G8: Տարի
A9: Բաժին | B9: Խումբ | C9: Դաս | D9: Ծրագիր | E9: Միջոցառում
F10: ԸՆԴԱՄԵՆԸ ԾԱԽՍԵՐ այդ թվում՝ | G10: =+G11 -> 18148.7
A11: .09. | F11: ԿՐԹՈՒԹՅՈՒՆ | G11: =+G13 -> 18148.7
F12: այդ թվում`
B13: 06 | F13: Կրթությանը տրամադրվող օժանդակ ծառայություն | G13: =+G16 -> 18148.7
F14: այդ թվում`
C15: .01. | F15: Կրթությանը տրամադրվող օժանդակ ծառայություններ
F16: այդ թվում` ըստ կատարողների | G16: =+G17 -> 18148.7
F17: ՀՀ արտաքին գործերի նախարարություն | G17: =+G18 -> 18148.7
D18: 9024 | F18: ՅՈՒՆԵՍԿՕ-ի մասնակցության ծրագրի շրջանակներում աջակցություն Հայաստանում կրթական ծրագրին | G18: =+G27+G37 -> 18148.7
F19: Այդ թվում
E20: 11001 | F20: «ՀՀ Շիրակի, Լոռու և Գեղարքունիքի, մարզերի պետական ոչ բժշկական ուսումնական հաստատություններում ՄԻԱՎ/ՁԻԱՀ-ի վերաբերյալ կրթության և ուսուցման որակի բարելավման նպատակով սեմինար-վարժանքներ» | G20: =+G22 -> 8596.8
F21: այդ թվում` ըստ կատարողների
F22: ՀՀ կրթության, գիտության,մշակույթի և սպորտի նախարարություն | G22: =+G24 -> 8596.8
F23: այդ թվում `բյուջետային ծախսերի տնտեսագիտական դասակարգման հոդվածով
F24: ԸՆԴԱՄԵՆԸ ԾԱԽՍԵՐ | G24: =+G25 -> 8596.8
F25: ԸՆԹԱՑԻԿ ԾԱԽՍԵՐ | G25: =+G26 -> 8596.8
F26: ԴՐԱՄԱՇՆՈՐՀՆԵՐ | G26: =+G27 -> 8596.8
F27: Ընթացիկ դրամաշնորհներ պետական հատվածի այլ մակարդակներին | G27: 8596.8
F28: Այլ ընթացիկ դրամաշնորհներ | G28: =+'Hav4'!G27 -> 8596.8
E29: 11002 | F29: «Դասընթացավարների վերապատրաստում. Հայաստանում կանանց դերակատարության և սեռի հատկանիշով խտրական ընտրության նվազեցման խթանում» | G29: =+G37 -> 9551.9
F30: այդ թվում` ըստ կատարողների
F31: ՀՀ կրթության, գիտության,մշակույթի և սպորտի նախարարություն | G31: =+G37 -> 9551.9
F32: այդ թվում `բյուջետային ծախսերի տնտեսագիտական դասակարգման հոդվածով
F33: ԸՆԴԱՄԵՆԸ ԾԱԽՍԵՐ
F34: ԸՆԹԱՑԻԿ ԾԱԽՍԵՐ | G34: =+G35 -> 9551.9
F35: ԴՐԱՄԱՇՆՈՐՀՆԵՐ | G35: =+G36 -> 9551.9
F36: Ընթացիկ դրամաշնորհներ պետական հատվածի այլ մակարդակներին | G36: =+G37 -> 9551.9
F37: Այլ ընթացիկ դրամաշնորհներ | G37: 9551.9

Sheet have5
D1: ՀԱՎԵԼՎԱԾ N 5
D2: ՀՀ կառավարության 2019 թվականի
D3: ______________ ի ___Ն որոշման
A4: «ՀԱՅԱՍՏԱՆԻ ՀԱՆՐԱՊԵՏՈՒԹՅԱՆ 2019 ԹՎԱԿԱՆԻ ՊԵՏԱԿԱՆ ԲՅՈՒՋԵԻ ՄԱՍԻՆ» ՀԱՅԱՍՏԱՆԻ ՀԱՆՐԱՊԵՏՈՒԹՅԱՆ ՕՐԵՆՔԻ N1 ՀԱՎԵԼՎԱԾԻ N 5 ԱՂՅՈՒՍԱԿՈՒՄ ԵՎ ՀԱՅԱՍՏԱՆԻ ՀԱՆՐԱՊԵՏՈՒԹՅԱՆ ԿԱՌԱՎԱՐՈՒԹՅԱՆ 2018 ԹՎԱԿԱՆԻ ԴԵԿՏԵՄԲԵՐԻ 27-Ի N 1515-Ն ՈՐՈՇՄԱՆ N 5 ՀԱՎԵԼՎԱԾԻ N4 ԱՂՅՈՒՍԱԿՈՒՄ ԿԱՏԱՐՎՈՂ ՓՈՓՈԽՈՒԹՅՈՒՆՆԵՐԸ ԵՎ ԼՐԱՑՈՒՄՆԵՐԸ
F7: (հազար դրամ)
A8: Ծրագիր | B8: Միջոցառում | C8: ԴՐԱՄԱՇՆՈՐՀԱՅԻՆ ԾՐԱԳՐԵՐԻ, ԴՐԱՆՔ ԻՐԱԿԱՆԱՑՆՈՂ ՄԱՐՄԻՆՆԵՐԻ ԵՎ ԲՅՈՒՋԵՏԱՅԻՆ ԾԱԽՍԵՐԻ ՏՆՏԵՍԱԳԻՏԱԿԱՆ ԴԱՍԱԿԱՐԳՄԱՆ ՀՈԴՎԱԾՆԵՐԻ ԱՆՎԱՆՈՒՄՆԵՐԸ | D8: Ցուցանիշների փոփոխություն (ավելացումները նշված են դրական նշանով)
D9: Տարի
D10: Ընդամենը | E10: այդ թվում`
E11: Դրամաշնորհային միջոցներ | F11: Համաֆինանսավորում
C12: ԸՆԴԱՄԵՆԸ այդ թվում` | D12: =+E12 -> 18148.7 | E12: =+E13 -> 18148.7
C13: ԸՆԴԱՄԵՆԸ ԾՐԱԳՐՈՎ այդ թվում` | D13: =+E13 -> 18148.7 | E13: =+E14 -> 18148.7 | F13: =+F14 -> -
C14: ԸՆԹԱՑԻԿ ԾԱԽՍԵՐ | D14: =+E14 -> 18148.7 | E14: =+E16 -> 18148.7 | F14: =+F19 -> -
C15: ՀՀ արտաքին գործերի նախարարություն | D15: =+E15 -> 0
A16: 9024 | C16: ՅՈՒՆԵՍԿՕ-ի մասնակցության ծրագրի շրջանակներում աջակցություն Հայաստանում կրթական ծրագրին | D16: =+E16 -> 18148.7 | E16: =+E18+E25 -> 18148.7 | F16: -
C17: այդ թվում | D17: =+E17 -> 0
B18: 11001 | C18: «ՀՀ Շիրակի, Լոռու և Գեղարքունիքի, մարզերի պետական ոչ բժշկական ուսումնական հաստատություններում ՄԻԱՎ/ՁԻԱՀ-ի վերաբերյալ կրթության և ուսուցման որակի բարելավման նպատակով սեմինար-վարժանքներ» | D18: =+E18 -> 8596.8 | E18: =+E19 -> 8596.8 | F18: =+F19 -> -
C19: այդ թվում` ըստ կատարողների | D19: =+E19 -> 8596.8 | E19: =+E21 -> 8596.8 | F19: -
C20: ՀՀ կրթության, գիտության,մշակույթի և սպորտի նախարարություն | D20: =+E20 -> 8596.8 | E20: =+E21 -> 8596.8
C21: ԴՐԱՄԱՇՆՈՐՀՆԵՐ | D21: =+E21 -> 8596.8 | E21: =+E23 -> 8596.8 | F21: -
C22: այդ թվում` | D22: =+E22 -> 0
C23: Ընթացիկ դրամաշնորհներ պետական հատվածի այլ մակարդակներին | D23: =+E23 -> 8596.8 | E23: =+E24 -> 8596.8 | F23: -
C24: Այլ ընթացիկ դրամաշնորհներ | D24: =+E24 -> 8596.8 | E24: =+'Hav4'!G27 -> 8596.8 | F24: -
B25: 11002 | C25: «Դասընթացավարների վերապատրաստում. Հայաստանում կանանց դերակատարության և սեռի հատկանիշով խտրական ընտրության նվազեցման խթանում» | D25: =+E25 -> 9551.9 | E25: =+E26 -> 9551.9 | F25: =+F26 -> -
C26: այդ թվում` ըստ կատարողների | D26: =+E26 -> 9551.9 | E26: =+E28 -> 9551.9 | F26: -
C27: ՀՀ կրթության, գիտության,մշակույթի և սպորտի նախարարություն | D27: =+E27 -> 0
C28: ԴՐԱՄԱՇՆՈՐՀՆԵՐ | D28: =+E28 -> 9551.9 | E28: =E31 -> 9551.9 | F28: -
C29: այդ թվում` | D29: =+E29 -> 0
C30: Ընթացիկ դրամաշնորհներ պետական հատվածի այլ մակարդակներին | D30: =+E30 -> 9551.9 | E30: =+E31 -> 9551.9 | F30: -
C31: Այլ ընթացիկ դրամաշնորհներ | D31: =+E31 -> 9551.9 | E31: 9551.9 | F31: -

Sheet Hav6
C1: Հավելված N 6
C2: ՀՀ կառավարության 2019 թվականի
C3: ______________ ի ___Ն որոշման
A5: «ՀԱՅԱՍՏԱՆԻ ՀԱՆՐԱՊԵՏՈՒԹՅԱՆ 2019 ԹՎԱԿԱՆԻ ՊԵՏԱԿԱՆ ԲՅՈՒՋԵԻ ՄԱՍԻՆ» ՀԱՅԱՍՏԱՆԻ ՀԱՆՐԱՊԵՏՈՒԹՅԱՆ ՕՐԵՆՔԻ N 1 ՀԱՎԵԼՎԱԾԻ N 2 ԱՂՅՈՒՍԱԿՈՒՄ ԵՎ ՀԱՅԱՍՏԱՆԻ ՀԱՆՐԱՊԵՏՈՒԹՅԱՆ ԿԱՌԱՎԱՐՈՒԹՅԱՆ 2018 ԹՎԱԿԱՆԻ ԴԵԿՏԵՄԲԵՐԻ 27-Ի N 1515-Ն ՈՐՈՇՄԱՆ N 5 ՀԱՎԵԼՎԱԾԻ N 1 ԱՂՅՈՒՍԱԿՈՒՄ ԿԱՏԱՐՎՈՂ ՓՈՓՈԽՈՒԹՅՈՒՆՆԵՐԸ ԵՎ ԼՐԱՑՈՒՄՆԵՐԸ
D8: (հազար դրամ)
A9: Ծրագրային դասիչը | C9: Բյուջետային գլխավոր կարգադրիչների, ծրագրերի և միջոցառումների անվանումները | D9: Ցուցանիշների փոփոխությունը (ավելացումները նշված են դրական նշանով) | K9: 8604012
A10: Ծրագիր | B10: Միջոցառում | D10: Տարի
C11: ԸՆԴԱՄԵՆԸ | D11: =+D12 -> 18148.7
C12: ՀՀ արտաքին գործերի նախարարություն | D12: =+D20+D38 -> 18148.7
A13: 9024 | C13: Ծրագրի անվանումը` | D13: =+D14 -> 18148.7
C14: ՅՈՒՆԵՍԿՕ-ի մասնակցության ծրագրի շրջանակներում աջակցություն Հայաստանում կրթական ծրագրին | D14: =+D12 -> 18148.7
C15: Ծրագրի նպատակը`
C16: Մասնակցության ծրագրի շրջանակներում ՅՈՒՆԵՍԿՕ-ն աջակցում է ՀՀ-ում առաջնահերթ նշանակություն ունեցող մի կրթական ծրագրի իրականացմանը, որը նպատակաուղղված է ՄԻԱՎ/ՁԻԱՀ-ի հետ կապված հիմնախնդիրների իրազեկվածության բարցրացմանը և կանանց ու աղջիկների նկատմամբ խտրականության դեմ պայքարին։
C17: Վերջնական արդյունքի նկարագրությունը`
C18: Սեմինար վարժանքների անցկացում Շիրակի, Լոռու և Գեղարքունիքի մարզերի ոչ բժշկական ուսումնական հաստատությունների դասախոսական անձնակազմերի համար` ՄԻԱՎ/ՁԻԱՀ-ի հիմնահարցերի վերաբերյալ կարևոր գիտելիքների ձեռքբերման նպատակով, կկատարելագործվեն ՄԻԱՎ/ՁԻԱՀ-ի սեռավարակների վերաբերող ուսուցման մեթոդներն ու կրթական պրոցեսը։ Հայաստանի 10 մարզերի տեղական ՀԿ-ներ, ուսուցիչներ և համայնքների ներկայացուցիչներ կտեղեկացվեն պտղի սեռի խտրական ընտրության վրա հիմնված հղիության արհեստական ընդհատումների բացասական հետևանքների մասին։
A19: Ծրագրի միջոցառումներ
B20: 11001 | C20: Միջոցառման անվանումը` | D20: =+D25 -> 8596.8
C21: «ՀՀ Շիրակի, Լոռու և Գեղարքունիքի, մարզերի պետական ոչ բժշկական ուսումնական հաստատություններում ՄԻԱՎ/ՁԻԱՀ-ի վերաբերյալ կրթության և ուսուցման որակի բարելավման նպատակով սեմինար-վարժանքներ»
C22: Միջոցառման նկարագրությունը`
C23: Սեմինար վարժանքների անցկացում Շիրակի, Լոռու և Գեղարքունիքի մարզերի պետական ոչ բժշկական ուսումնական հաստատությունների դասախոսական անձնակազմի հետ ՄԻԱՎ/ՁԻԱՀ-ի հիմնախնդիրների վերաբերյալ գիտելիքների տրամադրման միջոցով, կրթության և ուսուցման որակի բարձրացում: Դա հիմք կհանդիսանա ուսանողների շրջանում ՄԻԱՎ/ՁԻԱՀ-ի հիմնախնդիրների վերաբերյալ գիտելիքների մակարդակի բարձրացմանը, առողջ ապրելակերպի գաղափարի արմատավորմանը և ՄԻԱՎ վարակի վերաբերյալ խորհրդատվություն անցկացնելու հմտությունների ձևավորմանը: Իրականացված ծրագրի արդյունքում ուսանողները հնարավորություն կունենան ստանլու ՄԻԱՎ/ՁԻԱՀ-ի հիմնահարցերի վերաբերյալ հավաստի տեղեկատվություն և որակյալ կրթություն, որը կնպաստի նրանց մոտ առողջ ապրելակերպի գաղափարի ձևավորմանը, կկարողանան իրենց հետագա աշխատաքում, բնակչության (հատկապես երիտասարդներին), տրամադրել որակյալ խորհրդատվություն ՄԻԱՎ/ՁԻԱՀ-ի, սեռավարակների վերաբերյալ: Ծրագիրը կնպաստի ՄԻԱՎ վարակի նկատմամբ խոցելիության նվազմանը, առողջ ապրելակերպի և ընտանիքի պլանավորման գաղափարի ձևավորմանը, ինչպես նաև խտրականության և խարանի նվազեցմանը և վերացմանը: | D23: =+D25 -> 8596.8
C24: Միջոցառման տեսակ`
C25: Ծառայությունների մատուցում | D25: =+have5!E24 -> 8596.8
A26: 9024 | C26: Ծրագրի անվանումը` | D26: =+D27 -> 9551.9
C27: «Հայաստանում կանանց դերակատարության և սեռի հատկանիշով խտրական ընտրության նվազեցման խթանում» | D27: =+D33 -> 9551.9
C28: Ծրագրի նպատակը`
C29: Բարձրացնել պտղի սեռով պայմանավորված աբորտների բացասական հետևանքների մասին իրազեկվածության մակարդակը՝ նպաստելով Հայաստանում պտղի սեռով պայմանավորված աբորտների նվազեցմանը:
C30: Վերջնական արդյունքի նկարագրությունը`
C31: ՀՀ բոլոր 10 մարզերի 50 ուսուցիչներ, ՀԿ/ՔՀԿ ներկայացուցչներ ձեռք կբերեն կանանց և տղամարդկանց իրավահավասարության վերաբերյալ գիտելիքներ և հմտություններ, ինչպես նաև կտեղեկացվեն պտղի սեռի խտրական ընտրությամբ պայմանավորված հղիության արհեստական ընդհատումների բացասական հետևանքների մասին
A32: Ծրագրի միջոցառումներ
B33: 11002 | C33: Միջոցառման անվանումը` | D33: =+D36 -> 9551.9
C34: «Դասընթացավարների վերապատրաստում. Հայաստանում կանանց դերակատարության և սեռի հատկանիշով խտրական ընտրության նվազեցման խթանում»
C35: Միջոցառման նկարագրությունը`
C36: Պտղի սեռով պայմանավորված աբորտների բացասական հետևանքների մասին 4-օրյա դասընթացների իրականացում | D36: =+D38 -> 9551.9
C37: Միջոցառման տեսակ`
C38: Ծառայությունների մատուցում | D38: =+have5!E31 -> 9551.9

Sheet hav7
C1: ՀԱՎԵԼՎԱԾ N 7
C2: ՀՀ կառավարության 2019 թվականի
C3: ______________ ի ___Ն որոշման
A5: «ՀԱՅԱՍՏԱՆԻ ՀԱՆՐԱՊԵՏՈՒԹՅԱՆ ԱՐՏԱՔԻՆ ԳՈՐԾԵՐԻ ՆԱԽԱՐԱՐՈՒԹՅԱՆ « ՅՈՒՆԵՍԿՕ-ի ՄԱՍՆԱԿՑՈՒԹՅԱՆ ԾՐԱԳՐԻ ՇՐՋԱՆԱԿՆԵՐՈՒՄ ԱՋԱԿՑՈՒԹՅՈՒՆ ՀԱՅԱՍՏԱՆՈՒՄ ԿՐԹԱԿԱՆ ԾՐԱԳՐԵՐԻՆ» ԾՐԱԳՐԻ ԱՐՏԱԲՅՈՒՋԵՏԱՅԻՆ ՀԱՇՎԻ ՄԻՋՈՑՆԵՐԻ ԾԱԽՍՄԱՆ 2019 ԹՎԱԿԱՆԻ ՆԱԽԱՀԱՇԻՎԸ, ԻՆՉՊԵՍ ՆԱԵՎ ՀԱՅԱՍՏԱՆԻ ՀԱՆՐԱՊԵՏՈՒԹՅԱՆ 2019 ԹՎԱԿԱՆԻ ՊԵՏԱԿԱՆ ԲՅՈՒՋԵԻ ՄԱՍԻՆ» ՀԱՅԱՍՏԱՆԻ ՀԱՆՐԱՊԵՏՈՒԹՅԱՆ ՕՐԵՆՔԻ N 8 ՀԱՎԵԼՎԱԾՈՒՄ ԿԱՏԱՐՎՈՂ ՓՈՓՈԽՈՒԹՅՈՒՆՆԵՐԸ ԵՎ ԼՐԱՑՈՒՄՆԵՐԸ
D7: (հազար դրամ)
A8: Ծրագրային դասիչը | C8: Արտաբյուջետայն հաշիվների 2019 թվականի եկամուտները, ծախսերը, դեֆիցիտը (պակասուրդի), ինչպես նաև դեֆիցիտի (պակասուրդի) ֆինանսավորման աղբյուրներն ըստ բյուջետային գլխավոր կարգադրիչների, ծրագրերի և միջոցառումների անվանումների | D8: Ցուցանիշների փոփոխություն (ավելացումները նշված են դրական նշանով )
A9: Ծրագիր | B9: Միջոցառում
C10: ԱՐՏԱԲՅՈՒՋԵՏԱՅԻՆ ՀԱՇԻՎՆԵՐԻ 2019 ԹՎԱԿԱՆԻ ԵԿԱՄՈՒՏՆԵՐԻ, ԾԱԽՍԵՐԻ ԵՎ ԴԵՖԻՑԻՏԻ (ՊԱԿԱՍՈՒՐԴԻ) ԵՎ ԴԵՖԻՑԻՏԻ (ՊԱԿԱՍՈՒՐԴԻ) ՖԻՆԱՆՍԱՎՈՐՄԱՆ ԱՂԲՅՈՒՐՆԵՐԻ ԱՄՓՈՓ ՑՈՒՑԱՆԻՇՆԵՐ
C11: ԸՆԴԱՄԵՆԸ ԵԿԱՄՈՒՏՆԵՐ | D11: =+'Hav1'!B11 -> 18148.7
C12: որից՝
C13: ՊԱՇՏՈՆԱԿԱՆ ԴՐԱՄԱՇՆՈՐՀՆԵՐ | D13: =+'Hav1'!B11 -> 18148.7
C14: ԸՆԴԱՄԵՆԸ ԾԱԽՍԵՐ | D14: =+'Hav1'!B12 -> 18148.7
C15: ԸՆԴԱՄԵՆԸ ԴԵՖԻՑԻՏ (ՊԱԿԱՍՈՒՐԴ) | D15: =+D11-D14 -> 0
C16: ԴԵՖԻՑԻՏ (ՊԱԿԱՍՈՒՐԴ) ՖԻՆԱՆՍԱՎՈՐՄԱՆ ԱՂԲՅՈՒՐՆԵՐ | D16: =+D11-D14 -> 0
C17: այդ թվում՝ ըստ ծրագրերի
A18: ՀՀ արտաքին գործերի նախարարություն
A19: 9024 | C19: Ծրագրի անվանումը` | D19: =+D25+D37 -> 18148.674
C20: ՅՈՒՆԵՍԿՕ-ի մասնակցության ծրագրի շրջանակներում աջակցություն Հայաստանում կրթական ծրագրին
C21: Ծրագրի նպատակը`
C22: Մասնակցության ծրագրի շրջանակներում ՅՈՒՆԵՍԿՕ-ն աջակցում է ՀՀ-ում առաջնահերթ նշանակություն ունեցող մի կրթական ծրագրի իրականացմանը, որը նպատակաուղղված է ՄԻԱՎ/ՁԻԱՀ-ի հետ կապված հիմնախնդիրների իրազեկվածության բարցրացմանը և կանանց ու աղջիկների նկատմամբ խտրականության դեմ պայքարին։
C23: Վերջնական արդյունքի նկարագրությունը`
C24: Սեմինար վարժանքների անցկացում Շիրակի, Լոռու և Գեղարքունիքի մարզերի ոչ բժշկական ուսումնական հաստատությունների դասախոսական անձնակազմերի համար` ՄԻԱՎ/ՁԻԱՀ-ի հիմնահարցերի վերաբերյալ կարևոր գիտելիքների ձեռքբերման նպատակով, կկատարելագործվեն ՄԻԱՎ/ՁԻԱՀ-ի սեռավարակների վերաբերող ուսուցման մեթոդներն ու կրթական պրոցեսը։ Հայաստանի 10 մարզերի տեղական ՀԿ-ներ, ուսուցիչներ և համայնքների ներկայացուցիչներ կտեղեկացվեն պտղի սեռի խտրական ընտրության վրա հիմնված հղիության արհեստական ընդհատումների բացասական հետևանքների մասին։
C25: ԸՆԴԱՄԵՆԸ ԵԿԱՄՈՒՏՆԵՐ | D25: =+D27 -> 8596.8
C26: որից՝
C27: ՊԱՇՏՈՆԱԿԱՆ ԴՐԱՄԱՇՆՈՐՀՆԵՐ | D27: =+D31 -> 8596.8
C28: ԸՆԴԱՄԵՆԸ ԴԵՖԻՑԻՏ (ՊԱԿԱՍՈՒՐԴ) | D28: =+D25-D27 -> 0
C29: ԴԵՖԻՑԻՏ (ՊԱԿԱՍՈՒՐԴ) ՖԻՆԱՆՍԱՎՈՐՄԱՆ ԱՂԲՅՈՒՐՆԵՐ | D29: =+D25-D27 -> 0
A30: Ծրագրի միջոցառումներ
B31: 11001 | C31: Միջոցառման անվանումը` | D31: =+'Hav6'!D25 -> 8596.8
C32: «ՀՀ Շիրակի, Լոռու և Գեղարքունիքի, մարզերի պետական ոչ բժշկական ուսումնական հաստատություններում ՄԻԱՎ/ՁԻԱՀ-ի վերաբերյալ կրթության և ուսուցման որակի բարելավման նպատակով սեմինար-վարժանքներ»
C33: Միջոցառման նկարագրությունը`
C34: Սեմինար վարժանքների անցկացում Շիրակի, Լոռու և Գեղարքունիքի մարզերի պետական ոչ բժշկական ուսումնական հաստատությունների դասախոսական անձնակազմի հետ ՄԻԱՎ/ՁԻԱՀ-ի հիմնախնդիրների վերաբերյալ գիտելիքների տրամադրման միջոցով, կրթության և ուսուցման որակի բարձրացում: Դա հիմք կհանդիսանա ուսանողների շրջանում ՄԻԱՎ/ՁԻԱՀ-ի հիմնախնդիրների վերաբերյալ գիտելիքների մակարդակի բարձրացմանը, առողջ ապրելակերպի գաղափարի արմատավորմանը և ՄԻԱՎ վարակի վերաբերյալ խորհրդատվություն անցկացնելու հմտությունների ձևավորմանը: Իրականացված ծրագրի արդյունքում ուսանողները հնարավորություն կունենան ստանալու ՄԻԱՎ/ՁԻԱՀ-ի հիմնահարցերի վերաբերյալ հավաստի տեղեկատվություն և որակյալ կրթություն, որը կնպաստի նրանց մոտ առողջ ապրելակերպի գաղափարի ձևավորմանը, կկարողանան իրենց հետագա աշխատաքում, բնակչության (հատկապես երիտասարդներին), տրամադրել որակյալ խորհրդատվություն ՄԻԱՎ/ՁԻԱՀ-ի, սեռավարակների վերաբերյալ: Ծրագիրը կնպաստի ՄԻԱՎ վարակի նկատմամբ խոցելիության նվազմանը, առողջ ապրելակերպի և ընտանիքի պլանավորման գաղափարի ձևավորմանը, ինչպես նաև խտրականության և խարանի նվազեցմանը և վերացմանը:
C35: Միջոցառման տեսակը
C36: Ծառայությունների մատուցում
C37: ԸՆԴԱՄԵՆԸ ԵԿԱՄՈՒՏՆԵՐ | D37: =+D43 -> 9551.874
C38: որից՝
C39: ՊԱՇՏՈՆԱԿԱՆ ԴՐԱՄԱՇՆՈՐՀՆԵՐ | D39: =+D43 -> 9551.874
C40: ԸՆԴԱՄԵՆԸ ԴԵՖԻՑԻՏ (ՊԱԿԱՍՈՒՐԴ) | D40: =+D37-D39 -> 0
C41: ԴԵՖԻՑԻՏ (ՊԱԿԱՍՈՒՐԴ) ՖԻՆԱՆՍԱՎՈՐՄԱՆ ԱՂԲՅՈՒՐՆԵՐ | D41: =+D37-D39 -> 0
A42: Ծրագրի միջոցառումներ
...

Sheet hav8
C1: ՀԱՎԵԼՎԱԾ N 8
C2: ՀՀ կառավարության 2019 թվականի
C3: ______________ ի ___Ն որոշման
A4: ՀԱՅԱՍՏԱՆԻ ՀԱՆՐԱՊԵՏՈՒԹՅԱՆ ԿԱՌԱՎԱՐՈՒԹՅԱՆ 2018 ԹՎԱԿԱՆԻ ԴԵԿՏԵՄԲԵՐԻ 27-Ի N 1515-Ն ՈՐՈՇՄԱՆ N 10 ՀԱՎԵԼՎԱԾԻ ՑՈՒՑԱՆԻՇՆԵՐՈՒՄ ԿԱՏԱՐՎՈՂ ՓՈՓՈԽՈՒԹՅՈՒՆՆԵՐ ԵՎ ԼՐԱՑՈՒՄՆԵՐԸ
D5: (հազար դրամ)
A6: Ծրագրային դասիչը | C6: Արտաբյուջետայն հաշիվների 2019 թվականի եկամուտները, ծախսերը, դեֆիցիտը (պակասուրդի), ինչպես նաև դեֆիցիտի (պակասուրդի) ֆինանսավորման աղբյուրներն ըստ բյուջետային գլխավոր կարգադրիչների, ծրագրերի և միջոցառումների անվանումների | D6: Ցուցանիշների փոփոխություն (ավելացումները նշված են դրական նշանով)
A7: Ծրագիր | B7: Միջոցառում
C8: ԱՐՏԱԲՅՈՒՋԵՏԱՅԻՆ ՀԱՇԻՎՆԵՐԻ 2019 ԹՎԱԿԱՆԻ ԵԿԱՄՈՒՏՆԵՐԻ, ԾԱԽՍԵՐԻ ԵՎ ԴԵՖԻՑԻՏԻ (ՊԱԿԱՍՈՒՐԴԻ) ԵՎ ԴԵՖԻՑԻՏԻ (ՊԱԿԱՍՈՒՐԴԻ) ՖԻՆԱՆՍԱՎՈՐՄԱՆ ԱՂԲՅՈՒՐՆԵՐԻ ԱՄՓՈՓ ՑՈՒՑԱՆԻՇՆԵՐ | D8: Տարի
C9: ԸՆԴԱՄԵՆԸ ԵԿԱՄՈՒՏՆԵՐ | D9: =+'Hav1'!B11 -> 18148.7
C10: որից՝
C11: ՊԱՇՏՈՆԱԿԱՆ ԴՐԱՄԱՇՆՈՐՀՆԵՐ | D11: =+D17 -> 18148.7
C12: ԸՆԴԱՄԵՆԸ ԾԱԽՍԵՐ | D12: =+D17 -> 18148.7
C13: ԸՆԴԱՄԵՆԸ ԴԵՖԻՑԻՏ (ՊԱԿԱՍՈՒՐԴ) | D13: =+D14 -> 0
C14: ԴԵՖԻՑԻՏ (ՊԱԿԱՍՈՒՐԴ) ՖԻՆԱՆՍԱՎՈՐՄԱՆ ԱՂԲՅՈՒՐՆԵՐ | D14: =+D12-D9 -> 0
A16: ՀՀ արտաքին գործերի նախարարություն
A17: 9024 | C17: ՅՈՒՆԵՍԿՕ-ի մասնակցության ծրագրի շրջանակներում աջակցություն Հայաստանում կրթական ծրագրին | D17: =+D19+D29 -> 18148.7
C18: այդ թվում`
B19: 11001 | C19: =+'hav7'!C32 -> «ՀՀ Շիրակի, Լոռու և Գեղարքունիքի, մարզերի պետական ոչ բժշկական ուսումնական հաստատություններում ՄԻԱՎ/ՁԻԱՀ-ի վերաբերյալ կրթության և ուսուցման որակի բարելավման նպատակով սեմինար-վարժանքներ» | D19: =+D21 -> 8596.8
C20: այդ թվում` ըստ կատարողների
C21: ՀՀ կրթության, գիտության,մշակույթի և սպորտի նախարարություն | D21: =+D23 -> 8596.8
C22: այդ թվում` բյուջետային ծախսերի տնտեսագիտական դասակարգման հոդվածներ
C23: ԸՆԴԱՄԵՆԸ ԾԱԽՍԵՐ | D23: =+D24 -> 8596.8
C24: ԸՆԹԱՑԻԿ ԾԱԽՍԵՐ | D24: =+D25 -> 8596.8
C25: ԴՐԱՄԱՇՆՈՐՀՆԵՐ | D25: =+D26 -> 8596.8
C26: Ընթացիկ դրամաշնորհներ պետական հատվածի այլ մակարդակներին | D26: =+D27 -> 8596.8
C27: Այլ ընթացիկ դրամաշնորհներ | D27: =+'Hav4'!G27 -> 8596.8
A28: ՀՀ արտաքին գործերի նախարարություն
A29: 9024 | C29: «Հայաստանում կանանց դերակատարության և սեռի հատկանիշով խտրական ընտրության նվազեցման խթանում» | D29: =+D39 -> 9551.9
C30: այդ թվում`
B31: 11002 | C31: «Դասընթացավարների վերապատրաստում. Հայաստանում կանանց դերակատարության և սեռի հատկանիշով խտրական ընտրության նվազեցման խթանում» | D31: =+D33 -> 9551.9
C32: այդ թվում` ըստ կատարողների
C33: ՀՀ կրթության, գիտության,մշակույթի և սպորտի նախարարություն | D33: =+D35 -> 9551.9
C34: այդ թվում` բյուջետային ծախսերի տնտեսագիտական դասակարգման հոդվածներ
C35: ԸՆԴԱՄԵՆԸ ԾԱԽՍԵՐ | D35: =+D36 -> 9551.9
C36: ԸՆԹԱՑԻԿ ԾԱԽՍԵՐ | D36: =+D37 -> 9551.9
C37: ԴՐԱՄԱՇՆՈՐՀՆԵՐ | D37: =+D38 -> 9551.9
C38: Ընթացիկ դրամաշնորհներ պետական հատվածի այլ մակարդակներին | D38: =+'Hav4'!G37 -> 9551.9
C39: Այլ ընթացիկ դրամաշնորհներ | D39: =+'Hav4'!G37 -> 9551.9
C40: ԸՆԴԱՄԵՆԸ ԵԿԱՄՈՒՏՆԵՐ | D40: =+D9 -> 18148.7
C41: որից՝
...

Sheet Hav9
C1: Հավելված 9
C2: ՀՀ կառավարության 2019 թվականի
C3: ______________ ի ___Ն որոշման
B5: ՀԱՅԱՍՏԱՆԻ ՀԱՆՐԱՊԵՏՈՒԹՅԱՆ ԿԱՌԱՎԱՐՈՒԹՅԱՆ 2018ԹՎԱԿԱՆԻ ԴԵԿՏԵՄԲԵՐԻ 27-Ի ԹԻՎ 1515-Ն ՈՐՈՇՄԱՆ N 11 ՀԱՎԵԼՎԱԾԻ 11.12 ԱՂՅՈՒՍԱԿՈՒՄ ԿԱՏԱՐՎՈՂ ՓՈՓՈԽՈՒԹՅՈՒՆՆԵՐԸ ԵՎ ԼՐԱՑՈՒՄՆԵՐԸ
B6: ՀՀ արտաքին գործերի նախարարություն
B8: ՄԱՍ 2. ՊԵՏԱԿԱՆ ՄԱՐՄՆԻ ԳԾՈՎ ԱՐԴՅՈՒՆՔԱՅԻՆ (ԿԱՏԱՐՈՂԱԿԱՆ) ՑՈՒՑԱՆԻՇՆԵՐԸ
B10: Ծրագրի դասիչը | C10: Ծրագրի անվանումը
B11: 9024 | C11: ՅՈՒՆԵՍԿՕ-ի մասնակցության ծրագրի շրջանակներում աջակցություն Հայաստանում կրթական ծրագրին
B13: Ծրագրի միջոցառումները
E14: (հազար դրամ)
B15: Ծրագրի դասիչը՝ | C15: 9024 | D15: Ցուցանիշների փոփոխությունը (ավելացումները նշված են դրական նշանով)
B16: Միջոցառման դասիչը՝ | C16: 11001 | E16: Տարի
B17: Միջոցառման անվանումը՝ | C17: «ՀՀ Շիրակի, Լոռու և Գեղարքունիքի, մարզերի պետական ոչ բժշկական ուսումնական հաստատություններում ՄԻԱՎ/ՁԻԱՀ-ի վերաբերյալ կրթության և ուսուցման որակի բարելավման նպատակով սեմինար-վարժանքներ» | D17: Կոմիտաս Վարդապետի երկերի անգլերեն թարգմանությամբ և լատինական ՀՄԲ գիտական տառադարձությամբ երկհատորյակի հրատարակություն
B18: Նկարագրությունը՝ | C18: Սեմինար վարժանքների անցկացում Շիրակի, Լոռու և Գեղարքունիքի մարզերի պետական ոչ բժշկական ուսումնական հաստատությունների դասախոսական անձնակազմի հետ ՄԻԱՎ/ՁԻԱՀ-ի հիմնախնդիրների վերաբերյալ գիտելիքների տրամադրման միջոցով, կրթության և ուսուցման որակի բարձրացում: Դա հիմք կհանդիսանա ուսանողների շրջանում ՄԻԱՎ/ՁԻԱՀ-ի հիմնախնդիրների վերաբերյալ գիտելիքների մակարդակի բարձրացմանը, առողջ ապրելակերպի գաղափարի արմատավորմանը և ՄԻԱՎ վարակի վերաբերյալ խորհրդատվություն անցկացնելու հմտությունների ձևավորմանը: Իրականացված ծրագրի արդյունքում ուսանողները հնարավորություն կունենան ստանլու ՄԻԱՎ/ՁԻԱՀ-ի հիմնահարցերի վերաբերյալ հավաստի տեղեկատվություն և որակյալ կրթություն, որը կնպաստի նրանց մոտ առողջ ապրելակերպի գաղափարի ձևավորմանը, կկարողանան իրենց հետագա աշխատաքում, բնակչության (հատկապես երիտասարդներին), տրամադրել որակյալ խորհրդատվություն ՄԻԱՎ/ՁԻԱՀ-ի, սեռավարակների վերաբերյալ: Ծրագիրը կնպաստի ՄԻԱՎ վարակի նկատմամբ խոցելիության նվազմանը, առողջ ապրելակերպի և ընտանիքի պլանավորման գաղափարի ձևավորմանը, ինչպես նաև խտրականության և խարանի նվազեցմանը և վերացմանը: | D18: Կոմիտասի ծննդյան 150-ամյակի հոբելյանական միջոցառումների շրջանակներում Կոմիտաս Վարդապետի երկերի անգլերեն թարգմանությամբ և լատինական ՀՄԲ գիտական տառադարձությամբ երկհատորյակի հրատարակության հավուր պատշաճի իրականացում
B19: Միջոցառման տեսակը՝ | C19: Սեմինար-վարժանքներ
B20: Միջոցառումն իրականացնողի անվանումը | C20: “Ուսուցում հանուն առողջության պահպանման” ՀԿ
C21: Արդյունքի չափորոշիչներ
B22: ՄԻԱՎ/ՁԻԱՀ-ի հիմնահարցերի և սեռավարակներիվերաբերյալ Շիրակի, Լոռու և Գեղարքունիքի մարզերի ոչ բժշկական ուսումնարանների դասախոսական անձնակազմի` գիտելիքների մակարդակի բարձրցում, ուսուցման մեթոդների ու կրթական պրոցեսի կատարելագործում,ՄԻԱՎ/ՁԻԱՀ-ի վերաբերյալ իրավական ասպեկտներին և խորհրդատվությանը ծանոթացում:
B23: Միջոցառման վրա կատարվող ծախսը (հազար դրամ) | E23: 8596.8
B24: Ծրագրի դասիչը՝ | C24: 9024 | D24: Ցուցանիշների փոփոխությունը (ավելացումները նշված են դրական նշանով) | E24: Ցուցանիշների փոփոխությունը (ավելացումները նշված են դրական նշանով)
B25: Միջոցառման դասիչը՝ | C25: 11002 | E25: Տարի
B26: Միջոցառման անվանումը՝ | C26: «Դասընթացավարների վերապատրաստում. Հայաստանում կանանց դերակատարության և սեռի հատկանիշով խտրական ընտրության նվազեցման խթանում»
B27: Նկարագրությունը՝ | C27: Պտղի սեռով պայմանավորված աբորտների բացասական հետևանքների մասին 4-օրյա դասընթացների իրականացում
B28: Միջոցառման տեսակը՝ | C28: Ծառայությունների մատուցում
B29: Միջոցառումն իրականացնողի անվանումը | C29: Կայուն զարգացման նախաձեռնություն ՀԿ
C30: Արդյունքի չափորոշիչներ
B32: Միջոցառման վրա կատարվող ծախսը (հազար դրամ) | E32: =+'hav8'!D39 -> 9551.9

Sheet Hav10
B1: Հավելված 10
B2: ՀՀ կառավարության 2019 թվականի
B3: ______________ ի ___Ն որոշման
A7: ՀԱՅԱՍՏԱՆԻ ՀԱՆՐԱՊԵՏՈՒԹՅԱՆ ԿԱՌԱՎԱՐՈՒԹՅԱՆ 2018ԹՎԱԿԱՆԻ ԴԵԿՏԵՄԲԵՐԻ 27-Ի ԹԻՎ 1515-Ն ՈՐՈՇՄԱՆ N 11.1 ՀԱՎԵԼՎԱԾԻ 11.1.12 ԱՂՅՈՒՍԱԿՈՒՄ ԿԱՏԱՐՎՈՂ ՓՈՓՈԽՈՒԹՅՈՒՆՆԵՐԸ ԵՎ ԼՐԱՑՈՒՄՆԵՐԸ
A9: ՀՀ կրթության, գիտության,մշակույթի և սպորտի նախարարություն
A11: ՄԱՍ 2. ՊԵՏԱԿԱՆ ՄԱՐՄՆԻ ԳԾՈՎ ԱՐԴՅՈՒՆՔԱՅԻՆ (ԿԱՏԱՐՈՂԱԿԱՆ) ՑՈՒՑԱՆԻՇՆԵՐԸ
A13: Ծրագրի դասիչը | B13: Ծրագրի անվանումը
A14: 9024 | B14: ՅՈՒՆԵՍԿՕ-ի մասնակցության ծրագրի շրջանակներում աջակցություն Հայաստանում կրթական ծրագրին
A16: Ծրագրի միջոցառումները | D16: (հազար դրամ)
A18: Ծրագրի դասիչը՝ | B18: 9024 | C18: Ցուցանիշների փոփոխությունը (ավելացումները նշված են դրական նշանով)
A19: Միջոցառման դասիչը՝ | B19: 11001 | D19: Տարի
A20: Միջոցառման անվանումը՝ | B20: «ՀՀ Շիրակի, Լոռու և Գողարքունիքի, մարզերի պետական ոչ բժշկական ուսումնական հաստատություններում ՄԻԱՎ/ՁԻԱՀ-ի վերաբերյալ կրթության և ուսուցման որակի բարելավման նպատակով սեմինար-վարժանքներ»
A21: Նկարագրությունը՝ | B21: Սեմինար վարժանքների անցկացում Շիրակի, Լոռու և Գեղարքունիքի մարզերի պետական ոչ բժշկական ուսումնական հաստատությունների դասախոսական անձնակազմի հետ ՄԻԱՎ/ՁԻԱՀ-ի հիմնախնդիրների վերաբերյալ գիտելիքների տրամադրման միջոցով, կրթության և ուսուցման որակի բարձրացում: Դա հիմք կհանդիսանա ուսանողների շրջանում ՄԻԱՎ/ՁԻԱՀ-ի հիմնախնդիրների վերաբերյալ գիտելիքների մակարդակի բարձրացմանը, առողջ ապրելակերպի գաղափարի արմատավորմանը և ՄԻԱՎ վարակի վերաբերյալ խորհրդատվություն անցկացնելու հմտությունների ձևավորմանը: Իրականացված ծրագրի արդյունքում ուսանողները հնարավորություն կունենան ստանլու ՄԻԱՎ/ՁԻԱՀ-ի հիմնահարցերի վերաբերյալ հավաստի տեղեկատվություն և որակյալ կրթություն, որը կնպաստի նրանց մոտ առողջ ապրելակերպի գաղափարի ձևավորմանը, կկարողանան իրենց հետագա աշխատաքում, բնակչության (հատկապես երիտասարդներին), տրամադրել որակյալ խորհրդատվություն ՄԻԱՎ/ՁԻԱՀ-ի, սեռավարակների վերաբերյալ: Ծրագիրը կնպաստի ՄԻԱՎ վարակի նկատմամբ խոցելիության նվազմանը, առողջ ապրելակերպի և ընտանիքի պլանավորման գաղափարի ձևավորմանը, ինչպես նաև խտրականության և խարանի նվազեցմանը և վերացմանը:
A22: Միջոցառման տեսակը՝ | B22: Սեմինար-վարժանքներ
A23: Միջոցառումն իրականացնողի անվանումը | B23: “Ուսուցում հանուն առողջության պահպանման” ՀԿ
B24: Արդյունքի չափորոշիչներ | D24: 1
A25: ՄԻԱՎ/ՁԻԱՀ-ի հիմնահարցերի և սեռավարակների վերաբերյալ Շիրակի, Լոռու և Գեղարքունիքի մարզերի ոչ բժշկական ուսումնարանների դասախոսական անձնակազմի` գիտելիքների մակարդակի բարձրցում, ուսուցման մեթոդների ու կրթական պրոցեսի կատարելագործում,ՄԻԱՎ/ՁԻԱՀ-ի վերաբերյալ իրավական ասպեկտներին և խորհրդատվությանը ծանոթացում:
A26: Միջոցառման վրա կատարվող ծախսը (հազար դրամ) | D26: 8596.8
A27: Ծրագրի դասիչը՝ | B27: 9024 | C27: Ցուցանիշների փոփոխությունը (ավելացումները նշված են դրական նշանով)
A28: Միջոցառման դասիչը՝ | B28: 11002 | D28: Տարի
A29: Միջոցառման անվանումը՝ | B29: «Դասընթացավարների վերապատրաստում. Հայաստանում կանանց դերակատարության և սեռի հատկանիշով խտրական ընտրության նվազեցման խթանում»
A30: Նկարագրությունը՝ | B30: Պտղի սեռով պայմանավորված աբորտների բացասական հետևանքների մասին 4-օրյա դասընթացների իրականացում
A31: Միջոցառման տեսակը՝ | B31: Ծառայությունների մատուցում
A32: Միջոցառումն իրականացնողի անվանումը | B32: Կայուն զարգացման նախաձեռնություն ՀԿ
B33: Արդյունքի չափորոշիչներ | D33: 1
A35: Միջոցառման վրա կատարվող ծախսը (հազար դրամ) | D35: =+'Hav9'!E32 -> 9551.9

Sheet havelva11
F1: Հավելված N11
F2: ՀՀ կառավարության 2019 թվականի
F3: ______________ ի ___Ն որոշման
A6: «ՀԱՅԱՍՏԱՆԻ ՀԱՆՐԱՊԵՏՈՒԹՅԱՆ ԿԱՌԱՎԱՐՈՒԹՅԱՆ 2018 ԹՎԱԿԱՆԻ ԴԵԿՏԵՄԲԵՐԻ 27-Ի N 1515-Ն ՈՐՈՇՄԱՆ N 5 ՀԱՎԵԼՎԱԾԻ N8 ԱՂՅՈՒՍԱԿՈՒՄ ԿԱՏԱՐՎՈՂ ՓՈՓՈԽՈՒԹՅՈՒՆՆԵՐԸ ԵՎ ԼՐԱՑՈՒՄՆԵՐԸ
G9: հազար դրամներով
A10: Ծրագրային դասիչ | C10: Բյուջետային հատկացումների գլխավոր կարգադրիչների, ծրագրերի, միջոցառումների, ծախսային ուղղությունների անվանումները | F10: Միջոցառումները կատարող պետական մարմինների և դրամաշնորհ ստացող տնտեսվարող սուբյեկտների անվանումները | G10: Ցուցանիշների փոփոխությունը (ավելացումները նշված են դրական նշանով)
G11: Տարի
A12: Ծրագիր | B12: Միջոցառում
A13: 1 | B13: 2 | C13: 3 | F13: 4 | G13: 5
B14: ՀՀ արտաքին գործերի նախարարություն | G14: =+G16+G19 -> 18148.7
A15: 9024 | B15: ՅՈՒՆԵՍԿՕ-ի մասնակցության | G15: =+G17+G19 -> 18148.7
B16: 11001 | C16: «ՀՀ Շիրակի, Լոռու և Գեղարքունիքի, մարզերի պետական ոչ բժշկական ուսումնական հաստատություններում ՄԻԱՎ/ՁԻԱՀ-ի վերաբերյալ կրթության և ուսուցման որակի բարելավման նպատակով սեմինար-վարժանքներ» | F16: ՀՀ կրթության, գիտության,մշակույթի և սպորտի նախարարություն | G16: =G17 -> 8596.8
F17: Ուսուցում հանուն առողջության պահպանման ՀԿ | G17: =+'Hav9'!E23 -> 8596.8
B18: 11002 | C18: «Դասընթացավարների վերապատրաստում. Հայաստանում կանանց դերակատարության և սեռի հատկանիշով խտրական ընտրության նվազեցման խթանում» | F18: ՀՀ կրթության, գիտության,մշակույթի և սպորտի նախարարություն | G18: =G19 -> 9551.9
F19: Կայուն զարգացման նախաձեռնություն ՀԿ | G19: =+'Hav9'!E32 -> 9551.9
