Workbook
Name _tab10: #REF!
Name _tab11: #REF!
Name _tab12: #REF!
Name _tab13: #REF!
Name _tab14: #REF!
Name _tab15: #REF!
Name _tab16: #REF!
Name _tab17: #REF!
Name _tab18: #REF!
Name _tab19: #REF!
Name _tab20: #REF!
Name _tab21: #REF!
Name _tab22: #REF!
Name _tab23: #REF!
Name _tab24: #REF!
Name _tab5: #REF!
Name _tab6: #REF!
Name _tab7: #REF!
Name _tab8: #REF!
Name _tab9: #REF!
Name AgencyCode: #REF!
Name AgencyCode: #REF!
Name AgencyName: #REF!
Name AgencyName: #REF!
Name åû: #REF!
Name åû: #REF!
Name davit: #REF!
Name davit: #REF!
Name Functional1: #REF!
Name Functional1: #REF!
Name ggg: #REF!
Name ggg: #REF!
Name hav: #REF!
Name havelvac: #REF!
Name mas: #REF!
Name mas: #REF!
Name mass: #REF!
Name mass: #REF!
Name PANature: #REF!
Name PANature: #REF!
Name par_count: #REF!,#REF!,#REF!,#REF!,#REF!,#REF!,#REF!,#REF!,#REF!,#REF!,#REF!,#REF!,#REF!,#REF!,#REF!
Name par_qual: #REF!,#REF!,#REF!,#REF!,#REF!
Name par_time: #REF!,#REF!,#REF!,#REF!
Name par2.12s: #REF!
Name par2.4s: #REF!,#REF!,#REF!,#REF!,#REF!,#REF!,#REF!,#REF!,#REF!,#REF!,#REF!,#REF!,#REF!,#REF!,#REF!,#REF!
Name par2.5s: #REF!,#REF!
Name par2.6s: #REF!,#REF!,#REF!,#REF!
Name par2.7s: #REF!,#REF!
Name par2.9s: #REF!,#REF!,#REF!,#REF!,#REF!,#REF!,#REF!,#REF!,#REF!,#REF!,#REF!,#REF!,#REF!,#REF!,#REF!,#REF!
Name par4.10s: #REF!,#REF!
Name par4.11d: #REF!,#REF!,#REF!,#REF!,#REF!
Name par4.12d: #REF!
Name par4.13s: #REF!
Name par4.14: #REF!,#REF!,#REF!,#REF!,#REF!,#REF!
Name par4.15: #REF!,#REF!,#REF!
Name par4.16: #REF!,#REF!,#REF!
Name par4.17: #REF!,#REF!,#REF!,#REF!
Name par4.18d: #REF!,#REF!
Name par4.19s: #REF!
Name par4.20f: #REF!

Sheet 1
I1: Հավելված N 1
F2: ՀՀ կառավարության 2026 թվականի
F3: -----------------ի N -----------Ն որոշման
A5: «ՀԱՅԱՍՏԱՆԻ ՀԱՆՐԱՊԵՏՈՒԹՅԱՆ 2026 ԹՎԱԿԱՆԻ ՊԵՏԱԿԱՆ ԲՅՈՒՋԵԻ ՄԱՍԻՆ» ՀԱՅԱՍՏԱՆԻ ՀԱՆՐԱՊԵՏՈՒԹՅԱՆ ՕՐԵՆՔԻ N 1 ՀԱՎԵԼՎԱԾԻ N 2 ԱՂՅՈՒՍԱԿՈՒՄ ԿԱՏԱՐՎՈՂ ՎԵՐԱԲԱՇԽՈՒՄԸ ԵՎ ՀԱՅԱՍՏԱՆԻ ՀԱՆՐԱՊԵՏՈՒԹՅԱՆ ԿԱՌԱՎԱՐՈՒԹՅԱՆ 2025 ԹՎԱԿԱՆԻ ԴԵԿՏԵՄԲԵՐԻ 25-Ի N 1910-Ն ՈՐՈՇՄԱՆ N 5 ՀԱՎԵԼՎԱԾԻ N 1 ԱՂՅՈՒՍԱԿՈՒՄ ԿԱՏԱՐՎՈՂ ՓՈՓՈԽՈՒԹՅՈՒՆԸ ԵՎ ԼՐԱՑՈՒՄՆԵՐԸ
I6: հազար դրամներով
A7: ԲԳԿ | B7: Ծրագրային դասիչը | D7: ԲԳԿ/Ծրագրի /միջոցառման անվանումը | E7: Ծրագրի նպատակը/Միջոցառման նկարագրությունը | F7: Վերջնական արդյունքի նկարագրությունը/Միջոցառման տեսակը | G7: Ցուցանիշների փոփոխությունը (ավելացումները նշված են դրական նշանով, իսկ նվազեցումները՝ փակագծերում)
G8: Առաջին կիսամյակ | H8: Ինն ամիս | I8: Տարի
B9: Ծրագիր | C9: Միջոցառում
A10: ԸՆԴԱՄԵՆԸ | G10: =+G11+G15+G18 -> 0 | H10: =+H11+H15+H18 -> 0 | I10: =+I11+I15+I18 -> 0
A11: ՀՀ տարածքային կառավարման և ենթակառուցվածքների նախարարություն | G11: 327992.4 | H11: 546654 | I11: 546654
B12: 1072 | D12: Ջրամատակարարաման և ջրահեռացման բարելավում | E12: Ջրամատակարարման ծառայությունների հասանելիության և մատչելիության ապահովում | F12: Խմելու ջրի մատակարարման և ջրահեռացման համակարգի բարելավում, կորուստների կրճատում | G12: 327992.4 | H12: 546654 | I12: 546654
C13: 1072 - 31010 | D13: Ջրամատակարարման և ջրահեռացման համակարգի հիմնանորոգում | E13: Ջրամատակարարման և ջրահեռացման համակարգի հիմնանորոգման նախագծերի և աշխատանքների ձեռքբերում | F13: Պետական մարմինների կողմից օգտագործվող ոչ ֆինանսական ակտիվների հետ գործառնություններ | G13: 206605.2 | H13: 344342 | I13: 344342
C14: 1072 - 31013 | D14: Ջրամատակարարման և ջրահեռացման համակարգի կառուցում | E14: Ջրամատակարարման և ջրահեռացման համակարգի կառուցման նախագծերի և աշխատանքների ձեռքբերում | F14: Պետական մարմինների կողմից օգտագործվող ոչ ֆինանսական ակտիվների հետ գործառնություններ | G14: 121387.2 | H14: 202312 | I14: 202312
A15: ՀՀ ֆինանսների նախարարություն | G15: -327992.4 | H15: -546654 | I15: -546654
B16: 1006 | D16: Պետական պարտքի կառավարում | E16: Կառավարության ֆինանսական կարիքների բավարարման մշտական հնարավորության ապահովումը` երկարաժամկետ հատվածում նվազեցնելով պարտքի սպասարկման մեծությունը | F16: Կառավարության պարտքի օպտիմալ կառուցվածքի ձևավորում՛ հաշվի առնելով պոտենցիալ ռիսկերը | G16: -327992.4 | H16: -546654 | I16: -546654
C17: 1006 - 13001 | D17: Կառավարության պարտքի սպասարկում | E17: Կառավարության պարտքի սպասարկում (տոկոսավճարներ) | F17: Ֆինանսավորման ծախսերի իրականացում | G17: -327992.4 | H17: -546654 | I17: -546654
A18: ՀՀ կառավարություն | G18: =G19 -> 0 | H18: =H19 -> 0 | I18: =I19 -> 0
B19: 1139 | D19: ՀՀ կառավարության պահուստային ֆոնդ | E19: Պետական բյուջեում չկանխատեսված, ինչպես նաեւ բյուջետային երաշխիքների ապահովման ծախսերի ֆինանսավորման ապահովում | F19: Պահուստային ֆոնդի կառավարման արդյունավետության և թափանցիկության ապահովում | G19: =G20+G21 -> 0 | H19: =H20+H21 -> 0 | I19: =I20+I21 -> 0
C20: 1139 - 11001 | D20: ՀՀ կառավարության պահուստային ֆոնդ | E20: ՀՀ պետական բյուջեում նախատեսված ելքերի լրացուցիչ ֆինանսավորման, պետական բյուջեում չկանխատեսված ելքերի, ինչպես նաև բյուջետային երաշխիքների ապահովման ելքերի ֆինանսավորման ապահովում | F20: Ծառայությունների մատուցում | G20: ='2.'!H72 -> 327992.4 | H20: ='2.'!I72 -> 546654 | I20: ='2.'!J72 -> 546654
C21: 1139 - 11001 | D21: ՀՀ կառավարության պահուստային ֆոնդ | E21: ՀՀ պետական բյուջեում նախատեսված ելքերի լրացուցիչ ֆինանսավորման, պետական բյուջեում չկանխատեսված ելքերի, ինչպես նաև բյուջետային երաշխիքների ապահովման ելքերի ֆինանսավորման ապահովում | F21: Ծառայությունների մատուցում | G21: ='2.'!H80 -> -327992.4 | H21: ='2.'!I80 -> -546654 | I21: ='2.'!J80 -> -546654
D26: ՀԱՅԱՍՏԱՆԻ ՀԱՆՐԱՊԵՏՈՒԹՅԱՆ
D27: ՎԱՐՉԱՊԵՏԻ ԱՇԽԱՏԱԿԱԶՄԻ ՂԵԿԱՎԱՐ՝ | E27: Ա. ՀԱՐՈՒԹՅՈՒՆՅԱՆ

Sheet 2.
B1: Հավելված N 2
B2: ՀՀ կառավարության 2026 թվականի
B3: -ի N -Ն որոշման
B4: ՀԱՅԱՍՏԱՆԻ ՀԱՆՐԱՊԵՏՈՒԹՅԱՆ ԿԱՌԱՎԱՐՈՒԹՅԱՆ 2025 ԹՎԱԿԱՆԻ ԴԵԿՏԵՄԲԵՐԻ 25-Ի N 1910-Ն ՈՐՈՇՄԱՆ N 3 ԵՎ N 4 ՀԱՎԵԼՎԱԾՆԵՐՈՒՄ ԿԱՏԱՐՎՈՂ ՓՈՓՈԽՈՒԹՅՈՒՆԸ ԵՎ ԼՐԱՑՈՒՄՆԵՐԸ
H5: հազար դրամներով
B6: Գործառական դասիչը | E6: Ծրագրային դասիչը | G6: Բյուջետային ծախսերի գործառական դասակարգման բաժինների, խմբերի և դասերի, բյուջետային ծրագրերի միջոցառումների, բյուջետային հատկացումների գլխավոր կարգադրիչների անվանումները | H6: Ցուցանիշների փոփոխությունը (ավելացումները նշված են դրական նշանով, իսկ նվազեցումները՝ փակագծերում)
B7: Բաժին | C7: Խումբ | D7: Դաս | E7: Ծրագիր | F7: Միջոցառում | H7: Առաջին կիսամյակ | I7: Ինն ամիս | J7: Տարի
G8: ԸՆԴԱՄԵՆԸ ԾԱԽՍԵՐ | H8: =H10+H40+H60 -> 0 | I8: =I10+I40+I60 -> 0 | J8: =J10+J40+J60 -> 0
G9: այդ թվում`
G10: ՀՀ տարածքային կառավարման և ենթակառուցվածքների նախարարություն | H10: 327992.4 | I10: 546654 | J10: 546654
G11: այդ թվում`
B12: 06 | G12: ԲՆԱԿԱՐԱՆԱՅԻՆ ՇԻՆԱՐԱՐՈՒԹՅՈՒՆ ԵՎ ԿՈՄՈՒՆԱԼ ԾԱՌԱՅՈՒԹՅՈՒՆՆԵՐ | H12: 327992.4 | I12: 546654 | J12: 546654
G13: այդ թվում`
C14: 03 | G14: Ջրամատակարարում | H14: 327992.4 | I14: 546654 | J14: 546654
G15: այդ թվում`
D16: 01 | G16: Ջրամատակարարում | H16: 327992.4 | I16: 546654 | J16: 546654
G17: այդ թվում`
G18: ՀՀ տարածքային կառավարման և ենթակառուցվածքների նախարարություն | H18: 327992.4 | I18: 546654 | J18: 546654
G19: այդ թվում`
E20: 1072 | G20: Ջրամատակարարաման և ջրահեռացման բարելավում | H20: 327992.4 | I20: 546654 | J20: 546654
G21: այդ թվում`
F22: 31010 | G22: Ջրամատակարարման և ջրահեռացման համակարգի հիմնանորոգում | H22: 206605.2 | I22: 344342 | J22: 344342
G23: այդ թվում` ըստ կատարողների
G24: ՀՀ տարածքային կառավարման և ենթակառուցվածքների նախարարություն | H24: 206605.2 | I24: 344342 | J24: 344342
G25: այդ թվում` բյուջետային ծախսերի տնտեսագիտական դասակարգման հոդվածներ
G26: ԸՆԴԱՄԵՆԸ ԾԱԽՍԵՐ | H26: 206605.2 | I26: 344342 | J26: 344342
G27: ՈՉ ՖԻՆԱՆՍԱԿԱՆ ԱԿՏԻՎՆԵՐԻ ԳԾՈՎ ԾԱԽՍԵՐ | H27: 206605.2 | I27: 344342 | J27: 344342
G28: ՀԻՄՆԱԿԱՆ ՄԻՋՈՑՆԵՐ | H28: 206605.2 | I28: 344342 | J28: 344342
G29: ՇԵՆՔԵՐ ԵՎ ՇԻՆՈՒԹՅՈՒՆՆԵՐ | H29: 206605.2 | I29: 344342 | J29: 344342
G30: - Շենքերի և շինությունների կապիտալ վերանորոգում | H30: 206605.2 | I30: 344342 | J30: 344342
F31: 31013 | G31: Ջրամատակարարման և ջրահեռացման համակարգի կառուցում | H31: 121387.2 | I31: 202312 | J31: 202312
G32: այդ թվում` ըստ կատարողների
G33: ՀՀ տարածքային կառավարման և ենթակառուցվածքների նախարարություն | H33: 121387.2 | I33: 202312 | J33: 202312
G34: այդ թվում` բյուջետային ծախսերի տնտեսագիտական դասակարգման հոդվածներ
G35: ԸՆԴԱՄԵՆԸ ԾԱԽՍԵՐ | H35: 121387.2 | I35: 202312 | J35: 202312
G36: ՈՉ ՖԻՆԱՆՍԱԿԱՆ ԱԿՏԻՎՆԵՐԻ ԳԾՈՎ ԾԱԽՍԵՐ | H36: 121387.2 | I36: 202312 | J36: 202312
G37: ՀԻՄՆԱԿԱՆ ՄԻՋՈՑՆԵՐ | H37: 121387.2 | I37: 202312 | J37: 202312
G38: ՇԵՆՔԵՐ ԵՎ ՇԻՆՈՒԹՅՈՒՆՆԵՐ | H38: 121387.2 | I38: 202312 | J38: 202312
G39: - Շենքերի և շինությունների շինարարություն | H39: 121387.2 | I39: 202312 | J39: 202312
G40: ՀՀ ֆինանսների նախարարություն | H40: -327992.4 | I40: -546654 | J40: -546654
...

Sheet 3.
A1: Հավելված N 3
A2: ՀՀ կառավարության 2026 թվականի
A3: -ի N -Ն որոշման
A4: «ՀԱՅԱՍՏԱՆԻ ՀԱՆՐԱՊԵՏՈՒԹՅԱՆ 2026 ԹՎԱԿԱՆԻ ՊԵՏԱԿԱՆ ԲՅՈՒՋԵԻ ՄԱՍԻՆ» ՀԱՅԱՍՏԱՆԻ ՀԱՆՐԱՊԵՏՈՒԹՅԱՆ ՕՐԵՆՔԻ N 1 ՀԱՎԵԼՎԱԾԻ N 3 ԱՂՅՈՒՍԱԿՈՒՄ ԿԱՏԱՐՎՈՂ ԼՐԱՑՈՒՄՆԵՐԸ
G5: հազար դրամներով
A6: Ծրագրային դասիչ | C6: Բյուջետային գլխավոր կարգադրիչների, ծրագրերի, միջոցառումների և ուղղությունների անվանումները | D6: Ցուցանիշների փոփոխությունը (ավելացումները նշված են դրական նշանով)
D7: Ընդամենը, | E7: այդ թվում՝
A8: Ծրագիր | B8: Միջոցառում | E8: Կառուցման աշխատանքներ | F8: Վերակառուցման, վերանորոգման և վերականգնման աշխատանքներ | G8: Նախագծահե- տազոտական, գեոդեզիա- քարտեզագրա- կան աշխա- տանքներ | H8: Ոչ ֆինանսական այլ ակտիվների ձեռքբերում
C9: ԸՆԴԱՄԵՆԸ | D9: 546654 | E9: 202312 | F9: 344342 | G9: =G11 -> 0 | H9: =H11 -> 0
C10: այդ թվում՝
C11: ՀՀ ՏԱՐԱԾՔԱՅԻՆ ԿԱՌԱՎԱՐՄԱՆ ԵՎ ԵՆԹԱԿԱՌՈՒՑՎԱԾՔՆԵՐԻ ՆԱԽԱՐԱՐՈՒԹՅՈՒՆ | D11: 546654 | E11: 202312 | F11: 344342 | G11: =G13 -> 0 | H11: =H13 -> 0
C12: այդ թվում`
A13: 1072 | B13: 31010 | C13: Ջրամատակարարման և ջրահեռացման համակարգի հիմնանորոգում | D13: 344342 | E13: 0 | F13: 344342 | G13: =SUM(G15:G39) -> 0 | H13: =SUM(H15:H39) -> 0
C14: այդ թվում՝
C15: Արաբկիր վարչական շրջանի Կոմիտասի պողոտա հ.1 հասցեի կոյուղագծի վերակառուցման աշխատանքներ | D15: 22287.7 | E15: 0 | F15: 22287.7 | G15: 0 | H15: 0
C16: Արաբկիր վարչական շրջանի Կիևյան փողոցի հ.8 հասցեի կոյուղագծի վերակառուցման աշխատանքներ | D16: 15767.5 | E16: 0 | F16: 15767.5 | G16: 0 | H16: 0
C17: Արաբկիր վարչական շրջանի Վ. Համբարձումյան փողոց հ.8/1 շենքի կոյուղագծի վերակառուցման աշխատանքներ | D17: 8308.1 | E17: 0 | F17: 8308.1 | G17: 0 | H17: 0
C18: Էրեբունի վարչական շրջանի Սարի Թաղ 17-րդ փողոց ( 19-րդ փողոցից 21-րդ փողոցի ընկած հատված) հասցեի հարակից տարածք) կոյուղագծի վերակառուցման աշխատանքներ | D18: 7865.1 | E18: 0 | F18: 7865.1 | G18: 0 | H18: 0
C19: Էրեբունի վարչական շրջանի Նոր Արեշ 15-րդ փողոցի հ.9 հասցեի կոյուղագծի վերակառուցման աշխատանքներ | D19: 12694.5 | E19: 0 | F19: 12694.5 | G19: 0 | H19: 0
C20: Կենտրոն վարչական շրջանի Աղայան փողոցի հ.13 հասցեի կոյուղագծի վերակառուցման աշխատանքներ | D20: 25821.6 | E20: 0 | F20: 25821.6 | G20: 0 | H20: 0
C21: Կենտրոն վարչական շրջանի Այգեստանի 11-րդ փողոցի հ.127 հասցեի կոյուղագծի վերակառուցման աշխատանքներ | D21: 19754.5 | E21: 0 | F21: 19754.5 | G21: 0 | H21: 0
C22: Կենտրոն վարչական շրջանի Չարենցի փողոց 2-րդ նրբանցք հհ.32/2, 32/3, 32/4 և 32/7 հասցեների կոյուղագծի վերակառուցման աշխատանքներ | D22: 15834.5 | E22: 0 | F22: 15834.5 | G22: 0 | H22: 0
C23: Մալաթիա-Սեբաստիա վարչական շրջանի Սվաճյան փողոց հ.58 հասցեի կոյուղագծի վերակառուցման աշխատանքներ | D23: 18869.5 | E23: 0 | F23: 18869.5 | G23: 0 | H23: 0
C24: Նոր Նորք վարչական շրջանի Բանավան թաղամաս հ.5 հասցեի կոյուղագծի վերակառուցման աշխատանքներ | D24: 15292.5 | E24: 0 | F24: 15292.5 | G24: 0 | H24: 0
C25: Նոր Նորք վարչական շրջանի Մոլդովական փողոցի հ.26/2 հասցեի կոյուղագծի վերակառուցման աշխատանքներ | D25: 11218.5 | E25: 0 | F25: 11218.5 | G25: 0 | H25: 0
C26: Շենգավիթ վարչական շրջանի Գ. Նժդեհի փողոցի հհ.27, 27/2 հասցեների կոյուղագծի վերակառուցման աշխատանքներ | D26: 9888.8 | E26: 0 | F26: 9888.8 | G26: 0 | H26: 0
... C39: Քանաքեռ-Զեյթուն վարչական շրջանի Կ. Ուլնեցու փողոցի հ.76 հասցեի կոյուղագծի վերակառուցման աշխատանքներ | D39: 5733.3 | E39: 0 | F39: 5733.3 | G39: 0 | H39: 0
A40: 1072 | B40: 31013 | C40: Ջրամատակարարման և ջրահեռացման համակարգի կառուցում | D40: 202312 | E40: 202312 | F40: 0 | G40: =SUM(G42:G45) -> 0 | H40: =SUM(H42:H45) -> 0
C41: այդ թվում՝
C42: Մալաթիա-Սեբաստիա վարչական շրջան Հաղթանակ 1-ին փողոց 2-րդ նրբանցքի կոյուղագծի կառուցման աշխատանքներ | D42: 13319.8 | E42: 13319.8 | F42: 0 | G42: 0 | H42: 0
C43: Մալաթիա-Սեբաստիա վարչական շրջան Եռաբլուրից մինչև Իսակովի պողոտայի և Սեբաստիա փողոցի հատման հատված (կամուրջի տակ) հեղեղատար համակարգի կառուցման աշխատանքներ | D43: 162876.6 | E43: 162876.6 | F43: 0 | G43: 0 | H43: 0
C44: Շենգավիթ վարչական շրջան Բագրատունյաց փողոց (Գործարանային մետրոյի կայարանի հարակից կամուրջի տակ) հեղեղատար համակարգի կառուցման աշխատանքներ | D44: 8497 | E44: 8497 | F44: 0 | G44: 0 | H44: 0
C45: Շենգավիթ վարչական շրջանի Ն.Շենգավիթ 11-րդ փողոց 2-րդ նրբանցք հ.1/2 հասցեից մինչև հ.56 հասցե կոյուղագծի կառուցման աշխատանքներ | D45: 17618.6 | E45: 17618.6 | F45: 0 | G45: 0 | H45: 0
C48: ՀԱՅԱՍՏԱՆԻ ՀԱՆՐԱՊԵՏՈՒԹՅԱՆ
C49: ՎԱՐՉԱՊԵՏԻ ԱՇԽԱՏԱԿԱԶՄԻ ՂԵԿԱՎԱՐ՝ | D49: Ա. ՀԱՐՈՒԹՅՈՒՆՅԱՆ

Sheet 4
A1: Հավելված N 4
A2: ՀՀ կառավարության 2026 թվականի
A3: -ի N -Ն որոշման
A4: ՀԱՅԱՍՏԱՆԻ ՀԱՆՐԱՊԵՏՈՒԹՅԱՆ ԿԱՌԱՎԱՐՈՒԹՅԱՆ 2025 ԹՎԱԿԱՆԻ ԴԵԿՏԵՄԲԵՐԻ 25-Ի N 1910-Ն ՈՐՈՇՄԱՆ N 5 ՀԱՎԵԼՎԱԾԻ N 2 ԱՂՅՈՒՍԱԿՈՒՄ ԿԱՏԱՐՎՈՂ ԼՐԱՑՈՒՄՆԵՐԸ
A6: հազար դրամներով
A7: Ծրագրային դասիչ | C7: Բյուջետային գլխավոր կարգադրիչների, ծրագրերի, միջոցառումների և ուղղությունների անվանումները | D7: Ցուցանիշների փոփոխությունը (ավելացումները նշված են դրական նշանով)
D8: Առաջին կիսամյակ | E8: Ինն ամիս | F8: Տարի
A9: Ծրագիր | B9: Միջոցառում
C10: ԸՆԴԱՄԵՆԸ | D10: =D12 -> 327992.4 | E10: =E12 -> 546654 | F10: =F12 -> 546654
C11: այդ թվում`
C12: ՀՀ տարածքային կառավարման և ենթակառուցվածքների նախարարություն | D12: =D14+D43 -> 327992.4 | E12: =E14+E43 -> 546654 | F12: =F14+F43 -> 546654
C13: այդ թվում՛
A14: 1072 | B14: 31010 | C14: Ջրամատակարարման և ջրահեռացման համակարգի հիմնանորոգում | D14: =+D16 -> 206605.2 | E14: =+E16 -> 344342 | F14: =+F16 -> 344342
C15: այդ թվում` ըստ կատարողների
C16: ՀՀ տարածքային կառավարման և ենթակառուցվածքների նախարարություն | D16: =SUM(D18:D42) -> 206605.2 | E16: =SUM(E18:E42) -> 344342 | F16: =SUM(F18:F42) -> 344342
C17: այդ թվում՝ ըստ ուղղությունների
C18: Արաբկիր վարչական շրջանի Կոմիտասի պողոտա հ.1 հասցեի կոյուղագծի վերակառուցման աշխատանքներ | D18: 13372.6 | E18: 22287.7 | F18: =E18 -> 22287.7
C19: Արաբկիր վարչական շրջանի Կիևյան փողոցի հ.8 հասցեի կոյուղագծի վերակառուցման աշխատանքներ | D19: 9460.5 | E19: 15767.5 | F19: =E19 -> 15767.5
C20: Արաբկիր վարչական շրջանի Վ. Համբարձումյան փողոց հ.8/1 շենքի կոյուղագծի վերակառուցման աշխատանքներ | D20: 4984.8 | E20: 8308.1 | F20: =E20 -> 8308.1
C21: Էրեբունի վարչական շրջանի Սարի Թաղ 17-րդ փողոց ( 19-րդ փողոցից 21-րդ փողոցի ընկած հատված) հասցեի հարակից տարածք) կոյուղագծի վերակառուցման աշխատանքներ | D21: 4719.1 | E21: 7865.1 | F21: =E21 -> 7865.1
C22: Էրեբունի վարչական շրջանի Նոր Արեշ 15-րդ փողոցի հ.9 հասցեի կոյուղագծի վերակառուցման աշխատանքներ | D22: 7616.7 | E22: 12694.5 | F22: =E22 -> 12694.5
C23: Կենտրոն վարչական շրջանի Աղայան փողոցի հ.13 հասցեի կոյուղագծի վերակառուցման աշխատանքներ | D23: 15492.8 | E23: 25821.6 | F23: =E23 -> 25821.6
C24: Կենտրոն վարչական շրջանի Այգեստանի 11-րդ փողոցի հ.127 հասցեի կոյուղագծի վերակառուցման աշխատանքներ | D24: 11852.7 | E24: 19754.5 | F24: =E24 -> 19754.5
C25: Կենտրոն վարչական շրջանի Չարենցի փողոց 2-րդ նրբանցք հհ.32/2, 32/3, 32/4 և 32/7 հասցեների կոյուղագծի վերակառուցման աշխատանքներ | D25: 9500.7 | E25: 15834.5 | F25: =E25 -> 15834.5
C26: Մալաթիա-Սեբաստիա վարչական շրջանի Սվաճյան փողոց հ.58 հասցեի կոյուղագծի վերակառուցման աշխատանքներ | D26: 11321.8 | E26: 18869.5 | F26: =E26 -> 18869.5
C27: Նոր Նորք վարչական շրջանի Բանավան թաղամաս հ.5 հասցեի կոյուղագծի վերակառուցման աշխատանքներ | D27: 9175.5 | E27: 15292.5 | F27: =E27 -> 15292.5
C28: Նոր Նորք վարչական շրջանի Մոլդովական փողոցի հ.26/2 հասցեի կոյուղագծի վերակառուցման աշխատանքներ | D28: 6731.2 | E28: 11218.5 | F28: =E28 -> 11218.5
C29: Շենգավիթ վարչական շրջանի Գ. Նժդեհի փողոցի հհ.27, 27/2 հասցեների կոյուղագծի վերակառուցման աշխատանքներ | D29: 5933.3 | E29: 9888.8 | F29: =E29 -> 9888.8
... C36: Շենգավիթ վարչական շրջանի Արարատյան փողոց հ.64 հասցեից հ.66 հասցե կոյուղագծի վերակառուցման աշխատանքներ | D36: 4553.2 | E36: 7588.8 | F36: =E36 -> 7588.8
C37: Շենգավիթ վարչական շրջանի Շիրակի փողոց հ.30 շենքի կոյուղագծի վերակառուցման աշխատանքներ | D37: 1167.5 | E37: 1945.8 | F37: =+E37 -> 1945.8
C38: Քանաքեռ-Զեյթուն վարչական շրջանի Սարկավագի փողոցի հ.32, 34 հասցեների կոյուղագծի վերակառուցման աշխատանքներ | D38: 12185.4 | E38: 20309 | F38: =+E38 -> 20309
C39: Քանաքեռ-Զեյթուն վարչական շրջանի Սարկավագի փողոցի հ.117/1, 117/2 հասցեների կոյուղագծի վերակառուցման աշխատանքներ | D39: 8015.3 | E39: 13358.8 | F39: =+E39 -> 13358.8
C40: Քանաքեռ-Զեյթուն վարչական շրջանի Ռայնիսի փողոցի հ.11/1 ից 37 հասցե հասցեի կոյուղագծի վերակառուցման աշխատանքներ | D40: 3029.8 | E40: 5049.6 | F40: =+E40 -> 5049.6
C41: Քանաքեռ-Զեյթուն վարչական շրջանի Ռուբինյանց փողոցի հ.12/1 հասցեի կոյուղագծի վերակառուցման աշխատանքներ | D41: 6749.6 | E41: 11249.4 | F41: =+E41 -> 11249.4
C42: Քանաքեռ-Զեյթուն վարչական շրջանի Կ. Ուլնեցու փողոցի հ.76 հասցեի կոյուղագծի վերակառուցման աշխատանքներ | D42: 3439.9 | E42: 5733.3 | F42: =+E42 -> 5733.3
A43: 1072 | B43: 31013 | C43: Ջրամատակարարման և ջրահեռացման համակարգի կառուցում | D43: =D47+D48+D49+D50 -> 121387.2 | E43: =E47+E48+E49+E50 -> 202312 | F43: =F47+F48+F49+F50 -> 202312
C44: այդ թվում` ըստ կատարողների
C45: ՀՀ տարածքային կառավարման և ենթակառուցվածքների նախարարություն | D45: =D47+D48+D49+D50 -> 121387.2 | E45: =E47+E48+E49+E50 -> 202312 | F45: =F47+F48+F49+F50 -> 202312
C46: այդ թվում՝ ըստ ուղղությունների
C47: Մալաթիա-Սեբաստիա վարչական շրջան Հաղթանակ 1-ին փողոց 2-րդ նրբանցքի կոյուղագծի կառուցման աշխատանքներ | D47: 7991.9 | E47: 13319.8 | F47: 13319.8
...

Sheet 5
A1: Հավելված N 5
A2: ՀՀ կառավարության 2026 թվականի
A3: -ի N -Ն որոշման
A5: ՀԱՅԱՍՏԱՆԻ ՀԱՆՐԱՊԵՏՈՒԹՅԱՆ ԿԱՌԱՎԱՐՈՒԹՅԱՆ 2025 ԹՎԱԿԱՆԻ ԴԵԿՏԵՄԲԵՐԻ 25-Ի N 1910-Ն ՈՐՈՇՄԱՆ N 8 ՀԱՎԵԼՎԱԾՈՒՄ ԿԱՏԱՐՎՈՂ ԼՐԱՑՈՒՄՆԵՐԸ
D6: հազար դրամներով
A7: Ծրագրային դասիչը | C7: Ծրագրերի, միջոցառումների անվանումները | D7: Ցուցանիշների փոփոխությունը (ավելացումները նշված են դրական նշանով)
A8: Ծրագիր | B8: Միջոցառում
C9: ԸՆԴԱՄԵՆԸ ԾԱԽՍԵՐ | D9: =+D11 -> 546654
C10: այդ թվում՝
A11: 1072 | C11: Ջրամատակարարաման և ջրահեռացման բարելավում | D11: =+D12+D13 -> 546654
B12: 31010 | C12: Ջրամատակարարման և ջրահեռացման համակարգի հիմնանորոգում | D12: ='2.'!J24 -> 344342
B13: 31013 | C13: Ջրամատակարարման և ջրահեռացման համակարգի կառուցում | D13: ='2.'!J31 -> 202312
C17: ՀԱՅԱՍՏԱՆԻ ՀԱՆՐԱՊԵՏՈՒԹՅԱՆ
C18: ՎԱՐՉԱՊԵՏԻ ԱՇԽԱՏԱԿԱԶՄԻ ՂԵԿԱՎԱՐ՝ | D18: Ա. ՀԱՐՈՒԹՅՈՒՆՅԱՆ

Sheet 6
A1: Հավելված N 6
A2: ՀՀ կառավարության 2026 թվականի
A3: -ի N -Ն որոշման
A5: ՀԱՅԱՍՏԱՆԻ ՀԱՆՐԱՊԵՏՈՒԹՅԱՆ ԿԱՌԱՎԱՐՈՒԹՅԱՆ 2025 ԹՎԱԿԱՆԻ ԴԵԿՏԵՄԲԵՐԻ 25-Ի N 1910-Ն ՈՐՈՇՄԱՆ N 9 ԵՎ 9.1 ՀԱՎԵԼՎԱԾՆԵՐՈՒՄ ԿԱՏԱՐՎՈՂ ՓՈՓՈԽՈՒԹՅՈՒՆԸ ԵՎ ԼՐԱՑՈՒՄՆԵՐԸ
K6: հազար դրամներով
A7: ԲԳԿ/ԲՍԿ | B7: Ծրագիր | D7: Միջոցառում | H7: Իրականացնողը/ ակտիվն օգտագործողը/ շահառուի ընտրության չափորոշիչը | I7: Արդյունքային չափորոշիչը | J7: Ցուցանիշների փոփոխությունը (ավելացումները նշված են դրական նշանով, իսկ նվազեցումները՝ փակագծերում)
B8: Դասիչը | C8: Անվա-նումը | D8: Դասիչը | E8: Անվա-նումը | F8: Նկարագրությունը | G8: Տեսակը | J8: Առաջին կիսամյակ | K8: Ինն ամիս | L8: Տարի
A9: ԸՆԴԱՄԵՆԸ | J9: =J10+J23+J29 -> 0 | K9: =K10+K23+K29 -> 0 | L9: =L10+L23+L29 -> 0
A10: ՀՀ տարածքային կառավարման և ենթակառուցվածքների նախարարություն | J10: 327992.4 | K10: 546654 | L10: 546654
B11: 1072 | C11: Ջրամատակարարաման և ջրահեռացման բարելավում | J11: 327992.4 | K11: 546654 | L11: 546654
D12: 1072 - 31010 | E12: Ջրամատակարարման և ջրահեռացման համակարգի հիմնանորոգում | J12: 206605.2 | K12: 344342 | L12: 344342
F13: Ջրամատակարարման և ջրահեռացման համակարգի հիմնանորոգման նախագծերի և աշխատանքների ձեռքբերում
G14: Պետական մարմինների կողմից օգտագործվող ոչ ֆինանսական ակտիվների հետ գործառնություններ
H15: Ակտիվն օգտագործող կազմակերպության(ների) անվանում(ները)՝ ՀՀ ՏԿԵՆ ջրային կոմիտե
I16: Հիմնանորոգվող կոյուղատար համակարգեր, հատ | L16: 25
D17: 1072 - 31013 | E17: Ջրամատակարարման և ջրահեռացման համակարգի կառուցում | J17: ='2.'!H31 -> 121387.2 | K17: ='2.'!I31 -> 202312 | L17: ='2.'!J31 -> 202312
F18: Ջրամատակարարման և ջրահեռացման համակարգի կառուցման նախագծերի և աշխատանքների ձեռքբերում
G19: Պետական մարմինների կողմից օգտագործվող ոչ ֆինանսական ակտիվների հետ գործառնություններ
H20: Ակտիվն օգտագործող կազմակերպության անվանումը` ՀՀ ՏԿԵՆ ջրային կոմիտե
I21: Կառուցվող կոյուղատար համակարգեր, հատ | L21: 2
I22: Կառուցվող հեղեղատար համակարգեր, հատ | L22: 2
A23: ՀՀ ֆինանսների նախարարություն | J23: -327992.4 | K23: -546654 | L23: -546654
B24: 1006 | C24: Պետական պարտքի կառավարում | J24: -327992.4 | K24: -546654 | L24: -546654
D25: 1006 - 13001 | E25: Կառավարության պարտքի սպասարկում | J25: -327992.4 | K25: -546654 | L25: -546654
F26: Կառավարության պարտքի սպասարկում (տոկոսավճարներ)
G27: Ֆինանսավորման ծախսերի իրականացում
H28: Միջոցառումն իրականացնողի անվանումը` ՀՀ ֆինանսների նախարարություն
A29: ՀՀ կառավարություն | J29: =J31+J35 -> 0 | K29: =K31+K35 -> 0 | L29: =L31+L35 -> 0
B30: 1139 | C30: ՀՀ կառավարության պահուստային ֆոնդ | J30: 0 | K30: 0 | L30: 0
D31: 1139 - 11001 | E31: ՀՀ կառավարության պահուստային ֆոնդ | J31: =-J35 -> 327992.4 | K31: =-K35 -> 546654 | L31: =-L35 -> 546654
F32: ՀՀ պետական բյուջեում նախատեսված ելքերի լրացուցիչ ֆինանսավորման, պետական բյուջեում չկանխատեսված ելքերի, ինչպես նաև բյուջետային երաշխիքների ապահովման ելքերի ֆինանսավորման ապահովում
G33: Ծառայությունների մատուցում
H34: Ծառայությունը մատուցողի անվանումը` ՀՀ կառավարություն
D35: 1139 - 11001 | E35: ՀՀ կառավարության պահուստային ֆոնդ | J35: ='2.'!H80 -> -327992.4 | K35: ='2.'!I80 -> -546654 | L35: ='2.'!J80 -> -546654
F36: ՀՀ պետական բյուջեում նախատեսված ելքերի լրացուցիչ ֆինանսավորման, պետական բյուջեում չկանխատեսված ելքերի, ինչպես նաև բյուջետային երաշխիքների ապահովման ելքերի ֆինանսավորման ապահովում
G37: Ծառայությունների մատուցում
H38: Ծառայությունը մատուցողի անվանումը` ՀՀ կառավարություն
I40: ՀԱՅԱՍՏԱՆԻ ՀԱՆՐԱՊԵՏՈՒԹՅԱՆ ՎԱՐՉԱՊԵՏԻ ԱՇԽԱՏԱԿԱԶՄԻ ՂԵԿԱՎԱՐ՝ | J40: Ա. ՀԱՐՈՒԹՅՈՒՆՅԱՆ
