Workbook

Sheet Հավելված 1
I1: Հավելված N 1
I2: ՀՀ կառավարության 2026 թվականի
I3: ___________ ___-ի N _______ -Ն որոշման
A4: «ՀԱՅԱՍՏԱՆԻ ՀԱՆՐԱՊԵՏՈՒԹՅԱՆ 2026 ԹՎԱԿԱՆԻ ՊԵՏԱԿԱՆ ԲՅՈՒՋԵԻ ՄԱՍԻՆ» ՀԱՅԱՍՏԱՆԻ ՀԱՆՐԱՊԵՏՈՒԹՅԱՆ ՕՐԵՆՔԻ N 1 ՀԱՎԵԼՎԱԾԻ N 2 ԱՂՅՈՒՍԱԿՈՒՄ ԿԱՏԱՐՎՈՂ ՎԵՐԱԲԱՇԽՈՒՄԸ ԵՎ ՀԱՅԱՍՏԱՆԻ ՀԱՆՐԱՊԵՏՈՒԹՅԱՆ ԿԱՌԱՎԱՐՈՒԹՅԱՆ 2025 ԹՎԱԿԱՆԻ ԴԵԿՏԵՄԲԵՐԻ 25-Ի N 1910-Ն ՈՐՈՇՄԱՆ N 5 ՀԱՎԵԼՎԱԾԻ N 1 ԱՂՅՈՒՍԱԿՈՒՄ ԿԱՏԱՐՎՈՂ ՓՈՓՈԽՈՒԹՅՈՒՆՆԵՐԸ
I5: հազար դրամներով
A6: ԲԳԿ | B6: Ծրագրային դասիչը | D6: ԲԳԿ/Ծրագրի /միջոցառման անվանումը | E6: Ծրագրի նպատակը/Միջոցառման նկարագրությունը | F6: Վերջնական արդյունքի նկարագրությունը/Միջոցառման տեսակը | G6: Ցուցանիշների փոփոխությունը (ավելացումները նշված են դրական նշանով, իսկ նվազեցումները՝ փակագծերում)
G7: Առաջին կիսամյակ | H7: Ինն ամիս | I7: Տարի
B8: Ծրագիր | C8: Միջոցառում
A9: ԸՆԴԱՄԵՆԸ | G9: =+G10 -> 0 | H9: =+H10 -> 0 | I9: =+I10 -> 0
A10: ՀՀ ազգային անվտանգության ծառայություն | G10: =G11 -> 0 | H10: =H11 -> 0 | I10: =I11 -> 0
B11: 1138 | D11: Ազգային անվտանգություն | E11: Ներքին և արտաքին սպառնալիքներից անձի, հասարակության ու պետության անվտանգության ապահովում | F11: Այլ պետությունների կողմից հետախուզական գործունեության կասեցում,պետական սահմանի անձեռնամխելիության ապահովում, կոռուպցիոն ռիսկերի շեշտակի նվազեցում | G11: =G12+G13+G14 -> 0 | H11: =H12+H13+H14 -> 0 | I11: =I12+I13+I14 -> 0
C12: 1138 - 31001 | D12: Ազգային անվտանգության համակարգի տեխնիկական հագեցվածության բարելավում | E12: Ազգային անվտանգության համակարգի ստորաբաժանումների համար վարչական սարքավորումների ձեռքբերում | F12: Պետական մարմինների կողմից օգտագործվող ոչ ֆինանսական ակտիվների հետ գործառնություններ | G12: =+'Հավելված 3'!G21 -> -5778.65 | H12: =+'Հավելված 3'!H21 -> -5778.65 | I12: =+'Հավելված 3'!I21 -> -5778.65
C13: 1138 - 31002 | D13: Ազգային անվտանգության համակարգի շենքային ապահովվածության բարելավում | E13: Ազգային անվտանգության համակարգի ստորաբաժանումների վարչական շենքերի կառուցում, կապիտալ վերանորոգում, շինարարական և կապիտալ նորոգման օբյեկտների նախագծահետազոտական փաստաթղթերի պատրաստում | F13: Պետական մարմինների կողմից օգտագործվող ոչ ֆինանսական ակտիվների հետ գործառնություններ | G13: =+'Հավելված 3'!G30 -> -67721.35 | H13: =+'Հավելված 3'!H30 -> -67721.35 | I13: =+'Հավելված 3'!I30 -> -67721.35
C14: 1138 - 31003 | D14: Ազգային անվտանգության համակարգի տրանսպորտային սարքավորումների հագեցվածության բարելավում | E14: Պետական մարմինների կողմից օգտագործվող ոչ ֆինանսական ակտիվների հետ գործառնություններ | F14: Պետական մարմինների կողմից օգտագործվող ոչ ֆինանսական ակտիվների հետ գործառնություններ | G14: =+'Հավելված 3'!G39 -> 73500 | H14: =+'Հավելված 3'!H39 -> 73500 | I14: =+'Հավելված 3'!I39 -> 73500

Sheet Հավելված 2
H1: Հավելված N 2
F2: ՀՀ կառավարության 2026 թվականի
F3: ___________ ___-ի N _______ -Ն որոշման
A5: «ՀԱՅԱՍՏԱՆԻ ՀԱՆՐԱՊԵՏՈՒԹՅԱՆ 2026 ԹՎԱԿԱՆԻ ՊԵՏԱԿԱՆ ԲՅՈՒՋԵԻ ՄԱՍԻՆ» ՀԱՅԱՍՏԱՆԻ ՀԱՆՐԱՊԵՏՈՒԹՅԱՆ ՕՐԵՆՔԻ N 1 ՀԱՎԵԼՎԱԾԻ N 3 ԱՂՅՈՒՍԱԿՈՒՄ ԿԱՏԱՐՎՈՂ ՓՈՓՈԽՈՒԹՅՈՒՆՆԵՐԸ
A6: հազար դրամներով
A8: Ծրագրային դասիչ | C8: Բյուջետային գլխավոր կարգադրիչների, ծրագրերի, միջոցառումների և ուղղությունների անվանումները | D8: Ընդամենը | E8: Ցուցանիշների փոփոխությունը (ավելացումները նշված են դրական նշանով, իսկ նվազեցումները՝ փակագծերում)
A9: Ծրագիր | B9: Միջոց առում | E9: Կառուցման աշխատանքներ | F9: Վերակառուցման, վերանորոգման և վերականգնման աշխատանքներ | G9: Նախագծահե- տազոտական, գեոդեզիա- քարտեզագրական աշխատանքներ | H9: Ոչ ֆինանսական այլ ակտիվների ձեռքբերում
C10: ԸՆԴԱՄԵՆԸ | D10: =D11 -> 0 | E10: =E11 -> 0 | F10: =F11 -> -67721.35 | G10: =G11 -> 0 | H10: =H11 -> 67721.35
C11: ՀՀ ազգային անվտանգության ծառայություն | D11: =D13+D14+D15 -> 0 | E11: =E13+E14+E15 -> 0 | F11: =F13+F14+F15 -> -67721.35 | G11: =G13+G14+G15 -> 0 | H11: =H13+H14+H15 -> 67721.35
C12: այդ թվում՛
A13: 1138 | B13: 31001 | C13: Ազգային անվտանգության համակարգի տեխնիկական հագեցվածության բարելավում | D13: =SUM(E13:H13) -> -5778.65 | H13: =+'Հավելված 3'!I21 -> -5778.65
A14: 1138 | B14: 31002 | C14: Ազգային անվտանգության համակարգի շենքային ապահովվածության բարելավում | D14: =SUM(E14:H14) -> -67721.35 | F14: =+'Հավելված 3'!I30 -> -67721.35
A15: 1138 | B15: 31003 | C15: Ազգային անվտանգության համակարգի տրանսպորտային սարքավորումների հագեցվածության բարելավում | D15: =SUM(E15:H15) -> 73500 | F15: 0 | G15: 0 | H15: =+'Հավելված 3'!I39 -> 73500

Sheet Հավելված 3
I1: Հավելված N 3
I2: ՀՀ կառավարության 2026 թվականի
H3: ___________ ___-ի N _______ -Ն որոշման
A5: ՀԱՅԱՍՏԱՆԻ ՀԱՆՐԱՊԵՏՈՒԹՅԱՆ ԿԱՌԱՎԱՐՈՒԹՅԱՆ 2025 ԹՎԱԿԱՆԻ ԴԵԿՏԵՄԲԵՐԻ 25-Ի N 1910-Ն ՈՐՈՇՄԱՆ N 3 ԵՎ N 4 ՀԱՎԵԼՎԱԾՆԵՐՈՒՄ ԿԱՏԱՐՎՈՂ ՓՈՓՈԽՈՒԹՅՈՒՆՆԵՐԸ
H7: հազար դրամներով
A8: Գործառական դասիչը | D8: Ծրագրային դասիչը | F8: Բյուջետային հատկացումների գլխավոր կարգադրիչների, ծրագրերի, միջոցառումների և միջոցառումները կատարող պետական մարմինների անվանումները | G8: Ցուցանիշների փոփոխությունը (ավելացումները նշված են դրական նշանով, իսկ նվազեցումները՝ փակագծերում)
A9: Բաժին | B9: Խումբ | C9: Դաս | D9: Ծրագիր | E9: Միջոցառում | G9: Առաջին կիսամյակ | H9: Ինն ամիս | I9: Տարի
F10: ԸՆԴԱՄԵՆԸ ԾԱԽՍԵՐ | G10: 0 | H10: 0 | I10: 0
F11: այդ թվում`
A12: 03 | F12: ՀԱՍԱՐԱԿԱԿԱՆ ԿԱՐԳ, ԱՆՎՏԱՆԳՈՒԹՅՈՒՆ ԵՎ ԴԱՏԱԿԱՆ ԳՈՐԾՈՒՆԵՈՒԹՅՈՒՆ | G12: =G14 -> 0 | H12: =H14 -> 0 | I12: =I14 -> 0
F13: այդ թվում`
B14: 01 | F14: Հասարակական կարգ և անվտանգություն | G14: =G16 -> 0 | H14: =H16 -> 0 | I14: =I16 -> 0
F15: այդ թվում`
C16: 02 | F16: Ազգային անվտանգություն | G16: =G18 -> 0 | H16: =H18 -> 0 | I16: =I18 -> 0
F17: այդ թվում`
D18: 1138 | F18: Ազգային անվտանգություն | G18: =G21+G30+G39 -> 0 | H18: =H21+H30+H39 -> 0 | I18: =I21+I30+I39 -> 0
F19: այդ թվում`
F20: ՀՀ ազգային անվտանգության ծառայություն | G20: =G21+G30+G39 -> 0 | H20: =H21+H30+H39 -> 0 | I20: =I21+I30+I39 -> 0
E21: 31001 | F21: Ազգային անվտանգության համակարգի տեխնիկական հագեցվածության բարելավում | G21: =G23 -> -5778.65 | H21: =H23 -> -5778.65 | I21: =I23 -> -5778.65
F22: այդ թվում` ըստ կատարողների
F23: ՀՀ ազգային անվտանգության ծառայություն | G23: =G25 -> -5778.65 | H23: =H25 -> -5778.65 | I23: =I25 -> -5778.65
F24: այդ թվում` բյուջետային ծախսերի տնտեսագիտական դասակարգման հոդվածներ
F25: ԸՆԴԱՄԵՆԸ ԾԱԽՍԵՐ | G25: =G26 -> -5778.65 | H25: =H26 -> -5778.65 | I25: =I26 -> -5778.65
F26: ՈՉ ՖԻՆԱՆՍԱԿԱՆ ԱԿՏԻՎՆԵՐԻ ԳԾՈՎ ԾԱԽՍԵՐ | G26: =G27 -> -5778.65 | H26: =H27 -> -5778.65 | I26: =I27 -> -5778.65
F27: ՀԻՄՆԱԿԱՆ ՄԻՋՈՑՆԵՐ | G27: =G28 -> -5778.65 | H27: =H28 -> -5778.65 | I27: =I28 -> -5778.65
F28: ՄԵՔԵՆԱՆԵՐ ԵՎ ՍԱՐՔԱՎՈՐՈՒՄՆԵՐ | G28: =G29 -> -5778.65 | H28: =H29 -> -5778.65 | I28: =I29 -> -5778.65
F29: - Վարչական սարքավորումներ | G29: -5778.65 | H29: -5778.65 | I29: -5778.65
E30: 31002 | F30: Ազգային անվտանգության համակարգի շենքային ապահովվածության բարելավում | G30: =G32 -> -67721.35 | H30: =H32 -> -67721.35 | I30: =I32 -> -67721.35
F31: այդ թվում` ըստ կատարողների
F32: ՀՀ ազգային անվտանգության ծառայություն | G32: =+G34 -> -67721.35 | H32: =+H34 -> -67721.35 | I32: =+I34 -> -67721.35
F33: այդ թվում` բյուջետային ծախսերի տնտեսագիտական դասակարգման հոդվածներ
F34: ԸՆԴԱՄԵՆԸ ԾԱԽՍԵՐ | G34: =G35 -> -67721.35 | H34: =H35 -> -67721.35 | I34: =I35 -> -67721.35
F35: ՈՉ ՖԻՆԱՆՍԱԿԱՆ ԱԿՏԻՎՆԵՐԻ ԳԾՈՎ ԾԱԽՍԵՐ | G35: =G36 -> -67721.35 | H35: =H36 -> -67721.35 | I35: =I36 -> -67721.35
F36: ՀԻՄՆԱԿԱՆ ՄԻՋՈՑՆԵՐ | G36: =G37 -> -67721.35 | H36: =H37 -> -67721.35 | I36: =I37 -> -67721.35
F37: ՇԵՆՔԵՐ ԵՎ ՇԻՆՈՒԹՅՈՒՆՆԵՐ | G37: =G38 -> -67721.35 | H37: =H38 -> -67721.35 | I37: =I38 -> -67721.35
F38: - Շենքերի և շինությունների կապիտալ վերանորոգում | G38: -67721.35 | H38: -67721.35 | I38: -67721.35
E39: 31003 | F39: Ազգային անվտանգության համակարգի տրանսպորտային սարքավորումների հագեցվածության բարելավում | G39: =G41 -> 73500 | H39: =H41 -> 73500 | I39: =I41 -> 73500
F40: այդ թվում` ըստ կատարողների
F41: ՀՀ ազգային անվտանգության ծառայություն | G41: =G43 -> 73500 | H41: =H43 -> 73500 | I41: =I43 -> 73500
F42: այդ թվում` բյուջետային ծախսերի տնտեսագիտական դասակարգման հոդվածներ
F43: ԸՆԴԱՄԵՆԸ ԾԱԽՍԵՐ | G43: =G44 -> 73500 | H43: =H44 -> 73500 | I43: =I44 -> 73500
F44: ՈՉ ՖԻՆԱՆՍԱԿԱՆ ԱԿՏԻՎՆԵՐԻ ԳԾՈՎ ԾԱԽՍԵՐ | G44: =G45 -> 73500 | H44: =H45 -> 73500 | I44: =I45 -> 73500
F45: ՀԻՄՆԱԿԱՆ ՄԻՋՈՑՆԵՐ | G45: =G46 -> 73500 | H45: =H46 -> 73500 | I45: =I46 -> 73500
F46: ՄԵՔԵՆԱՆԵՐ ԵՎ ՍԱՐՔԱՎՈՐՈՒՄՆԵՐ | G46: =G47 -> 73500 | H46: =H47 -> 73500 | I46: =I47 -> 73500
F47: - Տրանսպորտային սարքավորումներ | G47: 73500 | H47: 73500 | I47: 73500

Sheet Հավելված 4
F2: Հավելված N 4
F3: ՀՀ կառավարության 2026 թվականի
E4: ___________ ___-ի N _______ -Ն որոշման
A6: ՀԱՅԱՍՏԱՆԻ ՀԱՆՐԱՊԵՏՈՒԹՅԱՆ ԿԱՌԱՎԱՐՈՒԹՅԱՆ 2025 ԹՎԱԿԱՆԻ ԴԵԿՏԵՄԲԵՐԻ 25-Ի N 1910-Ն ՈՐՈՇՄԱՆ N 5 ՀԱՎԵԼՎԱԾԻ N 2 ԱՂՅՈՒՍԱԿՈՒՄ ԿԱՏԱՐՎՈՂ ՓՈՓՈԽՈՒԹՅՈՒՆՆԵՐԸ
E7: հազար դրամներով
A8: Ծրագրային դասիչ | C8: Բյուջետային գլխավոր կարգադրիչների, ծրագրերի, միջոցառումների և ուղղությունների անվանումները | D8: Ցուցանիշների փոփոխությունը (ավելացումները նշված են դրական նշանով, իսկ նվազեցումները՝ փակագծերում)
A9: Ծրագիր | B9: Միջոցառում | D9: Առաջին կիսամյակ | E9: Ինն ամիս | F9: Տարի
C10: ԸՆԴԱՄԵՆԸ | D10: =D12 -> 0 | E10: =E12 -> 0 | F10: =F12 -> 0
C11: այդ թվում`
C12: ՀՀ ազգային անվտանգության ծառայություն | D12: =D14+D17+D20 -> 0 | E12: =E14+E17+E20 -> 0 | F12: =F14+F17+F20 -> 0
C13: այդ թվում՛
A14: 1138 | B14: 31001 | C14: Ազգային անվտանգության համակարգի տեխնիկական հագեցվածության բարելավում | D14: =D16 -> -5778.65 | E14: =E16 -> -5778.65 | F14: =F16 -> -5778.65
C15: այդ թվում` ըստ կատարողների
C16: ՀՀ ազգային անվտանգության ծառայություն | D16: =+'Հավելված 3'!G21 -> -5778.65 | E16: =+'Հավելված 3'!H21 -> -5778.65 | F16: =+'Հավելված 3'!I21 -> -5778.65
A17: 1138 | B17: 31002 | C17: Ազգային անվտանգության համակարգի շենքային ապահովվածության բարելավում | D17: =D19 -> -67721.35 | E17: =E19 -> -67721.35 | F17: =F19 -> -67721.35
C18: այդ թվում` ըստ կատարողների
C19: ՀՀ ազգային անվտանգության ծառայություն | D19: =+'Հավելված 3'!G30 -> -67721.35 | E19: =+'Հավելված 3'!H30 -> -67721.35 | F19: =+'Հավելված 3'!I30 -> -67721.35
A20: 1138 | B20: 31003 | C20: Ազգային անվտանգության համակարգի տրանսպորտային սարքավորումների հագեցվածության բարելավում | D20: =D22 -> 73500 | E20: =E22 -> 73500 | F20: =F22 -> 73500
C21: այդ թվում` ըստ կատարողների
C22: ՀՀ ազգային անվտանգության ծառայություն | D22: =+'Հավելված 3'!G39 -> 73500 | E22: =+'Հավելված 3'!H39 -> 73500 | F22: =+'Հավելված 3'!I39 -> 73500

Sheet Հավելված 5
L1: Հավելված N 5
J2: ՀՀ կառավարության 2026 թվականի
J3: ___________ ___-ի N _______ -Ն որոշման
A6: ՀԱՅԱՍՏԱՆԻ ՀԱՆՐԱՊԵՏՈՒԹՅԱՆ ԿԱՌԱՎԱՐՈՒԹՅԱՆ 2025 ԹՎԱԿԱՆԻ ԴԵԿՏԵՄԲԵՐԻ 25-Ի N 1910-Ն ՈՐՈՇՄԱՆ N 9 ՀԱՎԵԼՎԱԾՈՒՄ ԿԱՏԱՐՎՈՂ ՓՈՓՈԽՈՒԹՅՈՒՆՆԵՐԸ
J8: հազար դրամներով
A9: ԲԳԿ | B9: Ծրագիր | D9: Միջոցառում | H9: Իրականացնողը/ ակտիվն օգտագործողը/ շահառուի ընտրության չափորոշիչը | I9: Արդյունքային չափորոշիչը | J9: Ցուցանիշների փոփոխությունը (ավելացումները նշված են դրական նշանով, իսկ նվազեցումները՝ փակագծերում)
B10: Դասիչը | C10: Անվանումը | D10: Դասիչը | E10: Անվանումը | F10: Նկարագրությունը | G10: Տեսակը | J10: Առաջին կիսամյակ | K10: Ինն ամիս | L10: Տարի
A11: ԸՆԴԱՄԵՆԸ | J11: =J12 -> 0 | K11: =K12 -> 0 | L11: =L12 -> 0
A12: ՀՀ ազգային անվտանգության ծառայություն | J12: =J13 -> 0 | K12: =K13 -> 0 | L12: =L13 -> 0
B13: 1138 | C13: Ազգային անվտանգություն | J13: =J14+J20+J24 -> 0 | K13: =K14+K20+K24 -> 0 | L13: =L14+L20+L24 -> 0
D14: 1138 - 31001 | E14: Ազգային անվտանգության համակարգի տեխնիկական հագեցվածության բարելավում | J14: =+'Հավելված 3'!G21 -> -5778.65 | K14: =+'Հավելված 3'!H21 -> -5778.65 | L14: =+'Հավելված 3'!I21 -> -5778.65
F15: Ազգային անվտանգության համակարգի ստորաբաժանումների համար վարչական սարքավորումների ձեռքբերում
G16: Պետական մարմինների կողմից օգտագործվող ոչ ֆինանսական ակտիվների հետ գործառնություններ
H17: Ակտիվն օգտագործող կազմակերպության անվանումը` ՀՀ ազգային անվտանգության ծառայություն
I18: Համակարգչային և տեխնիկական սարքավորումների քանակ, հատ | J18: 1 | L18: 1
I19: Գրասենյակային գույքի միավոր քանակ, հատ | J19: -96 | L19: -96
D20: 1138 - 31002 | E20: Ազգային անվտանգության համակարգի շենքային ապահովվածության բարելավում | J20: =+'Հավելված 3'!G30 -> -67721.35 | K20: =+'Հավելված 3'!H30 -> -67721.35 | L20: =+'Հավելված 3'!I30 -> -67721.35
F21: Ազգային անվտանգության համակարգի ստորաբաժանումների վարչական շենքերի կառուցում, կապիտալ վերանորոգում, շինարարական և կապիտալ նորոգման օբյեկտների նախագծահետազոտական փաստաթղթերի պատրաստում
G22: Պետական մարմինների կողմից օգտագործվող ոչ ֆինանսական ակտիվների հետ գործառնություններ
H23: Ակտիվն օգտագործող կազմակերպության անվանումը` ՀՀ ազգային անվտանգության ծառայություն
D24: 1138 - 31003 | E24: Ազգային անվտանգության համակարգի տրանսպորտային սարքավորումների հագեցվածության բարելավում | J24: =+'Հավելված 3'!G39 -> 73500 | K24: =+'Հավելված 3'!H39 -> 73500 | L24: =+'Հավելված 3'!I39 -> 73500
F25: Ազգային անվտանգության համակարգի ստորաբաժանումների համար տրանսպորտային սարքավորումների ձեռքբերում
G26: Պետական մարմինների կողմից օգտագործվող ոչ ֆինանսական ակտիվների հետ գործառնություններ
H27: Ակտիվն օգտագործող կազմակերպության անվանումը` ՀՀ ազգային անվտանգության ծառայություն
I28: Ավտոմեքենաների քանակ, հատ | J28: 7 | L28: 7

Sheet Հավելված 6
L1: Հավելված N 6
J2: ՀՀ կառավարության 2026 թվականի
J3: ___________ ___-ի N _______ -Ն որոշման
A6: ՀԱՅԱՍՏԱՆԻ ՀԱՆՐԱՊԵՏՈՒԹՅԱՆ ԿԱՌԱՎԱՐՈՒԹՅԱՆ 2025 ԹՎԱԿԱՆԻ ԴԵԿՏԵՄԲԵՐԻ 25-Ի N 1910-Ն ՈՐՈՇՄԱՆ N 9 ՀԱՎԵԼՎԱԾՈՒՄ ԿԱՏԱՐՎՈՂ ՓՈՓՈԽՈՒԹՅՈՒՆՆԵՐԸ
J8: հազար դրամներով
A9: ԲՍԿ | B9: Ծրագիր | D9: Միջոցառում | H9: Իրականացնողը/ ակտիվն օգտագործողը/ շահառուի ընտրության չափորոշիչը | I9: Արդյունքային չափորոշիչը | J9: Ցուցանիշների փոփոխությունը (ավելացումները նշված են դրական նշանով, իսկ նվազեցումները՝ փակագծերում)
B10: Դասիչը | C10: Անվանումը | D10: Դասիչը | E10: Անվանումը | F10: Նկարագրությունը | G10: Տեսակը | J10: Առաջին կիսամյակ | K10: Ինն ամիս | L10: Տարի
A11: ԸՆԴԱՄԵՆԸ | J11: =J12 -> 0 | K11: =K12 -> 0 | L11: =L12 -> 0
A12: ՀՀ ազգային անվտանգության ծառայություն | J12: =J13 -> 0 | K12: =K13 -> 0 | L12: =L13 -> 0
B13: 1138 | C13: Ազգային անվտանգություն | J13: =J14+J20+J24 -> 0 | K13: =K14+K20+K24 -> 0 | L13: =L14+L20+L24 -> 0
D14: 1138 - 31001 | E14: Ազգային անվտանգության համակարգի տեխնիկական հագեցվածության բարելավում | J14: =+'Հավելված 3'!G21 -> -5778.65 | K14: =+'Հավելված 3'!H21 -> -5778.65 | L14: =+'Հավելված 3'!I21 -> -5778.65
F15: Ազգային անվտանգության համակարգի ստորաբաժանումների համար վարչական սարքավորումների ձեռքբերում
G16: Պետական մարմինների կողմից օգտագործվող ոչ ֆինանսական ակտիվների հետ գործառնություններ
H17: Ակտիվն օգտագործող կազմակերպության անվանումը` ՀՀ ազգային անվտանգության ծառայություն
I18: Համակարգչային և տեխնիկական սարքավորումների քանակ, հատ | J18: 1 | L18: 1
I19: Գրասենյակային գույքի միավոր քանակ, հատ | J19: -96 | L19: -96
D20: 1138 - 31002 | E20: Ազգային անվտանգության համակարգի շենքային ապահովվածության բարելավում | J20: =+'Հավելված 3'!G30 -> -67721.35 | K20: =+'Հավելված 3'!H30 -> -67721.35 | L20: =+'Հավելված 3'!I30 -> -67721.35
F21: Ազգային անվտանգության համակարգի ստորաբաժանումների վարչական շենքերի կառուցում, կապիտալ վերանորոգում, շինարարական և կապիտալ նորոգման օբյեկտների նախագծահետազոտական փաստաթղթերի պատրաստում
G22: Պետական մարմինների կողմից օգտագործվող ոչ ֆինանսական ակտիվների հետ գործառնություններ
H23: Ակտիվն օգտագործող կազմակերպության անվանումը` ՀՀ ազգային անվտանգության ծառայություն
D24: 1138 - 31003 | E24: Ազգային անվտանգության համակարգի տրանսպորտային սարքավորումների հագեցվածության բարելավում | J24: =+'Հավելված 3'!G39 -> 73500 | K24: =+'Հավելված 3'!H39 -> 73500 | L24: =+'Հավելված 3'!I39 -> 73500
F25: Ազգային անվտանգության համակարգի ստորաբաժանումների համար տրանսպորտային սարքավորումների ձեռքբերում
G26: Պետական մարմինների կողմից օգտագործվող ոչ ֆինանսական ակտիվների հետ գործառնություններ
H27: Ակտիվն օգտագործող կազմակերպության անվանումը` ՀՀ ազգային անվտանգության ծառայություն
I28: Ավտոմեքենաների քանակ, հատ | J28: 7 | L28: 7

Sheet Հավելված 7
F1: Հավելված N 7
E2: ՀՀ կառավարության 2026 թվականի
E3: ___________ ___-ի N _______ -Ն որոշման
A5: ՀԱՅԱՍՏԱՆԻ ՀԱՆՐԱՊԵՏՈՒԹՅԱՆ ԿԱՌԱՎԱՐՈՒԹՅԱՆ 2025 ԹՎԱԿԱՆԻ ԴԵԿՏԵՄԲԵՐԻ 25-Ի N 1910-Ն ՈՐՈՇՄԱՆ N 10 ՀԱՎԵԼՎԱԾՈՒՄ ԿԱՏԱՐՎՈՂ ՓՈՓՈԽՈՒԹՅՈՒՆՆԵՐԸ ԵՎ ԼՐԱՑՈՒՄԸ
A7: Կոդը | B7: Անվանումը | C7: Գնման ձևը | D7: Չափման միավորը | E7: Միավորի գինը | F7: Ցուցանիշների փոփոխությունը (ավելացումները նշված են դրական նշանով, իսկ նվազեցումները՝ փակագծերում)
F8: Քանակը | G8: Գումարը (հազար դրամով)
A9: ՀՀ ազգային անվտանգության ծառայություն
A10: Բաժին N 03 | B10: Խումբ N 01 | C10: Դաս N 02 | D10: Ազգային անվտանգություն | G10: =G11+G15 -> 67721.376
A11: 1138 31001 | B11: Ազգային անվտանգության համակարգի տեխնիկական հագեցվածության բարելավում | G11: =G12 -> -5778.6241
A12: ՄԱՍ I. Ա Պ Ր Ա Ն Ք Ն Ե Ր | G12: =SUM(G13:G14) -> -5778.6241
A13: 39141250/1 | B13: Զինվորական մահճակալ | C13: ԷԱՃ | D13: հատ | E13: 60000 | F13: -1074 | G13: =E13*F13/1000 -> -64440
A14: 39141250/2 | B14: Զինվորական մահճակալ | C14: ԷԱՃ | D14: հատ | E14: 60042.35 | F14: 977 | G14: =E14*F14/1000 -> 58661.376
A15: 1138 31003 | B15: Ազգային անվտանգության համակարգի տրանսպորտային սարքավորումների հագեցվածության բարելավում | G15: =G16 -> 73500
A16: ՄԱՍ I. Ա Պ Ր Ա Ն Ք Ն Ե Ր | G16: =SUM(G17:G17) -> 73500
A17: 34111130/5 | B17: Սեդան թափքով մեքենաներ | C17: ԷԱՃ | D17: հատ | E17: 10500000 | F17: 7 | G17: =E17*F17/1000 -> 73500
