Workbook

Sheet 1
B1: Հավելված N 1
B2: ՀՀ կառավարության 2026 թվականի
B3: -----------------ի N -----------Ն որոշման
A5: «ՀԱՅԱՍՏԱՆԻ ՀԱՆՐԱՊԵՏՈՒԹՅԱՆ 2026 ԹՎԱԿԱՆԻ ՊԵՏԱԿԱՆ ԲՅՈՒՋԵԻ ՄԱՍԻՆ» ՀԱՅԱՍՏԱՆԻ ՀԱՆՐԱՊԵՏՈՒԹՅԱՆ ՕՐԵՆՔԻ 2-ՐԴ ՀՈԴՎԱԾԻ ԱՂՅՈՒՍԱԿՈՒՄ ԿԱՏԱՐՎՈՂ ՓՈՓՈԽՈՒԹՅՈՒՆԸ
B6: հազար դրամներով
B7: Ցուցանիշների փոփոխությունը (գումարների ավելացումը նշված է դրական նշանով)
A8: 1. Եկամուտների գծով | B8: =B9 -> 869844
A9: 2. Ծախսերի գծով | B9: ='5'!H13 -> 869844
A10: 3. Դեֆիցիտը (պակասուրդը) | B10: -

Sheet 2
D1: Հավելված N 2
D2: ՀՀ կառավարության 2026 թվականի
D3: -----------------ի N -----------Ն որոշման
A5: ,«ՀԱՅԱՍՏԱՆԻ ՀԱՆՐԱՊԵՏՈՒԹՅԱՆ 2026 ԹՎԱԿԱՆԻ ՊԵՏԱԿԱՆ ԲՅՈՒՋԵԻ ՄԱՍԻՆ» ՕՐԵՆՔԻ 6-ՐԴ ՀՈԴՎԱԾԻ ԱՂՅՈՒՍԱԿՈՒՄ ԵՎ ՀԱՅԱՍՏԱՆԻ ՀԱՆՐԱՊԵՏՈՒԹՅԱՆ ԿԱՌԱՎԱՐՈՒԹՅԱՆ 2025 ԹՎԱԿԱՆԻ ԴԵԿՏԵՄԲԵՐԻ 25-Ի N 1910-Ն ՈՐՈՇՄԱՆ N 2 ՀԱՎԵԼՎԱԾՈՒՄ ԿԱՏԱՐՎՈՂ ՓՈՓՈԽՈՒԹՅՈՒՆԸ
D6: հազար դրամներով
A7: Պետական բյուջեի եկամուտները | B7: Ցուցանիշների փոփոխությունը (գումարների ավելացումը նշված է դրական նշանով)
B8: Առաջին կիսամյակ | C8: Ինն ամիս | D8: Տարի
A9: Ընդամենը | B9: =B11 -> 869844 | C9: =C11 -> 869844 | D9: =D11 -> 869844
A10: այդ թվում՝
A11: Այլ եկամուտներ | B11: ='1'!B9 -> 869844 | C11: =B11 -> 869844 | D11: =C11 -> 869844

Sheet 3
G1: Հավելված N 3
I2: ՀՀ կառավարության 2026 թվականի
I3: ______________ ի ___Ն որոշման
B5: «ՀԱՅԱUՏԱՆԻ ՀԱՆՐԱՊԵՏՈՒԹՅԱՆ 2026 ԹՎԱԿԱՆԻ ՊԵՏԱԿԱՆ ԲՅՈՒՋԵԻ ՄԱUԻՆ» OՐԵՆՔԻ N 1 ՀԱՎԵԼՎԱԾԻ N 2 ԱՂՅՈՒՍԱԿՈՒՄ ԵՎ ՀԱՅԱՍՏԱՆԻ ՀԱՆՐԱՊԵՏՈՒԹՅԱՆ ԿԱՌԱՎԱՐՈՒԹՅԱՆ 2025 ԹՎԱԿԱՆԻ ԴԵԿՏԵՄԲԵՐԻ 25-Ի N 1910-Ն ՈՐՈՇՄԱՆ N 5 ՀԱՎԵԼՎԱԾԻ N 1 ԱՂՅՈՒՍԱԿՈՒՄ ԿԱՏԱՐՎՈՂ ՓՈՓՈԽՈՒԹՅՈՒՆՆԵՐԸ
H6: հազար դրամներով
A7: ԲԳԿ | B7: Ծրագրային դասիչը | D7: ԲԳԿ/Ծրագրի /միջոցառման անվանումը | E7: Ծրագրի նպատակը/Միջոցառման նկարագրությունը | F7: Վերջնական արդյունքի նկարագրությունը/Միջոցառման տեսակը | G7: Ցուցանիշների փոփոխությունը (ավելացումները նշված են դրական նշանով)
G8: Առաջին կիսամյակ | H8: Ինն ամիս | I8: Տարի
B9: Ծրագիր | C9: Միջոցառում
A10: ԸՆԴԱՄԵՆԸ | G10: =G11 -> 869844 | H10: =H11 -> 869844 | I10: =I11 -> 869844
A11: ՀՀ տարածքային կառավարման և ենթակառուցվածքների նախարարություն | G11: =G12 -> 869844 | H11: =H12 -> 869844 | I11: =I12 -> 869844
B12: 1004 | D12: Ոռոգման համակարգի առողջացում | E12: Ոռոգման ծառայությունների հասանելիության և մատչելիության ապահովում | F12: Ոռոգման ջրի մատակարարման արդյունավետության և հասանելիության բարելավում, կորուստների կրճատում | G12: =G13 -> 869844 | H12: =H13 -> 869844 | I12: =I13 -> 869844
C13: 1004 - 12001 | D13: Աջակցություն ոռոգման համակարգի առողջացմանը | E13: Աջակցություն ոռոգման համակարգի ընկերությունների ֆինանսական կենսունակության բարելավման նպատակով իրականացվող միջոցառումներին | F13: Տրանսֆերտների տրամադրում | G13: ='2'!B11 -> 869844 | H13: =G13 -> 869844 | I13: =H13 -> 869844
D16: ՀԱՅԱՍՏԱՆԻ ՀԱՆՐԱՊԵՏՈՒԹՅԱՆ
D17: ՎԱՐՉԱՊԵՏԻ ԱՇԽԱՏԱԿԱԶՄԻ
D18: ՂԵԿԱՎԱՐ | F18: Ա. ՀԱՐՈՒԹՅՈՒՆՅԱՆ

Sheet 4
A1: Հավելված N 4
A2: ՀՀ կառավարության 2026 թվականի
A3: -ի N -Ն որոշման
A4: ՀԱՅԱՍՏԱՆԻ ՀԱՆՐԱՊԵՏՈՒԹՅԱՆ ԿԱՌԱՎԱՐՈՒԹՅԱՆ 2025 ԹՎԱԿԱՆԻ ԴԵԿՏԵՄԲԵՐԻ 25-Ի N 1910-Ն ՈՐՈՇՄԱՆ N 3 ԵՎ N 4 ՀԱՎԵԼՎԱԾՆԵՐՈՒՄ ԿԱՏԱՐՎՈՂ ՓՈՓՈԽՈՒԹՅՈՒՆԸ
H5: հազար դրամներով
A6: Գործառական դասիչը | D6: Ծրագրային դասիչը | F6: Բյուջետային ծախսերի գործառական դասակարգման բաժինների, խմբերի և դասերի, բյուջետային ծրագրերի միջոցառումների, բյուջետային հատկացումների գլխավոր կարգադրիչների անվանումները | G6: Ցուցանիշների փոփոխությունը (ավելացումները նշված են դրական նշանով)
A7: Բաժին | B7: Խումբ | C7: Դաս | D7: Ծրագիր | E7: Միջոցառում | G7: Առաջին կիսամյակ | H7: Ինն ամիս | I7: Տարի
F8: ԸՆԴԱՄԵՆԸ ԾԱԽՍԵՐ | G8: =G10 -> 869844 | H8: =H10 -> 869844 | I8: =I10 -> 869844
F9: այդ թվում`
F10: ՀՀ տարածքային կառավարման և ենթակառուցվածքների նախարարություն | G10: =G11 -> 869844 | H10: =H11 -> 869844 | I10: =I11 -> 869844
A11: 04 | F11: ՏՆՏԵՍԱԿԱՆ ՀԱՐԱԲԵՐՈՒԹՅՈՒՆՆԵՐ | G11: =G13 -> 869844 | H11: =H13 -> 869844 | I11: =I13 -> 869844
F12: այդ թվում`
B13: 02 | F13: Գյուղատնտեսություն, անտառային տնտեսություն, ձկնորսություն և որսորդություն | G13: =G15 -> 869844 | H13: =H15 -> 869844 | I13: =I15 -> 869844
F14: այդ թվում`
C15: 04 | F15: Ոռոգում | G15: =G17 -> 869844 | H15: =H17 -> 869844 | I15: =I17 -> 869844
F16: այդ թվում`
F17: ՀՀ տարածքային կառավարման և ենթակառուցվածքների նախարարություն | G17: =G19 -> 869844 | H17: =H19 -> 869844 | I17: =I19 -> 869844
F18: այդ թվում`
D19: 1004 | F19: Ոռոգման համակարգի առողջացում | G19: =G21 -> 869844 | H19: =H21 -> 869844 | I19: =I21 -> 869844
F20: այդ թվում`
E21: 12001 | F21: Աջակցություն ոռոգման համակարգի առողջացմանը | G21: =G23 -> 869844 | H21: =H23 -> 869844 | I21: =I23 -> 869844
F22: այդ թվում` ըստ կատարողների
F23: ՀՀ տարածքային կառավարման և ենթակառուցվածքների նախարարության ջրային կոմիտե | G23: =G25 -> 869844 | H23: =H25 -> 869844 | I23: =I25 -> 869844
F24: այդ թվում` բյուջետային ծախսերի տնտեսագիտական դասակարգման հոդվածներ
F25: ԸՆԴԱՄԵՆԸ ԾԱԽՍԵՐ | G25: =G26 -> 869844 | H25: =H26 -> 869844 | I25: =I26 -> 869844
F26: ԸՆԹԱՑԻԿ ԾԱԽՍԵՐ | G26: =G27 -> 869844 | H26: =H27 -> 869844 | I26: =I27 -> 869844
F27: Դրամաշնորհներ | G27: =G28 -> 869844 | H27: =H28 -> 869844 | I27: =I28 -> 869844
F28: -Այլ ընթացիկ դրամաշնորհներ | G28: ='3'!G13 -> 869844 | H28: ='3'!H13 -> 869844 | I28: ='3'!I13 -> 869844
D31: ՀԱՅԱՍՏԱՆԻ ՀԱՆՐԱՊԵՏՈՒԹՅԱՆ
D32: ՎԱՐՉԱՊԵՏԻ ԱՇԽԱՏԱԿԱԶՄԻ
D33: ՂԵԿԱՎԱՐ | H33: Ա. ՀԱՐՈՒԹՅՈՒՆՅԱՆ

Sheet 5
A1: Հավելված N 5
A2: ՀՀ կառավարության 2026 թվականի
A3: -ի N -Ն որոշման
A5: ՀԱՅԱՍՏԱՆԻ ՀԱՆՐԱՊԵՏՈՒԹՅԱՆ ԿԱՌԱՎԱՐՈՒԹՅԱՆ 2025 ԹՎԱԿԱՆԻ ԴԵԿՏԵՄԲԵՐԻ 25-Ի N 1910-Ն ՈՐՈՇՄԱՆ N 5 ՀԱՎԵԼՎԱԾԻ N 7 ԱՂՅՈՒՍԱԿՈՒՄ ԿԱՏԱՐՎՈՂ ԼՐԱՑՈՒՄԸ
G7: հազար դրամներով
B8: Ծրագրային դասիչը | D8: Բյուջետային հատկացումների գլխավոր կարգադրիչների, ծրագրերի, միջոցառումների, ծախսային ուղղությունների անվանումները | G8: Միջոցառումները կատարող պետական մարմինների և դրամաշնորհ ստացող տնտեսվարող սուբյեկտների անվանումները | H8: Ցուցանիշների փոփոխությունը (ավելացումները նշված են դրական նշանով)
B9: Ծրագիր | C9: Միջոցառում | H9: Տարի
D10: ԸՆԴԱՄԵՆԸ | H10: =H11 -> 869844
B11: ՀՀ տարածքային կառավարման և ենթակառուցվածքների նախարարություն | H11: =H12 -> 869844
B12: 1004 | D12: Ոռոգման համակարգի առողջացում | H12: =H13 -> 869844
C13: 12001 | D13: Աջակցություն ոռոգման համակարգի առողջացմանը | G13: ՀՀ տարածքային կառավարման և ենթակառուցվածքների նախարարության ջրային կոմիտե | H13: =SUM(H14:H14) -> 869844
G14: «Էջմիածին» ՋՕԸ | H14: 869844
D19: ՀԱՅԱՍՏԱՆԻ ՀԱՆՐԱՊԵՏՈՒԹՅԱՆ
D20: ՎԱՐՉԱՊԵՏԻ ԱՇԽԱՏԱԿԱԶՄԻ | G20: Ա. ՀԱՐՈՒԹՅՈՒՆՅԱՆ
D21: ՂԵԿԱՎԱՐ

Sheet 6
A1: Հավելված N 6
A2: ՀՀ կառավարության 2026 թվականի
A3: -----------------ի N -----------Ն որոշման
A5: ՀԱՅԱՍՏԱՆԻ ՀԱՆՐԱՊԵՏՈՒԹՅԱՆ ԿԱՌԱՎԱՐՈՒԹՅԱՆ 2025 ԹՎԱԿԱՆԻ ԴԵԿՏԵՄԲԵՐԻ 25-Ի N 1910-Ն ՈՐՈՇՄԱՆ N 6 ՀԱՎԵԼՎԱԾՈՒՄ ԿԱՏԱՐՎՈՂ ՓՈՓՈԽՈՒԹՅՈՒՆԸ
E7: հազար դրամներով
B8: Եկամտատեսակը | C8: Գանձման համար պատասխանատու պետական կառավարման մարմին(ներ)ը | D8: 2026 թվական
D9: Առաջին կիսամյակ | E9: Ինն ամիս | F9: Տարի
B10: Ա | C10: 1 | D10: 3 | E10: 4 | F10: 5
A11: Այլ եկամուտներ, ընդամենը | D11: =D13 -> 869844 | E11: =E13 -> 869844 | F11: =F13 -> 869844
B12: այդ թվում`
A13: 4 | B13: Իրավախախտումների համար գործադիր, դատական մարմինների կողմից կիրառվող պատժամիջոցներից մուտքեր | D13: =D15 -> 869844 | E13: =E15 -> 869844 | F13: =F15 -> 869844
A14: 4.1 | C14: ՀՀ վարչապետի աշխատակազմ, այդ թվում՝ | D14: =D15 -> 869844 | E14: =E15 -> 869844 | F14: =F15 -> 869844
A15: 4.1.1 | C15: Բնապահպանության և ընդերքի տեսչական մարմին | D15: ='2'!B11 -> 869844 | E15: ='2'!C11 -> 869844 | F15: ='2'!D11 -> 869844

Sheet 7
A1: Հավելված N 7
A2: ՀՀ կառավարության 2026 թվականի
A3: -ի N -Ն որոշման
A5: ՀԱՅԱՍՏԱՆԻ ՀԱՆՐԱՊԵՏՈՒԹՅԱՆ ԿԱՌԱՎԱՐՈՒԹՅԱՆ 2025 ԹՎԱԿԱՆԻ ԴԵԿՏԵՄԲԵՐԻ 25-Ի N 1910-Ն ՈՐՈՇՄԱՆ N 9 ՀԱՎԵԼՎԱԾՈՒՄ ԿԱՏԱՐՎՈՂ ՓՈՓՈԽՈՒԹՅՈՒՆԸ
L6: հազար դրամներով
A7: ԲԳԿ | B7: Ծրագիր | D7: Միջոցառում | H7: Իրականացնողը/ ակտիվն օգտագործողը/ շահառուի ընտրության չափորոշիչը | I7: Արդյունքային չափորոշիչը | J7: Ցուցանիշների փոփոխությունը (ավելացումները նշված են դրական նշանով)
B8: Դասիչը | C8: Անվա-նումը | D8: Դասիչը | E8: Անվա-նումը | F8: Նկարագրու-թյունը | G8: Տեսակը | J8: Առաջին կիսամյակ | K8: Ինն ամիս | L8: Տարի
A9: ԸՆԴԱՄԵՆԸ | J9: =J10 -> 869844 | K9: =K10 -> 869844 | L9: =L10 -> 869844
A10: ՀՀ տարածքային կառավարման և ենթակառուցվածքների նախարարություն | J10: =J11 -> 869844 | K10: =K11 -> 869844 | L10: =L11 -> 869844
B11: 1004 | C11: Ոռոգման համակարգի առողջացում | J11: =J12 -> 869844 | K11: =K12 -> 869844 | L11: =L12 -> 869844
D12: 1004 - 12001 | E12: Աջակցություն ոռոգման համակարգի առողջացմանը | J12: ='3'!G13 -> 869844 | K12: ='3'!H13 -> 869844 | L12: ='3'!I13 -> 869844
F13: Աջակցություն ոռոգման համակարգի ընկերությունների ֆինանսական կենսունակության բարելավման նպատակով իրականացվող միջոցառումներին
G14: Տրանսֆերտների տրամադրում
H15: Շահառուների ընտրության չափորոշիչները` Ոռոգման համակարգի ընկերություններ
I16: Աջակցություն ստացած ընկերություն, հատ | J16: 1 | L16: 1
D19: ՀԱՅԱՍՏԱՆԻ ՀԱՆՐԱՊԵՏՈՒԹՅԱՆ
D20: ՎԱՐՉԱՊԵՏԻ ԱՇԽԱՏԱԿԱԶՄԻ
D21: ՂԵԿԱՎԱՐ | J21: Ա. ՀԱՐՈՒԹՅՈՒՆՅԱՆ

Sheet 8
A1: Հավելված N 8
A2: ՀՀ կառավարության 2026 թվականի
A3: -ի N -Ն որոշման
A5: ՀԱՅԱՍՏԱՆԻ ՀԱՆՐԱՊԵՏՈՒԹՅԱՆ ԿԱՌԱՎԱՐՈՒԹՅԱՆ 2025 ԹՎԱԿԱՆԻ ԴԵԿՏԵՄԲԵՐԻ 25-Ի N 1910-Ն ՈՐՈՇՄԱՆ N 9.1 ՀԱՎԵԼՎԱԾՈՒՄ ԿԱՏԱՐՎՈՂ ՓՈՓՈԽՈՒԹՅՈՒՆԸ
L7: հազար դրամներով
A8: ԲՍԿ | B8: Ծրագիր | D8: Միջոցառում | H8: Իրականացնողը/ ակտիվն օգտագործողը/ շահառուի ընտրության չափորոշիչը | I8: Արդյունքային չափորոշիչը | J8: Ցուցանիշների փոփոխությունը (ավելացումները նշված են դրական նշանով)
B9: Դասիչը | C9: Անվանումը | D9: Դասիչը | E9: Անվանումը | F9: Նկարագրությունը | G9: Տեսակը | J9: Առաջին կիսամյակ | K9: Ինն ամիս | L9: Տարի
A10: ԸՆԴԱՄԵՆԸ | J10: =J11 -> 869844 | K10: =K11 -> 869844 | L10: =L11 -> 869844
A11: ՀՀ տարածքային կառավարման և ենթակառուցվածքների նախարարության ջրային կոմիտե | J11: =J12 -> 869844 | K11: =K12 -> 869844 | L11: =L12 -> 869844
B12: 1004 | C12: Ոռոգման համակարգի առողջացում | J12: =J13 -> 869844 | K12: =K13 -> 869844 | L12: =L13 -> 869844
D13: 1004 - 12001 | E13: Աջակցություն ոռոգման համակարգի առողջացմանը | J13: ='7'!J12 -> 869844 | K13: ='7'!K12 -> 869844 | L13: ='7'!L12 -> 869844
F14: Աջակցություն ոռոգման համակարգի ընկերությունների ֆինանսական կենսունակության բարելավման նպատակով իրականացվող միջոցառումներին
G15: Տրանսֆերտների տրամադրում
H16: Շահառուների ընտրության չափորոշիչները` Ոռոգման համակարգի ընկերություններ
I17: Աջակցություն ստացած ընկերություն, հատ | J17: 1 | L17: 1
