Workbook
Name _tab10: #REF!
Name _tab10: #REF!
Name _tab11: #REF!
Name _tab11: #REF!
Name _tab12: #REF!
Name _tab12: #REF!
Name _tab13: #REF!
Name _tab13: #REF!
Name _tab14: #REF!
Name _tab14: #REF!
Name _tab15: #REF!
Name _tab15: #REF!
Name _tab16: #REF!
Name _tab16: #REF!
Name _tab17: #REF!
Name _tab17: #REF!
Name _tab18: #REF!
Name _tab18: #REF!
Name _tab19: #REF!
Name _tab19: #REF!
Name _tab20: #REF!
Name _tab20: #REF!
Name _tab21: #REF!
Name _tab21: #REF!
Name _tab22: #REF!
Name _tab22: #REF!
Name _tab23: #REF!
Name _tab23: #REF!
Name _tab24: #REF!
Name _tab24: #REF!
Name _tab5: #REF!
Name _tab5: #REF!
Name _tab6: #REF!
Name _tab6: #REF!
Name _tab7: #REF!
Name _tab7: #REF!
Name _tab8: #REF!
Name _tab8: #REF!
Name _tab9: #REF!
Name _tab9: #REF!
Name AgencyCode: #REF!
Name AgencyName: #REF!
Name åû: #REF!
Name davit: #REF!
Name Functional1: #REF!
Name ggg: #REF!
Name mas: #REF!
Name mass: #REF!
Name PANature: #REF!
Name par_count: #REF!,#REF!,#REF!,#REF!,#REF!,#REF!,#REF!,#REF!,#REF!,#REF!,#REF!,#REF!,#REF!,#REF!,#REF!
Name par_count: #REF!,#REF!,#REF!,#REF!,#REF!,#REF!,#REF!,#REF!,#REF!,#REF!,#REF!,#REF!,#REF!,#REF!,#REF!
Name par_qual: #REF!,#REF!,#REF!,#REF!,#REF!
Name par_qual: #REF!,#REF!,#REF!,#REF!,#REF!
Name par_time: #REF!,#REF!,#REF!,#REF!
Name par_time: #REF!,#REF!,#REF!,#REF!
Name par2.12s: #REF!
Name par2.12s: #REF!
Name par2.4s: #REF!,#REF!,#REF!,#REF!,#REF!,#REF!,#REF!,#REF!,#REF!,#REF!,#REF!,#REF!,#REF!,#REF!,#REF!,#REF!
Name par2.4s: #REF!,#REF!,#REF!,#REF!,#REF!,#REF!,#REF!,#REF!,#REF!,#REF!,#REF!,#REF!,#REF!,#REF!,#REF!,#REF!
Name par2.5s: #REF!,#REF!

Sheet 1
I1: Հավելված N 1
F2: ՀՀ կառավարության 2026 թվականի
I3: N ------------ -Ն որոշման
A5: ՀԱՅԱՍՏԱՆԻ ՀԱՆՐԱՊԵՏՈՒԹՅԱՆ ԿԱՌԱՎԱՐՈՒԹՅԱՆ 2025 ԹՎԱԿԱՆԻ ԴԵԿՏԵՄԲԵՐԻ 25-Ի N 1910-Ն ՈՐՈՇՄԱՆ NN 3 ԵՎ 4 ՀԱՎԵԼՎԱԾՆԵՐՈՒՄ ԿԱՏԱՐՎՈՂ ՓՈՓՈԽՈՒԹՅՈՒՆԸ ԵՎ ԼՐԱՑՈՒՄՆԵՐԸ
I6: հազար դրամներով
A7: Գործառական դասիչը | D7: Ծրագրային դասիչը | F7: Բյուջետային ծախսերի գործառական դասակարգման բաժինների, խմբերի և դասերի, բյուջետային ծրագրերի միջոցառումների, բյուջետային հատկացումների գլխավոր կարգադրիչների անվանումները | G7: Ցուցանիշների փոփոխությունը (ավելացումները նշված են դրական նշանով, իսկ նվազեցումները` փակագծերում)
A8: Բաժին | B8: Խումբ | C8: Դաս | D8: Ծրագիր | E8: Միջոցառում | G8: Առաջին կիսամյակ | H8: Ինն ամիս | I8: Տարի
F9: ԸՆԴԱՄԵՆԸ ԾԱԽՍԵՐ | G9: =G11 -> 0 | H9: =H11 -> 0 | I9: =I11 -> 0
F10: այդ թվում`
F11: ՀՀ տարածքային կառավարման և ենթակառուցվածքների նախարարություն | G11: =G13 -> 0 | H11: =H13 -> 0 | I11: =I13 -> 0
F12: այդ թվում`
A13: 02 | F13: ՊԱՇՏՊԱՆՈՒԹՅՈՒՆ | G13: =G15 -> 0 | H13: =H15 -> 0 | I13: =I15 -> 0
F14: այդ թվում`
B15: 05 | F15: Պաշտպանություն (այլ դասերին չպատկանող) | G15: =G17 -> 0 | H15: =H17 -> 0 | I15: =I17 -> 0
F16: այդ թվում`
C17: 01 | F17: Պաշտպանություն (այլ դասերին չպատկանող) | G17: =G23 -> 0 | H17: =H23 -> 0 | I17: =I23 -> 0
F18: այդ թվում`
F19: ՀՀ տարածքային կառավարման և ենթակառուցվածքների նախարարություն | G19: =G21 -> 0 | H19: =H21 -> 0 | I19: =I21 -> 0
F20: այդ թվում`
D21: 1110 | F21: Այլընտրանքային աշխատանքային ծառայություն | G21: =G23 -> 0 | H21: =H23 -> 0 | I21: =I23 -> 0
F22: այդ թվում`
E23: 12001 | F23: Այլընտրանքային աշխատանքային ծառայողներին դրամական բավարարման և դրամական փոխհատուցման տրամադրում | G23: =G25+G32+G39+G46+G53+G60+G67+G74+G81 -> 0 | H23: =H25+H32+H39+H46+H53+H60+H67+H74+H81 -> 0 | I23: =I25+I32+I39+I46+I53+I60+I67+I74+I81 -> 0
F24: այդ թվում` ըստ կատարողների
F25: ՀՀ կառավարություն | G25: =G27 -> -1650 | H25: =H27 -> -2640 | I25: =I27 -> -3630
F26: այդ թվում` բյուջետային ծախսերի տնտեսագիտական դասակարգման հոդվածներ
F27: ԸՆԴԱՄԵՆԸ ԾԱԽՍԵՐ | G27: =G28 -> -1650 | H27: =H28 -> -2640 | I27: =I28 -> -3630
F28: ԸՆԹԱՑԻԿ ԾԱԽՍԵՐ | G28: =G29 -> -1650 | H28: =H29 -> -2640 | I28: =I29 -> -3630
F29: ԴՐԱՄԱՇՆՈՐՀՆԵՐ | G29: =G30 -> -1650 | H29: =H30 -> -2640 | I29: =I30 -> -3630
F30: Ընթացիկ դրամաշնորհներ պետական հատվածի այլ մակարդակներին | G30: =G31 -> -1650 | H30: =H31 -> -2640 | I30: =I31 -> -3630
F31: - Այլ ընթացիկ դրամաշնորհներ | G31: =-G32-G39-G46-G53-G60-G67-G74-G81 -> -1650 | H31: =-H32-H39-H46-H53-H60-H67-H74-H81 -> -2640 | I31: =-I32-I39-I46-I53-I60-I67-I74-I81 -> -3630
F32: ՀՀ աշխատանքի և սոցիալական հարցերի նախարարություն | G32: =G34 -> 450 | H32: =H34 -> 720 | I32: =I34 -> 990
F33: այդ թվում` բյուջետային ծախսերի տնտեսագիտական դասակարգման հոդվածներ
F34: ԸՆԴԱՄԵՆԸ ԾԱԽՍԵՐ | G34: =G35 -> 450 | H34: =H35 -> 720 | I34: =I35 -> 990
F35: ԸՆԹԱՑԻԿ ԾԱԽՍԵՐ | G35: =G36 -> 450 | H35: =H36 -> 720 | I35: =I36 -> 990
F36: ԴՐԱՄԱՇՆՈՐՀՆԵՐ | G36: =G37 -> 450 | H36: =H37 -> 720 | I36: =I37 -> 990
F37: Ընթացիկ դրամաշնորհներ պետական հատվածի այլ մակարդակներին | G37: =G38 -> 450 | H37: =H38 -> 720 | I37: =I38 -> 990
F38: - Ընթացիկ դրամաշնորհներ պետական և համայնքների ոչ առևտրային կազմակերպություններին | G38: 450 | H38: 720 | I38: 990
F39: ՀՀ Արագածոտնի մարզպետի աշխատակազմ | G39: =G41 -> 150 | H39: =H41 -> 240 | I39: =I41 -> 330
F40: այդ թվում` բյուջետային ծախսերի տնտեսագիտական դասակարգման հոդվածներ
F41: ԸՆԴԱՄԵՆԸ ԾԱԽՍԵՐ | G41: =+G42 -> 150 | H41: =+H42 -> 240 | I41: =+I42 -> 330
F42: ԸՆԹԱՑԻԿ ԾԱԽՍԵՐ | G42: =+G43 -> 150 | H42: =+H43 -> 240 | I42: =+I43 -> 330
F43: ԴՐԱՄԱՇՆՈՐՀՆԵՐ | G43: =+G44 -> 150 | H43: =+H44 -> 240 | I43: =+I44 -> 330
F44: Ընթացիկ դրամաշնորհներ պետական հատվածի այլ մակարդակներին | G44: =+G45 -> 150 | H44: =+H45 -> 240 | I44: =+I45 -> 330
F45: - Այլ ընթացիկ դրամաշնորհներ | G45: 150 | H45: 240 | I45: 330
F46: ՀՀ Արարատի մարզպետի աշխատակազմ | G46: =G48 -> 300 | H46: =H48 -> 480 | I46: =I48 -> 660
F47: այդ թվում` բյուջետային ծախսերի տնտեսագիտական դասակարգման հոդվածներ
F48: ԸՆԴԱՄԵՆԸ ԾԱԽՍԵՐ | G48: =G49 -> 300 | H48: =H49 -> 480 | I48: =I49 -> 660
F49: ԸՆԹԱՑԻԿ ԾԱԽՍԵՐ | G49: =G50 -> 300 | H49: =H50 -> 480 | I49: =I50 -> 660
F50: ԴՐԱՄԱՇՆՈՐՀՆԵՐ | G50: =G51 -> 300 | H50: =H51 -> 480 | I50: =I51 -> 660
F51: Ընթացիկ դրամաշնորհներ պետական հատվածի այլ մակարդակներին | G51: =G52 -> 300 | H51: =H52 -> 480 | I51: =I52 -> 660
F52: - Այլ ընթացիկ դրամաշնորհներ | G52: 300 | H52: 480 | I52: 660
F53: ՀՀ Արմավիրի մարզպետի աշխատակազմ | G53: =G55 -> 150 | H53: =H55 -> 240 | I53: =I55 -> 330
F54: այդ թվում` բյուջետային ծախսերի տնտեսագիտական դասակարգման հոդվածներ
F55: ԸՆԴԱՄԵՆԸ ԾԱԽՍԵՐ | G55: =G56 -> 150 | H55: =H56 -> 240 | I55: =I56 -> 330
F56: ԸՆԹԱՑԻԿ ԾԱԽՍԵՐ | G56: =G57 -> 150 | H56: =H57 -> 240 | I56: =I57 -> 330
F57: ԴՐԱՄԱՇՆՈՐՀՆԵՐ | G57: =G58 -> 150 | H57: =H58 -> 240 | I57: =I58 -> 330
F58: Ընթացիկ դրամաշնորհներ պետական հատվածի այլ մակարդակներին | G58: =G59 -> 150 | H58: =H59 -> 240 | I58: =I59 -> 330
F59: - Այլ ընթացիկ դրամաշնորհներ | G59: 150 | H59: 240 | I59: 330
F60: ՀՀ Գեղարքունիքի մարզպետի աշխատակազմ | G60: =G62 -> 150 | H60: =H62 -> 240 | I60: =I62 -> 330
F61: այդ թվում` բյուջետային ծախսերի տնտեսագիտական դասակարգման հոդվածներ
F62: ԸՆԴԱՄԵՆԸ ԾԱԽՍԵՐ | G62: =+G63 -> 150 | H62: =+H63 -> 240 | I62: =+I63 -> 330
F63: ԸՆԹԱՑԻԿ ԾԱԽՍԵՐ | G63: =+G64 -> 150 | H63: =+H64 -> 240 | I63: =+I64 -> 330
F64: ԴՐԱՄԱՇՆՈՐՀՆԵՐ | G64: =+G65 -> 150 | H64: =+H65 -> 240 | I64: =+I65 -> 330
F65: Ընթացիկ դրամաշնորհներ պետական հատվածի այլ մակարդակներին | G65: =+G66 -> 150 | H65: =+H66 -> 240 | I65: =+I66 -> 330
F66: - Այլ ընթացիկ դրամաշնորհներ | G66: 150 | H66: 240 | I66: 330
F67: ՀՀ Լոռու մարզպետի աշխատակազմ | G67: =G69 -> 150 | H67: =H69 -> 240 | I67: =I69 -> 330
F68: այդ թվում` բյուջետային ծախսերի տնտեսագիտական դասակարգման հոդվածներ
F69: ԸՆԴԱՄԵՆԸ ԾԱԽՍԵՐ | G69: =+G70 -> 150 | H69: =+H70 -> 240 | I69: =+I70 -> 330
F70: ԸՆԹԱՑԻԿ ԾԱԽՍԵՐ | G70: =+G71 -> 150 | H70: =+H71 -> 240 | I70: =+I71 -> 330
F71: ԴՐԱՄԱՇՆՈՐՀՆԵՐ | G71: =+G72 -> 150 | H71: =+H72 -> 240 | I71: =+I72 -> 330
F72: Ընթացիկ դրամաշնորհներ պետական հատվածի այլ մակարդակներին | G72: =+G73 -> 150 | H72: =+H73 -> 240 | I72: =+I73 -> 330
F73: - Այլ ընթացիկ դրամաշնորհներ | G73: 150 | H73: 240 | I73: 330
F74: ՀՀ Կոտայքի մարզպետի աշխատակազմ | G74: =G76 -> 150 | H74: =H76 -> 240 | I74: =I76 -> 330
F75: այդ թվում` բյուջետային ծախսերի տնտեսագիտական դասակարգման հոդվածներ
F76: ԸՆԴԱՄԵՆԸ ԾԱԽՍԵՐ | G76: =+G77 -> 150 | H76: =+H77 -> 240 | I76: =+I77 -> 330
F77: ԸՆԹԱՑԻԿ ԾԱԽՍԵՐ | G77: =+G78 -> 150 | H77: =+H78 -> 240 | I77: =+I78 -> 330
F78: ԴՐԱՄԱՇՆՈՐՀՆԵՐ | G78: =+G79 -> 150 | H78: =+H79 -> 240 | I78: =+I79 -> 330
F79: Ընթացիկ դրամաշնորհներ պետական հատվածի այլ մակարդակներին | G79: =+G80 -> 150 | H79: =+H80 -> 240 | I79: =+I80 -> 330
F80: - Այլ ընթացիկ դրամաշնորհներ | G80: 150 | H80: 240 | I80: 330
F81: ՀՀ Տավուշի մարզպետի աշխատակազմ | G81: =G83 -> 150 | H81: =H83 -> 240 | I81: =I83 -> 330
F82: այդ թվում` բյուջետային ծախսերի տնտեսագիտական դասակարգման հոդվածներ
F83: ԸՆԴԱՄԵՆԸ ԾԱԽՍԵՐ | G83: =+G84 -> 150 | H83: =+H84 -> 240 | I83: =+I84 -> 330
F84: ԸՆԹԱՑԻԿ ԾԱԽՍԵՐ | G84: =+G85 -> 150 | H84: =+H85 -> 240 | I84: =+I85 -> 330
F85: ԴՐԱՄԱՇՆՈՐՀՆԵՐ | G85: =+G86 -> 150 | H85: =+H86 -> 240 | I85: =+I86 -> 330
F86: Ընթացիկ դրամաշնորհներ պետական հատվածի այլ մակարդակներին | G86: =+G87 -> 150 | H86: =+H87 -> 240 | I86: =+I87 -> 330
F87: - Այլ ընթացիկ դրամաշնորհներ | G87: 150 | H87: 240 | I87: 330
B91: ՀԱՅԱՍՏԱՆԻ ՀԱՆՐԱՊԵՏՈՒԹՅԱՆ
B92: ՎԱՐՉԱՊԵՏԻ ԱՇԽԱՏԱԿԱԶՄԻ
C93: ՂԵԿԱՎԱՐ ՝ Ա. ՀԱՐՈՒԹՅՈՒՆՅԱՆ

Sheet 2
G1: Հավելված N 2
G2: ՀՀ կառավարության 2026 թվականի
A3: -ի N -Ն որոշման
A6: ՀԱՅԱՍՏԱՆԻ ՀԱՆՐԱՊԵՏՈՒԹՅԱՆ ԿԱՌԱՎԱՐՈՒԹՅԱՆ 2025 ԹՎԱԿԱՆԻ ԴԵԿՏԵՄԲԵՐԻ 25-Ի N 1910-Ն ՈՐՈՇՄԱՆ N 5 ՀԱՎԵԼՎԱԾԻ N 7 ԱՂՅՈՒՍԱԿՈՒՄ ԿԱՏԱՐՎՈՂ ԼՐԱՑՈՒՄԸ
G8: հազար դրամներով
A9: Ծրագրային դասիչ | C9: Բյուջետային հատկացումների գլխավոր կարգադրիչների, ծրագրերի, միջոցառումների, ծախսային ուղղությունների անվանումները | F9: Միջոցառումները կատարող պետական մարմինների և դրամաշնորհ ստացող տնտեսվարող սուբյեկտների անվանումները | G9: Ցուցանիշների փոփոխությունը (ավելացումները նշված են դրական նշանով)
A10: Ծրագիր | B10: Միջոցառում | G10: Տարի
A11: 1 | B11: 2 | C11: 3 | F11: 4 | G11: 5
A12: ԸՆԴԱՄԵՆԸ | G12: =G13 -> 3630
A13: ՀՀ տարածքային կառավարման և ենթակառուցվածքների նախարարություն | G13: =+G14 -> 3630
A14: 1110 | B14: Այլընտրանքային աշխատանքային ծառայություն | G14: =+G15+G16 -> 3630
B15: 12001 | C15: Այլընտրանքային աշխատանքային ծառայողներին դրամական բավարարման և դրամական փոխհատուցման տրամադրում | F15: ՀՀ աշխատանքի և սոցիալական հարցերի նախարարություն | G15: ='1'!I32 -> 990
F16: ՀՀ մարզպետների աշխատակազմեր | G16: ='1'!I39+'1'!I46+'1'!I53+'1'!I60+'1'!I67+'1'!I74+'1'!I81 -> 2640
B18: ՀԱՅԱՍՏԱՆԻ ՀԱՆՐԱՊԵՏՈՒԹՅԱՆ
B19: ՎԱՐՉԱՊԵՏԻ ԱՇԽԱՏԱԿԱԶՄԻ
C20: ՂԵԿԱՎԱՐ ՝ Ա. ՀԱՐՈՒԹՅՈՒՆՅԱՆ

Sheet 3
L1: Հավելված N 3
K2: ՀՀ կառավարության 2026 թվականի
K3: ------------- ի № ---- -Ն որոշման
B5: ՀԱՅԱՍՏԱՆԻ ՀԱՆՐԱՊԵՏՈՒԹՅԱՆ ԿԱՌԱՎԱՐՈՒԹՅԱՆ 2025 ԹՎԱԿԱՆԻ ԴԵԿՏԵՄԲԵՐԻ 25-Ի N 1910-Ն ՈՐՈՇՄԱՆ № 9.1 ՀԱՎԵԼՎԱԾԻ ԱՂՅՈՒՍԱԿՆԵՐՈՒՄ ԿԱՏԱՐՎՈՂ ՓՈՓՈԽՈՒԹՅՈՒՆԸ ԵՎ ԼՐԱՑՈՒՄՆԵՐԸ
M7: հազար դրամներով
B8: ԲՍԿ | C8: Ծրագիր | E8: Միջոցառում | I8: Իրականացնողը/ ակտիվն օգտագործողը/ շահառուի ընտրության չափորոշիչը | J8: Արդյունքային չափորոշիչը | K8: Ցուցանիշների փոփոխությունը (ավելացումները նշված են դրական նշանով, իսկ նվազեցումները` փակագծերում)
C9: Դասիչը | D9: Անվանումը | E9: Դասիչը | F9: Անվանումը | G9: Նկարագրությունը | H9: Տեսակը | K9: Առաջին կիսամյակ | L9: Ինն ամիս | M9: Տարի
B10: ԸՆԴԱՄԵՆԸ | K10: =K11+K18+K25+K32+K39+K46+K53+K60+K67 -> 0 | L10: =L11+L18+L25+L32+L39+L46+L53+L60+L67 -> 0 | M10: =M11+M18+M25+M32+M39+M46+M53+M60+M67 -> 0
B11: ՀՀ աշխատանքի և սոցիալական հարցերի նախարարություն | K11: =K13 -> 450 | L11: =L13 -> 720 | M11: =M13 -> 990
C12: 1110 | D12: Այլընտրանքային աշխատանքային ծառայություն | K12: =K13 -> 450 | L12: =L13 -> 720 | M12: =M13 -> 990
E13: 1110-12001 | F13: Այլընտրանքային աշխատանքային ծառայողներին դրամական բավարարման և դրամական փոխհատուցման տրամադրում | K13: ='1'!G38 -> 450 | L13: ='1'!H38 -> 720 | M13: ='1'!I38 -> 990
G14: Այլընտրանքային աշխատանքային ծառայության անցած ՀՀ քաղաքացիներին «Այլընտրանքային ծառայության մասին» ՀՀ օրենքով սահմանված դրամական բավարարման և փոխհատուցումների տրամադրում
H15: Տրանսֆերտների տրամադրում
I16: Շահառուների ընտրության չափորոշիչները` «Այլընտրանքային ծառայության մասին» ՀՀ օրենքի պահանջներին համապատասխան այլընտրանքային աշխատանքային ծառայության անցնող ՀՀ քաղաքացիներ
J17: Այլընտրանքային աշխատանքային ծառայություն անցնողների թիվ, անձ | K17: 3 | M17: 3
B18: ՀՀ Արագածոտնի մարզպետի աշխատակազմ | K18: =K20 -> 150 | L18: =L20 -> 240 | M18: =M20 -> 330
C19: 1110 | D19: Այլընտրանքային աշխատանքային ծառայություն | K19: =K20 -> 150 | L19: =L20 -> 240 | M19: =M20 -> 330
E20: 1110-12001 | F20: Այլընտրանքային աշխատանքային ծառայողներին դրամական բավարարման և դրամական փոխհատուցման տրամադրում | K20: ='1'!G45 -> 150 | L20: ='1'!H45 -> 240 | M20: ='1'!I45 -> 330
G21: Այլընտրանքային աշխատանքային ծառայության անցած ՀՀ քաղաքացիներին «Այլընտրանքային ծառայության մասին» ՀՀ օրենքով սահմանված դրամական բավարարման և փոխհատուցումների տրամադրում
H22: Տրանսֆերտների տրամադրում
I23: Շահառուների ընտրության չափորոշիչները` «Այլընտրանքային ծառայության մասին» ՀՀ օրենքի պահանջներին համապատասխան այլընտրանքային աշխատանքային ծառայության անցնող ՀՀ քաղաքացիներ
J24: Այլընտրանքային աշխատանքային ծառայություն անցնողների թիվ, անձ | K24: 1 | M24: 1
B25: ՀՀ Արարատի մարզպետի աշխատակազմ | K25: =K26 -> 300 | L25: =L26 -> 480 | M25: =M26 -> 660
C26: 1110 | D26: Այլընտրանքային աշխատանքային ծառայություն | K26: =K27 -> 300 | L26: =L27 -> 480 | M26: =M27 -> 660
E27: 1110-12001 | F27: Այլընտրանքային աշխատանքային ծառայողներին դրամական բավարարման և դրամական փոխհատուցման տրամադրում | K27: ='1'!G52 -> 300 | L27: ='1'!H52 -> 480 | M27: ='1'!I52 -> 660
G28: Այլընտրանքային աշխատանքային ծառայության անցած ՀՀ քաղաքացիներին «Այլընտրանքային ծառայության մասին» ՀՀ օրենքով սահմանված դրամական բավարարման և փոխհատուցումների տրամադրում
H29: Տրանսֆերտների տրամադրում
I30: Շահառուների ընտրության չափորոշիչները` «Այլընտրանքային ծառայության մասին» ՀՀ օրենքի պահանջներին համապատասխան այլընտրանքային աշխատանքային ծառայության անցնող ՀՀ քաղաքացիներ
J31: Այլընտրանքային աշխատանքային ծառայություն անցնողների թիվ, անձ | K31: 2 | M31: 2
B32: ՀՀ Արմավիրի մարզպետի աշխատակազմ | K32: =K33 -> 150 | L32: =L33 -> 240 | M32: =M33 -> 330
C33: 1110 | D33: Այլընտրանքային աշխատանքային ծառայություն | K33: =K34 -> 150 | L33: =L34 -> 240 | M33: =M34 -> 330
E34: 1110-12001 | F34: Այլընտրանքային աշխատանքային ծառայողներին դրամական բավարարման և դրամական փոխհատուցման տրամադրում | K34: ='1'!G59 -> 150 | L34: ='1'!H59 -> 240 | M34: ='1'!I59 -> 330
G35: Այլընտրանքային աշխատանքային ծառայության անցած ՀՀ քաղաքացիներին «Այլընտրանքային ծառայության մասին» ՀՀ օրենքով սահմանված դրամական բավարարման և փոխհատուցումների տրամադրում
H36: Տրանսֆերտների տրամադրում
I37: Շահառուների ընտրության չափորոշիչները` «Այլընտրանքային ծառայության մասին» ՀՀ օրենքի պահանջներին համապատասխան այլընտրանքային աշխատանքային ծառայության անցնող ՀՀ քաղաքացիներ
J38: Այլընտրանքային աշխատանքային ծառայություն անցնողների թիվ, անձ | K38: 1 | M38: 1
B39: ՀՀ Գեղարքունիքի մարզպետի աշխատակազմ | K39: =K40 -> 150 | L39: =L40 -> 240 | M39: =M40 -> 330
C40: 1110 | D40: Այլընտրանքային աշխատանքային ծառայություն | K40: =K41 -> 150 | L40: =L41 -> 240 | M40: =M41 -> 330
E41: 1110-12001 | F41: Այլընտրանքային աշխատանքային ծառայողներին դրամական բավարարման և դրամական փոխհատուցման տրամադրում | K41: ='1'!G66 -> 150 | L41: ='1'!H66 -> 240 | M41: ='1'!I66 -> 330
G42: Այլընտրանքային աշխատանքային ծառայության անցած ՀՀ քաղաքացիներին «Այլընտրանքային ծառայության մասին» ՀՀ օրենքով սահմանված դրամական բավարարման և փոխհատուցումների տրամադրում
H43: Տրանսֆերտների տրամադրում
I44: Շահառուների ընտրության չափորոշիչները` «Այլընտրանքային ծառայության մասին» ՀՀ օրենքի պահանջներին համապատասխան այլընտրանքային աշխատանքային ծառայության անցնող ՀՀ քաղաքացիներ
J45: Այլընտրանքային աշխատանքային ծառայություն անցնողների թիվ, անձ | K45: 1 | M45: 1
B46: ՀՀ Լոռու մարզպետի աշխատակազմ | K46: =K47 -> 150 | L46: =L47 -> 240 | M46: =M47 -> 330
C47: 1110 | D47: Այլընտրանքային աշխատանքային ծառայություն | K47: =K48 -> 150 | L47: =L48 -> 240 | M47: =M48 -> 330
E48: 1110-12001 | F48: Այլընտրանքային աշխատանքային ծառայողներին դրամական բավարարման և դրամական փոխհատուցման տրամադրում | K48: ='1'!G73 -> 150 | L48: ='1'!H73 -> 240 | M48: ='1'!I73 -> 330
G49: Այլընտրանքային աշխատանքային ծառայության անցած ՀՀ քաղաքացիներին «Այլընտրանքային ծառայության մասին» ՀՀ օրենքով սահմանված դրամական բավարարման և փոխհատուցումների տրամադրում
H50: Տրանսֆերտների տրամադրում
I51: Շահառուների ընտրության չափորոշիչները` «Այլընտրանքային ծառայության մասին» ՀՀ օրենքի պահանջներին համապատասխան այլընտրանքային աշխատանքային ծառայության անցնող ՀՀ քաղաքացիներ
J52: Այլընտրանքային աշխատանքային ծառայություն անցնողների թիվ, անձ | K52: 1 | M52: 1
B53: ՀՀ Կոտայքի մարզպետի աշխատակազմ | K53: =K54 -> 150 | L53: =L54 -> 240 | M53: =M54 -> 330
C54: 1110 | D54: Այլընտրանքային աշխատանքային ծառայություն | K54: =K55 -> 150 | L54: =L55 -> 240 | M54: =M55 -> 330
E55: 1110-12001 | F55: Այլընտրանքային աշխատանքային ծառայողներին դրամական բավարարման և դրամական փոխհատուցման տրամադրում | K55: ='1'!G80 -> 150 | L55: ='1'!H80 -> 240 | M55: ='1'!I80 -> 330
G56: Այլընտրանքային աշխատանքային ծառայության անցած ՀՀ քաղաքացիներին «Այլընտրանքային ծառայության մասին» ՀՀ օրենքով սահմանված դրամական բավարարման և փոխհատուցումների տրամադրում
H57: Տրանսֆերտների տրամադրում
I58: Շահառուների ընտրության չափորոշիչները` «Այլընտրանքային ծառայության մասին» ՀՀ օրենքի պահանջներին համապատասխան այլընտրանքային աշխատանքային ծառայության անցնող ՀՀ քաղաքացիներ
J59: Այլընտրանքային աշխատանքային ծառայություն անցնողների թիվ, անձ | K59: 1 | M59: 1
B60: ՀՀ Տավուշի մարզպետի աշխատակազմ | K60: =K61 -> 150 | L60: =L61 -> 240 | M60: =M61 -> 330
C61: 1110 | D61: Այլընտրանքային աշխատանքային ծառայություն | K61: =K62 -> 150 | L61: =L62 -> 240 | M61: =M62 -> 330
E62: 1110-12001 | F62: Այլընտրանքային աշխատանքային ծառայողներին դրամական բավարարման և դրամական փոխհատուցման տրամադրում | K62: ='1'!G87 -> 150 | L62: ='1'!H87 -> 240 | M62: ='1'!I87 -> 330
G63: Այլընտրանքային աշխատանքային ծառայության անցած ՀՀ քաղաքացիներին «Այլընտրանքային ծառայության մասին» ՀՀ օրենքով սահմանված դրամական բավարարման և փոխհատուցումների տրամադրում
H64: Տրանսֆերտների տրամադրում
I65: Շահառուների ընտրության չափորոշիչները` «Այլընտրանքային ծառայության մասին» ՀՀ օրենքի պահանջներին համապատասխան այլընտրանքային աշխատանքային ծառայության անցնող ՀՀ քաղաքացիներ
J66: Այլընտրանքային աշխատանքային ծառայություն անցնողների թիվ, անձ | K66: 1 | M66: 1
B67: ՀՀ կառավարություն | K67: =K68 -> -1650 | L67: =L68 -> -2640 | M67: =M68 -> -3630
C68: 1110 | D68: Այլընտրանքային աշխատանքային ծառայություն | K68: =K69 -> -1650 | L68: =L69 -> -2640 | M68: =M69 -> -3630
E69: 1110-12001 | F69: Այլընտրանքային աշխատանքային ծառայողներին դրամական բավարարման և դրամական փոխհատուցման տրամադրում | K69: ='1'!G31 -> -1650 | L69: ='1'!H31 -> -2640 | M69: ='1'!I31 -> -3630
G70: Այլընտրանքային աշխատանքային ծառայության անցած ՀՀ քաղաքացիներին «Այլընտրանքային ծառայության մասին» ՀՀ օրենքով սահմանված դրամական բավարարման և փոխհատուցումների տրամադրում
H71: Տրանսֆերտների տրամադրում
I72: Շահառուների ընտրության չափորոշիչները` «Այլընտրանքային ծառայության մասին» ՀՀ օրենքի պահանջներին համապատասխան այլընտրանքային աշխատանքային ծառայության անցնող ՀՀ քաղաքացիներ
J73: Այլընտրանքային աշխատանքային ծառայություն անցնողների թիվ, անձ | K73: =-K17-K24-K31-K38-K45-K52-K59-K66 -> -11 | M73: =-M17-M24-M31-M38-M45-M52-M59-M66 -> -11
D77: ՀԱՅԱՍՏԱՆԻ ՀԱՆՐԱՊԵՏՈՒԹՅԱՆ
D78: ՎԱՐՉԱՊԵՏԻ ԱՇԽԱՏԱԿԱԶՄԻ
E79: ՂԵԿԱՎԱՐ ՝ Ա. ՀԱՐՈՒԹՅՈՒՆՅԱՆ
