Workbook
Name \A: #REF!
Name _tab10: #REF!
Name _tab10: #REF!
Name _tab11: #REF!
Name _tab12: #REF!
Name _tab13: #REF!
Name _tab14: #REF!
Name _tab15: #REF!
Name _tab16: #REF!
Name _tab17: #REF!
Name _tab18: #REF!
Name _tab19: #REF!
Name _tab20: #REF!
Name _tab21: #REF!
Name _tab22: #REF!
Name _tab23: #REF!
Name _tab24: #REF!
Name _tab5: #REF!
Name _tab6: #REF!
Name _tab7: #REF!
Name _tab8: #REF!
Name _tab9: #REF!
Name aaaa: #REF!
Name aaaaa: #REF!
Name AgencyCode: #REF!
Name AgencyCode: #REF!
Name AgencyName: #REF!
Name ampop_krchat: #REF!
Name Armata: #REF!
Name asd: #REF!
Name åû: #REF!
Name BOP: #REF!
Name BOPfoot: #REF!
Name davit: #REF!
Name DebtCG: '[1]Fis-Debt'!#REF!
Name DebtGG: #REF!
Name fff: #REF!
Name Functional1: #REF!
Name ggg: #REF!
Name h: #REF!
Name Hav: #REF!,#REF!
Name mas: #REF!
Name mass: #REF!
Name MonExo: #REF!
Name MonGrow: [2]BM!#REF!
Name PANature: #REF!
Name PANature: #REF!
Name par_count: #REF!,#REF!,#REF!,#REF!,#REF!,#REF!,#REF!,#REF!,#REF!,#REF!,#REF!,#REF!,#REF!,#REF!,#REF!
Name par_count: #REF!,#REF!,#REF!,#REF!,#REF!,#REF!,#REF!,#REF!,#REF!,#REF!,#REF!,#REF!,#REF!,#REF!,#REF!
Name par_qual: #REF!,#REF!,#REF!,#REF!,#REF!
Name par_qual: #REF!,#REF!,#REF!,#REF!,#REF!
Name par_time: #REF!,#REF!,#REF!,#REF!
Name par_time: #REF!,#REF!,#REF!,#REF!
Name par2.12s: #REF!
Name par2.12s: #REF!
Name par2.4s: #REF!,#REF!,#REF!,#REF!,#REF!,#REF!,#REF!,#REF!,#REF!,#REF!,#REF!,#REF!,#REF!,#REF!,#REF!,#REF!
Name par2.4s: #REF!,#REF!,#REF!,#REF!,#REF!,#REF!,#REF!,#REF!,#REF!,#REF!,#REF!,#REF!,#REF!,#REF!,#REF!,#REF!
Name par2.5s: #REF!,#REF!
Name par2.5s: #REF!,#REF!
Name par2.6s: #REF!,#REF!,#REF!,#REF!

Sheet Հավելված 1
A1: Հավելված N 1 ՀՀ կառավարության 2026 թվականի ____________ի N _____-Ն որոշման
A3: «ՀԱՅԱՍՏԱՆԻ ՀԱՆՐԱՊԵՏՈՒԹՅԱՆ 2026 ԹՎԱԿԱՆԻ ՊԵՏԱԿԱՆ ԲՅՈՒՋԵԻ ՄԱՍԻՆ» ՕՐԵՆՔԻ N 1 ՀԱՎԵԼՎԱԾԻ N 2 ԱՂՅՈՒՍԱԿՈՒՄ ԿԱՏԱՐՎՈՂ ՎԵՐԱԲԱՇԽՈՒՄԸ, ՀԱՅԱՍՏԱՆԻ ՀԱՆՐԱՊԵՏՈՒԹՅԱՆ ԿԱՌԱՎԱՐՈՒԹՅԱՆ 2025 ԹՎԱԿԱՆԻ ԴԵԿՏԵՄԲԵՐԻ 25-Ի N 1910-Ն ՈՐՈՇՄԱՆ N 5 ՀԱՎԵԼՎԱԾԻ N 1 ԱՂՅՈՒՍԱԿՈՒՄ ԿԱՏԱՐՎՈՂ ՓՈՓՈԽՈՒԹՅՈՒՆՆԵՐԸ
H4: հազար դրամներով
A5: ԲԳԿ | B5: Ծրագրային դասիչը | D5: ԲԳԿ/Ծրագրի /միջոցառման անվանումը | E5: Ծրագրի նպատակը/Միջոցառման նկարագրությունը | F5: Վերջնական արդյունքի նկարագրությունը/Միջոցառման տեսակը | G5: Ցուցանիշների փոփոխությունները (ավելացումներ նշված են դրական նշանով, նվազեցումները՝ փակագծերում)
B6: Ծրագիր | C6: Միջոցառում | G6: Առաջին կիսամյակ | H6: Ինն ամիս | I6: Տարի
A7: ԸՆԴԱՄԵՆԸ | G7: =+G8 -> 0 | H7: =+H8 -> 0 | I7: =+I8 -> 0
A8: ՀՀ էկոնոմիկայի նախարարություն | G8: =+G9 -> 0 | H8: =+H9 -> 0 | I8: =+I9 -> 0
B9: 1022 | D9: Գյուղատնտեսության խթանման ծրագիր | E9: Գյուղատնտեսական մթերքի և դրանց վերամշակումից ստացվող սննդամթերքի ծավալների ավելացում | F9: Գյուղատնտեսական մթերքների ծավալների ավելացում: Օգտագործվող վարելահողերի ավելացում: Պտուղբանջարեղենի և խաղողի վերամշակումից ստացված արտադրանքի ծավալների աճ | G9: =+G10+G11 -> 0 | H9: =+H10+H11 -> 0 | I9: =+I10+I11 -> 0
C10: 1022-11001 | D10: Պետական աջակցություն Հայաստանի Հանրապետության խաղողագործության և գինեգործության ոլորտներում վարվող պետական քաղաքականության ու զարգացման ծրագրերի իրականացմանը | E10: Աջակցություն Հայաստանի Հանրապետության խաղողագործության և գինեգործության ոլորտներում վարվող պետական քաղաքականության ու զարգացման ծրագրերի իրականացմանը | F10: Ծառայությունների մատուցում | G10: =+'Հավելված 2'!G20 -> 684000 | H10: =+'Հավելված 2'!H20 -> 684000 | I10: =+'Հավելված 2'!I20 -> 684000
C11: 1022 - 12010 | D11: Անասնաբուծության ճյուղում իրականացվող ներդրումային ծրագրերին աջակցություն | E11: Անասնաբուծության ճյուղում իրականացվող առնվազն 1 մլրդ դրամի ներդրումներից կապիտալ ներդրումների մասնակի փոխհատուցում | F11: Տրանսֆերտների տրամադրում | G11: =+'Հավելված 2'!G29 -> -684000 | H11: =+'Հավելված 2'!H29 -> -684000 | I11: =+'Հավելված 2'!I29 -> -684000

Sheet Հավելված 2
F1: Հավելված 2 ՀՀ կառավարության 2026 թվականի ____________ի N _____-Ն որոշման
A3: ՀԱՅԱՍՏԱՆԻ ՀԱՆՐԱՊԵՏՈՒԹՅԱՆ ԿԱՌԱՎԱՐՈՒԹՅԱՆ 2025 ԹՎԱԿԱՆԻ ԴԵԿՏԵՄԲԵՐԻ 25-Ի N 1910-Ն ՈՐՈՇՄԱՆ NN 3 ԵՎ 4 ՀԱՎԵԼՎԱԾՆԵՐՈՒՄ ԿԱՏԱՐՎՈՂ ՓՈՓՈԽՈՒԹՅՈՒՆՆԵՐԸ
I4: հազար դրամներով
A5: Գործառնական դասիչ | D5: Ծրագրային դասիչը | F5: Բյուջետային ծախսերի գործառական դասակարգման բաժինների, խմբերի և դասերի, բյուջետային ծրագրերի միջոցառումների, բյուջետային հատկացումների գլխավոր կարգադրիչների անվանումները | G5: Ցուցանիշների փոփոխությունը (ավելացումները նշված են դրական նշանով, իսկ նվազեցումները՝ փակագծերում)
A6: Բաժին | B6: Խումբ | C6: Դաս | D6: Ծրագիր | E6: Միջոցառում | G6: Առաջին կիսամյակ | H6: Ինն ամիս | I6: Տարի
F7: ԸՆԴԱՄԵՆԸ ԾԱԽՍԵՐ | G7: =+G9 -> 0 | H7: =+H9 -> 0 | I7: =+I9 -> 0
F8: այդ թվում`
F9: ՀՀ էկոնոմիկայի նախարարություն | G9: =+G11 -> 0 | H9: =+H11 -> 0 | I9: =+I11 -> 0
F10: այդ թվում`
A11: 04 | F11: ՏՆՏԵՍԱԿԱՆ ՀԱՐԱԲԵՐՈՒԹՅՈՒՆՆԵՐ | G11: =+G12 -> 0 | H11: =+H12 -> 0 | I11: =+I12 -> 0
B12: 02 | F12: Գյուղատնտեսություն, անտառային տնտեսություն, ձկնորսություն և որսորդություն | G12: =+G14 -> 0 | H12: =+H14 -> 0 | I12: =+I14 -> 0
F13: այդ թվում`
C14: 01 | F14: Գյուղատնտեսություն | G14: =+G16 -> 0 | H14: =+H16 -> 0 | I14: =+I16 -> 0
F15: այդ թվում`
F16: ՀՀ էկոնոմիկայի նախարարություն | G16: =+G18 -> 0 | H16: =+H18 -> 0 | I16: =+I18 -> 0
F17: այդ թվում`
D18: 1022 | F18: =+'Հավելված 1'!D9 -> Գյուղատնտեսության խթանման ծրագիր | G18: =+G20+G29 -> 0 | H18: =+H20+H29 -> 0 | I18: =+I20+I29 -> 0
F19: այդ թվում`
E20: 11001 | F20: Պետական աջակցություն Հայաստանի Հանրապետության խաղողագործության և գինեգործության ոլորտներում վարվող պետական քաղաքականության ու զարգացման ծրագրերի իրականացմանը | G20: =+G22 -> 684000 | H20: =+H22 -> 684000 | I20: =+I22 -> 684000
F21: այդ թվում` ըստ կատարողների
F22: ՀՀ էկոնոմիկայի նախարարություն | G22: =+G24 -> 684000 | H22: =+H24 -> 684000 | I22: =+I24 -> 684000
F23: այդ թվում` բյուջետային ծախսերի տնտեսագիտական դասակարգման հոդվածներ
F24: ԸՆԴԱՄԵՆԸ ԾԱԽՍԵՐ | G24: =+G25 -> 684000 | H24: =+H25 -> 684000 | I24: =+I25 -> 684000
F25: ԸՆԹԱՑԻԿ ԾԱԽՍԵՐ | G25: =+G26 -> 684000 | H25: =+H26 -> 684000 | I25: =+I26 -> 684000
F26: ԴՐԱՄԱՇՆՈՐՀՆԵՐ | G26: =G27 -> 684000 | H26: =H27 -> 684000 | I26: =I27 -> 684000
F27: Ընթացիկ դրամաշնորհներ պետական հատվածի այլ մակարդակներին | G27: =G28 -> 684000 | H27: =H28 -> 684000 | I27: =I28 -> 684000
F28: - Այլ ընթացիկ դրամաշնորհներ | G28: 684000 | H28: =+G28 -> 684000 | I28: =+H28 -> 684000
E29: 12010 | F29: Անասնաբուծության ճյուղում իրականացվող ներդրումային ծրագրերին աջակցություն | G29: =+G31 -> -684000 | H29: =+H31 -> -684000 | I29: =+I31 -> -684000
F30: այդ թվում` ըստ կատարողների
F31: ՀՀ էկոնոմիկայի նախարարություն | G31: =+G33 -> -684000 | H31: =+H33 -> -684000 | I31: =+I33 -> -684000
F32: այդ թվում` բյուջետային ծախսերի տնտեսագիտական դասակարգման հոդվածներ
F33: ԸՆԴԱՄԵՆԸ ԾԱԽՍԵՐ | G33: =+G34 -> -684000 | H33: =+H34 -> -684000 | I33: =+I34 -> -684000
F34: ԸՆԹԱՑԻԿ ԾԱԽՍԵՐ | G34: =+G35 -> -684000 | H34: =+H35 -> -684000 | I34: =+I35 -> -684000
F35: ՍՈՒԲՍԻԴԻԱՆԵՐ | G35: =G36 -> -684000 | H35: =H36 -> -684000 | I35: =I36 -> -684000
F36: Սուբսիդիաներ ոչ պետական կազմակերպություններին | G36: =G37 -> -684000 | H36: =H37 -> -684000 | I36: =I37 -> -684000
F37: - Սուբսիդիաներ ոչ պետական ոչ ֆինանսական կազմակերպություններին | G37: -684000 | H37: =+G37 -> -684000 | I37: =+H37 -> -684000

Sheet Հավելված 3 
D1: Հավելված 3
C2: ՀՀ կառավարության 2026 թվականի
C3: ___________ ___-ի N _______ -Ն որոշման
A6: ՀԱՅԱՍՏԱՆԻ ՀԱՆՐԱՊԵՏՈՒԹՅԱՆ ԿԱՌԱՎԱՐՈՒԹՅԱՆ 2025 ԹՎԱԿԱՆԻ ԴԵԿՏԵՄԲԵՐԻ25-Ի N 1910-Ն ՈՐՈՇՄԱՆ N 5 ՀԱՎԵԼՎԱԾԻ 7 ԱՂՅՈՒՍԱԿՈՒՄ ԿԱՏԱՐՎՈՂ ՓՈՓՈԽՈՒԹՅՈՒՆԸ
G7: հազար դրամներով
A8: Ծրագրային դասիչ | C8: Բյուջետային հատկացումների գլխավոր կարգադրիչների, ծրագրերի, միջոցառումների, ծախսային ուղղությունների անվանումները | F8: Միջոցառումները կատարող պետական մարմինների և դրամաշնորհ ստացող տնտեսվարող սուբյեկտների անվանումները | G8: Ցուցանիշների փոփոխությունները (ավելացումները նշված են դրական նշանով)
A9: Ծրագիր | B9: Միջոցառում | G9: Տարի
A10: 1 | B10: 2 | C10: 3 | F10: 4 | G10: 5
A11: Ընդամենը | G11: =+G12 -> 684000
A12: ՀՀ էկոնոմիկայի նախարարություն | G12: =+G13 -> 684000
A13: 1022 | B13: =+'Հավելված 1'!D9 -> Գյուղատնտեսության խթանման ծրագիր | G13: =+G14 -> 684000
B14: 11001 | C14: Պետական աջակցություն Հայաստանի Հանրապետության խաղողագործության և գինեգործության ոլորտներում վարվող պետական քաղաքականության ու զարգացման ծրագրերի իրականացմանը | F14: ՀՀ էկոնոմիկայի նախարարություն | G14: =+G15 -> 684000
F15: Հայաստանի խաղողագործության և գինեգործության հիմնադրամ | G15: =+'Հավելված 2'!I28 -> 684000

Sheet Հավելված 4
A1: Հավելված 4 ՀՀ կառավարության 2026 թվականի ____________ի N _____-Ն որոշման
A2: ՀԱՅԱՍՏԱՆԻ ՀԱՆՐԱՊԵՏՈՒԹՅԱՆ ԿԱՌԱՎԱՐՈՒԹՅԱՆ 2025 ԹՎԱԿԱՆԻ ԴԵԿՏԵՄԲԵՐԻ 25-Ի N 1910-Ն ՈՐՈՇՄԱՆ N 9 ԵՎ 9.1 ՀԱՎԵԼՎԱԾՆԵՐՈՒՄ ԿԱՏԱՐՎՈՂ ՓՈՓՈԽՈՒԹՅՈՒՆՆԵՐԸ ԵՎ ԼՐԱՑՈՒՄԸ
L3: հազար դրամներով
A4: ԲԳԿ/ԲՍԿ | B4: Ծրագիր | D4: Միջոցառում | H4: Իրականացնողը/ ակտիվն օգտագործողը/ շահառուի ընտրության չափորոշիչը | I4: Արդյունքային չափորոշիչը | J4: Ցուցանիշների փոփոխությունը (ավելացումները նշված են դրական նշանով, իսկ նվազեցումները՝ փակագծերում)
B5: Դասիչը | C5: Անվա-նումը | D5: Դասիչը | E5: Անվա-նումը | F5: Նկարագրու-թյունը | G5: Տեսակը | J5: Առաջին կիսամյակ | K5: Ինն ամիս | L5: Տարի
A6: ԸՆԴԱՄԵՆԸ | J6: =+J7 -> 0 | K6: =+K7 -> 0 | L6: =+L7 -> 0
A7: ՀՀ էկոնոմիկայի նախարարություն | J7: =+J8 -> 0 | K7: =+K8 -> 0 | L7: =+L8 -> 0
B8: 1022 | C8: =+'[4]Havelvats 3'!D9 -> Գյուղատնտեսության խթանման ծրագիր | J8: =+J9+J14 -> 0 | K8: =+K9+K14 -> 0 | L8: =+L9+L14 -> 0
D9: 1022 - 11001 | E9: Պետական աջակցություն Հայաստանի Հանրապետության խաղողագործության և գինեգործության ոլորտներում վարվող պետական քաղաքականության ու զարգացման ծրագրերի իրականացմանը | J9: =+'Հավելված 1'!G10 -> 684000 | K9: =+'Հավելված 1'!H10 -> 684000 | L9: =+'Հավելված 1'!I10 -> 684000
F10: Աջակցություն Հայաստանի Հանրապետության խաղողագործության և գինեգործության ոլորտներում վարվող պետական քաղաքականության ու զարգացման ծրագրերի իրականացմանը
G11: Ծառայությունների մատուցում
H12: Ծառայությունը մատուցողի անվանումը` Մասնագիտացված կազմակերպություններ
I13: «Կոնկուրս Մոնդիալ դե Բրյուսել 2026» գինու միջազգային համտես մրցույթի անցկացում, հատ | J13: 1 | L13: 1
D14: 1022 - 12010 | E14: Անասնաբուծության ճյուղում իրականացվող ներդրումային ծրագրերին աջակցություն | J14: =+'Հավելված 1'!G11 -> -684000 | K14: =+'Հավելված 1'!H11 -> -684000 | L14: =+'Հավելված 1'!I11 -> -684000
F15: Անասնաբուծության ճյուղում իրականացվող առնվազն 1 մլրդ դրամի ներդրումներից կապիտալ ներդրումների մասնակի փոխհատուցում
G16: Տրանսֆերտների տրամադրում
H17: Շահառուների ընտրության չափորոշիչները` ՀՀ գյուղատնտեսական տնտեսավարողներ՛ ընտրված ՀՀ կառավարության 03.03.2022թ. թիվ 276-Լ որոշմամբ հաստատված ծրագրի չափանիշներին համապատասխան
