Workbook

Sheet 1
J1: Հավելված N 1
J2: ՀՀ կառավարության 2026 թվականի
J3: ______________ ի ___Ն որոշման
B5: ՀԱՅԱՍՏԱՆԻ ՀԱՆՐԱՊԵՏՈՒԹՅԱՆ ԿԱՌԱՎԱՐՈՒԹՅԱՆ 2025 ԹՎԱԿԱՆԻ ԴԵԿՏԵՄԲԵՐԻ 25-Ի N 1910-Ն ՈՐՈՇՄԱՆ NN 3 ԵՎ 4 ՀԱՎԵԼՎԱԾՆԵՐՈՒՄ ԿԱՏԱՐՎՈՂ ՓՈՓՈԽՈՒԹՅՈՒՆՆԵՐԸ ԵՎ ԼՐԱՑՈՒՄՆԵՐԸ
J7: հազար դրամներով
B8: Գործառական դասիչը | E8: Ծրագրային դասիչը | G8: Բյուջետային հատկացումների գլխավոր կարգադրիչների, ծրագրերի, միջոցառումների և միջոցառումները կատարող պետական մարմինների անվանումները | H8: Ցուցանիշների փոփոխությունը (ավելացումները նշված են դրական նշանով, իսկ նվազեցումները` փակագծերում)
B9: Բաժին | C9: Խումբ | D9: Դաս | E9: Ծրագիր | F9: Միջոցառում | H9: Առաջին կիսամյակ | I9: Ինն ամիս | J9: Տարի
G10: ԸՆԴԱՄԵՆԸ | H10: =H12 -> 0 | I10: =I12 -> 0 | J10: =J12 -> 0
G11: այդ թվում`
G12: ՀՀ տարածքային կառավարման և ենթակառուցվածքների նախարարություն | H12: =H14 -> 0 | I12: =I14 -> 0 | J12: =J14 -> 0
G13: այդ թվում`
B14: 04 | G14: ՏՆՏԵՍԱԿԱՆ ՀԱՐԱԲԵՐՈՒԹՅՈՒՆՆԵՐ | H14: =H16 -> 0 | I14: =I16 -> 0 | J14: =J16 -> 0
G15: այդ թվում`
C16: 05 | G16: ՏՐԱՆՍՊՈՐՏ | H16: =H18 -> 0 | I16: =I18 -> 0 | J16: =J18 -> 0
G17: այդ թվում`
D18: 01 | G18: Ճանապարհային տրանսպորտ | H18: =H20 -> 0 | I18: =I20 -> 0 | J18: =J20 -> 0
G19: այդ թվում`
G20: ՀՀ տարածքային կառավարման և ենթակառուցվածքների նախարարություն | H20: =H22 -> 0 | I20: =I22 -> 0 | J20: =J22 -> 0
G21: այդ թվում`
E22: 1049 | G22: Ճանապարհային ցանցի բարելավում | H22: =H24+H43+H59 -> 0 | I22: =I24+I43+I59 -> 0 | J22: =J24+J43+J59 -> 0
G23: այդ թվում`
F24: 21001 | G24: Պետական նշանակության ավտոճանապարհների հիմնանորոգում | H24: =H26+H36 -> 0 | I24: =I26+I36 -> 0 | J24: =J26+J36 -> 0
G25: այդ թվում` ըստ կատարողների
G26: ՀՀ տարածքային կառավարման և ենթակառուցվածքների նախարարություն | H26: =H31+H34 -> 4915155.3 | I26: =I31+I34 -> 10140161 | J26: =J31+J34 -> 12678478
G27: այդ թվում`բյուջետային ծախսերի տնտեսագիտական դասակարգման հոդվածներ
G28: ԸՆԴԱՄԵՆԸ ԾԱԽՍԵՐ | H28: =H29 -> 4915155.3 | I28: =I29 -> 10140161 | J28: =J29 -> 12678478
G29: ՈՉ ՖԻՆԱՆՍԱԿԱՆ ԱԿՏԻՎՆԵՐԻ ԳԾՈՎ ԾԱԽՍԵՐ | H29: =H30 -> 4915155.3 | I29: =I30 -> 10140161 | J29: =J30 -> 12678478
G30: ՀԻՄՆԱԿԱՆ ՄԻՋՈՑՆԵՐ | H30: =H34+H31 -> 4915155.3 | I30: =I34+I31 -> 10140161 | J30: =J34+J31 -> 12678478
G31: ՇԵՆՔԵՐ ԵՎ ՇԻՆՈՒԹՅՈՒՆՆԵՐ | H31: =H32+H33 -> 4899160.5 | I31: =I32+I33 -> 10124166 | J31: =J32+J33 -> 12662484
G32: - Շենքերի և շինությունների շինարարություն | H32: ='3'!E45 -> 48140.7 | I32: ='3'!F45 -> 80234.5 | J32: ='3'!G45 -> 80234.5
G33: - Շենքերի և շինությունների կապիտալ վերանորոգում | H33: 4851019.8 | I33: 10043931 | J33: 12582249
G34: ԱՅԼ ՀԻՄՆԱԿԱՆ ՄԻՋՈՑՆԵՐ | H34: =H35 -> 15994.8 | I34: =I35 -> 15994.8 | J34: =J35 -> 15994.8
G35: - Նախագծահետազոտական ծախսեր | H35: 15994.8 | I35: 15994.8 | J35: 15994.8
G36: ՀՀ կառավարություն | H36: ='3'!E16 -> -4915155.3 | I36: ='3'!F16 -> -10140161 | J36: ='3'!G16 -> -12678478
G37: այդ թվում` բյուջետային ծախսերի տնտեսագիտական դասակարգման հոդվածներ
G38: ԸՆԴԱՄԵՆԸ ԾԱԽՍԵՐ | H38: =H39 -> -4915155.3 | I38: =I39 -> -10140161 | J38: =J39 -> -12678478
G39: ՈՉ ՖԻՆԱՆՍԱԿԱՆ ԱԿՏԻՎՆԵՐԻ ԳԾՈՎ ԾԱԽՍԵՐ | H39: =H40 -> -4915155.3 | I39: =I40 -> -10140161 | J39: =J40 -> -12678478
G40: ՀԻՄՆԱԿԱՆ ՄԻՋՈՑՆԵՐ | H40: =H41 -> -4915155.3 | I40: =I41 -> -10140161 | J40: =J41 -> -12678478
G41: ՇԵՆՔԵՐ ԵՎ ՇԻՆՈՒԹՅՈՒՆՆԵՐ | H41: =H42 -> -4915155.3 | I41: =I42 -> -10140161 | J41: =J42 -> -12678478
G42: - Շենքերի և շինությունների կապիտալ վերանորոգում | H42: ='3'!E16 -> -4915155.3 | I42: ='3'!F16 -> -10140161 | J42: ='3'!G16 -> -12678478
F43: 21002 | G43: Տրանսպորտային օբյեկտների հիմնանորոգում | H43: =H45+H52 -> 0 | I43: =I45+I52 -> 0 | J43: =J45+J52 -> 0
G44: այդ թվում` ըստ կատարողների
G45: ՀՀ տարածքային կառավարման և ենթակառուցվածքների նախարարություն | H45: =H47 -> 157211 | I45: =I47 -> 207061.7 | J45: =J47 -> 209992.9
G46: այդ թվում`բյուջետային ծախսերի տնտեսագիտական դասակարգման հոդվածներ
G47: ԸՆԴԱՄԵՆԸ ԾԱԽՍԵՐ | H47: =H48 -> 157211 | I47: =I48 -> 207061.7 | J47: =J48 -> 209992.9
G48: ՈՉ ՖԻՆԱՆՍԱԿԱՆ ԱԿՏԻՎՆԵՐԻ ԳԾՈՎ ԾԱԽՍԵՐ | H48: =H49 -> 157211 | I48: =I49 -> 207061.7 | J48: =J49 -> 209992.9
G49: ՀԻՄՆԱԿԱՆ ՄԻՋՈՑՆԵՐ | H49: =H50 -> 157211 | I49: =I50 -> 207061.7 | J49: =J50 -> 209992.9
G50: ՇԵՆՔԵՐ ԵՎ ՇԻՆՈՒԹՅՈՒՆՆԵՐ | H50: =H51 -> 157211 | I50: =I51 -> 207061.7 | J50: =J51 -> 209992.9
G51: - Շենքերի և շինությունների կապիտալ վերանորոգում | H51: ='3'!E74 -> 157211 | I51: ='3'!F74 -> 207061.7 | J51: ='3'!G74 -> 209992.9
G52: ՀՀ կառավարություն | H52: =H54 -> -157211 | I52: =I54 -> -207061.7 | J52: =J54 -> -209992.9
G53: այդ թվում` բյուջետային ծախսերի տնտեսագիտական դասակարգման հոդվածներ
G54: ԸՆԴԱՄԵՆԸ ԾԱԽՍԵՐ | H54: =H55 -> -157211 | I54: =I55 -> -207061.7 | J54: =J55 -> -209992.9
G55: ՈՉ ՖԻՆԱՆՍԱԿԱՆ ԱԿՏԻՎՆԵՐԻ ԳԾՈՎ ԾԱԽՍԵՐ | H55: =H56 -> -157211 | I55: =I56 -> -207061.7 | J55: =J56 -> -209992.9
G56: ՀԻՄՆԱԿԱՆ ՄԻՋՈՑՆԵՐ | H56: =H57 -> -157211 | I56: =I57 -> -207061.7 | J56: =J57 -> -209992.9
G57: ՇԵՆՔԵՐ ԵՎ ՇԻՆՈՒԹՅՈՒՆՆԵՐ | H57: =H58 -> -157211 | I57: =I58 -> -207061.7 | J57: =J58 -> -209992.9
G58: - Շենքերի և շինությունների կապիտալ վերանորոգում | H58: ='3'!E73 -> -157211 | I58: ='3'!F73 -> -207061.7 | J58: ='3'!G73 -> -209992.9
F59: 21020 | G59: Պետական նշանակության ավտոճանապարհների միջին նորոգում | H59: =H61+H68 -> 0 | I59: =I61+I68 -> 0 | J59: =J61+J68 -> 0
G60: այդ թվում` ըստ կատարողների
G61: ՀՀ տարածքային կառավարման և ենթակառուցվածքների նախարարություն | H61: =H63 -> 142216.8 | I61: =I63 -> 142216.8 | J61: =J63 -> 142216.8
G62: այդ թվում` բյուջետային ծախսերի տնտեսագիտական դասակարգման հոդվածներ
G63: ԸՆԴԱՄԵՆԸ ԾԱԽՍԵՐ | H63: =H64 -> 142216.8 | I63: =I64 -> 142216.8 | J63: =J64 -> 142216.8
G64: ՈՉ ՖԻՆԱՆՍԱԿԱՆ ԱԿՏԻՎՆԵՐԻ ԳԾՈՎ ԾԱԽՍԵՐ | H64: =H65 -> 142216.8 | I64: =I65 -> 142216.8 | J64: =J65 -> 142216.8
G65: ՀԻՄՆԱԿԱՆ ՄԻՋՈՑՆԵՐ | H65: =H66 -> 142216.8 | I65: =I66 -> 142216.8 | J65: =J66 -> 142216.8
G66: ՇԵՆՔԵՐ ԵՎ ՇԻՆՈՒԹՅՈՒՆՆԵՐ | H66: =H67 -> 142216.8 | I66: =I67 -> 142216.8 | J66: =J67 -> 142216.8
G67: - Շենքերի և շինությունների կապիտալ վերանորոգում | H67: =-H68 -> 142216.8 | I67: =-I68 -> 142216.8 | J67: =-J68 -> 142216.8
G68: ՀՀ կառավարություն | H68: =H70 -> -142216.8 | I68: =I70 -> -142216.8 | J68: =J70 -> -142216.8
G69: այդ թվում` բյուջետային ծախսերի տնտեսագիտական դասակարգման հոդվածներ
G70: ԸՆԴԱՄԵՆԸ ԾԱԽՍԵՐ | H70: =H71 -> -142216.8 | I70: =I71 -> -142216.8 | J70: =J71 -> -142216.8
G71: ՈՉ ՖԻՆԱՆՍԱԿԱՆ ԱԿՏԻՎՆԵՐԻ ԳԾՈՎ ԾԱԽՍԵՐ | H71: =H73 -> -142216.8 | I71: =I73 -> -142216.8 | J71: =J73 -> -142216.8
G72: ՀԻՄՆԱԿԱՆ ՄԻՋՈՑՆԵՐ | H72: =H73 -> -142216.8 | I72: =I73 -> -142216.8 | J72: =J73 -> -142216.8
G73: ՇԵՆՔԵՐ ԵՎ ՇԻՆՈՒԹՅՈՒՆՆԵՐ | H73: =H74 -> -142216.8 | I73: =I74 -> -142216.8 | J73: =J74 -> -142216.8
G74: - Շենքերի և շինությունների կապիտալ վերանորոգում | H74: ='3'!E86 -> -142216.8 | I74: ='3'!F86 -> -142216.8 | J74: ='3'!G86 -> -142216.8
D77: ՀԱՅԱՍՏԱՆԻ ՀԱՆՐԱՊԵՏՈՒԹՅԱՆ ՎԱՐՉԱՊԵՏԻ ԱՇԽԱՏԱԿԱԶՄԻ ՂԵԿԱՎԱՐ՝ | G77: Ա.ՀԱՐՈՒԹՅՈՒՆՅԱՆ

Sheet 2
I1: Հավելված N 2
I2: ՀՀ կառավարության 2026 թվականի
I3: ______________ ի ___Ն որոշման
B5: «ՀԱՅԱՍՏԱՆԻ ՀԱՆՐԱՊԵՏՈՒԹՅԱՆ 2026 ԹՎԱԿԱՆԻ ՊԵՏԱԿԱՆ ԲՅՈՒՋԵԻ ՄԱՍԻՆ» ՕՐԵՆՔԻ N 1 ՀԱՎԵԼՎԱԾԻ N 3 ԱՂՅՈՒՍԱԿՈՒՄ ԿԱՏԱՐՎՈՂ ՓՈՓՈԽՈՒԹՅՈՒՆՆԵՐԸ ԵՎ ԼՐԱՑՈՒՄՆԵՐԸ
H6: հազար դրամներով
B7: Ծրագրային դասիչ | D7: Բյուջետային գլխավոր կարգադրիչների, ծրագրերի, միջոցառումների և ուղղությունների անվանումները | E7: Ցուցանիշների փոփոխությունը (ավելացումները նշված են դրական նշանով, իսկ նվազեցումները` փակագծերում)
E8: Ընդամենը, | F8: այդ թվում՝
B9: Ծրագիր | C9: Միջոցառում | F9: Կառուցման աշխատանքներ | G9: Վերակառուցման, վերանորոգման և վերականգնման աշխատանքներ | H9: Նախագծահե- տազոտական, գեոդեզիա- քարտեզագրական աշխատանքներ | I9: Ոչ ֆինանսական այլ ակտիվների ձեռքբերում
D10: ԸՆԴԱՄԵՆԸ | E10: 0 | F10: 80234.5 | G10: -96229.3 | H10: 15994.8 | I10: 0
D11: այդ թվում՝
D12: ՀՀ ՏԱՐԱԾՔԱՅԻՆ ԿԱՌԱՎԱՐՄԱՆ ԵՎ ԵՆԹԱԿԱՌՈՒՑՎԱԾՔՆԵՐԻ ՆԱԽԱՐԱՐՈՒԹՅՈՒՆ | E12: 0 | F12: 80234.5 | G12: -96229.3 | H12: 15994.8 | I12: 0
D13: այդ թվում`
B14: 1049 | C14: 21001 | D14: Պետական նշանակության ավտոճանապարհների հիմնանորոգում | E14: 0 | F14: =F16+F24+F40+F68 -> 80234.5 | G14: =G16+G24+G40+G68 -> -96229.3 | H14: =H16+H24+H40+H68 -> 15994.8 | I14: =I16+I24+I40+I68 -> 0
D15: այդ թվում`
C16: 1 | D16: Միջպետական նշանակության ավտոճանապարհներ, այդ թվում | E16: =F16+G16+H16+I16 -> 310231.9 | F16: =F17+F18+F19+F21+F22+F23 -> 0 | G16: =SUM(G17:G23) -> 310212.1 | H16: =SUM(H17:H23) -> 19.8 | I16: =SUM(I17:I23) -> 0
D17: Մ-1, Երևան-Գյումրի-ՀՀ սահման միջպետական նշանակության ավտոճանապարհի կմ141+500-կմ143+300 հատվածի հիմնանորոգում | E17: 21468.1 | F17: 0 | G17: 21468.1 | H17: 0 | I17: 0
D18: Մ-2, Երևան-Երասխ-Նորավան- Տաթև-Կապան-Մեղրի-ՀՀ սահման (նախկին՝ Մ-2 ,Երևան-Երասխ-Գորիս-Մեղրի-ՀՀ սահման) միջպետական նշանակության ավտոճանապարհի կմ182+532 - կմ190+000 հատվածի հիմնանորոգում | E18: 61053.1 | F18: 0 | G18: 61053.1 | H18: 0 | I18: 0
D19: /Մ-2/-Տաթև-Աղվանի-/Մ-2/(Սյունիք) միջպետական նշանակության ավտոճանապարհի կմ0+000-կմ19+500 հատվածի հիմնանորոգում | E19: 19.8 | F19: 0 | G19: 0 | H19: 19.8 | I19: 0
D20: Մ-3, ՀՀ սահման-Մարգարա-Վանաձոր-Տաշիր-ՀՀ սահման միջպետական նշանակության ավտոճանապարհի կմ154+000-կմ176+900 հատվածի հիմնանորոգում | E20: =F20+G20+H20+I20 -> 84540.5 | F20: 0 | G20: ='3'!G23 -> 84540.5 | H20: 0 | I20: 0
D21: Մ-7, /Մ-3/ - Սպիտակ – Գյումրի - ՀՀ սահման միջպետական նշանակության ավտոճանապարհի կմ47+100-կմ48+000 հատվածի հիմնանորոգում | E21: 120480.2 | F21: 0 | G21: 120480.2 | I21: 0
D22: Մ-8, Վանաձոր (Մ-6 հատման կետ) - Դիլիջան միջպետական նշանակության ավտոճանապարհի կմ0+236 - կմ6+236 հատվածի (Վանաձոր քաղաքի հատված) հիմնանորոգում | E22: 2149.2 | F22: 0 | G22: 2149.2 | I22: 0
D23: Մ-8, Վանաձոր (Մ-6 հատման կետ) - Դիլիջան միջպետական նշանակության ավտոճանապարհի կմ40+000 - կմ42+000 հատվածի հիմնանորոգում | E23: 20521 | F23: 0 | G23: 20521 | I23: 0
C24: 2 | D24: Հանրապետական նշանակության ավտոճանապարհներ, այդ թվում | E24: =F24+G24+H24+I24 -> 6396705.4 | F24: 0 | G24: =SUM(G25:G39) -> 6396705.4 | H24: 0 | I24: 0
D25: Հ-1, Վ. Պտղնու տրանսպորտային հանգույց -Աբովյան - Ֆանտան -Ալափարս-Հ-5 (նախկին՝ Հ-1, Վ. Պտղնու տրանսպորտային հանգույց - Ջրաբեր-Հրազդան -Հրազդանի քրեակատարողական հիմնարկ) հանրապետական նշանակության ավտոճանապարհի կմ0+000 - կմ5+023 հատվածի հիմնանորոգում | E25: 1972030.9 | F25: 0 | G25: 1972030.9 | H25: 0 | I25: 0
D26: Հ-3, Երևան (Ջրաշխարհ, Մ-4-ի հետ հատման տեղ)-Գառնի –Գեղարդի վանք հանրապետական նշանակության ավտոճանապարհի կմ10+770-կմ27+500 հատվածի (բացառությամբ սողանքային տեղամասերի) հիմնանորոգում | E26: 706771.6 | F26: 0 | G26: 706771.6 | H26: 0 | I26: 0
D27: Հ-10. /Հ-8/ (Ոսկետափ) - Վեդի - Լանջառ - /Մ-2/ հանրապետական նշանակության ավտոճանապարհի կմ5+450 - կմ9+250 հատվածի հիմնանորոգում | E27: 982872.2 | F27: 0 | G27: 982872.2 | H27: 0 | I27: 0
D28: Հ-15, /Մ-5/(Նորապատ) -Արգավանդ –/Մ-3/ (Վարդանաշեն) հանրապետական նշանակության ավտոճանապարհի կմ3+000 - կմ13+000 հատվածի հիմնանորոգում | E28: 579295.4 | F28: 0 | G28: 579295.4 | H28: 0 | I28: 0
D29: Հ-16, /Մ-5/ - Մեծամոր – ՀԱԷԿ - /Մ-5/ հանրապետական նշանակության ավտոճանապարհի կմ0+000 - կմ10+700 հատվածի հիմնանորոգում | E29: 53537.3 | F29: 0 | G29: 53537.3 | H29: 0 | I29: 0
D30: Հ-21, /Հ-75/ - Հոռոմ-Արթիկ- Ալագյազ-/Մ-3/ (նախկին՝ Հ-21, /Հ-75/- Հոռոմ-Արթիկ -Ալագյազ) հանրապետական նշանակության ավտոճանապարհի կմ0+000-կմ4+000 հատվածի հիմնանորոգում | E30: 450696 | F30: 0 | G30: 450696 | H30: 0 | I30: 0
D31: Հ-21, /Հ-75/ - Հոռոմ-Արթիկ- Ալագյազ-/Մ-3/ (նախկին՝ Հ-21, /Հ-75/- Հոռոմ-Արթիկ -Ալագյազ) հանրապետական նշանակության ավտոճանապարհի կմ29+600 - կմ32+700 հատվածի հիմնանորոգում | E31: 22100 | F31: 0 | G31: 22100 | H31: 0 | I31: 0
D32: Հ-22, /Մ-6/ - Դսեղ – /Հ-70/ հանրապետական նշանակության ավտոճանապարհի կմ 8+000-կմ 13+900 հատվածի հիմնանորոգում | E32: 104488.1 | F32: 0 | G32: 104488.1 | H32: 0 | I32: 0
D33: Հ-29, Մ-4-Ցամաքաբերդ-Սևան - Ծաղկունք - Զովաբեր (նախկին՝ Հ-29, Սևան - Ծաղկունք – Զովաբեր) հանրապետական նշանակության ավտոճանապարհի կմ 0+000-կմ 18+200 հատվածի հիմնանորոգում (բացառությամբ կմ 11+000-կմ 12+000 հատվածի) | E33: 177111 | F33: 0 | G33: 177111 | H33: 0 | I33: 0
D34: Հ-36, /Մ-4/ (Իջևան) - Նավուր - Բերդ - Այգեպար հանրապետական նշանակության ավտոճանապարհի կմ 5+600-կմ 42+100 հատվածի հիմնանորոգում | E34: 315593.5 | F34: 0 | G34: 315593.5 | H34: 0 | I34: 0
D35: Հ-55,Հրազդանի տրանսպորտային հանգույց- Ծաղկաձորի ճոպանուղի հանրապետական նշանակության ավտոճանապարհի կմ0+000- կմ 5+800 և Տ-6-34, /Հ-55/ - Ծաղկաձորի մարզահամալիր տեղական նշանակության ավտոճանապարհի կմ0+000 - կմ4+700 (նախկին՝ Հ-55, Հրազդանի տրանսպորտային հանգույց-Ծաղկաձորի մարզահամալիր հանրապետական նշանակության ավտոճանապարհի կմ0+000 - կմ10+500 հատվածի) հատվածների հիմնանորոգում | E35: 72817.2 | F35: 0 | G35: 72817.2 | H35: 0 | I35: 0
D36: Հ-56,/Մ-3/ - Մուղնի - Օհանավան - /Մ-3/ հանրապետական նշանակության ավտոճանապարհի կմ0+000-կմ5+300 հատվածի հիմնանորոգում | E36: 542031.3 | F36: 0 | G36: 542031.3 | H36: 0 | I36: 0
... D39: Հ-79 /Մ-10/- Գեղհովիտ-Քարագլուխ-/Մ-2/ հանրապետական նշանակության ավտոճանապարհի (նախկին՝ Մ-10, Սևան-Մարտունի-Գետափ) միջպետական նշանակության ավտոճանապարհի կմ80+590-կմ94+590) կմ14+590 -կմ28+590 հատվածի հիմնանորոգում | E39: 6691.8 | F39: 0 | G39: 6691.8 | H39: 0 | I39: 0
C40: 3 | D40: Մարզային նշանակության ավտոճանապարհներ, այդ թվում | E40: =F40+G40+H40+I40 -> 5971541.1 | F40: =SUM(F41:F67) -> 80234.5 | G40: =SUM(G41:G67) -> 5875331.6 | H40: =SUM(H41:H67) -> 15975 | I40: =SUM(I41:I67) -> 0
D41: Տ-1-6, /Մ-1/ Ուջան - /Մ-1/ տեղական նշանակության ավտոճանապարհի կմ0+650 - կմ3+700 հատվածի հիմնանորագում | E41: 494060 | F41: 0 | G41: 494060 | H41: 0 | I41: 0
D42: /Տ-1-21/(Եղիպատրուշ բնակավայր) ճանապարհից դեպի «Մայլեռ» լեռնային հանգստավայր տանող 3 կմ երկարությամբ և 8 մետր լայնությամբ երթևեկելի մասով ասֆալտապատ ավտոճանապարհի կառուցում | E42: 80234.5 | F42: 80234.5 | G42: 0 | H42: 0 | I42: 0
D43: Տ-1-25,/Մ-3/(Աշտարակ)–Փարպի-Ղազարավան տեղական նշանակության ավտոճանապարհի կմ0+000-կմ4+000 և կմ6+000-կմ13+500 հատվածների հիմնանորոգում | E43: 643652.2 | F43: 0 | G43: 643652.2 | H43: 0 | I43: 0
D44: Տ-1-33,Կոշ(Տ-1-8)-Վերին Սասունիկ-Լեռնարոտ տեղական նշանակության ավտոճանապարհի կմ0+000-կմ9+500 հատվածի հիմնանորոգում | E44: 428596 | F44: 0 | G44: 428596 | H44: 0 | I44: 0
D45: Տ-1-34,(Տ-1-33)–Ավան-Խնուսիկ տեղական նշանակության ավտոճանապարհի կմ0+000-կմ2+200 հատվածի հիմնանորոգում | E45: 75255.2 | F45: 0 | G45: 75255.2 | H45: 0 | I45: 0
D46: Զարինջա - Ձիթհանքով ավտոճանապարհի 4.3 կմ երկարությամբ հատվածի հիմնանորոգում | E46: 90506 | F46: 0 | G46: 89561 | H46: 945 | I46: 0
D47: Տ-1-63, /Տ-1-84/ (Թաթուլ) – Կանչ-Հակո (նախկին՝ Տ-1-63, /Հ-81/ (Թաթուլ) – Կանաչ – Հակո) ավտոճանապարհի կմ0+000 - կմ12+100 հատվածի հիմնանորոգում | E47: 66767 | F47: 0 | G47: 66767 | H47: 0 | I47: 0
D48: Տ-2-18,/Հ-8/ (Մրգավետ)- Մ-2 մարզային նշանակության ավտոճանապարհի կմ 0+000-կմ 1+200 հատվածի հիմնանորագում | E48: 148950.9 | F48: 0 | G48: 148950.9 | H48: 0 | I48: 0
D49: Տ-2-21,Հ-8 /Մրգավետ/ - Արևշատ (Տ-2-25) մարզային նշանակության ավտոճանապարհի կմ 4+000-կմ 6+400 հատվածի հիմնանորագում | E49: 491288.3 | F49: 0 | G49: 491288.3 | H49: 0 | I49: 0
D50: Տ-2-35, /Տ-2-32/ (Վերին Արտաշատ) - Այգեպատ (Տ-2-42) մարզային նշանակության ավտոճանապարհի կմ0+000-կմ4+300 հատվածի հիմնանորագում | E50: 1023871.2 | F50: 0 | G50: 1023871.2 | H50: 0 | I50: 0
D51: Տ-3-8,/Մ-5/-Մայիսյան/Տ-3-47/ տեղական նշանակության ավտոճանապարհի կմ 0+000-կմ 0+800 հատվածի հիմնանորոգում | E51: 470 | F51: 0 | G51: 470 | H51: 0 | I51: 0
D52: Տ-3-11 /Հ-15/ (Արմավիր գ.) – Նալբանդյան – Գետաշեն – Նոր Կեսարիա – /Մ-5/ ավտոճանապարհի կմ6+000-կմ10+000 հատվածի հիմնանորոգում | E52: 700 | F52: 0 | G52: 700 | H52: 0 | I52: 0
... D67: Ուրցաձորից դեպի Մարտունի տանող ավտոճանապարհի կառուցում | E67: 15030 | F67: 0 | G67: 0 | H67: 15030 | I67: 0
D68: ՀՀ կառավարություն | E68: =F68+G68+H68+I68 -> -12678478 | F68: 0 | G68: ='3'!G16 -> -12678478 | H68: 0 | I68: 0
B69: 1049 | C69: 21002 | D69: Տրանսպորտային օբյեկտների հիմնանորոգում | E69: 0 | F69: 0 | G69: 0 | H69: 0 | I69: 0
D70: այդ թվում`
D71: Մ-2, Երևան-Երասխ-Նորավան- Տաթև-Կապան-Մեղրի-ՀՀ սահման միջպետական նշանակության ավտոճանապարհի Ոսկետափի տրանսպորտային հանգույցի ապամոնտաժում | E71: 100098.4 | F71: 0 | G71: 100098.4 | H71: 0 | I71: 0
D72: Մ-4, Երևան-Սևան-Իջևան-ՀՀ սահման միջպետական նշանակության ավտոճանապարհի կմ 9+600-ում (Հյուսիսային ավտոկայանի հարևանությամբ) վերգետնյա հետիոտնային անցումի կառուցում | E72: 40409 | G72: 40409 | H72: 0 | I72: 0
D73: Հ-6, /Հ-2/ –Նոր Գեղի - Եղվարդի տրանսպորտային հանգույց - /Մ-1/ ավտոճանապարհի Հրազդան գետի վրայի կամրջի վերանորոգում | E73: 300.6 | F73: 0 | G73: 300.6 | H73: 0 | I73: 0
D74: Հ-13,/Մ-3/ (Վաղարշապատ) - Մասիս - /Մ-2/ հանրապետական նշանակության ավտոճանապարհի կմ9+800-ում գտնվող կամուրջի հիմնանորոգում | E74: 4432 | F74: 0 | G74: 4432 | H74: 0 | I74: 0
D75: Սանահին կայարանում քանդված կամրջի փոխարեն L=42մ պողպատե ֆերմաներով թռիչքային կառուցվածքով ժամանակավոր կամրջի կառուցման համար անհրաժեշտ նախապատրաստական աշխատանքների իրականացում | E75: 2368.6 | F75: 0 | G75: 2368.6 | H75: 0 | I75: 0
D76: Տ-3-34, Վաղարշապատ (Անդրանիկի փողոց) - Ծաղկունք -Հովտամեջ - Հայթաղ -Արշալույս - /Մ-5/ (նախկին՝ Տ-3-34, Վաղարշապատ-Ծաղկունք-Հովտամեջ-Հայթաղ-Արշալույս-/Մ-5/) տեղական նշանակության ավտոճանապարհի կմ 1+640-ում գտնվող կամրջի հիմնանորոգում | E76: 650 | F76: 0 | G76: 650 | H76: 0 | I76: 0
D77: Տ-3-36, Աղավնատուն (Տ-3-44) - Ամբերդ – Այգեշատ - Դաշտ (Տ-3-64) տեղական նշանակության ավտոճանապարհի կմ2+610-ում գտնվող կամուրջի հիմնանորոգում | E77: 750 | F77: 0 | G77: 750 | H77: 0 | I77: 0
D78: /Մ-4/ - Սևանի թերակղզի հանրապետական նշանակության ավտոճանապարհի կմ1+400 կմ1+500 հատվածում փլուզված հողային պաստառի շեպի վերականգնում | E78: 2360.7 | F78: 0 | G78: 2360.7 | H78: 0 | I78: 0
D79: Տ-7-8, /Տ-7-37/ - Գտաշեն–Կամխուտ – /Տ-7-37/ տեղական նշանակության ավտոճանապարհի կմ2+300-ում գտնվող 3x5մ բացվածքով հավաքովի միասնականացված ե/բ խողովակի հիմնանորոգում | E79: 58623.6 | F79: 0 | G79: 58623.6 | H79: 0 | I79: 0
D80: ՀՀ կառավարություն | E80: -209992.9 | F80: 0 | G80: -209992.9 | H80: 0 | I80: 0
B81: 1049 | C81: 21020 | D81: Պետական նշանակության ավտոճանապարհների միջին նորոգում | E81: 0 | F81: 0 | G81: 0 | H81: 0 | I81: 0
D82: այդ թվում`
D83: Հ-75 /Հ-62/-Իսահակյան-/Մ-7/ (Գյումրի) կմ60+200- կմ67+330 և կմ70+800-կմ73+593 հատվածների միջին նորոգման աշխատանքներ | E83: 92416.8 | F83: 0 | G83: 92416.8 | H83: 0 | I83: 0
D84: Մ-4, Երևան - Սևան - Իջևան – ՀՀ սահման կմ12+116-կմ15+818 (աջ գոտի) հատվածում մետաղական արգելափակոցի տեղադրման միջին նորոգման աշխատանքներ | E84: 49800 | F84: 0 | G84: 49800 | H84: 0 | I84: 0
D85: ՀՀ կառավարություն | E85: -142216.8 | F85: 0 | G85: -142216.8 | H85: 0 | I85: 0
E89: ՀԱՅԱՍՏԱՆԻ ՀԱՆՐԱՊԵՏՈՒԹՅԱՆ ՎԱՐՉԱՊԵՏԻ ԱՇԽԱՏԱԿԱԶՄԻ ՂԵԿԱՎԱՐ՝ | H89: Ա.ՀԱՐՈՒԹՅՈՒՆՅԱՆ

Sheet 3
G1: Հավելված N 3
G2: ՀՀ կառավարության 2026 թվականի
G3: ______________ ի ___Ն որոշման
A5: ՀԱՅԱՍՏԱՆԻ ՀԱՆՐԱՊԵՏՈՒԹՅԱՆ ԿԱՌԱՎԱՐՈՒԹՅԱՆ 2025 ԹՎԱԿԱՆԻ ԴԵԿՏԵՄԲԵՐԻ 25-Ի N 1910-Ն ՈՐՈՇՄԱՆ N 5 ՀԱՎԵԼՎԱԾԻ N 2 ԱՂՅՈՒՍԱԿՈՒՄ ԿԱՏԱՐՎՈՂ ՓՈՓՈԽՈՒԹՅՈՒՆՆԵՐԸ ԵՎ ԼՐԱՑՈՒՄՆԵՐԸ
G7: հազար դրամներով
B8: Ծրագրային դասիչը | D8: Հատկացումների տրամադրման նպատակները և բյուջետային գլխավոր կարգադրիչների, ծրագրերի, միջոցառումների և կատարող պետական մարմնի անվանումները | E8: Ցուցանիշների փոփոխությունը (ավելացումները նշված են դրական նշանով, իսկ նվազեցումները` փակագծերում)
B9: Ծրագիր | C9: Միջոցառում | E9: Առաջին կիսամյակ | F9: Ինն ամիս | G9: Տարի
D10: ԸՆԴԱՄԵՆԸ | E10: =E12 -> 0 | F10: =F12 -> 0 | G10: =G12 -> 0
D11: այդ թվում՝
D12: ՀՀ ՏԱՐԱԾՔԱՅԻՆ ԿԱՌԱՎԱՐՄԱՆ ԵՎ ԵՆԹԱԿԱՌՈՒՑՎԱԾՔՆԵՐԻ ՆԱԽԱՐԱՐՈՒԹՅՈՒՆ | E12: =E14 -> 0 | F12: =F14 -> 0 | G12: =G14 -> 0
D13: այդ թվում`
B14: 1049 | C14: 21001 | D14: Պետական նշանակության ավտոճանապարհների հիմնանորոգում | E14: =E16+E17 -> 0 | F14: =F16+F17 -> 0 | G14: =G16+G17 -> 0
D15: այդ թվում` ըստ կատարողների
D16: ՀՀ կառավարություն | E16: =-E17 -> -4915155.3 | F16: =-F17 -> -10140161 | G16: =-G17 -> -12678478
D17: ՀՀ տարածքային կառավարման և ենթակառուցվածքների նախարարություն | E17: =E19+E27+E43 -> 4915155.3 | F17: =F19+F27+F43 -> 10140161 | G17: =G19+G27+G43 -> 12678478
D18: այդ թվում՝ ըստ ուղղությունների
C19: 1 | D19: Միջպետական նշանակության ավտոճանապարհներ, այդ թվում | E19: =E20+E21+E22+E23+E24+E25+E26 -> 154220.5 | F19: =F20+F21+F22+F23+F24+F25+F26 -> 289710.9 | G19: =G20+G21+G22+G23+G24+G25+G26 -> 310231.9
D20: Մ-1, Երևան-Գյումրի-ՀՀ սահման միջպետական նշանակության ավտոճանապարհի կմ141+500-կմ143+300 հատվածի հիմնանորոգում | E20: 21468.1 | F20: 21468.1 | G20: 21468.1
D21: Մ-2, Երևան-Երասխ-Նորավան- Տաթև-Կապան-Մեղրի-ՀՀ սահման (նախկին՝ Մ-2 ,Երևան-Երասխ-Գորիս-Մեղրի-ՀՀ սահման) միջպետական նշանակության ավտոճանապարհի կմ182+532 - կմ190+000 հատվածի հիմնանորոգում | E21: 0 | F21: 61053.1 | G21: 61053.1
D22: /Մ-2/-Տաթև-Աղվանի-/Մ-2/(Սյունիք) միջպետական նշանակության ավտոճանապարհի կմ0+000-կմ19+500 հատվածի հիմնանորոգում | E22: 19.8 | F22: 19.8 | G22: 19.8
D23: Մ-3, ՀՀ սահման-Մարգարա-Վանաձոր-Տաշիր-ՀՀ սահման միջպետական նշանակության ավտոճանապարհի կմ154+000-կմ176+900 հատվածի հիմնանորոգում | E23: 84540.5 | F23: 84540.5 | G23: 84540.5
D24: Մ-7, /Մ-3/ - Սպիտակ – Գյումրի - ՀՀ սահման միջպետական նշանակության ավտոճանապարհի կմ47+100-կմ48+000 հատվածի հիմնանորոգում | E24: 48192.1 | F24: 120480.2 | G24: 120480.2
D25: Մ-8, Վանաձոր (Մ-6 հատման կետ) - Դիլիջան միջպետական նշանակության ավտոճանապարհի կմ0+236 - կմ6+236 հատվածի (Վանաձոր քաղաքի հատված) հիմնանորոգում | E25: 0 | F25: 2149.2 | G25: 2149.2
D26: Մ-8, Վանաձոր (Մ-6 հատման կետ) - Դիլիջան միջպետական նշանակության ավտոճանապարհի կմ40+000 - կմ42+000 հատվածի հիմնանորոգում | E26: 0 | F26: 0 | G26: 20521
C27: 2 | D27: Հանրապետական նշանակության ավտոճանապարհներ, այդ թվում | E27: =SUM(E28:E42) -> 2586234.4 | F27: =SUM(F28:F42) -> 4797223.3 | G27: =SUM(G28:G42) -> 6396705.4
D28: Հ-1, Վ. Պտղնու տրանսպորտային հանգույց -Աբովյան - Ֆանտան -Ալափարս-Հ-5 (նախկին՝ Հ-1, Վ. Պտղնու տրանսպորտային հանգույց - Ջրաբեր-Հրազդան -Հրազդանի քրեակատարողական հիմնարկ) հանրապետական նշանակության ավտոճանապարհի կմ0+000 - կմ5+023 հատվածի հիմնանորոգում | E28: 591609.3 | F28: 1380421.6 | G28: 1972030.9
D29: Հ-3, Երևան (Ջրաշխարհ, Մ-4-ի հետ հատման տեղ)-Գառնի –Գեղարդի վանք հանրապետական նշանակության ավտոճանապարհի կմ10+770-կմ27+500 հատվածի (բացառությամբ սողանքային տեղամասերի) հիմնանորոգում | E29: 353385.8 | F29: 600755.9 | G29: 706771.6
D30: Հ-10. /Հ-8/ (Ոսկետափ) - Վեդի - Լանջառ - /Մ-2/ հանրապետական նշանակության ավտոճանապարհի կմ5+450 - կմ9+250 հատվածի հիմնանորոգում | E30: 294861.7 | F30: 589723.4 | G30: 982872.2
D31: Հ-15, /Մ-5/(Նորապատ) -Արգավանդ –/Մ-3/ (Վարդանաշեն) հանրապետական նշանակության ավտոճանապարհի կմ3+000 - կմ13+000 հատվածի հիմնանորոգում | E31: 231718.2 | F31: 347577.3 | G31: 579295.4
D32: Հ-16, /Մ-5/ - Մեծամոր – ՀԱԷԿ - /Մ-5/ հանրապետական նշանակության ավտոճանապարհի կմ0+000 - կմ10+700 հատվածի հիմնանորոգում | E32: 53537.3 | F32: 53537.3 | G32: 53537.3
D33: Հ-21, /Հ-75/ - Հոռոմ-Արթիկ- Ալագյազ-/Մ-3/ (նախկին՝ Հ-21, /Հ-75/- Հոռոմ-Արթիկ -Ալագյազ) հանրապետական նշանակության ավտոճանապարհի կմ0+000-կմ4+000 հատվածի հիմնանորոգում | E33: 90139.2 | F33: 270417.6 | G33: 450696
D34: Հ-21, /Հ-75/ - Հոռոմ-Արթիկ- Ալագյազ-/Մ-3/ (նախկին՝ Հ-21, /Հ-75/- Հոռոմ-Արթիկ -Ալագյազ) հանրապետական նշանակության ավտոճանապարհի կմ29+600 - կմ32+700 հատվածի հիմնանորոգում | E34: 0 | F34: 22100 | G34: 22100
D35: Հ-22, /Մ-6/ - Դսեղ – /Հ-70/ հանրապետական նշանակության ավտոճանապարհի կմ 8+000-կմ 13+900 հատվածի հիմնանորոգում | E35: 73141.7 | F35: 104488.1 | G35: 104488.1
D36: Հ-29, Մ-4-Ցամաքաբերդ-Սևան - Ծաղկունք - Զովաբեր (նախկին՝ Հ-29, Սևան - Ծաղկունք – Զովաբեր) հանրապետական նշանակության ավտոճանապարհի կմ 0+000-կմ 18+200 հատվածի հիմնանորոգում (բացառությամբ կմ 11+000-կմ 12+000 հատվածի) | E36: 106266.6 | F36: 177111 | G36: 177111
D37: Հ-36, /Մ-4/ (Իջևան) - Նավուր - Բերդ - Այգեպար հանրապետական նշանակության ավտոճանապարհի կմ 5+600-կմ 42+100 հատվածի հիմնանորոգում | E37: 220915.5 | F37: 315593.5 | G37: 315593.5
D38: Հ-55,Հրազդանի տրանսպորտային հանգույց- Ծաղկաձորի ճոպանուղի հանրապետական նշանակության ավտոճանապարհի կմ0+000- կմ 5+800 և Տ-6-34, /Հ-55/ - Ծաղկաձորի մարզահամալիր տեղական նշանակության ավտոճանապարհի կմ0+000 - կմ4+700 (նախկին՝ Հ-55, Հրազդանի տրանսպորտային հանգույց-Ծաղկաձորի մարզահամալիր հանրապետական նշանակության ավտոճանապարհի կմ0+000 - կմ10+500 հատվածի) հատվածների հիմնանորոգում | E38: 0 | F38: 72817.2 | G38: 72817.2
D39: Հ-56,/Մ-3/ - Մուղնի - Օհանավան - /Մ-3/ հանրապետական նշանակության ավտոճանապարհի կմ0+000-կմ5+300 հատվածի հիմնանորոգում | E39: 325218.8 | F39: 487828.2 | G39: 542031.3
... D42: Հ-79 /Մ-10/- Գեղհովիտ-Քարագլուխ-/Մ-2/ հանրապետական նշանակության ավտոճանապարհի (նախկին՝ Մ-10, Սևան-Մարտունի-Գետափ) միջպետական նշանակության ավտոճանապարհի կմ80+590-կմ94+590) կմ14+590 -կմ28+590 հատվածի հիմնանորոգում | E42: 0 | F42: 6691.8 | G42: 6691.8
C43: 3 | D43: Մարզային նշանակության ավտոճանապարհներ, այդ թվում | E43: 2174700.4 | F43: 5053226.5 | G43: 5971541.1
D44: Տ-1-6, /Մ-1/ Ուջան - /Մ-1/ տեղական նշանակության ավտոճանապարհի կմ0+650 - կմ3+700 հատվածի հիմնանորագում | E44: 49406 | F44: 296436 | G44: 494060
D45: /Տ-1-21/(Եղիպատրուշ բնակավայր) ճանապարհից դեպի «Մայլեռ» լեռնային հանգստավայր տանող 3 կմ երկարությամբ և 8 մետր լայնությամբ երթևեկելի մասով ասֆալտապատ ավտոճանապարհի կառուցում | E45: 48140.7 | F45: 80234.5 | G45: 80234.5
D46: Տ-1-25,/Մ-3/(Աշտարակ)–Փարպի-Ղազարավան տեղական նշանակության ավտոճանապարհի կմ0+000-կմ4+000 և կմ6+000-կմ13+500 հատվածների հիմնանորոգում | E46: 386191.4 | F46: 643652.2 | G46: 643652.2
D47: Տ-1-33,Կոշ(Տ-1-8)-Վերին Սասունիկ-Լեռնարոտ տեղական նշանակության ավտոճանապարհի կմ0+000-կմ9+500 հատվածի հիմնանորոգում | E47: 257157.6 | F47: 428596 | G47: 428596
D48: Տ-1-34,(Տ-1-33)–Ավան-Խնուսիկ տեղական նշանակության ավտոճանապարհի կմ0+000-կմ2+200 հատվածի հիմնանորոգում | E48: 45153.2 | F48: 75255.2 | G48: 75255.2
D49: Զարինջա - Ձիթհանքով ավտոճանապարհի 4.3 կմ երկարությամբ հատվածի հիմնանորոգում | E49: 81455.4 | F49: 90506 | G49: 90506
D50: Տ-1-63, /Տ-1-84/ (Թաթուլ) – Կանչ-Հակո (նախկին՝ Տ-1-63, /Հ-81/ (Թաթուլ) – Կանաչ – Հակո) ավտոճանապարհի կմ0+000 - կմ12+100 հատվածի հիմնանորոգում | E50: 0 | F50: 66767 | G50: 66767
D51: Տ-2-18,/Հ-8/ (Մրգավետ)- Մ-2 մարզային նշանակության ավտոճանապարհի կմ 0+000-կմ 1+200 հատվածի հիմնանորագում | E51: 29790.2 | F51: 119160.7 | G51: 148950.9
D52: Տ-2-21,Հ-8 /Մրգավետ/ - Արևշատ (Տ-2-25) մարզային նշանակության ավտոճանապարհի կմ 4+000-կմ 6+400 հատվածի հիմնանորագում | E52: 98257.7 | F52: 393030.6 | G52: 491288.3
D53: Տ-2-35, /Տ-2-32/ (Վերին Արտաշատ) - Այգեպատ (Տ-2-42) մարզային նշանակության ավտոճանապարհի կմ0+000-կմ4+300 հատվածի հիմնանորագում | E53: 204774.3 | F53: 819097 | G53: 1023871.2
D54: Տ-3-8,/Մ-5/-Մայիսյան/Տ-3-47/ տեղական նշանակության ավտոճանապարհի կմ 0+000-կմ 0+800 հատվածի հիմնանորոգում | E54: 470 | F54: 470 | G54: 470
D55: Տ-3-11 /Հ-15/ (Արմավիր գ.) – Նալբանդյան – Գետաշեն – Նոր Կեսարիա – /Մ-5/ ավտոճանապարհի կմ6+000-կմ10+000 հատվածի հիմնանորոգում | E55: 0 | F55: 0 | G55: 700
... D70: Ուրցաձորից դեպի Մարտունի տանող ավտոճանապարհի կառուցում | E70: 15030 | F70: 15030 | G70: 15030
B71: 1049 | C71: 21002 | D71: Տրանսպորտային օբյեկտների հիմնանորոգում | E71: 0 | F71: 0 | G71: 0
D72: այդ թվում` ըստ կատարողների
D73: ՀՀ կառավարություն | E73: -157211 | F73: -207061.7 | G73: -209992.9
D74: ՀՀ տարածքային կառավարման և ենթակառուցվածքների նախարարություն | E74: 157211 | F74: 207061.7 | G74: 209992.9
D75: Մ-2, Երևան-Երասխ-Նորավան- Տաթև-Կապան-Մեղրի-ՀՀ սահման միջպետական նշանակության ավտոճանապարհի Ոսկետափի տրանսպորտային հանգույցի ապամոնտաժում | E75: 80078.7 | F75: 100098.4 | G75: 100098.4
D76: Մ-4, Երևան-Սևան-Իջևան-ՀՀ սահման միջպետական նշանակության ավտոճանապարհի կմ 9+600-ում (Հյուսիսային ավտոկայանի հարևանությամբ) վերգետնյա հետիոտնային անցումի կառուցում | E76: 32327.2 | F76: 40409 | G76: 40409
D77: Հ-6, /Հ-2/ –Նոր Գեղի - Եղվարդի տրանսպորտային հանգույց - /Մ-1/ ավտոճանապարհի Հրազդան գետի վրայի կամրջի վերանորոգում | E77: 0 | F77: 300.6 | G77: 300.6
D78: Հ-13,/Մ-3/ (Վաղարշապատ) - Մասիս - /Մ-2/ հանրապետական նշանակության ավտոճանապարհի կմ9+800-ում գտնվող կամուրջի հիմնանորոգում | E78: 0 | F78: 4432 | G78: 4432
D79: Սանահին կայարանում քանդված կամրջի փոխարեն L=42մ պողպատե ֆերմաներով թռիչքային կառուցվածքով ժամանակավոր կամրջի կառուցման համար անհրաժեշտ նախապատրաստական աշխատանքների իրականացում | E79: 2368.6 | F79: 2368.6 | G79: 2368.6
D80: Տ-3-34, Վաղարշապատ (Անդրանիկի փողոց) - Ծաղկունք -Հովտամեջ - Հայթաղ -Արշալույս - /Մ-5/ (նախկին՝ Տ-3-34, Վաղարշապատ-Ծաղկունք-Հովտամեջ-Հայթաղ-Արշալույս-/Մ-5/) տեղական նշանակության ավտոճանապարհի կմ 1+640-ում գտնվող կամրջի հիմնանորոգում | E80: 650 | F80: 650 | G80: 650
D81: Տ-3-36, Աղավնատուն (Տ-3-44) - Ամբերդ – Այգեշատ - Դաշտ (Տ-3-64) տեղական նշանակության ավտոճանապարհի կմ2+610-ում գտնվող կամուրջի հիմնանորոգում | E81: 750 | F81: 750 | G81: 750
D82: /Մ-4/ - Սևանի թերակղզի հանրապետական նշանակության ավտոճանապարհի կմ1+400 կմ1+500 հատվածում փլուզված հողային պաստառի շեպի վերականգնում | E82: 0 | F82: 2360.7 | G82: 2360.7
D83: Տ-7-8, /Տ-7-37/ - Գտաշեն–Կամխուտ – /Տ-7-37/ տեղական նշանակության ավտոճանապարհի կմ2+300-ում գտնվող 3x5մ բացվածքով հավաքովի միասնականացված ե/բ խողովակի հիմնանորոգում | E83: 41036.5 | F83: 55692.4 | G83: 58623.6
B84: 1049 | C84: 21020 | D84: Պետական նշանակության ավտոճանապարհների միջին նորոգում | E84: 0 | F84: 0 | G84: 0
D85: այդ թվում` ըստ կատարողների
D86: ՀՀ կառավարություն | E86: -142216.8 | F86: -142216.8 | G86: -142216.8
D87: ՀՀ տարածքային կառավարման և ենթակառուցվածքների նախարարություն | E87: 142216.8 | F87: 142216.8 | G87: 142216.8
D88: Հ-75 /Հ-62/-Իսահակյան-/Մ-7/ (Գյումրի) կմ60+200- կմ67+330 և կմ70+800-կմ73+593 հատվածների միջին նորոգման աշխատանքներ | E88: 92416.8 | F88: 92416.8 | G88: 92416.8
D89: Մ-4, Երևան - Սևան - Իջևան – ՀՀ սահման կմ12+116-կմ15+818 (աջ գոտի) հատվածում մետաղական արգելափակոցի տեղադրման միջին նորոգման աշխատանքներ | E89: 49800 | F89: 49800 | G89: 49800
D92: ՀԱՅԱՍՏԱՆԻ ՀԱՆՐԱՊԵՏՈՒԹՅԱՆ ՎԱՐՉԱՊԵՏԻ ԱՇԽԱՏԱԿԱԶՄԻ ՂԵԿԱՎԱՐ՝

Sheet 4
M1: Հավելված N4
M2: ՀՀ կառավարության 2026 թվականի
M3: ______________ ի ___Ն որոշման
B5: ՀԱՅԱՍՏԱՆԻ ՀԱՆՐԱՊԵՏՈՒԹՅԱՆ ԿԱՌԱՎԱՐՈՒԹՅԱՆ 2025 ԹՎԱԿԱՆԻ ԴԵԿՏԵՄԲԵՐԻ 25-Ի № 1910-Ն ՈՐՈՇՄԱՆ № 9 ՀԱՎԵԼՎԱԾՈՒՄ ԿԱՏԱՐՎՈՂ ՓՈՓՈԽՈՒԹՅՈՒՆՆԵՐԸ ԵՎ ԼՐԱՑՈՒՄՆԵՐԸ
M7: հազար դրամներով
B8: ԲԳԿ | C8: Ծրագիր | E8: Միջոցառում | I8: Իրականացնողը/ ակտիվն օգտագործողը/ շահառուի ընտրության չափորոշիչը | J8: Արդյունքային չափորոշիչը | K8: Ցուցանիշների փոփոխությունը (ավելացումները նշված են դրական նշանով, իսկ նվազեցումները` փակագծերում)
C9: Դասիչը | D9: Անվանումը | E9: Դասիչը | F9: Անվանումը | G9: Նկարագրությունը | H9: Տեսակը | K9: Առաջին կիսամյակ | L9: Ինն ամիս | M9: Տարի
B10: ԸՆԴԱՄԵՆԸ | K10: =K11 -> 0 | L10: =L11 -> 0 | M10: =M11 -> 0
B11: ՀՀ տարածքային կառավարման և ենթակառուցվածքների նախարարություն | K11: =K12 -> 0 | L11: =L12 -> 0 | M11: =M12 -> 0
C12: 1049 | D12: Ճանապարհային ցանցի բարելավում | K12: =K13 -> 0 | L12: =L13 -> 0 | M12: =M13 -> 0
E13: 1049 - 21001 | F13: Պետական նշանակության ավտոճանապարհների հիմնանորոգում | K13: 0 | L13: 0 | M13: 0
G14: Միջպետական, հանրապետական և մարզային նշանակության ավտոճոնապարհների քայքայված ծածկի վերանորոգում, մաշված ծածկի փոխարինում
H15: Հանրության կողմից անմիջականորեն օգտագործվող ակտիվների հետ կապված միջոցառումներ
I16: Միջոցառումն իրականացնողի անվանումը` Մասնագիտացված միավոր
J17: Նախագծանախահաշվային փաստաթղթերի քանակ, հատ | K17: 1 | M17: 1
E18: 1049 - 21020 | F18: Պետական նշանակության ավտոճանապարհների միջին նորոգում | K18: 0 | L18: 0 | M18: 0
G19: Միջպետական, հանրապետական և մարզային նշանակության ավտոճանապարհների պատվածքի մաշված վերին շերտի վերականգնում և շինարարական նորմերով նախատեսված սկզբնական որակական ցուցանիշների ապահովում
H20: Հանրության կողմից անմիջականորեն օգտագործվող ակտիվների հետ կապված միջոցառումներ
I21: ՀՀ տարածքային կառավարման և ենթակառուցվածքների նախարարություն, մրցութային կարգով ընտրված կազմակերպություններ
J22: Աշխատանքների ավարտվածության աստիճան, % | K22: -94
J23: մետաղական արգելափակոցի կմ, | K23: 3.7 | M23: 3.7
D26: ՀԱՅԱՍՏԱՆԻ ՀԱՆՐԱՊԵՏՈՒԹՅԱՆ
D27: ՎԱՐՉԱՊԵՏԻ ԱՇԽԱՏԱԿԱԶՄԻ
E28: ՂԵԿԱՎԱՐ ՝ Ա. ՀԱՐՈՒԹՅՈՒՆՅԱՆ

Sheet 5
M1: Հավելված N 5
M2: ՀՀ կառավարության 2026 թվականի
M3: ______________ ի ___Ն որոշման
B5: ՀԱՅԱՍՏԱՆԻ ՀԱՆՐԱՊԵՏՈՒԹՅԱՆ ԿԱՌԱՎԱՐՈՒԹՅԱՆ 2025 ԹՎԱԿԱՆԻ ԴԵԿՏԵՄԲԵՐԻ 25-Ի № 1910-Ն ՈՐՈՇՄԱՆ № 9.1 ՀԱՎԵԼՎԱԾՈՒՄ ԿԱՏԱՐՎՈՂ ՓՈՓՈԽՈՒԹՅՈՒՆՆԵՐԸ ԵՎ ԼՐԱՑՈՒՄՆԵՐԸ
M6: հազար դրամներով
B7: ԲՍԿ | C7: Ծրագիր | E7: Միջոցառում | I7: Իրականացնողը/ ակտիվն օգտագործողը/ շահառուի ընտրության չափորոշիչը | J7: Արդյունքային չափորոշիչը | K7: Ցուցանիշների փոփոխությունը (ավելացումները նշված են դրական նշանով, իսկ նվազեցումները` փակագծերում)
C8: Դասիչը | D8: Անվանումը | E8: Դասիչը | F8: Անվանումը | G8: Նկարագրությունը | H8: Տեսակը | K8: Առաջին կիսամյակ | L8: Ինն ամիս | M8: Տարի
B9: ԸՆԴԱՄԵՆԸ | K9: =K10+K31 -> 0 | L9: =L10+L31 -> 0 | M9: =M10+M31 -> 0
B10: ՀՀ տարածքային կառավարման և ենթակառուցվածքների նախարարություն | K10: =K11 -> 5214583.1 | L10: =L11 -> 10489439 | M10: =M11 -> 13030688
C11: 1049 | D11: Ճանապարհային ցանցի բարելավում | K11: =K12+K21+K25 -> 5214583.1 | L11: =L12+L21+L25 -> 10489439 | M11: =M12+M21+M25 -> 13030688
E12: 1049 - 21001 | F12: Պետական նշանակության ավտոճանապարհների հիմնանորոգում | K12: ='1'!H26 -> 4915155.3 | L12: ='1'!I26 -> 10140161 | M12: ='1'!J26 -> 12678478
G13: Միջպետական, հանրապետական և մարզային նշանակության ավտոճոնապարհների քայքայված ծածկի վերանորոգում, մաշված ծածկի փոխարինում
H14: Հանրության կողմից անմիջականորեն օգտագործվող ակտիվների հետ կապված միջոցառումներ
I15: Միջոցառումն իրականացնողի անվանումը` Մասնագիտացված միավոր
J16: Նախագծանախահաշվային փաստաթղթերի քանակ, հատ | K16: 1 | M16: 1
J17: Պետական նշանակության ավտոճանապարհներ, կիլոմետր | M17: =M18+M19+M20 -> 57.5
J18: Միջպետական նշանակության ավտոճանապարհներ, կիլոմետր | M18: 0.9
J19: Հանրապետական նշանակության ավտոճանապարհներ, կիլոմետր | M19: =-M39 -> 26.7
J20: Մարզային նշանակության ավտոճանապարհներ, կիլոմետր | M20: 29.9
E21: 1049 - 21002 | F21: Տրանսպորտային օբյեկտների հիմնանորոգում | K21: ='1'!H45 -> 157211 | L21: ='1'!I45 -> 207061.7 | M21: ='1'!J45 -> 209992.9
G22: Ավտոմոբիլային ճանապարհների վրա գտնվող կամուրջների հիմնանորոգում
H23: Հանրության կողմից անմիջականորեն օգտագործվող ակտիվների հետ կապված միջոցառումներ
I24: Միջոցառումն իրականացնողի անվանումը` Մասնագիտացված միավոր
E25: 1049 - 21020 | F25: Պետական նշանակության ավտոճանապարհների միջին նորոգում | K25: ='1'!H61 -> 142216.8 | L25: ='1'!I61 -> 142216.8 | M25: ='1'!J61 -> 142216.8
G26: Միջպետական, հանրապետական և մարզային նշանակության ավտոճանապարհների պատվածքի մաշված վերին շերտի վերականգնում և շինարարական նորմերով նախատեսված սկզբնական որակական ցուցանիշների ապահովում
H27: Հանրության կողմից անմիջականորեն օգտագործվող ակտիվների հետ կապված միջոցառումներ
I28: ՀՀ տարածքային կառավարման և ենթակառուցվածքների նախարարություն, մրցութային կարգով ընտրված կազմակերպություններ
J29: Աշխատանքների ավարտվածության աստիճան, % | K29: -94
J30: մետաղական արգելափակոցի կմ, | K30: 3.7 | M30: 3.7
B31: ՀՀ կառավարություն | K31: =K32 -> -5214583.1 | L31: =L32 -> -10489439 | M31: =M32 -> -13030688
C32: 1049 | D32: Ճանապարհային ցանցի բարելավում | K32: =K33+K41+K45 -> -5214583.1 | L32: =L33+L41+L45 -> -10489439 | M32: =M33+M41+M45 -> -13030688
E33: 1049 - 21001 | F33: Պետական նշանակության ավտոճանապարհների հիմնանորոգում | K33: ='1'!H36 -> -4915155.3 | L33: ='1'!I36 -> -10140161 | M33: ='1'!J36 -> -12678478
G34: Միջպետական, հանրապետական և մարզային նշանակության ավտոճոնապարհների քայքայված ծածկի վերանորոգում, մաշված ծածկի փոխարինում
H35: Հանրության կողմից անմիջականորեն օգտագործվող ակտիվների հետ կապված միջոցառումներ
I36: Միջոցառումն իրականացնողի անվանումը` Մասնագիտացված միավոր
J37: Պետական նշանակության ավտոճանապարհներ, կիլոմետր | M37: =M38+M39+M40 -> -57.5
J38: Միջպետական նշանակության ավտոճանապարհներ, կիլոմետր | M38: -0.9
J39: Հանրապետական նշանակության ավտոճանապարհներ, կիլոմետր | M39: -26.7
J40: Մարզային նշանակության ավտոճանապարհներ, կիլոմետր | M40: -29.9
E41: 1049 - 21002 | F41: Տրանսպորտային օբյեկտների հիմնանորոգում | K41: ='3'!E73 -> -157211 | L41: ='3'!F73 -> -207061.7 | M41: ='3'!G73 -> -209992.9
G42: Ավտոմոբիլային ճանապարհների վրա գտնվող կամուրջների հիմնանորոգում
H43: Հանրության կողմից անմիջականորեն օգտագործվող ակտիվների հետ կապված միջոցառումներ
I44: Միջոցառումն իրականացնողի անվանումը` Մասնագիտացված միավոր
E45: 1049 - 21020 | F45: Պետական նշանակության ավտոճանապարհների միջին նորոգում | K45: ='1'!H68 -> -142216.8 | L45: ='1'!I68 -> -142216.8 | M45: ='1'!J68 -> -142216.8
G46: Միջպետական, հանրապետական և մարզային նշանակության ավտոճանապարհների պատվածքի մաշված վերին շերտի վերականգնում և շինարարական նորմերով նախատեսված սկզբնական որակական ցուցանիշների ապահովում
H47: Հանրության կողմից անմիջականորեն օգտագործվող ակտիվների հետ կապված միջոցառումներ
I48: ՀՀ տարածքային կառավարման և ենթակառուցվածքների նախարարություն, մրցութային կարգով ընտրված կազմակերպություններ
J49: Աշխատանքների ավարտվածության աստիճան, % | K49: -94
D56: ՀԱՅԱՍՏԱՆԻ ՀԱՆՐԱՊԵՏՈՒԹՅԱՆ
D57: ՎԱՐՉԱՊԵՏԻ ԱՇԽԱՏԱԿԱԶՄԻ
E58: ՂԵԿԱՎԱՐ ՝ Ա. ՀԱՐՈՒԹՅՈՒՆՅԱՆ

Sheet 6
H1: Հավելված N6
H2: ՀՀ կառավարության 2026 թվականի
H3: ______________ ի ___Ն որոշման
B5: ՀԱՅԱՍՏԱՆԻ ՀԱՆՐԱՊԵՏՈՒԹՅԱՆ ԿԱՌԱՎԱՐՈՒԹՅԱՆ 2025 ԹՎԱԿԱՆԻ ԴԵԿՏԵՄԲԵՐԻ 25-Ի N 1910-Ն ՈՐՈՇՄԱՆ N 10 ՀԱՎԵԼՎԱԾՈՒՄ ԿԱՏԱՐՎՈՂ ԼՐԱՑՈՒՄՆԵՐԸ
B7: Կոդը | C7: Անվանումը | D7: Գնման ձևը | E7: Չափման միավորը | F7: Միավորի գինը | G7: Ցուցանիշների փոփոխությունը (ավելացումները նշված են դրական նշանով)
G8: Քանակը | H8: Գումարը (հազար դրամով)
B9: ՀՀ տարածքային կառավարման և ենթակառուցվածքների նախարարություն | H9: =+H10 -> 12396766
B10: Բաժին N 04 | C10: Խումբ N 05 | D10: Դաս N 01 | E10: Ճանապարհային տրանսպորտ | H10: =H11+H107+H124 -> 12396766
B11: 1049 21001 | C11: Պետական նշանակության ավտոճանապարհների հիմնանորոգում | H11: =+H12+H38 -> 12053587
B12: ՄԱՍ II. ԱՇԽԱՏԱՆՔՆԵՐ | H12: =SUM(H13:H37) -> 11853864
B13: 45231177/ | C13: ճանապարհների վերանորոգման աշխատանքներ | D13: ԲՄ | E13: դրամ | F13: 117643332 | G13: 1 | H13: =+G13*F13/1000 -> 117643.33
B14: 45231177/ | C14: ճանապարհների վերանորոգման աշխատանքներ | D14: ՀԲՄ | E14: դրամ | F14: 1946103484 | G14: 1 | H14: =+G14*F14/1000 -> 1946103.5
B15: 45231177/ | C15: ճանապարհների վերանորոգման աշխատանքներ | D15: ԲՄ | E15: դրամ | F15: 698541865 | G15: 1 | H15: =+G15*F15/1000 -> 698541.86
B16: 45231177/ | C16: ճանապարհների վերանորոգման աշխատանքներ | D16: ԲՄ | E16: դրամ | F16: 972259900 | G16: 1 | H16: =+G16*F16/1000 -> 972259.9
B17: 45231177/ | C17: ճանապարհների վերանորոգման աշխատանքներ | D17: ԲՄ | E17: դրամ | F17: 561267366 | G17: 1 | H17: =+G17*F17/1000 -> 561267.37
B18: 45231177/504 | C18: ճանապարհների վերանորոգման աշխատանքներ | D18: ՀԲՄ | E18: դրամ | F18: 444291000 | G18: 1 | H18: =+G18*F18/1000 -> 444291
B19: 45231177/ | C19: ճանապարհների վերանորոգման աշխատանքներ | D19: ԲՄ | E19: դրամ | F19: 103529808 | G19: 1 | H19: =+G19*F19/1000 -> 103529.81
B20: 45231177/ | C20: ճանապարհների վերանորոգման աշխատանքներ | D20: ԲՄ | E20: դրամ | F20: 174510940 | G20: 1 | H20: =+G20*F20/1000 -> 174510.94
B21: 45231177/ | C21: ճանապարհների վերանորոգման աշխատանքներ | D21: ՀԲՄ | E21: դրամ | F21: 310000000 | G21: 1 | H21: =+G21*F21/1000 -> 310000
B22: 45231177/ | C22: ճանապարհների վերանորոգման աշխատանքներ | D22: ՀԲՄ | E22: դրամ | F22: 535909100 | G22: 1 | H22: =+G22*F22/1000 -> 535909.1
B23: 45231177/ | C23: ճանապարհների վերանորոգման աշխատանքներ | D23: ՀԲՄ | E23: դրամ | F23: 404979032 | G23: 1 | H23: =+G23*F23/1000 -> 404979.03
B24: 45231177/507 | C24: ճանապարհների վերանորոգման աշխատանքներ | D24: ՀԲՄ | E24: դրամ | F24: 490680000 | G24: 1 | H24: =+G24*F24/1000 -> 490680
... B37: 45231177/ | C37: ճանապարհների վերանորոգման աշխատանքներ | D37: ՀԲՄ | E37: դրամ | F37: 1124326183 | G37: 1 | H37: =+G37*F37/1000 -> 1124326.2
B38: ՄԱՍ III. ԾԱՌԱՅՈՒԹՅՈՒՆՆԵՐ | H38: =SUM(H39:H106) -> 199723.55
B39: 71351540/ | C39: տեխնիկական հսկողության ծառայություններ | D39: ՀԲՄ | E39: դրամ | F39: 444120 | G39: 1 | H39: =+G39*F39/1000 -> 444.12
B40: 71351540/ | C40: տեխնիկական հսկողության ծառայություններ | D40: ԲՄ | E40: դրամ | F40: 1495000 | G40: 1 | H40: =+G40*F40/1000 -> 1495
B41: 71351540/ | C41: տեխնիկական հսկողության ծառայություններ | D41: ԲՄ | E41: դրամ | F41: 1641600 | G41: 1 | H41: =+G41*F41/1000 -> 1641.6
B42: 71351540/ | C42: տեխնիկական հսկողության ծառայություններ | D42: ՀԲՄ | E42: դրամ | F42: 8756700 | G42: 1 | H42: =+G42*F42/1000 -> 8756.7
B43: 71351540/ | C43: տեխնիկական հսկողության ծառայություններ | D43: ԲՄ | E43: դրամ | F43: 1829732 | G43: 1 | H43: =+G43*F43/1000 -> 1829.732
B44: 71351540/ | C44: տեխնիկական հսկողության ծառայություններ | D44: ԲՄ | E44: դրամ | F44: 3818608 | G44: 1 | H44: =+G44*F44/1000 -> 3818.608
B45: 71351540/ | C45: տեխնիկական հսկողության ծառայություններ | D45: ԲՄ | E45: դրամ | F45: 8700000 | G45: 1 | H45: =+G45*F45/1000 -> 8700
B46: 71351540/504 | C46: տեխնիկական հսկողության ծառայություններ | D46: ՀԲՄ | E46: դրամ | F46: 2000000 | G46: 1 | H46: =+G46*F46/1000 -> 2000
B47: 71351540/ | C47: տեխնիկական հսկողության ծառայություններ | D47: ԲՄ | E47: դրամ | F47: 132000 | G47: 1 | H47: =+G47*F47/1000 -> 132
B48: 71351540/ | C48: տեխնիկական հսկողության ծառայություններ | D48: ԲՄ | E48: դրամ | F48: 900000 | G48: 1 | H48: =+G48*F48/1000 -> 900
B49: 71351540/ | C49: տեխնիկական հսկողության ծառայություններ | D49: ԳՀ | E49: դրամ | F49: 1593496 | G49: 1 | H49: =+G49*F49/1000 -> 1593.496
B50: 71351540/ | C50: տեխնիկական հսկողության ծառայություններ | D50: ՀԲՄ | E50: դրամ | F50: 2024000 | G50: 1 | H50: =+G50*F50/1000 -> 2024
... B106: 98111140/ | C106: հեղինակային հսկողության ծառայություններ | D106: ՄԱ | E106: դրամ | F106: 437740 | G106: 1 | H106: =+G106*F106/1000 -> 437.74
B107: 1049 21002 | C107: Տրանսպորտային օբյեկտների հիմնանորոգում | H107: =H108+H112 -> 200961.43
B108: ՄԱՍ II ԱՇԽԱՏԱՆՔՆԵՐ | H108: =SUM(H109:H111) -> 194383.32
B109: 45231172/ | C109: շինարարական աշխատանքներ մայրուղիների համար | D109: ԲՄ | E109: դրամ | F109: 97300566 | G109: 1 | H109: =+G109*F109/1000 -> 97300.566
B110: 45231177/ | C110: ճանապարհների վերանորոգման աշխատանքներ | D110: ԲՄ | E110: դրամ | F110: 39660103 | G110: 1 | H110: =+G110*F110/1000 -> 39660.103
B111: 45231177/ | C111: ճանապարհների վերանորոգման աշխատանքներ | D111: ԲՄ | E111: դրամ | F111: 57422650 | G111: 1 | H111: =+G111*F111/1000 -> 57422.65
B112: ՄԱՍ III. ԾԱՌԱՅՈՒԹՅՈՒՆՆԵՐ | H112: =SUM(H113:H123) -> 6578.112
B113: 71351540/ | C113: տեխնիկական հսկողության ծառայություններ | D113: ԲՄ | E113: դրամ | F113: 1999800 | G113: 1 | H113: =+G113*F113/1000 -> 1999.8
B114: 71351540/ | C114: տեխնիկական հսկողության ծառայություններ | D114: ԲՄ | E114: դրամ | F114: 498800 | G114: 1 | H114: =+G114*F114/1000 -> 498.8
B115: 71351540/ | C115: տեխնիկական հսկողության ծառայություններ | D115: ՀԲՄ | E115: դրամ | F115: 80000 | G115: 1 | H115: =+G115*F115/1000 -> 80
B116: 71351540/ | C116: տեխնիկական հսկողության ծառայություններ | D116: ՀՄԱ | E116: դրամ | F116: 840000 | G116: 1 | H116: =+G116*F116/1000 -> 840
B117: 98111140/ | C117: հեղինակային հսկողության ծառայություններ | D117: ՄԱ | E117: դրամ | F117: 798000 | G117: 1 | H117: =+G117*F117/1000 -> 798
B118: 98111140/ | C118: հեղինակային հսկողության ծառայություններ | D118: ՄԱ | E118: դրամ | F118: 250000 | G118: 1 | H118: =+G118*F118/1000 -> 250
B119: 98111140/ | C119: հեղինակային հսկողության ծառայություններ | D119: ՄԱ | E119: դրամ | F119: 300600 | G119: 1 | H119: =+G119*F119/1000 -> 300.6
B120: 98111140/ | C120: հեղինակային հսկողության ծառայություններ | D120: ՄԱ | E120: դրամ | F120: 50000 | G120: 1 | H120: =+G120*F120/1000 -> 50
B121: 98111140/ | C121: հեղինակային հսկողության ծառայություններ | D121: ՄԱ | E121: դրամ | F121: 650000 | G121: 1 | H121: =+G121*F121/1000 -> 650
B122: 98111140/ | C122: հեղինակային հսկողության ծառայություններ | D122: ՄԱ | E122: դրամ | F122: 750000 | G122: 1 | H122: =+G122*F122/1000 -> 750
B123: 98111140/ | C123: հեղինակային հսկողության ծառայություններ | D123: ՄԱ | E123: դրամ | F123: 360912 | G123: 1 | H123: =+G123*F123/1000 -> 360.912
B124: 1049 21020 | C124: Պետական նշանակության ավտոճանապարհների միջին նորոգում | H124: =SUM(H126:H127) -> 142216.74
B125: ՄԱՍ II ԱՇԽԱՏԱՆՔՆԵՐ | H125: =SUM(H126:H127) -> 142216.74
B126: 45231177/ | C126: ճանապարհների վերանորոգման աշխատանքներ | D126: ՀԲՄ | E126: դրամ | F126: 92416741 | G126: 1 | H126: =+G126*F126/1000 -> 92416.741
B127: 45231172/501 | C127: շինարարական աշխատանքներ մայրուղիների համար | D127: ԳՀ | E127: դրամ | F127: 49800000 | G127: 1 | H127: =+G127*F127/1000 -> 49800
B129: ՀԱՅԱՍՏԱՆԻ ՀԱՆՐԱՊԵՏՈՒԹՅԱՆ
B130: ՎԱՐՉԱՊԵՏԻ ԱՇԽԱՏԱԿԱԶՄԻ
C131: ՂԵԿԱՎԱՐ ՝ Ա. ՀԱՐՈՒԹՅՈՒՆՅԱՆ
