Workbook
Name _tab10: #REF!
Name _tab11: #REF!
Name _tab12: #REF!
Name _tab13: #REF!
Name _tab14: #REF!
Name _tab15: #REF!
Name _tab16: #REF!
Name _tab17: #REF!
Name _tab18: #REF!
Name _tab19: #REF!
Name _tab20: #REF!
Name _tab21: #REF!
Name _tab22: #REF!
Name _tab23: #REF!
Name _tab24: #REF!
Name _tab5: #REF!
Name _tab6: #REF!
Name _tab7: #REF!
Name _tab8: #REF!
Name _tab9: #REF!
Name AgencyCode: #REF!
Name AgencyName: #REF!
Name åû: #REF!
Name davit: #REF!
Name EUR: '[1]1. 2060-Ն 28.12.2024 արտ'!$W$2
Name fff: #REF!
Name Functional1: #REF!
Name ggg: #REF!
Name h: #REF!
Name mas: #REF!
Name mass: #REF!
Name PANature: #REF!
Name par_count: #REF!,#REF!,#REF!,#REF!,#REF!,#REF!,#REF!,#REF!,#REF!,#REF!,#REF!,#REF!,#REF!,#REF!,#REF!
Name par_qual: #REF!,#REF!,#REF!,#REF!,#REF!
Name par_time: #REF!,#REF!,#REF!,#REF!
Name par2.12s: #REF!
Name par2.4s: #REF!,#REF!,#REF!,#REF!,#REF!,#REF!,#REF!,#REF!,#REF!,#REF!,#REF!,#REF!,#REF!,#REF!,#REF!,#REF!
Name par2.5s: #REF!,#REF!
Name par2.6s: #REF!,#REF!,#REF!,#REF!
Name par2.7s: #REF!,#REF!
Name par2.9s: #REF!,#REF!,#REF!,#REF!,#REF!,#REF!,#REF!,#REF!,#REF!,#REF!,#REF!,#REF!,#REF!,#REF!,#REF!,#REF!
Name par4.10s: #REF!,#REF!
Name par4.11d: #REF!,#REF!,#REF!,#REF!,#REF!
Name par4.12d: #REF!
Name par4.13s: #REF!
Name par4.14: #REF!,#REF!,#REF!,#REF!,#REF!,#REF!
Name par4.15: #REF!,#REF!,#REF!
Name par4.16: #REF!,#REF!,#REF!
Name par4.17: #REF!,#REF!,#REF!,#REF!
Name par4.18d: #REF!,#REF!
Name par4.19s: #REF!
Name par4.20f: #REF!
Name par4.21f: #REF!
Name par4.22: #REF!
Name par4.4: #REF!
Name par4.5: #REF!
Name par4.6s: #REF!
Name par4.7s: #REF!
Name par4.8: #REF!,#REF!,#REF!,#REF!,#REF!
Name par4.9: #REF!,#REF!,#REF!,#REF!,#REF!,#REF!

Sheet ..
C1: Հավելված N 1
C2: ՀՀ կառավարության 2025 թվականի
C3: ______________ ի ___Ն որոշման
B5: «ՀԱՅԱՍՏԱՆԻ ՀԱՆՐԱՊԵՏՈՒԹՅԱՆ 2025 ԹՎԱԿԱՆԻ ՊԵՏԱԿԱՆ ԲՅՈՒՋԵԻ ՄԱՍԻՆ» ՕՐԵՆՔԻ N 2 ՀՈԴՎԱԾԻ ԱՂՅՈՒՍԱԿՈՒՄ ԿԱՏԱՐՎՈՂ ՓՈՓՈԽՈՒԹՅՈՒՆՆԵՐԸ
C8: Ցուցանիշների փոփոխությունը (նվազեցումները նշված են փակագծերում)
C9: Տարի
B10: 1. Եկամուտների գծով | C10: =+'...'!D10 -> #REF!
B11: 2. Ծախսերի գծով | C11: =+'5'!I8 -> -1552007.2
B12: 3. Դեֆիցիտը (պակասուրդը) | C12: =-C10+C11 -> #REF!

Sheet ...
D1: Հավելված N 2
D2: ՀՀ կառավարության 2025 թվականի
D3: ______________ ի ___Ն որոշման
B5: «ՀԱՅԱՍՏԱՆԻ ՀԱՆՐԱՊԵՏՈՒԹՅԱՆ 2025 ԹՎԱԿԱՆԻ ՊԵՏԱԿԱՆ ԲՅՈՒՋԵԻ ՄԱՍԻՆ» ՕՐԵՆՔԻ N 6 ՀՈԴՎԱԾԻ ԱՂՅՈՒՍԱԿՈՒՄ ԵՎ ՀԱՅԱՍՏԱՆԻ ՀԱՆՐԱՊԵՏՈՒԹՅԱՆ ԿԱՌԱՎԱՐՈՒԹՅԱՆ 2024 ԹՎԱԿԱՆԻ ԴԵԿՏԵՄԲԵՐԻ 27-Ի N 2060-Ն ՈՐՈՇՄԱՆ N 2 ՀԱՎԵԼՎԱԾՈՒՄ ԿԱՏԱՐՎՈՂ ՓՈՓՈԽՈՒԹՅՈՒՆՆԵՐԸ
D7: հազար դրամներով
B8: Եկամտատեսակ | C8: Ցուցանիշների փոփոխությունը (նվազեցումները նշված են փակագծերում)
C9: Ինն ամիս | D9: Տարի
B10: ՊԵՏԱԿԱՆ ԲՅՈՒՋԵԻ ԵԿԱՄՈՒՏՆԵՐ | C10: =+C12 -> #REF! | D10: =+D12 -> #REF!
B11: այդ թվում`
B12: Պաշտոնական դրամաշնորհներ | C12: =+#REF! -> #REF! | D12: =+#REF! -> #REF!

Sheet 1
B1: Հավելված N 1
B2: ՀՀ կառավարության 2026 թվականի
B3: ______________ ի ___Ն որոշման
B6: «ՀԱՅԱՍՏԱՆԻ ՀԱՆՐԱՊԵՏՈՒԹՅԱՆ 2026 ԹՎԱԿԱՆԻ ՊԵՏԱԿԱՆ ԲՅՈՒՋԵԻ ՄԱՍԻՆ» ՕՐԵՆՔԻ 2-ՐԴ ՀՈԴՎԱԾԻ ԱՂՅՈՒՍԱԿՈՒՄ ԿԱՏԱՐՎՈՂ ՓՈՓՈԽՈՒԹՅՈՒՆՆԵՐԸ
C8: հազար դրամներով
C9: Ցուցանիշների փոփոխությունը (նվազեցումները նշված են փակագծերում)
B10: 1. Եկամուտների գծով | C10: -251931.3
B11: 2. Ծախսերի գծով | C11: -1552007.2
B12: 3. Դեֆիցիտը (պակասուրդը) | C12: -1300075.9
B16: ՀԱՅԱՍՏԱՆԻ ՀԱՆՐԱՊԵՏՈՒԹՅԱՆ ՎԱՐՉԱՊԵՏԻ ԱՇԽԱՏԱԿԱԶՄԻ ՂԵԿԱՎԱՐ | C16: Ա. ՀԱՐՈՒԹՅՈՒՆՅԱՆ

Sheet 2
A1: Հավելված N 2
A2: ՀՀ կառավարության 2026 թվականի
A3: ______________ ի ___Ն որոշման
A5: «ՀԱՅԱՍՏԱՆԻ ՀԱՆՐԱՊԵՏՈՒԹՅԱՆ 2026 ԹՎԱԿԱՆԻ ՊԵՏԱԿԱՆ ԲՅՈՒՋԵԻ ՄԱՍԻՆ» ՕՐԵՆՔԻ 6-ՐԴ ՀՈԴՎԱԾԻ ԱՂՅՈՒՍԱԿՈՒՄ ԵՎ ՀԱՅԱՍՏԱՆԻ ՀԱՆՐԱՊԵՏՈՒԹՅԱՆ ԿԱՌԱՎԱՐՈՒԹՅԱՆ 2025 ԹՎԱԿԱՆԻ ԴԵԿՏԵՄԲԵՐԻ 25-Ի N 1910-Ն ՈՐՈՇՄԱՆ N 2 ՀԱՎԵԼՎԱԾՈՒՄ ԿԱՏԱՐՎՈՂ ՓՈՓՈԽՈՒԹՅՈՒՆՆԵՐԸ
D7: հազար դրամներով
A8: Եկամտատեսակ | B8: Ցուցանիշների փոփոխությունը (նվազեցումները նշված են փակագծերում)
B9: Առաջին կիսամյակ | C9: Ինն ամիս | D9: Տարի
A10: ՊԵՏԱԿԱՆ ԲՅՈՒՋԵԻ ԵԿԱՄՈՒՏՆԵՐ | B10: 0 | C10: -248411.6 | D10: -251931.3
A11: այդ թվում՝
A12: Պաշտոնական դրամաշնորհներ | B12: 0 | C12: -248411.6 | D12: -251931.3
A16: ՀԱՅԱՍՏԱՆԻ ՀԱՆՐԱՊԵՏՈՒԹՅԱՆ ՎԱՐՉԱՊԵՏԻ ԱՇԽԱՏԱԿԱԶՄԻ ՂԵԿԱՎԱՐ | B16: Ա. ՀԱՐՈՒԹՅՈՒՆՅԱՆ

Sheet 3
C1: Հավելված N 3
B2: ՀՀ կառավարության 2026 թվականի
B3: ______________ ի ___Ն որոշման
A5: «ՀԱՅԱUՏԱՆԻ ՀԱՆՐԱՊԵՏՈՒԹՅԱՆ 2026 ԹՎԱԿԱՆԻ ՊԵՏԱԿԱՆ ԲՅՈՒՋԵԻ ՄԱUԻՆ» ՕՐԵՆՔԻ 3-ՐԴ ՀՈԴՎԱԾԻ ԱՂՅՈՒՍԱԿՈՒՄ, N 3 ՀԱՎԵԼՎԱԾԻ N 1 ԱՂՅՈՒՍԱԿՈՒՄ ԵՎ ՀԱՅԱՍՏԱՆԻ ՀԱՆՐԱՊԵՏՈՒԹՅԱՆ ԿԱՌԱՎԱՐՈՒԹՅԱՆ 2025 ԹՎԱԿԱՆԻ ԴԵԿՏԵՄԲԵՐԻ 25-Ի N 1910-Ն ՈՐՈՇՄԱՆ N 1 ՀԱՎԵԼՎԱԾԻ N 1 ԱՂՅՈՒՍԱԿՈՒՄ ԿԱՏԱՐՎՈՂ ՓՈՓՈԽՈՒԹՅՈՒՆՆԵՐԸ
D6: հազար դրամներով
A7: Պետական բյուջեի դեֆիցիտի ֆինանսավորման աղբյուրներն ու դրանց տարրերի անվանումները | B7: Ցուցանիշների փոփոխությունը (նվազեցումները նշված են փակագծերում)
B8: Առաջին կիսամյակ | C8: Ինն ամիս | D8: Տարի
A9: ԸՆԴԱՄԵՆԸ | B9: 0 | C9: -742383.4 | D9: -1300075.9
A10: այդ թվում՝
A11: Բ. Արտաքին աղբյուրներ - ընդամենը | B11: 0 | C11: -742383.4 | D11: -1300075.9
A12: այդ թվում
A13: 1. Փոխառու զուտ միջոցներ | B13: 0 | C13: -742383.4 | D13: -1300075.9
A14: այդ թվում՝
A15: 1.1. Վարկերի և փոխատվությունների ստացում | B15: 0 | C15: -742383.4 | D15: -1300075.9
A16: որից`
A17: նպատակային վարկերի գծով | B17: 0 | C17: -742383.4 | D17: -1300075.9
A22: ՀԱՅԱՍՏԱՆԻ ՀԱՆՐԱՊԵՏՈՒԹՅԱՆ ՎԱՐՉԱՊԵՏԻ ԱՇԽԱՏԱԿԱԶՄԻ ՂԵԿԱՎԱՐ | B22: Ա. ՀԱՐՈՒԹՅՈՒՆՅԱՆ

Sheet 4
H1: Հավելված N4
I2: ՀՀ կառավարության 2026 թվականի
I3: ______________ ի ___Ն որոշման
A5: «ՀԱՅԱUՏԱՆԻ ՀԱՆՐԱՊԵՏՈՒԹՅԱՆ 2026 ԹՎԱԿԱՆԻ ՊԵՏԱԿԱՆ ԲՅՈՒՋԵԻ ՄԱUԻՆ» OՐԵՆՔԻ N 1 ՀԱՎԵԼՎԱԾԻ N 2 ԱՂՅՈՒՍԱԿՈՒՄ ԿԱՏԱՐՎՈՂ ՎԵՐԱԲԱՇԽՈՒՄԸ ԵՎ ՀԱՅԱՍՏԱՆԻ ՀԱՆՐԱՊԵՏՈՒԹՅԱՆ ԿԱՌԱՎԱՐՈՒԹՅԱՆ 2025 ԹՎԱԿԱՆԻ ԴԵԿՏԵՄԲԵՐԻ 25-Ի N 1910-Ն ՈՐՈՇՄԱՆ N 5 ՀԱՎԵԼՎԱԾԻ N 1 ԱՂՅՈՒՍԱԿՈՒՄ ԿԱՏԱՐՎՈՂ ՓՈՓՈԽՈՒԹՅՈՒՆՆԵՐԸ ԵՎ ԼՐԱՑՈՒՄՆԵՐԸ
H6: հազար դրամներով
A7: ԲԳԿ | B7: Ծրագրային դասիչը | D7: ԲԳԿ/Ծրագրի /միջոցառման անվանումը | E7: Ծրագրի նպատակը/Միջոցառման նկարագրությունը | F7: Վերջնական արդյունքի նկարագրությունը/Միջոցառման տեսակը | G7: Ցուցանիշների փոփոխությունը (ավելացումները նշված են դրական նշանով, իսկ նվազեցումները՝ փակագծերում)
G8: Առաջին կիսամյակ | H8: Ինն ամիս | I8: Տարի
B9: Ծրագիր | C9: Միջոցառում
A10: ԸՆԴԱՄԵՆԸ | G10: 0 | H10: -990795 | I10: -1552007.2
A11: ՀՀ տարածքային կառավարման և ենթակառուցվածքների նախարարություն | G11: 0 | H11: -990795 | I11: -1552007.2
B12: 1004 | D12: Ոռոգման համակարգի առողջացում | E12: Ոռոգման ծառայությունների հասանելիության և մատչելիության ապահովում | F12: Ոռոգման ջրի մատակարարման արդյունավետության և հասանելիության բարելավում, կորուստների կրճատում | G12: 0 | H12: -50000 | I12: -50000
C13: 1004 - 12002 | D13: Գերմանիայի զարգացման բանկի աջակցությամբ իրականացվող Ախուրյան գետի ջրային ռեսուրսների ինտեգրված կառավարման փուլ 1 ծրագրով Ջրաձոր գյուղի վերաբնակեցման համար ենթակառուցվածքների և բնակելի տների կառուցում | E13: Գերմանիայի զարգացման բանկի աջակցությամբ իրականացվող Ախուրյան գետի ջրային ռեսուրսների ինտեգրված կառավարման փուլ 1 ծրագիր | F13: Տրանսֆերտների տրամադրում | G13: 0 | H13: -50000 | I13: -50000
B14: 1049 | D14: Ճանապարհային ցանցի բարելավում | E14: Ճանապարհային ցանցի բարելավում և անվտանգ երթևեկության ապահովում | F14: Ճանապարհների ծածկի որակի և փոխադրումների արդյունավետության բարելավում, ճանապարհների վիճակով պայմանավորված պատահարների նվազում | G14: 162817.6 | H14: 302807.1 | I14: 437037.9
C15: 1049 - 11007 | D15: Ասիական զարգացման բանկի աջակցությամբ իրականացվող Հայաստան-Վրաստան սահմանային տարածաշրջանային ճանապարհի (Մ6 Վանաձոր-Բագրատաշեն) բարելավման ծրագրի համակարգում և կառավարում | E15: Խորհրդատվական ծառայություններ և պահպանման ծախսեր | F15: Ծառայությունների մատուցում | G15: 504 | H15: 504 | I15: 504
C16: 1049 - 21006 | D16: Ասիական զարգացման բանկի աջակցությամբ իրականացվող Հյուսիս-հարավ միջանցքի զարգացման վարկային ծրագիր, Տրանշ 2 | E16: Աշտարակ-Թալին 29+600կմ-71+500կմ հատվածի կառուցում | F16: Հանրության կողմից անմիջականորեն օգտագործվող ակտիվների հետ կապված միջոցառումներ | G16: 149936.3 | H16: 243807.1 | I16: 328037.9
C17: 1049 - 21009 | D17: Եվրոպական ներդրումային բանկի աջակցությամբ իրականացվող Հյուսիս-հարավ միջանցքի զարգացման վարկային ծրագիր, Տրանշ 3 | E17: Լանջիկ-Գյումրի 27.47 կմ երկարությամբ ճանապարհային հատվածի կառուցում | F17: Հանրության կողմից անմիջականորեն օգտագործվող ակտիվների հետ կապված միջոցառումներ | G17: 12377.3 | H17: 58496 | I17: 58496
C18: 1049 - 21026 | D18: Ասիական Զարգացման Բանկի աջակցությամբ իրականացվող «Դիմակայուն և ներառական ճանապարհային հատվածի բարելավման ծրագիր», Սիսիան-Քաջարան Հյուսիսային հատվածի կառուցում | E18: Սիսիան-Քաջարան ճանապարհահատվածի հյուսիսային շուրջ 27.1 կմ հատվածի կառուցման աշխատանքներ | F18: Հանրության կողմից անմիջականորեն օգտագործվող ակտիվների հետ կապված միջոցառումներ | G18: 0 | H18: 0 | I18: 50000
B19: 1072 | D19: Ջրամատակարարաման և ջրահեռացման բարելավում | E19: Ջրամատակարարման ծառայությունների հասանելիության և մատչելիության ապահովում | F19: Խմելու ջրի մատակարարման և ջրահեռացման համակարգի բարելավում, կորուստների կրճատում | G19: -53772.8 | H19: 0 | I19: 0
C20: 1072 - 12001 | D20: Գերմանիայի զարգացման և Եվրոպական միության հարևանության ներդրումային բանկի աջակցությամբ իրականացվող ջրամատակարարման և ջրահեռացման ենթակառուցվածքների դրամաշնորհային ծրագիր` երրորդ փուլ | E20: 579 գյուղական բնակավայրերից ընտրված որոշ համայնքների ջրամատակարարման և ջրահեռացման համակարգերի հատվածների հրատապ վերականգնման աշխատանքների իրականացում ինչպես նաև՛ Արմավիրի կեղտաջրերի մաքրման կայանի կառուցում | F20: Տրանսֆերտների տրամադրում | G20: -53772.8 | H20: 0 | I20: 0
B21: 1157 | D21: Քաղաքային զարգացում | E21: Քաղաքային ենթակառուցվածքների զարգացում | F21: Քաղաքային ենթակառուցվածքների արդիականացում և բարելավում | G21: 40955.2 | H21: -1093602.1 | I21: -1939045.1
C22: 1157 - 12016 | D22: Վերակառուցման և զարգացման եվրոպական բանկի աջակցությամբ իրականացվող Գյումրու քաղաքային ճանապարհների տեխնիկական համագործակցության դրամաշնորհային ծրագիր | E22: Գյումրու ճանապարհների վերակառուցմանը և փողոցային լուսավորության արդիականացմանը խորհրդատվական աջակցություն | F22: Տրանսֆերտների տրամադրում | G22: 9406.3 | H22: 59057.1 | I22: 88195.3
C23: 1157 - 12017 | D23: Վերակառուցման և զարգացման եվրոպական բանկի աջակցությամբ իրականացվող Գյումրու քաղաքային ճանապարհների ծրագիր | E23: Գյումրու Անի և Ավստրիական թաղամասերի փողոցների (ներառյալ հետիոտնային անցումների ցանցը և ջրահեռացման համակարգը) հիմնանորոգում | F23: Տրանսֆերտների տրամադրում | G23: 0 | H23: -749508.2 | I23: -1452965.2
C24: 1157 - 12018 | D24: Վերակառուցման և զարգացման եվրոպական բանկի աջակցությամբ իրականացվող Գյումրու քաղաքային ճանապարհների դրամաշնորհային ծրագիր (Տրանշ Ա, Բ, Գ) | E24: Գյումրու Անի և Ավստրիական թաղամասերի փողոցների (ներառյալ հետիոտնային անցումների ցանցը և ջրահեռացման համակարգը) հիմնանորոգում | F24: Տրանսֆերտների տրամադրում | G24: 0 | H24: -361185.4 | I24: -453485.8
C25: 1157 - 12031 | D25: Վերակառուցման և զարգացման եվրոպական բանկի աջակցությամբ իրականացվող Գյումրու քաղաքային ճանապարհների տեխնիկական համագործակցության դրամաշնորհային ծրագրի շրջանակներում ճանապարհների վերակառուցման և փողոցների լուսավորության արդիականացում | E25: Գյումրու ճանապարհների վերակառուցման և փողոցների լուսավորության արդիականացման աշխատանքներ | F25: Տրանսֆերտների տրամադրում | G25: 44366.5 | H25: 43697 | I25: 45131.2
C26: 1157 - 12032 | D26: Վերակառուցման և զարգացման եվրոպական բանկի աջակցությամբ իրականացվող Գյումրու քաղաքային ճանապարհների տեխնիկական համագործակցության վարկային ծրագիր | E26: Գյումրու ճանապարհների վերակառուցման և փողոցների լուսավորության արդիականացման աշխատանքներ | F26: Տրանսֆերտների տրամադրում | G26: -12817.6 | H26: -85662.6 | I26: -165920.6
B27: 1232 | D27: Էներգաարդյունավետության ծրագիր | E27: Էներգախնայողության և վերականգնվող էներգետիկայի ներուժի առավելագույն իրացում | F27: Էներգախնայողության մակարդակի բարձրացում և վերականգնվող էներգետիկայի մասնաբաժնի աճ | G27: -150000 | H27: -150000 | I27: 0
C28: 1232 - 12003 | D28: Եվրոպական ներդրումային բանկի աջակցությամբ իրականացվող Երևանի էներգաարդյունավետության ծրագրի երկրորդ փուլ (մանկապարտեզների և այլ հանրային շենքերի էներգարդյունավետվության բարելավում) | E28: Էներգաարդյունավետության և էներգախնայողությանն ուղղված միջոցառումների իրականացում հանրային (այդ թվում` մանկապարտեզների) շենքերում | F28: Տրանսֆերտների տրամադրում | G28: -150000 | H28: -150000 | I28: 0
A29: ՀՀ կառավարություն | G29: 0 | H29: 0 | I29: 0
B30: 1139 | D30: ՀՀ կառավարության պահուստային ֆոնդ | E30: Պետական բյուջեում չկանխատեսված, ինչպես նաեւ բյուջետային երաշխիքների ապահովման ծախսերի ֆինանսավորման ապահովում | F30: Պահուստային ֆոնդի կառավարման արդյունավետության և թափանցիկության ապահովում | G30: 0 | H30: 0 | I30: 0
C31: 1139 - 11001 | D31: ՀՀ կառավարության պահուստային ֆոնդ | E31: ՀՀ պետական բյուջեում նախատեսված ելքերի լրացուցիչ ֆինանսավորման, պետական բյուջեում չկանխատեսված ելքերի, ինչպես նաև բյուջետային երաշխիքների ապահովման ելքերի ֆինանսավորման ապահովում | F31: Ծառայությունների մատուցում | G31: 2200 | H31: 53807.1 | I31: 338037.9
C32: 1139 - 11001 | D32: ՀՀ կառավարության պահուստային ֆոնդ | E32: ՀՀ պետական բյուջեում նախատեսված ելքերի լրացուցիչ ֆինանսավորման, պետական բյուջեում չկանխատեսված ելքերի, ինչպես նաև բյուջետային երաշխիքների ապահովման ելքերի ֆինանսավորման ապահովում | F32: Ծառայությունների մատուցում | G32: -2200 | H32: -53807.1 | I32: -338037.9
A47: ՀԱՅԱՍՏԱՆԻ ՀԱՆՐԱՊԵՏՈՒԹՅԱՆ ՎԱՐՉԱՊԵՏԻ ԱՇԽԱՏԱԿԱԶՄԻ ՂԵԿԱՎԱՐ՝ | F47: Ա.ՀԱՐՈՒԹՅՈՒՆՅԱՆ

Sheet 5
A1: Հավելված N 5
A2: ՀՀ կառավարության 2026 թվականի
A3: -ի N -Ն որոշման
A4: ՀԱՅԱՍՏԱՆԻ ՀԱՆՐԱՊԵՏՈՒԹՅԱՆ ԿԱՌԱՎԱՐՈՒԹՅԱՆ 2025 ԹՎԱԿԱՆԻ ԴԵԿՏԵՄԲԵՐԻ 25-Ի N 1910-Ն ՈՐՈՇՄԱՆ N 3 ԵՎ N 4 ՀԱՎԵԼՎԱԾՆԵՐՈՒՄ ԿԱՏԱՐՎՈՂ ՓՈՓՈԽՈՒԹՅՈՒՆՆԵՐԸ ԵՎ ԼՐԱՑՈՒՄՆԵՐԸ
H5: հազար դրամներով
A6: Գործառական դասիչը | D6: Ծրագրային դասիչը | F6: Բյուջետային ծախսերի գործառական դասակարգման բաժինների, խմբերի և դասերի, բյուջետային ծրագրերի միջոցառումների, բյուջետային հատկացումների գլխավոր կարգադրիչների անվանումները | G6: Ցուցանիշների փոփոխությունը (ավելացումները նշված են դրական նշանով, իսկ նվազեցումները՝ փակագծերում)
A7: Բաժին | B7: Խումբ | C7: Դաս | D7: Ծրագիր | E7: Միջոցառում | G7: Առաջին կիսամյակ | H7: Ինն ամիս | I7: Տարի
F8: ԸՆԴԱՄԵՆԸ ԾԱԽՍԵՐ | G8: 0 | H8: -990795 | I8: -1552007.2
F9: այդ թվում`
F10: ՀՀ տարածքային կառավարման և ենթակառուցվածքների նախարարություն | G10: 0 | H10: -990795 | I10: -1552007.2
F11: այդ թվում`
A12: 04 | F12: ՏՆՏԵՍԱԿԱՆ ՀԱՐԱԲԵՐՈՒԹՅՈՒՆՆԵՐ | G12: 53772.8 | H12: -990795 | I12: -1552007.2
F13: այդ թվում`
B14: 01 | F14: Ընդհանուր բնույթի տնտեսական, առևտրային և աշխատանքի գծով հարաբերություններ | G14: -150000 | H14: -150000 | I14: 0
F15: այդ թվում`
C16: 01 | F16: Ընդհանուր բնույթի տնտեսական և առևտրային հարաբերություններ | G16: -150000 | H16: -150000 | I16: 0
F17: այդ թվում`
D18: 1232 | F18: Էներգաարդյունավետության ծրագիր | G18: -150000 | H18: -150000 | I18: 0
F19: այդ թվում` | I19: 0
E20: 12003 | F20: Եվրոպական ներդրումային բանկի աջակցությամբ իրականացվող Երևանի էներգաարդյունավետության ծրագրի երկրորդ փուլ (մանկապարտեզների և այլ հանրային շենքերի էներգարդյունավետվության բարելավում) | G20: -150000 | H20: -150000 | I20: 0
F21: այդ թվում` ըստ կատարողների | I21: 0
F22: ՀՀ տարածքային կառավարման և ենթակառուցվածքների նախարարություն | G22: -150000 | H22: -150000 | I22: 0
F23: այդ թվում` բյուջետային ծախսերի տնտեսագիտական դասակարգման հոդվածներ | I23: 0
F24: ԸՆԴԱՄԵՆԸ ԾԱԽՍԵՐ | G24: -150000 | H24: -150000 | I24: 0
F25: ՈՉ ՖԻՆԱՆՍԱԿԱՆ ԱԿՏԻՎՆԵՐԻ ԳԾՈՎ ԾԱԽՍԵՐ | G25: -150000 | H25: -150000 | I25: 0
F26: ՀԻՄՆԱԿԱՆ ՄԻՋՈՑՆԵՐ | G26: -150000 | H26: -150000 | I26: 0
F27: ՇԵՆՔԵՐ ԵՎ ՇԻՆՈՒԹՅՈՒՆՆԵՐ | G27: -150000 | H27: -150000 | I27: 0
F28: - Շենքերի և շինությունների կապիտալ վերանորոգում | G28: -150000 | H28: -150000 | I28: 0
B29: 02 | F29: Գյուղատնտեսություն, անտառային տնտեսություն, ձկնորսություն և որսորդություն | G29: 0 | H29: -50000 | I29: -50000
F30: այդ թվում`
C31: 04 | F31: Ոռոգում | G31: 0 | H31: -50000 | I31: -50000
F32: այդ թվում`
F33: ՀՀ տարածքային կառավարման և ենթակառուցվածքների նախարարություն | G33: 0 | H33: -50000 | I33: -50000
F34: այդ թվում`
D35: 1004 | F35: Ոռոգման համակարգի առողջացում | G35: 0 | H35: -50000 | I35: -50000
F36: այդ թվում`
E37: 12002 | F37: Գերմանիայի զարգացման բանկի աջակցությամբ իրականացվող Ախուրյան գետի ջրային ռեսուրսների ինտեգրված կառավարման փուլ 1 ծրագրով Ջրաձոր գյուղի վերաբնակեցման համար ենթակառուցվածքների և բնակելի տների կառուցում | G37: 0 | H37: -50000 | I37: -50000
F38: այդ թվում` ըստ կատարողների
F39: ՀՀ տարածքային կառավարման և ենթակառուցվածքների նախարարության ջրային կոմիտե | G39: 0 | H39: -50000 | I39: -50000
F40: այդ թվում` բյուջետային ծախսերի տնտեսագիտական դասակարգման հոդվածներ
...

Sheet 6
L1: Հավելված N 6
J2: ՀՀ կառավարության 2026 թվականի
J3: ______________ ի ___Ն որոշման
A5: «ՀԱՅԱUՏԱՆԻ ՀԱՆՐԱՊԵՏՈՒԹՅԱՆ 2026 ԹՎԱԿԱՆԻ ՊԵՏԱԿԱՆ ԲՅՈՒՋԵԻ ՄԱUԻՆ» OՐԵՆՔԻ N 1 ՀԱՎԵԼՎԱԾԻ N 4 ԱՂՅՈՒՍԱԿՈՒՄ ԵՎ ՀԱՅԱՍՏԱՆԻ ՀԱՆՐԱՊԵՏՈՒԹՅԱՆ ԿԱՌԱՎԱՐՈՒԹՅԱՆ 2025 ԹՎԱԿԱՆԻ ԴԵԿՏԵՄԲԵՐԻ 25-Ի N 1910-Ն ՈՐՈՇՄԱՆ N 5 ՀԱՎԵԼՎԱԾԻ N 3 ԱՂՅՈՒՍԱԿՈՒՄ ԿԱՏԱՐՎՈՂ ՓՈՓՈԽՈՒԹՅՈՒՆԸ ԵՎ ԼՐԱՑՈՒՄԸ
K6: հազար դրամներով
A7: Ծրագրային դասիչը | C7: Բյուջետային գլխավոր կարգադրիչների, ծրագրերի և միջոցառումների անվանումները | D7: Ցուցանիշների փոփոխությունը (ավելացումները նշված են դրական նշանով, իսկ նվազեցումները` փակագծերում)
D8: Առաջին կիսամյակ | G8: Ինն ամիս | J8: Տարի
D9: Ընդամենը | E9: այդ թվում` | G9: Ընդամենը | H9: այդ թվում` | J9: Ընդամենը | K9: այդ թվում`
A10: Ծրագիր | B10: Միջոցառում | E10: Վարկային միջոցներ | F10: Համաֆինան սավորում | H10: Վարկային միջոցներ | I10: Համաֆինան սավորում | K10: Վարկային միջոցներ | L10: Համաֆինան սավորում
C11: ԸՆԴԱՄԵՆԸ | D11: 0 | E11: 0 | F11: 0 | G11: -732363.7 | H11: -742383.4 | I11: 10019.7 | J11: -1231847.9 | K11: -1300075.9 | L11: 68228
C12: այդ թվում`
C13: ԸՆԹԱՑԻԿ ԾԱԽՍԵՐ | D13: 504 | E13: 420 | F13: 84 | G13: 504 | H13: 420 | I13: 84 | J13: 504 | K13: 420 | L13: 84
C14: ՈՉ ՖԻՆԱՆՍԱԿԱՆ ԱԿՏԻՎՆԵՐԻ ԳԾՈՎ ԾԱԽՍԵՐ | D14: -504 | E14: -420 | F14: -84 | G14: -732867.7 | H14: -742803.4 | I14: 9935.7 | J14: -1232351.9 | K14: -1300495.9 | L14: 68144
C15: ՀՀ ՏԱՐԱԾՔԱՅԻՆ ԿԱՌԱՎԱՐՄԱՆ ԵՎ ԵՆԹԱԿԱՌՈՒՑՎԱԾՔՆԵՐԻ ՆԱԽԱՐԱՐՈՒԹՅՈՒՆ | D15: 0 | E15: 0 | F15: 0 | G15: -732363.7 | H15: -742383.4 | I15: 10019.7 | J15: -1231847.9 | K15: -1300075.9 | L15: 68228
A16: 1004 | C16: Ոռոգման համակարգի առողջացում | D16: 0 | E16: 0 | F16: 0 | G16: -50000 | H16: 0 | I16: -50000 | J16: -50000 | K16: 0 | L16: -50000
C17: այդ թվում`
B18: 12002 | C18: Գերմանիայի զարգացման բանկի աջակցությամբ իրականացվող Ախուրյան գետի ջրային ռեսուրսների ինտեգրված կառավարման փուլ 1 ծրագրով Ջրաձոր գյուղի վերաբնակեցման համար ենթակառուցվածքների և բնակելի տների կառուցում | D18: 0 | E18: 0 | F18: 0 | G18: -50000 | H18: 0 | I18: -50000 | J18: -50000 | K18: 0 | L18: -50000
C19: այդ թվում` ըստ կատարողների
C20: ՀՀ տարածքային կառավարման և ենթակառուցվածքների նախարարության ջրային կոմիտե | D20: 0 | E20: 0 | F20: 0 | G20: -50000 | H20: 0 | I20: -50000 | J20: -50000 | K20: 0 | L20: -50000
C21: այդ թվում` բյուջետային ծախսերի տնտեսագիտական դասակարգման հոդվածներ
C22: ԸՆԴԱՄԵՆԸ ԾԱԽՍԵՐ | D22: 0 | E22: 0 | F22: 0 | G22: -50000 | H22: 0 | I22: -50000 | J22: -50000 | K22: 0 | L22: -50000
C23: ՈՉ ՖԻՆԱՆՍԱԿԱՆ ԱԿՏԻՎՆԵՐԻ ԳԾՈՎ ԾԱԽՍԵՐ | D23: 0 | E23: 0 | F23: 0 | G23: -50000 | H23: 0 | I23: -50000 | J23: -50000 | K23: 0 | L23: -50000
C24: ՀԻՄՆԱԿԱՆ ՄԻՋՈՑՆԵՐ | D24: 0 | E24: 0 | F24: 0 | G24: -50000 | H24: 0 | I24: -50000 | J24: -50000 | K24: 0 | L24: -50000
C25: ՇԵՆՔԵՐ ԵՎ ՇԻՆՈՒԹՅՈՒՆՆԵՐ | D25: 0 | E25: 0 | F25: 0 | G25: -50000 | H25: 0 | I25: -50000 | J25: -50000 | K25: 0 | L25: -50000
C26: - Շենքերի և շինությունների շինարարություն | D26: 0 | E26: 0 | F26: 0 | G26: -50000 | H26: 0 | I26: -50000 | J26: -50000 | K26: 0 | L26: -50000
A27: 1049 | C27: Ճանապարհային ցանցի բարելավում | D27: 162817.6 | E27: 10681.3 | F27: 152136.3 | G27: 302807.1 | H27: 49000 | I27: 253807.1 | J27: 437037.9 | K27: 49000 | L27: 388037.9
C28: այդ թվում`
B29: 11007 | C29: Ասիական զարգացման բանկի աջակցությամբ իրականացվող Հայաստան-Վրաստան սահմանային տարածաշրջանային ճանապարհի (Մ6 Վանաձոր-Բագրատաշեն) բարելավման ծրագրի համակարգում և կառավարում | D29: 504 | E29: 420 | F29: 84 | G29: 504 | H29: 420 | I29: 84 | J29: 504 | K29: 420 | L29: 84
C30: այդ թվում` ըստ կատարողների
C31: ՀՀ տարածքային կառավարման և ենթակառուցվածքների նախարարություն | D31: 504 | E31: 420 | F31: 84 | G31: 504 | H31: 420 | I31: 84 | J31: 504 | K31: 420 | L31: 84
C32: այդ թվում` բյուջետային ծախսերի տնտեսագիտական դասակարգման հոդվածներ
C33: ԸՆԴԱՄԵՆԸ ԾԱԽՍԵՐ | D33: 504 | E33: 420 | F33: 84 | G33: 504 | H33: 420 | I33: 84 | J33: 504 | K33: 420 | L33: 84
C34: ԸՆԹԱՑԻԿ ԾԱԽՍԵՐ | D34: 504 | E34: 420 | F34: 84 | G34: 504 | H34: 420 | I34: 84 | J34: 504 | K34: 420 | L34: 84
C35: ԱՅԼ ԾԱԽՍԵՐ | D35: 504 | E35: 420 | F35: 84 | G35: 504 | H35: 420 | I35: 84 | J35: 504 | K35: 420 | L35: 84
C36: Այլ ծախսեր | D36: 504 | E36: 420 | F36: 84 | G36: 504 | H36: 420 | I36: 84 | J36: 504 | K36: 420 | L36: 84
B37: 21006 | C37: Ասիական զարգացման բանկի աջակցությամբ իրականացվող Հյուսիս-հարավ միջանցքի զարգացման վարկային ծրագիր, Տրանշ 2 | D37: 149936.3 | E37: 0 | F37: 149936.3 | G37: 243807.1 | H37: 0 | I37: 243807.1 | J37: 328037.9 | K37: 0 | L37: 328037.9 | P37: =#REF!+#REF! -> #REF! | Q37: =#REF!+#REF! -> #REF! | R37: =#REF!+#REF! -> #REF!
C38: այդ թվում` ըստ կատարողների
C39: ՀՀ տարածքային կառավարման և ենթակառուցվածքների նախարարություն | D39: 149936.3 | E39: 0 | F39: 149936.3 | G39: 243807.1 | H39: 0 | I39: 243807.1 | J39: 328037.9 | K39: 0 | L39: 328037.9
C40: այդ թվում` բյուջետային ծախսերի տնտեսագիտական դասակարգման հոդվածներ
C41: ԸՆԴԱՄԵՆԸ ԾԱԽՍԵՐ | D41: 149936.3 | E41: 0 | F41: 149936.3 | G41: 243807.1 | H41: 0 | I41: 243807.1 | J41: 328037.9 | K41: 0 | L41: 328037.9
...

Sheet 7
L1: Հավելված N 7
J2: ՀՀ կառավարության 2026 թվականի
J3: ______________ ի ___Ն որոշման
A5: «ՀԱՅԱUՏԱՆԻ ՀԱՆՐԱՊԵՏՈՒԹՅԱՆ 2026 ԹՎԱԿԱՆԻ ՊԵՏԱԿԱՆ ԲՅՈՒՋԵԻ ՄԱUԻՆ» OՐԵՆՔԻ N 1 ՀԱՎԵԼՎԱԾԻ N 5 ԱՂՅՈՒՍԱԿՈՒՄ ԵՎ ՀԱՅԱՍՏԱՆԻ ՀԱՆՐԱՊԵՏՈՒԹՅԱՆ ԿԱՌԱՎԱՐՈՒԹՅԱՆ 2025 ԹՎԱԿԱՆԻ ԴԵԿՏԵՄԲԵՐԻ 25-Ի N 1910-Ն ՈՐՈՇՄԱՆ N 5 ՀԱՎԵԼՎԱԾԻ N 4 ԱՂՅՈՒՍԱԿՈՒՄ ԿԱՏԱՐՎՈՂ ՓՈՓՈԽՈՒԹՅՈՒՆՆԵՐԸ ԵՎ ԼՐԱՑՈՒՄՆԵՐԸ
K6: հազար դրամներով
A7: Ծրագրային դասիչը | C7: Բյուջետային գլխավոր կարգադրիչների, ծրագրերի և միջոցառումների անվանումները | D7: Ցուցանիշների փոփոխությունը (ավելացումները նշված են դրական նշանով, իսկ նվազեցումները` փակագծերում)
D8: Առաջին կիսամյակ | G8: Ինն ամիս | J8: Տարի
D9: Ընդամենը | E9: այդ թվում` | G9: Ընդամենը | H9: այդ թվում` | J9: Ընդամենը | K9: այդ թվում`
A10: Ծրագիր | B10: Միջոցառում | E10: Դրամաշնորհային միջոցներ | F10: Համաֆինանսավորում | H10: Դրամաշնորհային միջոցներ | I10: Համաֆինանսավորում | K10: Դրամաշնորհային միջոցներ | L10: Համաֆինանսավորում
C11: ԸՆԴԱՄԵՆԸ | D11: 0 | E11: 0 | F11: 0 | G11: -258431.3 | H11: -248411.6 | I11: -10019.7 | J11: -320159.3 | K11: -251931.3 | L11: -68228
C12: այդ թվում`
C13: ԸՆԹԱՑԻԿ ԾԱԽՍԵՐ | D13: 9406.3 | E13: 9406.3 | F13: 0 | G13: 59057.1 | H13: 55193.2 | I13: 3863.9 | J13: 88195.3 | K13: 78734.4 | L13: 9460.9
C14: ՈՉ ՖԻՆԱՆՍԱԿԱՆ ԱԿՏԻՎՆԵՐԻ ԳԾՈՎ ԾԱԽՍԵՐ | D14: -9406.3 | E14: -9406.3 | F14: 0 | G14: -317488.4 | H14: -303604.8 | I14: -13883.6 | J14: -408354.6 | K14: -330665.7 | L14: -77688.9
C15: ՀՀ ՏԱՐԱԾՔԱՅԻՆ ԿԱՌԱՎԱՐՄԱՆ ԵՎ ԵՆԹԱԿԱՌՈՒՑՎԱԾՔՆԵՐԻ ՆԱԽԱՐԱՐՈՒԹՅՈՒՆ | D15: 0 | E15: 0 | F15: 0 | G15: -258431.3 | H15: -248411.6 | I15: -10019.7 | J15: -320159.3 | K15: -251931.3 | L15: -68228
A16: 1157 | C16: Քաղաքային զարգացում | D16: 53772.8 | E16: 53772.8 | F16: 0 | G16: -258431.3 | H16: -248411.6 | I16: -10019.7 | J16: -320159.3 | K16: -251931.3 | L16: -68228
C17: այդ թվում`
B18: 12016 | C18: Վերակառուցման և զարգացման եվրոպական բանկի աջակցությամբ իրականացվող Գյումրու քաղաքային ճանապարհների տեխնիկական համագործակցության դրամաշնորհային ծրագիր | D18: 9406.3 | E18: 9406.3 | F18: 0 | G18: 59057.1 | H18: 55193.2 | I18: 3863.9 | J18: 88195.3 | K18: 78734.4 | L18: 9460.9
C19: այդ թվում` ըստ կատարողների
C20: ՀՀ տարածքային կառավարման և ենթակառուցվածքների նախարարություն | D20: 9406.3 | E20: 9406.3 | F20: 0 | G20: 59057.1 | H20: 55193.2 | I20: 3863.9 | J20: 88195.3 | K20: 78734.4 | L20: 9460.9
C21: այդ թվում` բյուջետային ծախսերի տնտեսագիտական դասակարգման հոդվածներ
C22: ԸՆԴԱՄԵՆԸ ԾԱԽՍԵՐ | D22: 9406.3 | E22: 9406.3 | F22: 0 | G22: 59057.1 | H22: 55193.2 | I22: 3863.9 | J22: 88195.3 | K22: 78734.4 | L22: 9460.9
C23: ԸՆԹԱՑԻԿ ԾԱԽՍԵՐ | D23: 9406.3 | E23: 9406.3 | F23: 0 | G23: 59057.1 | H23: 55193.2 | I23: 3863.9 | J23: 88195.3 | K23: 78734.4 | L23: 9460.9
C24: ԱՅԼ ԾԱԽՍԵՐ | D24: 9406.3 | E24: 9406.3 | F24: 0 | G24: 59057.1 | H24: 55193.2 | I24: 3863.9 | J24: 88195.3 | K24: 78734.4 | L24: 9460.9
C25: Այլ ծախսեր | D25: 9406.3 | E25: 9406.3 | F25: 0 | G25: 59057.1 | H25: 55193.2 | I25: 3863.9 | J25: 88195.3 | K25: 78734.4 | L25: 9460.9
B26: 12018 | C26: Վերակառուցման և զարգացման եվրոպական բանկի աջակցությամբ իրականացվող Գյումրու քաղաքային ճանապարհների դրամաշնորհային ծրագիր (Տրանշ Ա, Բ, Գ) | D26: 0 | E26: 0 | F26: 0 | G26: -361185.4 | H26: -347971.3 | I26: -13214.1 | J26: -453485.8 | K26: -377905.6 | L26: -75580.2
C27: այդ թվում` ըստ կատարողների
C28: ՀՀ տարածքային կառավարման և ենթակառուցվածքների նախարարություն | D28: 0 | E28: 0 | F28: 0 | G28: -361185.4 | H28: -347971.3 | I28: -13214.1 | J28: -453485.8 | K28: -377905.6 | L28: -75580.2
C29: այդ թվում` բյուջետային ծախսերի տնտեսագիտական դասակարգման հոդվածներ
C30: ԸՆԴԱՄԵՆԸ ԾԱԽՍԵՐ | D30: 0 | E30: 0 | F30: 0 | G30: -361185.4 | H30: -347971.3 | I30: -13214.1 | J30: -453485.8 | K30: -377905.6 | L30: -75580.2
C31: ՈՉ ՖԻՆԱՆՍԱԿԱՆ ԱԿՏԻՎՆԵՐԻ ԳԾՈՎ ԾԱԽՍԵՐ | D31: 0 | E31: 0 | F31: 0 | G31: -361185.4 | H31: -347971.3 | I31: -13214.1 | J31: -453485.8 | K31: -377905.6 | L31: -75580.2
C32: ՀԻՄՆԱԿԱՆ ՄԻՋՈՑՆԵՐ | D32: 0 | E32: 0 | F32: 0 | G32: -361185.4 | H32: -347971.3 | I32: -13214.1 | J32: -453485.8 | K32: -377905.6 | L32: -75580.2
C33: ՇԵՆՔԵՐ ԵՎ ՇԻՆՈՒԹՅՈՒՆՆԵՐ | D33: 0 | E33: 0 | F33: 0 | G33: -361185.4 | H33: -347971.3 | I33: -13214.1 | J33: -453485.8 | K33: -377905.6 | L33: -75580.2
C34: - Շենքերի և շինությունների շինարարություն | D34: 0 | E34: 0 | F34: 0 | G34: -361185.4 | H34: -347971.3 | I34: -13214.1 | J34: -453485.8 | K34: -377905.6 | L34: -75580.2
B35: 12031 | C35: Վերակառուցման և զարգացման եվրոպական բանկի աջակցությամբ իրականացվող Գյումրու քաղաքային ճանապարհների տեխնիկական համագործակցության դրամաշնորհային ծրագրի շրջանակներում ճանապարհների վերակառուցման և փողոցների լուսավորության արդիականացում | D35: 44366.5 | E35: 44366.5 | F35: 0 | G35: 43697 | H35: 44366.5 | I35: -669.5 | J35: 45131.2 | K35: 47239.9 | L35: -2108.7
C36: այդ թվում` ըստ կատարողների
C37: ՀՀ տարածքային կառավարման և ենթակառուցվածքների նախարարություն | D37: 44366.5 | E37: 44366.5 | F37: 0 | G37: 43697 | H37: 44366.5 | I37: -669.5 | J37: 45131.2 | K37: 47239.9 | L37: -2108.7
C38: այդ թվում` բյուջետային ծախսերի տնտեսագիտական դասակարգման հոդվածներ
C39: ԸՆԴԱՄԵՆԸ ԾԱԽՍԵՐ | D39: 44366.5 | E39: 44366.5 | F39: 0 | G39: 43697 | H39: 44366.5 | I39: -669.5 | J39: 45131.2 | K39: 47239.9 | L39: -2108.7
C40: ՈՉ ՖԻՆԱՆՍԱԿԱՆ ԱԿՏԻՎՆԵՐԻ ԳԾՈՎ ԾԱԽՍԵՐ | D40: 44366.5 | E40: 44366.5 | F40: 0 | G40: 43697 | H40: 44366.5 | I40: -669.5 | J40: 45131.2 | K40: 47239.9 | L40: -2108.7
C41: ՀԻՄՆԱԿԱՆ ՄԻՋՈՑՆԵՐ | D41: 44366.5 | E41: 44366.5 | F41: 0 | G41: 43697 | H41: 44366.5 | I41: -669.5 | J41: 45131.2 | K41: 47239.9 | L41: -2108.7
...

Sheet 8.
A1: Հավելված N 8
A2: ՀՀ կառավարության 2026 թվականի
A3: -ի N -Ն որոշման
A5: ՀԱՅԱՍՏԱՆԻ ՀԱՆՐԱՊԵՏՈՒԹՅԱՆ ԿԱՌԱՎԱՐՈՒԹՅԱՆ 2025 ԹՎԱԿԱՆԻ ԴԵԿՏԵՄԲԵՐԻ 25-Ի N 1910-Ն ՈՐՈՇՄԱՆ N 9 ՀԱՎԵԼՎԱԾՈՒՄ ԿԱՏԱՐՎՈՂ ՓՈՓՈԽՈՒԹՅՈՒՆՆԵՐԸ ԵՎ ԼՐԱՑՈՒՄՆԵՐԸ
L6: հազար դրամներով
A7: ԲԳԿ | B7: Ծրագիր | D7: Միջոցառում | H7: Իրականացնողը/ ակտիվն օգտագործողը/ շահառուի ընտրության չափորոշիչը | I7: Արդյունքային չափորոշիչը | J7: Ցուցանիշների փոփոխությունը (ավելացումները նշված են դրական նշանով, իսկ նվազեցումները՝ փակագծերում)
B8: Դասիչը | C8: Անվա-նումը | D8: Դասիչը | E8: Անվա-նումը | F8: Նկարագրու-թյունը | G8: Տեսակը | J8: Առաջին կիսամյակ | K8: Ինն ամիս | L8: Տարի
A9: ԸՆԴԱՄԵՆԸ | J9: 0 | K9: -990795 | L9: -1552007.2
A10: ՀՀ տարածքային կառավարման և ենթակառուցվածքների նախարարություն | J10: 0 | K10: -990795 | L10: -1552007.2
B11: 1004 | C11: Ոռոգման համակարգի առողջացում | J11: 0 | K11: -50000 | L11: -50000
D12: 1004 - 12002 | E12: Գերմանիայի զարգացման բանկի աջակցությամբ իրականացվող Ախուրյան գետի ջրային ռեսուրսների ինտեգրված կառավարման փուլ 1 ծրագրով Ջրաձոր գյուղի վերաբնակեցման համար ենթակառուցվածքների և բնակելի տների կառուցում | J12: 0 | K12: -50000 | L12: -50000
F13: Գերմանիայի զարգացման բանկի աջակցությամբ իրականացվող Ախուրյան գետի ջրային ռեսուրսների ինտեգրված կառավարման փուլ 1 ծրագիր
G14: Տրանսֆերտների տրամադրում
H15: Շահառուների ընտրության չափորոշիչները` Տրանսֆերտների տրամադրում
B16: 1049 | C16: Ճանապարհային ցանցի բարելավում | J16: 162817.6 | K16: 302807.1 | L16: 437037.9
D17: 1049 - 11007 | E17: Ասիական զարգացման բանկի աջակցությամբ իրականացվող Հայաստան-Վրաստան սահմանային տարածաշրջանային ճանապարհի (Մ6 Վանաձոր-Բագրատաշեն) բարելավման ծրագրի համակարգում և կառավարում | J17: ='6'!D29 -> 504 | K17: =J17 -> 504 | L17: =K17 -> 504
F18: Խորհրդատվական ծառայություններ և պահպանման ծախսեր
G19: Ծառայությունների մատուցում
H20: Ծառայությունը մատուցողի անվանումը` Մասնագիտացված միավոր
D21: 1049 - 21006 | E21: Ասիական զարգացման բանկի աջակցությամբ իրականացվող Հյուսիս-հարավ միջանցքի զարգացման վարկային ծրագիր, Տրանշ 2 | J21: ='5'!G62 -> 149936.3 | K21: ='5'!H62 -> 243807.1 | L21: ='5'!I62 -> 328037.9
F22: Աշտարակ-Թալին 29+600կմ-71+500կմ հատվածի կառուցում
G23: Հանրության կողմից անմիջականորեն օգտագործվող ակտիվների հետ կապված միջոցառումներ
H24: Միջոցառումն իրականացնողի անվանումը` Մասնագիտացված միավոր
I25: Պայմանագրերի քանակը, հատ այդ թվում՛ | L25: =L26 -> 1
I26: ՀՕՏԾ-ի գնահատման, չափագրման և իրականացման խորհրդատուի պայմանագիր, քանակ,հատ | L26: 1
D27: 1049 - 21009 | E27: Եվրոպական ներդրումային բանկի աջակցությամբ իրականացվող Հյուսիս-հարավ միջանցքի զարգացման վարկային ծրագիր, Տրանշ 3 | J27: ='6'!D48 -> 12377.3 | K27: ='5'!H73 -> 58496 | L27: ='5'!I73 -> 58496
F28: Լանջիկ-Գյումրի 27.47 կմ երկարությամբ ճանապարհային հատվածի կառուցում
G29: Հանրության կողմից անմիջականորեն օգտագործվող ակտիվների հետ կապված միջոցառումներ
H30: Միջոցառումն իրականացնողի անվանումը` Մասնագիտացված միավոր
D31: 1049-21026 | E31: Ասիական Զարգացման Բանկի աջակցությամբ իրականացվող «Դիմակայուն և ներառական ճանապարհային հատվածի բարելավման ծրագիր», Սիսիան-Քաջարան Հյուսիսային հատվածի կառուցում | J31: ='5'!G82 -> 0 | K31: ='5'!H82 -> 0 | L31: ='5'!I82 -> 50000
F32: Սիսիան-Քաջարան ճանապարհահատվածի հյուսիսային շուրջ 27.1 կմ հատվածի կառուցման աշխատանքներ
G33: Հանրության կողմից անմիջականորեն օգտագործվող ակտիվների հետ կապված միջոցառումներ
H34: Միջոցառումն իրականացնողի անվանումը` Մասնագիտացված միավոր
I35: Պայմանագրերի քանակը, հատ այդ թվում՛ | L35: 2
I36: ՀՕՏԾ նախագծում, հատ | L36: 1
I37: ՀՕՏԾ գնահատում, հատ | L37: 1
B38: 1072 | C38: Ջրամատակարարաման և ջրահեռացման բարելավում | J38: =J39 -> -53772.8 | K38: =K39 -> 0 | L38: =L39 -> 0
D39: 1072 - 12001 | E39: Գերմանիայի զարգացման և Եվրոպական միության հարևանության ներդրումային բանկի աջակցությամբ իրականացվող ջրամատակարարման և ջրահեռացման ենթակառուցվածքների դրամաշնորհային ծրագիր` երրորդ փուլ | J39: ='5'!G150 -> -53772.8 | K39: ='5'!H150 -> 0 | L39: ='5'!I150 -> 0
F40: 579 գյուղական բնակավայրերից ընտրված որոշ համայնքների ջրամատակարարման և ջրահեռացման համակարգերի հատվածների հրատապ վերականգնման աշխատանքների իրականացում ինչպես նաև՛ Արմավիրի կեղտաջրերի մաքրման կայանի կառուցում
G41: Տրանսֆերտների տրամադրում
...

Sheet 9
A1: Հավելված N 9
A2: ՀՀ կառավարության 2026 թվականի
A3: -ի N -Ն որոշման
A5: ՀԱՅԱՍՏԱՆԻ ՀԱՆՐԱՊԵՏՈՒԹՅԱՆ ԿԱՌԱՎԱՐՈՒԹՅԱՆ 2025 ԹՎԱԿԱՆԻ ԴԵԿՏԵՄԲԵՐԻ 25-Ի N 1910-Ն ՈՐՈՇՄԱՆ N 9.1 ՀԱՎԵԼՎԱԾՈՒՄ ԿԱՏԱՐՎՈՂ ՓՈՓՈԽՈՒԹՅՈՒՆՆԵՐԸ ԵՎ ԼՐԱՑՈՒՄՆԵՐԸ
L6: հազար դրամներով
A7: ԲՍԿ | B7: Ծրագիր | D7: Միջոցառում | H7: Իրականացնողը/ ակտիվն օգտագործողը/ շահառուի ընտրության չափորոշիչը | I7: Արդյունքային չափորոշիչը | J7: Ցուցանիշների փոփոխությունը (ավելացումները նշված են դրական նշանով, իսկ նվազեցումները՝ փակագծերում)
B8: Դասիչը | C8: Անվանումը | D8: Դասիչը | E8: Անվանումը | F8: Նկարագրությունը | G8: Տեսակը | J8: Առաջին կիսամյակ | K8: Ինն ամիս | L8: Տարի
A9: ԸՆԴԱՄԵՆԸ | J9: 0 | K9: -990795 | L9: -1552007.2
A10: ՀՀ տարածքային կառավարման և ենթակառուցվածքների նախարարություն | J10: 53772.8 | K10: -940795 | L10: -1502007.2
B11: 1049 | C11: Ճանապարհային ցանցի բարելավում | J11: 162817.6 | K11: 302807.1 | L11: 437037.9
D12: 1049 - 11007 | E12: Ասիական զարգացման բանկի աջակցությամբ իրականացվող Հայաստան-Վրաստան սահմանային տարածաշրջանային ճանապարհի (Մ6 Վանաձոր-Բագրատաշեն) բարելավման ծրագրի համակարգում և կառավարում | J12: 504 | K12: 504 | L12: 504
F13: Խորհրդատվական ծառայություններ և պահպանման ծախսեր
G14: Ծառայությունների մատուցում
H15: Ծառայությունը մատուցողի անվանումը` Մասնագիտացված միավոր
D16: 1049 - 21006 | E16: Ասիական զարգացման բանկի աջակցությամբ իրականացվող Հյուսիս-հարավ միջանցքի զարգացման վարկային ծրագիր, Տրանշ 2 | J16: ='5'!G62 -> 149936.3 | K16: ='5'!H62 -> 243807.1 | L16: ='5'!I62 -> 328037.9
F17: Աշտարակ-Թալին 29+600կմ-71+500կմ հատվածի կառուցում
G18: Հանրության կողմից անմիջականորեն օգտագործվող ակտիվների հետ կապված միջոցառումներ
H19: Միջոցառումն իրականացնողի անվանումը` Մասնագիտացված միավոր
I20: Պայմանագրերի քանակը, հատ այդ թվում՛ | L20: =L21 -> 1
I21: ՀՕՏԾ-ի գնահատման, չափագրման և իրականացման խորհրդատուի պայմանագիր, քանակ,հատ | L21: 1
D22: 1049 - 21009 | E22: Եվրոպական ներդրումային բանկի աջակցությամբ իրականացվող Հյուսիս-հարավ միջանցքի զարգացման վարկային ծրագիր, Տրանշ 3 | J22: ='6'!D48 -> 12377.3 | K22: ='6'!G48 -> 58496 | L22: ='6'!J48 -> 58496
F23: Լանջիկ-Գյումրի 27.47 կմ երկարությամբ ճանապարհային հատվածի կառուցում
G24: Հանրության կողմից անմիջականորեն օգտագործվող ակտիվների հետ կապված միջոցառումներ
H25: Միջոցառումն իրականացնողի անվանումը` Մասնագիտացված միավոր
D26: 1049-21026 | E26: Ասիական Զարգացման Բանկի աջակցությամբ իրականացվող «Դիմակայուն և ներառական ճանապարհային հատվածի բարելավման ծրագիր», Սիսիան-Քաջարան Հյուսիսային հատվածի կառուցում | J26: ='8.'!J31 -> 0 | K26: ='8.'!K31 -> 0 | L26: ='8.'!L31 -> 50000
F27: Սիսիան-Քաջարան ճանապարհահատվածի հյուսիսային շուրջ 27.1 կմ հատվածի կառուցման աշխատանքներ
G28: Հանրության կողմից անմիջականորեն օգտագործվող ակտիվների հետ կապված միջոցառումներ
H29: Միջոցառումն իրականացնողի անվանումը` Մասնագիտացված միավոր
B30: 1157 | C30: Քաղաքային զարգացում | J30: =J31+J41+J50+J59+J67 -> 40955.2 | K30: =K31+K41+K50+K59+K67 -> -1093602.1 | L30: =L31+L41+L50+L59+L67 -> -1939045.1
D31: 1157 - 12016 | E31: Վերակառուցման և զարգացման եվրոպական բանկի աջակցությամբ իրականացվող Գյումրու քաղաքային ճանապարհների տեխնիկական համագործակցության դրամաշնորհային ծրագիր | J31: ='4'!G22 -> 9406.3 | K31: ='4'!H22 -> 59057.1 | L31: ='4'!I22 -> 88195.3
F32: Գյումրու ճանապարհների վերակառուցմանը և փողոցային լուսավորության արդիականացմանը խորհրդատվական աջակցություն
G33: Տրանսֆերտների տրամադրում
H34: Շահառուների ընտրության չափորոշիչները` ՀՀ բնակչություն
I35: Գյումրի քաղաքի շարժականության ակտիվների կառավարման և բարելավման պլանի մշակման խորհրդատվական ծառայություն` տոկոս | L35: -35
I36: Ընտրված փողոցների համար կազմակերպվող մրցութային և գնման փաթեթների թիվը` հատ | L36: -4
I37: Մեկնարկի հաշվետվություն | J37: 1 | L37: 2
I38: Ճանապարհային անվտանգության աուդիտի հաշվետվություն | L38: 1
I39: Բնապահպանական և սոցիալական ազդեցությունների գնահատման հաշվետվություն | L39: 1
I40: Գյումրի քաղաքի շարժականության ակտիվների կառավարման և բարելավման պլանի միջանկյալ հաշվետվություն | L40: 2
D41: 1157 - 12017 | E41: Վերակառուցման և զարգացման եվրոպական բանկի աջակցությամբ իրականացվող Գյումրու քաղաքային ճանապարհների ծրագիր | J41: 0 | K41: -749508.2 | L41: -1452965.2
...

Sheet 10
I1: Հավելված N 10
F2: ՀՀ կառավարության 2026 թվականի
I3: N ------------ -Ն որոշման
A4: ՀԱՅԱՍՏԱՆԻ ՀԱՆՐԱՊԵՏՈՒԹՅԱՆ 2026 ԹՎԱԿԱՆԻ ՊԵՏԱԿԱՆ ԲՅՈՒՋԵՈՎ ՆԱԽԱՏԵՍՎԱԾ՝ ՀԱՅԱՍՏԱՆԻ ՀԱՆՐԱՊԵՏՈՒԹՅԱՆ ԿԱՌԱՎԱՐՈՒԹՅԱՆ ՊԱՀՈՒՍՏԱՅԻՆ ՖՈՆԴԻՑ ՀԱՏԿԱՑՈՒՄՆԵՐ ԿԱՏԱՐԵԼՈՒ ՎԵՐԱԲԵՐՅԱԼ
I6: հազար դրամներով
A7: Գործառական դասիչը | D7: Ծրագրային դասիչը | F7: Բյուջետային հատկացումների գլխավոր կարգադրիչների, ծրագրերի, միջոցառումների և միջոցառումները կատարող պետական մարմինների անվանումները | G7: Ցուցանիշների փոփոխությունը (ավելացումները նշված են դրական նշանով, իսկ նվազեցումները` փակագծերում)
A8: Բաժին | B8: Խումբ | C8: Դաս | D8: Ծրագիր | E8: Միջոցառում | G8: Առաջին կիսամյակ | H8: Ինն ամիս | I8: Տարի
F9: ԸՆԴԱՄԵՆԸ ԾԱԽՍԵՐ | G9: =G11+G51 -> 0 | H9: =H11+H51 -> 0 | I9: =I11+I51 -> 0
F10: այդ թվում՝
F11: ՀՀ տարածքային կառավարման և ենթակառուցվածքների նախարարություն | G11: 2200 | H11: 53807.1 | I11: 338037.9
F12: այդ թվում`
A13: 04 | F13: ՏՆՏԵՍԱԿԱՆ ՀԱՐԱԲԵՐՈՒԹՅՈՒՆՆԵՐ | G13: 2200 | H13: 53807.1 | I13: 338037.9
F14: այդ թվում`
B15: 05 | F15: Տրանսպորտ | G15: 2200 | H15: 53807.1 | I15: 338037.9
F16: այդ թվում`
C17: 01 | F17: Ճանապարհային տրանսպորտ | G17: 2200 | H17: 53807.1 | I17: 338037.9
F18: այդ թվում`
F19: ՀՀ տարածքային կառավարման և ենթակառուցվածքների նախարարություն | G19: 2200 | H19: 53807.1 | I19: 338037.9
F20: այդ թվում`
D21: 1049 | F21: Ճանապարհային ցանցի բարելավում | G21: 2200 | H21: 53807.1 | I21: 338037.9
F22: այդ թվում`
E23: 11007 | F23: Ասիական զարգացման բանկի աջակցությամբ իրականացվող Հայաստան-Վրաստան սահմանային տարածաշրջանային ճանապարհի (Մ6 Վանաձոր-Բագրատաշեն) բարելավման ծրագրի համակարգում և կառավարում | G23: 84 | H23: 84 | I23: 84
F24: այդ թվում` ըստ կատարողների
F25: ՀՀ տարածքային կառավարման և ենթակառուցվածքների նախարարություն | G25: 84 | H25: 84 | I25: 84
F26: այդ թվում` բյուջետային ծախսերի տնտեսագիտական դասակարգման հոդվածներ
F27: ԸՆԴԱՄԵՆԸ ԾԱԽՍԵՐ | G27: 84 | H27: 84 | I27: 84
F28: ԸՆԹԱՑԻԿ ԾԱԽՍԵՐ | G28: 84 | H28: 84 | I28: 84
F29: ԱՅԼ ԾԱԽՍԵՐ | G29: 84 | H29: 84 | I29: 84
F30: Այլ ծախսեր | G30: 84 | H30: 84 | I30: 84
E31: 21006 | F31: Ասիական զարգացման բանկի աջակցությամբ իրականացվող Հյուսիս-հարավ միջանցքի զարգացման վարկային ծրագիր, Տրանշ 2 | G31: 0 | H31: 43807.1 | I31: 328037.9
F32: այդ թվում` ըստ կատարողների
F33: ՀՀ տարածքային կառավարման և ենթակառուցվածքների նախարարություն | G33: 0 | H33: 43807.1 | I33: 328037.9
F34: այդ թվում` բյուջետային ծախսերի տնտեսագիտական դասակարգման հոդվածներ
F35: ԸՆԴԱՄԵՆԸ ԾԱԽՍԵՐ | G35: 0 | H35: 43807.1 | I35: 328037.9
F36: ՈՉ ՖԻՆԱՆՍԱԿԱՆ ԱԿՏԻՎՆԵՐԻ ԳԾՈՎ ԾԱԽՍԵՐ | G36: 0 | H36: 43807.1 | I36: 328037.9
F37: ՀԻՄՆԱԿԱՆ ՄԻՋՈՑՆԵՐ | G37: 0 | H37: 43807.1 | I37: 328037.9
F38: ՇԵՆՔԵՐ ԵՎ ՇԻՆՈՒԹՅՈՒՆՆԵՐ | G38: 0 | H38: 13807.1 | I38: 148037.9
F39: - Շենքերի և շինությունների շինարարություն | G39: 0 | H39: 13807.1 | I39: 148037.9
F40: ԱՅԼ ՀԻՄՆԱԿԱՆ ՄԻՋՈՑՆԵՐ | G40: 0 | H40: 30000 | I40: 180000
F41: - Նախագծահետազոտական ծախսեր | G41: 0 | H41: 30000 | I41: 180000
...

Sheet 8
A1: Հավելված N 8
A2: ՀՀ կառավարության 2026 թվականի
A3: -ի N -Ն որոշման
A5: ՀԱՅԱՍՏԱՆԻ ՀԱՆՐԱՊԵՏՈՒԹՅԱՆ ԿԱՌԱՎԱՐՈՒԹՅԱՆ ՊԱՀՈՒՍՏԱՅԻՆ ՖՈՆԴԻՑ ԿԱՏԱՐՎՈՂ ՀԱՏԿԱՑՈՒՄԸ
I6: հազար դրամներով
A8: Գործառական դասիչը | D8: Ծրագրային դասիչը | F8: Բյուջետային ծախսերի գործառական դասակարգման բաժինների, խմբերի և դասերի, բյուջետային ծրագրերի միջոցառումների, բյուջետային հատկացումների գլխավոր կարգադրիչների անվանումները | G8: Ցուցանիշների փոփոխությունը (ավելացումները նշված են դրական նշանով, իսկ նվազեցումները՝ փակագծերում)
G9: Առաջին եռամսյակ | H9: Առաջին կիսամյակ | I9: Ինն ամիս | J9: Տարի
A10: Բաժին | B10: Խումբ | C10: Դաս | D10: Ծրագիր | E10: Միջոցառում
F11: ԸՆԴԱՄԵՆԸ ԾԱԽՍԵՐ | G11: =G13+G33 -> #REF! | H11: =H13+H33 -> #REF! | I11: =I13+I33 -> #REF! | J11: =J13+J33 -> #REF!
F12: այդ թվում`
F13: ՀՀ կառավարություն | G13: =G15 -> #REF! | H13: =H15 -> #REF! | I13: =I15 -> #REF! | J13: =J15 -> #REF!
F14: այդ թվում`
A15: 11 | F15: ՀԻՄՆԱԿԱՆ ԲԱԺԻՆՆԵՐԻՆ ՉԴԱՍՎՈՂ ՊԱՀՈՒՍՏԱՅԻՆ ՖՈՆԴԵՐ | G15: =G17 -> #REF! | H15: =H17 -> #REF! | I15: =I17 -> #REF! | J15: =J17 -> #REF!
F16: այդ թվում`
B17: 01 | F17: ՀՀ կառավարության և համայնքների պահուստային ֆոնդ | G17: =G19 -> #REF! | H17: =H19 -> #REF! | I17: =I19 -> #REF! | J17: =J19 -> #REF!
F18: այդ թվում`
C19: 01 | F19: ՀՀ կառավարության պահուստային ֆոնդ | G19: =G21 -> #REF! | H19: =H21 -> #REF! | I19: =I21 -> #REF! | J19: =J21 -> #REF!
F20: այդ թվում`
F21: ՀՀ կառավարություն | G21: =G23 -> #REF! | H21: =H23 -> #REF! | I21: =I23 -> #REF! | J21: =J23 -> #REF!
F22: այդ թվում`
D23: 1139 | F23: ՀՀ կառավարության պահուստային ֆոնդ | G23: =G25 -> #REF! | H23: =H25 -> #REF! | I23: =I25 -> #REF! | J23: =J25 -> #REF!
F24: այդ թվում`
E25: 11001 | F25: ՀՀ կառավարության պահուստային ֆոնդ | G25: =G27 -> #REF! | H25: =H27 -> #REF! | I25: =I27 -> #REF! | J25: =J27 -> #REF!
F26: այդ թվում` ըստ կատարողների
F27: ՀՀ կառավարություն | G27: =G29 -> #REF! | H27: =H29 -> #REF! | I27: =I29 -> #REF! | J27: =J29 -> #REF!
F28: այդ թվում` բյուջետային ծախսերի տնտեսագիտական դասակարգման հոդվածներ
F29: ԸՆԴԱՄԵՆԸ ԾԱԽՍԵՐ | G29: =G30 -> #REF! | H29: =H30 -> #REF! | I29: =I30 -> #REF! | J29: =J30 -> #REF!
F30: ԸՆԹԱՑԻԿ ԾԱԽՍԵՐ | G30: =G31 -> #REF! | H30: =H31 -> #REF! | I30: =I31 -> #REF! | J30: =J31 -> #REF!
F31: ԱՅԼ ԾԱԽՍԵՐ | G31: =G32 -> #REF! | H31: =H32 -> #REF! | I31: =I32 -> #REF! | J31: =J32 -> #REF!
F32: Պահուստային միջոցներ | G32: =-G33 -> #REF! | H32: =-H33 -> #REF! | I32: =-I33 -> #REF! | J32: =-J33 -> #REF!
F33: ՀՀ տարածքային կառավարման և ենթակառուցվածքների նախարարություն | G33: =G71+G35 -> #REF! | H33: =H71+H35 -> #REF! | I33: =I71+I35 -> #REF! | J33: =J71+J35 -> #REF!
F34: այդ թվում`
A35: 04 | F35: ՏՆՏԵՍԱԿԱՆ ՀԱՐԱԲԵՐՈՒԹՅՈՒՆՆԵՐ | G35: =+G37+G54 -> #REF! | H35: =+H37+H54 -> #REF! | I35: =+I37+I54 -> #REF! | J35: =+J37+J54 -> #REF!
F36: այդ թվում`
B37: 02 | F37: Գյուղատնտեսություն, անտառային տնտեսություն, ձկնորսություն և որսորդություն | G37: =G39 -> #REF! | H37: =H39 -> #REF! | I37: =I39 -> #REF! | J37: =J39 -> #REF!
F38: այդ թվում`
C39: 04 | F39: Ոռոգում | G39: =G43+G103 -> #REF! | H39: =H43+H103 -> #REF! | I39: =I43+I103 -> #REF! | J39: =J43+J103 -> #REF!
F40: այդ թվում`
F41: ՀՀ տարածքային կառավարման և ենթակառուցվածքների նախարարություն | G41: =G43 -> #REF! | H41: =H43 -> #REF! | I41: =I43 -> #REF! | J41: =J43 -> #REF!
F42: այդ թվում`
...
