Workbook
Name \A: #REF!
Name \A: #REF!
Name \A: #REF!
Name \A: #REF!
Name _1__հայտարարվել_է_նախ_մրցույթ: #REF!
Name _1__հայտարարվել_է_նախ_մրցույթ: #REF!
Name _1__հայտարարվել_է_նախ_մրցույթ: #REF!
Name _1__հայտարարվել_է_նախ_մրցույթ: #REF!
Name _tab10: #REF!
Name _tab10: #REF!
Name _tab10: #REF!
Name _tab10: #REF!
Name _tab11: #REF!
Name _tab12: #REF!
Name _tab13: #REF!
Name _tab14: #REF!
Name _tab15: #REF!
Name _tab16: #REF!
Name _tab17: #REF!
Name _tab18: #REF!
Name _tab19: #REF!
Name _tab20: #REF!
Name _tab21: #REF!
Name _tab22: #REF!
Name _tab23: #REF!
Name _tab24: #REF!
Name _tab5: #REF!
Name _tab6: #REF!
Name _tab7: #REF!
Name _tab8: #REF!
Name _tab9: #REF!
Name AgencyCode: #REF!
Name AgencyCode: #REF!
Name AgencyCode: #REF!
Name AgencyCode: #REF!
Name AgencyCode: #REF!
Name AgencyName: #REF!
Name AgencyName: #REF!
Name ampop_krchat: #REF!
Name Armata: #REF!
Name asd: #REF!
Name åû: #REF!
Name åû: #REF!
Name BOP: #REF!
Name BOPfoot: #REF!
Name davit: #REF!
Name DebtCG: '[1]Fis-Debt'!#REF!
Name DebtGG: #REF!
Name DebtGG: #REF!
Name DebtGG: #REF!
Name DebtGG: #REF!
Name fff: #REF!
Name fff: #REF!
Name fff: #REF!
Name fff: #REF!
Name Functional1: #REF!
Name Functional1: #REF!
Name ggg: #REF!
Name h: #REF!
Name Hav: #REF!,#REF!

Sheet havelvac 1
A1: Հավելված 1 ՀՀ կառավարության 2026 թվականի____________ի N _____-Ն որոշման
A3: «ՀԱՅԱՍՏԱՆԻ ՀԱՆՐԱՊԵՏՈՒԹՅԱՆ 2026 ԹՎԱԿԱՆԻ ՊԵՏԱԿԱՆ ԲՅՈՒՋԵԻ ՄԱՍԻՆ» ՕՐԵՆՔԻ N 1 ՀԱՎԵԼՎԱԾԻ N 2 ԱՂՅՈՒՍԱԿՈՒՄ ԿԱՏԱՐՎՈՂ ՎԵՐԱԲԱՇԽՈՒՄԸ ԵՎ ՀԱՅԱՍՏԱՆԻ ՀԱՆՐԱՊԵՏՈՒԹՅԱՆ ԿԱՌԱՎԱՐՈՒԹՅԱՆ 2025 ԹՎԱԿԱՆԻ ԴԵԿՏԵՄԲԵՐԻ 25-Ի N 1910-Ն ՈՐՈՇՄԱՆ N 5 ՀԱՎԵԼՎԱԾԻ N 1 ԱՂՅՈՒՍԱԿՈՒՄ ԿԱՏԱՐՎՈՂ ՓՈՓՈԽՈՒԹՅՈՒՆՆԵՐԸ ԵՎ ԼՐԱՑՈՒՄՆԵՐԸ
I4: հազար դրամներով
A5: ԲԳԿ | B5: Ծրագրային դասիչը | D5: ԲԳԿ/Ծրագրի /միջոցառման անվանումը | E5: Ծրագրի նպատակը/Միջոցառման նկարագրույունը | F5: Վերջնական արդյունքի նկարագրությունը/Միջոցառման տեսակը | G5: Ցուցանիշների փոփոխությունը (ավելացումները նշված են դրական նշանով, իսկ նվազեցումները՝ փակագծերում)
B6: Ծրագիր | C6: Միջոցառում | G6: Առաջին կիսամյակ | H6: Ինն ամիս | I6: Տարի
A7: ԸՆԴԱՄԵՆԸ | G7: =G8+G13+G17 -> 0 | H7: =H8+H13+H17 -> 0 | I7: =I8+I13+I17 -> 0
A8: ՀՀ բարձր տեխնոլոգիական արդյունաբերության նախարարություն | G8: =G9+G11 -> -148965 | H8: =H9+H11 -> -255225 | I8: =I9+I11 -> -350000
B9: 1043 | D9: Բարձր տեխնոլոգիական արդյունաբերության էկոհամակարգի և շուկայի զարգացման ծրագիր | E9: Բարձր տեխնոլոգիաների ենթակառուցվածքների բարելավում | F9: Բարձր տեխնոլոգիաների ոլորտի աճ | G9: =G10 -> -74482.5 | H9: =H10 -> -127612.5 | I9: =I10 -> -175000
C10: 1043 - 11018 | D10: Պետական աջակցություն տեղեկատվական տեխնոլոգիաների ոլորտում գործունեություն իրականացնող առևտրային կազմակերպություններին և անհատ ձեռնարկատերերին | E10: Տեղեկատվական տեխնոլոգիաների ոլորտում գործունեություն իրականացնող առևտրային կազմակերպություններին և անհատ ձեռնարկատերերին պետական աջակցության տրամադրում | F10: Ծառայությունների մատուցում | G10: ='Հավելված 2'!G63 -> -74482.5 | H10: ='Հավելված 2'!H63 -> -127612.5 | I10: ='Հավելված 2'!I63 -> -175000
B11: 1235 | D11: Թվային փոխակերպման գործընթացի իրականացում | E11: Պետական մարմինների կողմից իրականացվող թվային փոխակերպման միջոցառումների ֆինանսավորում | F11: Թվային ծառայությունների և համակարգերի ներդրում | G11: =G12 -> -74482.5 | H11: =H12 -> -127612.5 | I11: =I12 -> -175000
C12: 1235 - 31001 | D12: Միասնական թվային միջավայրի ձևավորում | E12: Թվային փոխակերպման գործընթացի շրջանակներում թվայնացման համակարգերի ներդրում և կայքերի արդիականացում | F12: Պետական մարմինների կողմից օգտագործվող ոչ ֆինանսական ակտիվների հետ գործառնություններ | G12: ='Հավելված 2'!G74 -> -74482.5 | H12: ='Հավելված 2'!H74 -> -127612.5 | I12: ='Հավելված 2'!I74 -> -175000
A13: Տեղեկատվական համակարգերի կարգավորման հանձնաժողով | G13: =G14 -> 148965 | H13: =H14 -> 255225 | I13: =I14 -> 350000
B14: 1244 | D14: Տեղեկատվական համակարգերի բնագավառում միջոցառումների մշակման աշխատանքների համակարգում և անվտանգության միջոցառումների իրականացում | E14: Տեղեկատվական համակարգերի բնագավառում անվտանգության միջոցառումների իրականացում | F14: Տեղեկատվական համակարգերի բնագավառում իրականացվող ծրագրերի ազդեցության և արդյունավետության բարելավում | G14: =+G16+G15 -> 148965 | H14: =+H16+H15 -> 255225 | I14: =+I16+I15 -> 350000
C15: 1244-11001 | D15: Տեղեկատվական համակարգերի անվտանգության միջոցառումների համակարգի մշակման աշխատանքների իրականացում, համակարգում և մոնիտորինգ | E15: Պետական տեղեկատվական համակարգի տեղեկություններին թվային անվտանգ միջավայրում հասանելիության, կառավարական ցանցի, տվյալների փոխանակման և այլ շերտերի, պետական տեղեկատվական համակարգի կառավարման համակարգի, էլեկտրոնային փաստաթղթաշրջանառության միջգերատեսչական համակարգի մշակում, կառավարում, զարգացում և օգտագործում | F15: Ծառայությունների մատուցում | G15: =+'Հավելված 2'!G20 -> 109650 | H15: =+'Հավելված 2'!H20 -> 215910 | I15: =+'Հավելված 2'!I20 -> 310685
C16: 1244-31001 | D16: Տեղեկատվական համակարգերի կարգավորման հանձնաժողովի կարողությունների զարգացում և տեխնիկական հագեցվածության ապահովում | E16: Տեղեկատվական համակարգերի կարգավորման հանձնաժողովի աշխատանքային պայմանների բարելավման համար վարչական սարքավորումների ձեռքբերում | F16: Օրենքով ստեղծված մարմնի կողմից օգտագործվող ոչ ֆինանսական ակտիվների հետ գործառնություններ | G16: =+'Հավելված 2'!G48 -> 39315 | H16: =+'Հավելված 2'!H48 -> 39315 | I16: =+'Հավելված 2'!I48 -> 39315
A17: ՀՀ կառավարություն | G17: =+G18 -> 0 | H17: =+H18 -> 0 | I17: =+I18 -> 0
B18: 1139 | D18: ՀՀ կառավարության պահուստային ֆոնդ | E18: Պետական բյուջեում չկանխատեսված, ինչպես նաեւ բյուջետային երաշխիքների ապահովման ծախսերի ֆինանսավորման ապահովում | F18: Պահուստային ֆոնդի կառավարման արդյունավետության և թափանցիկության ապահովում | G18: =G19+G20 -> 0 | H18: =H19+H20 -> 0 | I18: =I19+I20 -> 0
C19: 1139 - 11001 | D19: ՀՀ կառավարության պահուստային ֆոնդ | E19: ՀՀ պետական բյուջեում նախատեսված ելքերի լրացուցիչ ֆինանսավորման, պետական բյուջեում չկանխատեսված ելքերի, ինչպես նաև բյուջետային երաշխիքների ապահովման ելքերի ֆինանսավորման ապահովում | F19: Ծառայությունների մատուցում | G19: =+'Հավելված 2'!G95 -> 148965 | H19: =+'Հավելված 2'!H95 -> 255225 | I19: =+'Հավելված 2'!I95 -> 350000
C20: 1139 - 11001 | D20: ՀՀ կառավարության պահուստային ֆոնդ | E20: ՀՀ պետական բյուջեում նախատեսված ելքերի լրացուցիչ ֆինանսավորման, պետական բյուջեում չկանխատեսված ելքերի, ինչպես նաև բյուջետային երաշխիքների ապահովման ելքերի ֆինանսավորման ապահովում | F20: Ծառայությունների մատուցում | G20: -148965 | H20: -255225 | I20: -350000

Sheet Հավելված 2
F1: Հավելված N 2
F2: ՀՀ կառավարության 2026 թվականի
F3: ______________ ի ___Ն որոշման
A4: ՀԱՅԱՍՏԱՆԻ ՀԱՆՐԱՊԵՏՈՒԹՅԱՆ ԿԱՌԱՎԱՐՈՒԹՅԱՆ 2025 ԹՎԱԿԱՆԻ ԴԵԿՏԵՄԲԵՐԻ 25-Ի N 1910-Ն ՈՐՈՇՄԱՆ N 3 ԵՎ N 4 ՀԱՎԵԼՎԱԾՆԵՐՈՒՄ ԿԱՏԱՐՎՈՂ ՓՈՓՈԽՈՒԹՅՈՒՆՆԵՐԸ ԵՎ ԼՐԱՑՈՒՄՆԵՐԸ
H5: հազար դրամներով
A6: Գործառական դասիչը | D6: Ծրագրային դասիչը | F6: Բյուջետային ծախսերի գործառական դասակարգման բաժինների, խմբերի և դասերի, բյուջետային ծրագրերի միջոցառումների, բյուջետային հատկացումների գլխավոր կարգադրիչների անվանումները | G6: Ցուցանիշների փոփոխություն (ավելացումները նշված են դրական նշանով, իսկ նվազեցումները՝ փակագծերում)
A7: Բաժին | B7: Խումբ | C7: Դաս | D7: Ծրագիր | E7: Միջոցառում | G7: 1-ին կիսամյակ | H7: 9 ամիս | I7: Տարի
F8: ԸՆԴԱՄԵՆԸ ԾԱԽՍԵՐ | G8: =+G10 -> 0 | H8: =+H10 -> 0 | I8: =+I10 -> 0
F9: այդ թվում`
A10: 01 | F10: ԸՆԴՀԱՆՈՒՐ ԲՆՈՒՅԹԻ ՀԱՆՐԱՅԻՆ ԾԱՌԱՅՈՒԹՅՈՒՆՆԵՐ | G10: =+G12+G57 -> 0 | H10: =+H12+H57 -> 0 | I10: =+I12+I57 -> 0
F11: այդ թվում`
B12: 06 | F12: Ընդհանուր բնույթի հանրային ծառայություններ (այլ դասերին չպատկանող) | G12: =+G14 -> 148965 | H12: =+H14 -> 255225 | I12: =+I14 -> 350000
F13: այդ թվում`
C14: 01 | F14: Ընդհանուր բնույթի հանրային ծառայություններ (այլ դասերին չպատկանող) | G14: =+G18 -> 148965 | H14: =+H18 -> 255225 | I14: =+I18 -> 350000
F15: այդ թվում`
F16: Տեղեկատվական համակարգերի կարգավորման հանձնաժողով | G16: =+G18 -> 148965 | H16: =+H18 -> 255225 | I16: =+I18 -> 350000
F17: այդ թվում`
D18: 1244 | F18: Տեղեկատվական համակարգերի բնագավառում միջոցառումների մշակման աշխատանքների համակարգում և անվտանգության միջոցառումների իրականացում | G18: =+G20+G48 -> 148965 | H18: =+H20+H48 -> 255225 | I18: =+I20+I48 -> 350000
F19: այդ թվում`
E20: 11001 | F20: Տեղեկատվական համակարգերի անվտանգության միջոցառումների համակարգի մշակման աշխատանքների իրականացում, համակարգում և մոնիտորինգ | G20: =G22 -> 109650 | H20: =H22 -> 215910 | I20: =I22 -> 310685
F21: այդ թվում` ըստ կատարողների
F22: Տեղեկատվական համակարգերի կարգավորման հանձնաժողով | G22: =+G24 -> 109650 | H22: =+H24 -> 215910 | I22: =+I24 -> 310685
F23: այդ թվում` բյուջետային ծախսերի տնտեսագիտական դասակարգման հոդվածներ
F24: ԸՆԴԱՄԵՆԸ ԾԱԽՍԵՐ | G24: =+G25 -> 109650 | H24: =+H25 -> 215910 | I24: =+I25 -> 310685
F25: ԸՆԹԱՑԻԿ ԾԱԽՍԵՐ | G25: =+G26+G30 -> 109650 | H25: =+H26+H30 -> 215910 | I25: =+I26+I30 -> 310685
F26: ԱՇԽԱՏԱՆՔԻ ՎԱՐՁԱՏՐՈՒԹՅՈՒՆ | G26: =+G27 -> 58700 | H26: =+H27 -> 117400 | I26: =+I27 -> 166431.2
F27: Դրամով վճարվող աշխատավարձեր և հավելավճարներ | G27: =+G28+G29 -> 58700 | H27: =+H28+H29 -> 117400 | I27: =+I28+I29 -> 166431.2
F28: - Աշխատողների աշխատավարձեր և հավելավճարներ | G28: 50000 | H28: 100000 | I28: 140547.9
F29: - Պարգևատրումներ, դրամական խրախուսումներ և հատուկ վճարներ | G29: 8700 | H29: 17400 | I29: 25883.3
F30: ԾԱՌԱՅՈՒԹՅՈՒՆՆԵՐԻ ԵՎ ԱՊՐԱՆՔՆԵՐԻ ՁԵՌՔԲԵՐՈՒՄ | G30: =+G31+G37+G43+G45+G35 -> 50950 | H30: =+H31+H37+H43+H45+H35 -> 98510 | I30: =+I31+I37+I43+I45+I35 -> 144253.8
F31: Շարունակական ծախսեր | G31: =SUM(G32:G34) -> 5645 | H31: =SUM(H32:H34) -> 13900 | I31: =SUM(I32:I34) -> 22006.9
F32: - Էներգետիկ ծառայություններ | G32: 245 | H32: 600 | I32: 968.1
F33: - Կապի ծառայություններ | G33: 2600 | H33: 6500 | I33: 10325.2
F34: - Գույքի և սարքավորումների վարձակալություն | G34: 2800 | H34: 6800 | I34: 10713.6
F35: Ծառայողական գործուղումների գծով ծախսեր | G35: =+G36 -> 4000 | H35: =+H36 -> 7000 | I35: =+I36 -> 8848.3
F36: - Արտասահմանյան գործուղումների գծով ծախսեր | G36: 4000 | H36: 7000 | I36: 8848.3
F37: Պայմանագրային այլ ծառայությունների ձեռքբերում | G37: =SUM(G38:G42) -> 40105 | H37: =SUM(H38:H42) -> 75510 | I37: =SUM(I38:I42) -> 110398.6
F38: - Համակարգչային ծառայություններ | G38: 30000 | H38: 60000 | I38: 91275.9
F39: - Տեղեկատվական ծառայություններ | G39: 25 | H39: 60 | I39: 92.8
F40: -Կառավարչական ծառայություններ | G40: 80 | H40: 200 | I40: 313.1
...

Sheet Հավելված 3
A1: Հավելված N 3
F2: ՀՀ կառավարության 2026 թվականի
G3: ______________ ի ___Ն որոշման
A4: «ՀԱՅԱՍՏԱՆԻ ՀԱՆՐԱՊԵՏՈՒԹՅԱՆ 2026 ԹՎԱԿԱՆԻ ՊԵՏԱԿԱՆ ԲՅՈՒՋԵԻ ՄԱՍԻՆ» ՀԱՅԱՍՏԱՆԻ ՀԱՆՐԱՊԵՏՈՒԹՅԱՆ ՕՐԵՆՔԻ N 1 ՀԱՎԵԼՎԱԾԻ N 3 ԱՂՅՈՒՍԱԿՈՒՄ ԿԱՏԱՐՎՈՂ ՓՈՓՈԽՈՒԹՅՈՒՆՆԵՐԸ ԵՎ ԼՐԱՑՈՒՄՆԵՐԸ
A5: հազար դրամներով
A6: Ծրագրային դասիչ | C6: Բյուջետային գլխավոր կարգադրիչների, ծրագրերի, միջոցառումների և ուղղությունների անվանումները | D6: Ընդամենը | E6: Ցուցանիշների փոփոխությունը (ավելացումները նշված են դրական նշանով, իսկ նվազեցումները՝ փակագծերում)
A7: Ծրագիր | B7: Միջոց առում | E7: Կառուցման աշխատանքներ | F7: Վերակառուցման, վերանորոգման և վերականգնման աշխատանքներ | G7: Նախագծահե- տազոտական, գեոդեզիա- քարտեզագրական աշխատանքներ | H7: Ոչ ֆինանսական այլ ակտիվների ձեռքբերում
C8: ԸՆԴԱՄԵՆԸ | D8: =+D9+D12 -> -135685 | E8: =E9 -> 0 | F8: =F9 -> 0 | G8: =G9 -> 0 | H8: =+H9+H12 -> -135685
C9: Տեղեկատվական համակարգերի կարգավորման հանձնաժողով | D9: =+D11 -> 39315 | E9: =+E11 -> 0 | F9: =+F11 -> 0 | G9: =+G11 -> 0 | H9: =H11 -> 39315
C10: այդ թվում՛
A11: 1244 | B11: 31001 | C11: Տեղեկատվական համակարգերի կարգավորման հանձնաժողովի կարողությունների զարգացում և տեխնիկական հագեցվածության ապահովում | D11: =+F11+E11+G11+H11 -> 39315 | E11: 0 | F11: 0 | G11: 0 | H11: 39315
C12: ՀՀ բարձր տեխնոլոգիական արդյունաբերության նախարարություն | D12: =+D14 -> -175000 | H12: =+H14 -> -175000
C13: այդ թվում՛
A14: 1235 | B14: 31001 | C14: Միասնական թվային միջավայրի ձևավորում | D14: =+F14+E14+G14+H14 -> -175000 | E14: 0 | F14: 0 | G14: 0 | H14: -175000

Sheet Հավելված 4
A1: Հավելված N 4
A2: ՀՀ կառավարության 2026 թվականի
A3: ______________ ի ___Ն որոշման
A4: ՀԱՅԱՍՏԱՆԻ ՀԱՆՐԱՊԵՏՈՒԹՅԱՆ ԿԱՌԱՎԱՐՈՒԹՅԱՆ 2025 ԹՎԱԿԱՆԻ ԴԵԿՏԵՄԲԵՐԻ 25-Ի N 1910-Ն ՈՐՈՇՄԱՆ N 5 ՀԱՎԵԼՎԱԾԻ 2 ԱՂՅՈՒՍԱԿՈՒՄ ԿԱՏԱՐՎՈՂ ՓՈՓՈԽՈՒԹՅՈՒՆՆԵՐԸ
F5: հազար դրամներով
A6: Ծրագրային դասիչ | C6: Բյուջետային գլխավոր կարգադրիչների, ծրագրերի, միջոցառումների և ուղղությունների անվանումները | D6: Ցուցանիշների փոփոխությունը (ավելացումները նշված են դրական նշանով, իսկ նվազեցումները՝ փակագծերում)
A7: Ծրագիր | B7: Միջոց առում | D7: Առաջին կիսամյակ | E7: Ինն ամիս | F7: Տարի
C8: ԸՆԴԱՄԵՆԸ | D8: =+D10+D15 -> -35167.5 | E8: =+E10+E15 -> -88297.5 | F8: =+F10+F15 -> -135685
C9: այդ թվում՛
C10: Տեղեկատվական համակարգերի կարգավորման հանձնաժողով | D10: =+D12 -> 39315 | E10: =+E12 -> 39315 | F10: =+F12 -> 39315
C11: այդ թվում՛
A12: 1244 | B12: 31001 | C12: Տեղեկատվական համակարգերի կարգավորման հանձնաժողովի կարողությունների զարգացում և տեխնիկական հագեցվածության ապահովում | D12: =+'Հավելված 2'!G48 -> 39315 | E12: =+'Հավելված 2'!H48 -> 39315 | F12: =+'Հավելված 2'!I48 -> 39315
C13: այդ թվում` ըստ կատարողների | D13: .
C14: Տեղեկատվական համակարգերի կարգավորման հանձնաժողով | D14: =+'Հավելված 2'!G50 -> 39315 | E14: =+'Հավելված 2'!H50 -> 39315 | F14: =+'Հավելված 2'!I50 -> 39315
C15: ՀՀ բարձր տեխնոլոգիական արդյունաբերության նախարարություն | D15: =+D17 -> -74482.5 | E15: =+E17 -> -127612.5 | F15: =+F17 -> -175000
C16: այդ թվում՛
A17: 1235 | B17: 31001 | C17: Միասնական թվային միջավայրի ձևավորում | D17: =+D19 -> -74482.5 | E17: =+E19 -> -127612.5 | F17: =+F19 -> -175000
C18: այդ թվում` ըստ կատարողների | D18: .
C19: ՀՀ կառավարություն | D19: =+'Հավելված 2'!G76 -> -74482.5 | E19: =+'Հավելված 2'!H76 -> -127612.5 | F19: =+'Հավելված 2'!I76 -> -175000

Sheet havelvac 5
A1: Հավելված 5 ՀՀ կառավարության 2026 թվականի____________ի N _____-Ն որոշման
A3: ՀԱՅԱՍՏԱՆԻ ՀԱՆՐԱՊԵՏՈՒԹՅԱՆ ԿԱՌԱՎԱՐՈՒԹՅԱՆ 2025 ԹՎԱԿԱՆԻ ԴԵԿՏԵՄԲԵՐԻ 25-Ի N 1910-Ն ՈՐՈՇՄԱՆ N9 ՀԱՎԵԼՎԱԾՈՒՄ ԿԱՏԱՐՎՈՂ ՓՈՓՈԽՈՒԹՅՈՒՆՆԵՐԸ ԵՎ ԼՐԱՑՈՒՄՆԵՐԸ
L4: հազար դրամներով
A5: ԲԳԿ | B5: Ծրագիր | D5: Միջոցառում | H5: Իրականացնողը/ ակտիվն օգտագործողը/ շահառուի ընտրության չափորոշիչը | I5: Արդյունքային չափորոշիչը | J5: Ցուցանիշների փոփոխությունը (ավելացումները նշված են դրական նշանով, իսկ նվազեցումները՝ փակագծերում)
B6: Դասիչը | C6: Անվա-նումը | D6: Դասիչը | E6: Անվա-նումը | F6: Նկարագրու-թյունը | G6: Տեսակը | J6: Առաջին կիսամյակ | K6: Ինն ամիս | L6: Տարի
A7: ԸՆԴԱՄԵՆԸ | J7: =J8+J30+J41 -> 0 | K7: =K8+K30+K41 -> 0 | L7: =L8+L30+L41 -> 0
A8: Տեղեկատվական համակարգերի կարգավորման հանձնաժողով | J8: =J9+J42 -> 148965 | K8: =K9+K42 -> 255225 | L8: =L9+L42 -> 350000
B9: 1244 | C9: Տեղեկատվական համակարգերի բնագավառում միջոցառումների մշակման աշխատանքների համակարգում և անվտանգության միջոցառումների իրականացում | J9: =+J10+J22 -> 148965 | K9: =+K10+K22 -> 255225 | L9: =+L10+L22 -> 350000
D10: 1244-11001 | E10: Տեղեկատվական համակարգերի անվտանգության միջոցառումների համակարգի մշակման աշխատանքների իրականացում, համակարգում և մոնիտորինգ | J10: =+'Հավելված 2'!G20 -> 109650 | K10: =+'Հավելված 2'!H20 -> 215910 | L10: =+'Հավելված 2'!I20 -> 310685
F11: Պետական տեղեկատվական համակարգի տեղեկություններին թվային անվտանգ միջավայրում հասանելիության, կառավարական ցանցի, տվյալների փոխանակման և այլ շերտերի, պետական տեղեկատվական համակարգի կառավարման համակարգի, էլեկտրոնային փաստաթղթաշրջանառության միջգերատեսչական համակարգի մշակում, կառավարում, զարգացում և օգտագործում
G12: Ծառայությունների մատուցում
H13: Ծառայությունը մատուցողի անվանումը` Տեղեկատվական համակարգերի կարգավորման հանձնաժողով
I14: Տեղեկատվական Համակարգերի Կարգավորման ինքնավար մարմնի հաստիքացուցակի մշակում | L14: 1
I15: Տեղեկատվական Համակարգերի Կարգավորման ինքնավար մարմնում ծառայության պաշտոնի նկարագրություն | L15: 1
I16: Հանձնաժողովի բանականոն գործունեության նպատակով տարածքի և աշխատանքային պայմանների ապահովում | L16: 1
I17: Հանձնաժողովի բնականոն գործունեւթյան նպատակով ընթացիկ գնումների գործընթացների կազմակերպում և իրականացում | L17: 1
I18: Օրենսդրությամբ սահմանված կարգով Տեղեկատվական Համակարգերի Կարգավորման ինքնավար մարմնում քաղաքացիական ծառայության պաշտոնների նկարագրերի և անձնագրերի մշակում | L18: ըստ հաստիքացուցակի
I19: Օրենսդրությամբ սահմանված կարգով Տեղեկատվական Համակարգերի Կարգավորման ինքնավար մարմնում հանրային հատվածի հաշվապահության ապահովում | L19: 1
I20: Տեղեկատվական Համակարգերի Կարգավորման ինքնավար մարմնում ծառայության թափուր պաշտոնների համալրման ապահովում | L20: ըստ հաստիքացուցակի
I21: ԲԳԿ-ի գծով հաստատված բյուջեի նկատմամբ կատարման տոկոսը | L21: 90
D22: 1244-31001 | E22: Տեղեկատվական համակարգերի կարգավորման հանձնաժողովի կարողությունների զարգացում և տեխնիկական հագեցվածության ապահովում | J22: ='Հավելված 2'!G48 -> 39315 | K22: ='Հավելված 2'!H48 -> 39315 | L22: ='Հավելված 2'!I48 -> 39315
F23: Տեղեկատվական համակարգերի կարգավորման հանձնաժողովի աշխատանքային պայմանների բարելավման համար վարչական սարքավորումների ձեռքբերում
G24: Պետական մարմինների կողմից օգտագործվող ոչ ֆինանսական ակտիվների հետ գործառնություններ
H25: Օրենքով ստեղծված մարմնի կողմից օգտագործվող ոչ ֆինանսական ակտիվների հետ գործառնություններ
I26: Համակարգչային սարքավորումների քանակ, հատ | L26: 71
I27: Գրասենյակային կահույքի միավոր քանակ, հատ | L27: 105
I28: Այլ սարքավորումների քանակ, հատ | L28: 2
I29: Սարքավորումների ծառայության կանխատեսվող միջին ժամկետ, տարի | L29: 5
A30: ՀՀ բարձր տեխնոլոգիական արդյունաբերության նախարարություն | J30: =J31+J36 -> -148965 | K30: =K31+K36 -> -255225 | L30: =L31+L36 -> -350000
B31: 1043 | C31: Բարձր տեխնոլոգիական արդյունաբերության էկոհամակարգի և շուկայի զարգացման ծրագիր | J31: =+J32 -> -74482.5 | K31: =+K32 -> -127612.5 | L31: =+L32 -> -175000
D32: 1043 - 11018 | E32: Պետական աջակցություն տեղեկատվական տեխնոլոգիաների ոլորտում գործունեություն իրականացնող առևտրային կազմակերպություններին և անհատ ձեռնարկատերերին | J32: ='Հավելված 2'!G65 -> -74482.5 | K32: ='Հավելված 2'!H65 -> -127612.5 | L32: ='Հավելված 2'!I65 -> -175000
F33: Տեղեկատվական տեխնոլոգիաների ոլորտում գործունեություն իրականացնող առևտրային կազմակերպություններին և անհատ ձեռնարկատերերին պետական աջակցության տրամադրում
G34: Ծառայությունների մատուցում
H35: Ծառայությունը մատուցողի անվանումը` ՀՀ բարձր տեխնոլոգիական արդյունաբերության նախարարություն
B36: 1235 | C36: Թվային փոխակերպման գործընթացի իրականացում | J36: =J37 -> -74482.5 | K36: =K37 -> -127612.5 | L36: =L37 -> -175000
D37: 1235 - 31001 | E37: Միասնական թվային միջավայրի ձևավորում | J37: ='Հավելված 2'!G74 -> -74482.5 | K37: ='Հավելված 2'!H74 -> -127612.5 | L37: ='Հավելված 2'!I74 -> -175000
F38: Թվային փոխակերպման գործընթացի շրջանակներում թվայնացման համակարգերի ներդրում և կայքերի արդիականացում
G39: Պետական մարմինների կողմից օգտագործվող ոչ ֆինանսական ակտիվների հետ գործառնություններ
H40: Ակտիվն օգտագործող կազմակերպության անվանումը` Հանրային իշխանության մարմիններ
A41: ՀՀ կառավարություն | J41: =+J42 -> 0 | K41: =+K42 -> 0 | L41: =+L42 -> 0
...

Sheet havelvac 6
A1: Հավելված 6 ՀՀ կառավարության 2026 թվականի____________ի N _____-Ն որոշման
A3: ՀԱՅԱՍՏԱՆԻ ՀԱՆՐԱՊԵՏՈՒԹՅԱՆ ԿԱՌԱՎԱՐՈՒԹՅԱՆ 2025 ԹՎԱԿԱՆԻ ԴԵԿՏԵՄԲԵՐԻ 25-Ի N 1910-Ն ՈՐՈՇՄԱՆ N9 ՀԱՎԵԼՎԱԾՈՒՄ ԿԱՏԱՐՎՈՂ ՓՈՓՈԽՈՒԹՅՈՒՆՆԵՐԸ ԵՎ ԼՐԱՑՈՒՄՆԵՐԸ
L4: հազար դրամներով
A5: ԲԳԿ | B5: Ծրագիր | D5: Միջոցառում | H5: Իրականացնողը/ ակտիվն օգտագործողը/ շահառուի ընտրության չափորոշիչը | I5: Արդյունքային չափորոշիչը | J5: Ցուցանիշների փոփոխությունը (ավելացումները նշված են դրական նշանով, իսկ նվազեցումները՝ փակագծերում)
B6: Դասիչը | C6: Անվա-նումը | D6: Դասիչը | E6: Անվա-նումը | F6: Նկարագրու-թյունը | G6: Տեսակը | J6: Առաջին կիսամյակ | K6: Ինն ամիս | L6: Տարի
A7: ԸՆԴԱՄԵՆԸ | J7: =J8+J30+J36 -> 0 | K7: =K8+K30+K36 -> 0 | L7: =L8+L30+L36 -> 0
A8: Տեղեկատվական համակարգերի կարգավորման հանձնաժողով | J8: =J9+J42 -> 148965 | K8: =K9+K42 -> 255225 | L8: =L9+L42 -> 350000
B9: 1244 | C9: Տեղեկատվական համակարգերի բնագավառում միջոցառումների մշակման աշխատանքների համակարգում և անվտանգության միջոցառումների իրականացում | J9: =+J10+J22 -> 148965 | K9: =+K10+K22 -> 255225 | L9: =+L10+L22 -> 350000
D10: 1244-11001 | E10: Տեղեկատվական համակարգերի անվտանգության միջոցառումների համակարգի մշակման աշխատանքների իրականացում, համակարգում և մոնիտորինգ | J10: =+'Հավելված 2'!G20 -> 109650 | K10: =+'Հավելված 2'!H20 -> 215910 | L10: =+'Հավելված 2'!I20 -> 310685
F11: Պետական տեղեկատվական համակարգի տեղեկություններին թվային անվտանգ միջավայրում հասանելիության, կառավարական ցանցի, տվյալների փոխանակման և այլ շերտերի, պետական տեղեկատվական համակարգի կառավարման համակարգի, էլեկտրոնային փաստաթղթաշրջանառության միջգերատեսչական համակարգի մշակում, կառավարում, զարգացում և օգտագործում
G12: Ծառայությունների մատուցում
H13: Ծառայությունը մատուցողի անվանումը` Տեղեկատվական համակարգերի կարգավորման հանձնաժողով
I14: Տեղեկատվական Համակարգերի Կարգավորման ինքնավար մարմնի հաստիքացուցակի մշակում | L14: 1
I15: Տեղեկատվական Համակարգերի Կարգավորման ինքնավար մարմնում ծառայության պաշտոնի նկարագրություն | L15: 1
I16: Հանձնաժողովի բանականոն գործունեության նպատակով տարածքի և աշխատանքային պայմանների ապահովում | L16: 1
I17: Հանձնաժողովի բնականոն գործունեւթյան նպատակով ընթացիկ գնումների գործընթացների կազմակերպում և իրականացում | L17: 1
I18: Օրենսդրությամբ սահմանված կարգով Տեղեկատվական Համակարգերի Կարգավորման ինքնավար մարմնում քաղաքացիական ծառայության պաշտոնների նկարագրերի և անձնագրերի մշակում | L18: ըստ հաստիքացուցակի
I19: Օրենսդրությամբ սահմանված կարգով Տեղեկատվական Համակարգերի Կարգավորման ինքնավար մարմնում հանրային հատվածի հաշվապահության ապահովում | L19: 1
I20: Տեղեկատվական Համակարգերի Կարգավորման ինքնավար մարմնում ծառայության թափուր պաշտոնների համալրման ապահովում | L20: ըստ հաստիքացուցակի
I21: ԲԳԿ-ի գծով հաստատված բյուջեի նկատմամբ կատարման տոկոսը | L21: 90
D22: 1244-31001 | E22: Տեղեկատվական համակարգերի կարգավորման հանձնաժողովի կարողությունների զարգացում և տեխնիկական հագեցվածության ապահովում | J22: ='Հավելված 2'!G48 -> 39315 | K22: ='Հավելված 2'!H48 -> 39315 | L22: ='Հավելված 2'!I48 -> 39315
F23: Տեղեկատվական համակարգերի կարգավորման հանձնաժողովի աշխատանքային պայմանների բարելավման համար վարչական սարքավորումների ձեռքբերում
G24: Պետական մարմինների կողմից օգտագործվող ոչ ֆինանսական ակտիվների հետ գործառնություններ
H25: Օրենքով ստեղծված մարմնի կողմից օգտագործվող ոչ ֆինանսական ակտիվների հետ գործառնություններ
I26: Համակարգչային սարքավորումների քանակ, հատ | L26: 71
I27: Գրասենյակային կահույքի միավոր քանակ, հատ | L27: 105
I28: Այլ սարքավորումների քանակ, հատ | L28: 2
I29: Սարքավորումների ծառայության կանխատեսվող միջին ժամկետ, տարի | L29: 5
A30: ՀՀ բարձր տեխնոլոգիական արդյունաբերության նախարարություն | J30: =J31 -> -74482.5 | K30: =K31 -> -127612.5 | L30: =L31 -> -175000
B31: 1043 | C31: Բարձր տեխնոլոգիական արդյունաբերության էկոհամակարգի և շուկայի զարգացման ծրագիր | J31: =+J32 -> -74482.5 | K31: =+K32 -> -127612.5 | L31: =+L32 -> -175000
D32: 1043 - 11018 | E32: Պետական աջակցություն տեղեկատվական տեխնոլոգիաների ոլորտում գործունեություն իրականացնող առևտրային կազմակերպություններին և անհատ ձեռնարկատերերին | J32: ='Հավելված 2'!G65 -> -74482.5 | K32: ='Հավելված 2'!H65 -> -127612.5 | L32: ='Հավելված 2'!I65 -> -175000
F33: Տեղեկատվական տեխնոլոգիաների ոլորտում գործունեություն իրականացնող առևտրային կազմակերպություններին և անհատ ձեռնարկատերերին պետական աջակցության տրամադրում
G34: Ծառայությունների մատուցում
H35: Ծառայությունը մատուցողի անվանումը` ՀՀ բարձր տեխնոլոգիական արդյունաբերության նախարարություն
A36: ՀՀ կառավարություն | J36: =J47+J43+J37 -> -74482.5 | K36: =K47+K43+K37 -> -127612.5 | L36: =L47+L43+L37 -> -175000
B37: 1235 | C37: Թվային փոխակերպման գործընթացի իրականացում | J37: =J38 -> -74482.5 | K37: =K38 -> -127612.5 | L37: =L38 -> -175000
D38: 1235 - 31001 | E38: Միասնական թվային միջավայրի ձևավորում | J38: ='Հավելված 2'!G74 -> -74482.5 | K38: ='Հավելված 2'!H74 -> -127612.5 | L38: ='Հավելված 2'!I74 -> -175000
F39: Թվային փոխակերպման գործընթացի շրջանակներում թվայնացման համակարգերի ներդրում և կայքերի արդիականացում
G40: Պետական մարմինների կողմից օգտագործվող ոչ ֆինանսական ակտիվների հետ գործառնություններ
H41: Ակտիվն օգտագործող կազմակերպության անվանումը` Հանրային իշխանության մարմիններ
...

Sheet Հավելված 7
B1: Հավելված N 7
A2: ՀՀ կառավարության 2026 թվականի
A3: ______________ ի ___Ն որոշման
A4: ՀԱՅԱՍՏԱՆԻ ՀԱՆՐԱՊԵՏՈՒԹՅԱՆ ԿԱՌԱՎԱՐՈՒԹՅԱՆ 2025 ԹՎԱԿԱՆԻ ԴԵԿՏԵՄԲԵՐԻ 25-Ի N 1910-Ն ՈՐՈՇՄԱՆ N 10 ՀԱՎԵԼՎԱԾՈՒՄ ԿԱՏԱՐՎՈՂ ՓՈՓՈԽՈՒԹՅՈՒՆՆԵՐԸ ԵՎ ԼՐԱՑՈՒՄՆԵՐԸ
A5: Կոդը | B5: Անվանումը | C5: Գնման ձևը | D5: Չափման միավորը | E5: Միավորի գինը | F5: Ցուցանիշների փոփոխությունը (ավելացումները նշված են դրական նշանով)
F6: Քանակը | G6: Գումարը (հազար դրամով)
A7: Տեղեկատվական համակարգերի կարգավորման հանձնաժողով | G7: =+G8 -> 170179.75
A8: Բաժին N 01 | B8: Խումբ N 06 | C8: Դաս N 01 | D8: Ընդհանուր բնույթի հանրային ծառայություններ (այլ դասերին չպատկանող) | G8: =G9+G51 -> 170179.75
A9: 1244-11001 | B9: Տեղեկատվական համակարգերի անվտանգության միջոցառումների համակարգի մշակման աշխատանքների իրականացում, համակարգում և մոնիտորինգ | G9: =+G10+G35 -> 130864.75
B10: ՄԱՍ I. ԱՊՐԱՆՔՆԵՐ | G10: =SUM(G11:G34) -> 2092.8
A11: 22211500-1 | B11: ամսագրեր | C11: ՄԱ | D11: հատ | E11: 11600 | F11: 8 | G11: =F11*E11/1000 -> 92.8
A12: 30197620-1 | B12: թուղթ, A4 ֆորմատի | C12: ՄԱ | D12: տուփ | E12: 2000 | F12: 150 | G12: =F12*E12/1000 -> 300
A13: 30197234-1 | B13: թղթապանակ, կոշտ կազմով | C13: ՄԱ | D13: հատ | E13: 700 | F13: 150 | G13: =F13*E13/1000 -> 105
A14: 30197234-2 | B14: թղթապանակ, կոշտ կազմով | C14: ՄԱ | D14: հատ | E14: 800 | F14: 30 | G14: =F14*E14/1000 -> 24
A15: 30197234-3 | B15: թղթապանակ, կոշտ կազմով | C15: ՄԱ | D15: հատ | E15: 3000 | F15: 10 | G15: =F15*E15/1000 -> 30
A16: 30199420-1 | B16: թուղթ նշումների համար, սոսնձվածքով | C16: ՄԱ | D16: հատ | E16: 750 | F16: 40 | G16: =F16*E16/1000 -> 30
A17: 30197322-1 | B17: կարիչ, 20-50 թերթի համար | C17: ՄԱ | D17: հատ | E17: 1500 | F17: 35 | G17: =F17*E17/1000 -> 52.5
A18: 30197231-1 | B18: թղթապանակ, պոլիմերային թաղանթ, ֆայլ | C18: ՄԱ | D18: հատ | E18: 17.5 | F18: 5000 | G18: =F18*E18/1000 -> 87.5
A19: 30197112-1 | B19: կարիչի մետաղալարե կապեր, միջին | C19: ՄԱ | D19: տուփ | E19: 150 | F19: 85 | G19: =F19*E19/1000 -> 12.75
A20: 30192121-1 | B20: գրիչ գնդիկավոր | C20: ՄԱ | D20: հատ | E20: 100 | F20: 120 | G20: =F20*E20/1000 -> 12
A21: 30192128-1 | B21: գրիչ գելային | C21: ՄԱ | D21: հատ | E21: 400 | F21: 250 | G21: =F21*E21/1000 -> 100
A22: 30192720-1 | B22: գծանշիչ | C22: ՄԱ | D22: հատ | E22: 150 | F22: 200 | G22: =F22*E22/1000 -> 30
... A34: 39831273-1 | B34: հատակի մաքրման նյութեր | C34: ՄԱ | D34: լիտր | E34: 2000 | F34: 13 | G34: =F34*E34/1000 -> 26
B35: ՄԱՍ III. ԾԱՌԱՅՈՒԹՅՈՒՆՆԵՐ | G35: =SUM(G36:G49) -> 128771.95
A36: 65311100-1 | B36: էլեկտրականության բաշխում | C36: ՄԱ | D36: դրամ | E36: 968050 | F36: 1 | G36: =F36*E36/1000 -> 968.05
A37: 70311200-1 | B37: տարածքների վարձակալության ծառայություններ | C37: ՄԱ | D37: դրամ | E37: 10713600 | F37: 1 | G37: =F37*E37/1000 -> 10713.6
A38: 79111200-1 | B38: ներկայացուցչական ծառայություններ | C38: ՄԱ | D38: դրամ | E38: 6250000 | F38: 1 | G38: =F38*E38/1000 -> 6250
A39: 72261160-1 | B39: Ծրագրային ապահովման սպասարկման ծառայություններ | C39: ՄԱ | D39: դրամ | E39: 384000 | F39: 1 | G39: =F39*E39/1000 -> 384
A40: 72261160-2 | B40: Ծրագրային ապահովման սպասարկման ծառայություններ | C40: ՄԱ | D40: դրամ | E40: 60000000 | F40: 1 | G40: =F40*E40/1000 -> 60000
A41: 48441300-1 | B41: Հաշվապահական համակարգչային ծրագրային փաթեթներ | C41: ՄԱ | D41: դրամ | E41: 2136000 | F41: 1 | G41: =F41*E41/1000 -> 2136
A42: 50311120-1 | B42: Համակարգչային սարքերի պահպանման և վերանորոգման ծառայություններ | C42: ՄԱ | D42: դրամ | E42: 576000 | F42: 1 | G42: =F42*E42/1000 -> 576
A43: 64211100-1 | B43: Հանրային հեռախոսային ծառայություններ | C43: ՄԱ | D43: դրամ | E43: 882000 | F43: 1 | G43: =F43*E43/1000 -> 882
A44: 72611100-1 | B44: Համակարգչային տեխնիկական օժանդակման ծառայություններ | C44: ՄԱ | D44: դրամ | E44: 1000000 | F44: 1 | G44: =F44*E44/1000 -> 1000
A45: 90911220-1 | B45: Գրասենյակների մաքրման ծառայություններ | C45: ՄԱ | D45: դրամ | E45: 1000000 | F45: 1 | G45: =F45*E45/1000 -> 1000
A46: 50531200-1 | B46: Էլեկտրական սարքերի, սարքավորումների վերանորոգման և պահպանման ծառայություններ | C46: ՄԱ | D46: դրամ | E46: 424000 | F46: 1 | G46: =F46*E46/1000 -> 424
A47: 72411100-1 | B47: համացանցային ծառայություններ մատուցողներ (isp) | C47: ԷԱՃ | D47: դրամ | E47: 9443200 | F47: 1 | G47: =F47*E47/1000 -> 9443.2
... A49: 48211210-1 | B49: ցանցային զանազան համակարգչային ծրագրային փաթեթներ | C49: ԷԱՃ | D49: դրամ | E49: 27755900 | F49: 1 | G49: =F49*E49/1000 -> 27755.9
A51: 1244-31001 | B51: Տեղեկատվական համակարգերի կարգավորման հանձնաժողովի կարողությունների զարգացում և տեխնիկական հագեցվածության ապահովում | G51: =+G52 -> 39315
B52: ՄԱՍ I. ԱՊՐԱՆՔՆԵՐ | G52: =SUM(G53:G61) -> 39315
A53: 30211200-1 | B53: Դյուրակիր համակարգիչ | C53: ԷԱՃ | D53: հատ | E53: 950000 | F53: 6 | G53: =F53*E53/1000 -> 5700
...
