Workbook
Name a: #REF!
Name a: #REF!
Name a: #REF!
Name a: #REF!
Name a: #REF!
Name a: #REF!
Name a: #REF!
Name a: #REF!
Name a: #REF!
Name a: #REF!
Name AgencyCode: #REF!
Name AgencyCode: #REF!
Name AgencyCode: #REF!
Name AgencyCode: #REF!
Name AgencyCode: #REF!
Name AgencyCode: #REF!
Name AgencyCode: #REF!
Name AgencyCode: #REF!
Name AgencyCode: #REF!
Name AgencyCode: #REF!
Name AgencyName: #REF!
Name AgencyName: #REF!
Name AgencyName: #REF!
Name AgencyName: #REF!
Name AgencyName: #REF!
Name AgencyName: #REF!
Name AgencyName: #REF!
Name AgencyName: #REF!
Name AgencyName: #REF!
Name åû: #REF!
Name åû: #REF!
Name åû: #REF!
Name BOP: #REF!
Name BOPfoot: #REF!
Name davit: #REF!
Name davit: #REF!
Name davit: #REF!
Name davit: #REF!
Name davit: #REF!
Name davit: #REF!
Name davit: #REF!
Name davit: #REF!
Name DebtCG: #REF!
Name DebtGG: #REF!
Name Functional1: #REF!
Name Functional1: #REF!
Name Functional1: #REF!
Name Functional1: #REF!
Name Functional1: #REF!
Name Functional1: #REF!
Name Functional1: #REF!
Name Functional1: #REF!
Name Functional1: #REF!
Name ggg: #REF!
Name ggg: #REF!
Name ggg: #REF!
Name ggg: #REF!
Name ggg: #REF!
Name ggg: #REF!
Name ggg: #REF!

Sheet Հավելված N 1 
C1: Հավելված N 1
C2: ՀՀ կառավարության 2026 թվականի
C3: ______________ ի ___Ն որոշման
A5: «ՀԱՅԱՍՏԱՆԻ ՀԱՆՐԱՊԵՏՈՒԹՅԱՆ 2026 ԹՎԱԿԱՆԻ ՊԵՏԱԿԱՆ ԲՅՈՒՋԵԻ ՄԱՍԻՆ» ՀԱՅԱՍՏԱՆԻ ՀԱՆՐԱՊԵՏՈՒԹՅԱՆ ՕՐԵՆՔԻ 2-ՐԴ ՀՈԴՎԱԾԻ ԱՂՅՈՒՍԱԿԻ ՑՈՒՑԱՆԻՇՆԵՐՈՒՄ ԿԱՏԱՐՎՈՂ ՓՈՓՈԽՈՒԹՅՈՒՆՆԵՐԸ
D6: հազ. դրամներով
D7: Ցուցանիշների փոփոխությունը (ավելացումները նշված են դրական նշանով)
A8: Եկամուտների գծով | D8: =+'Հավելված N 2 '!F11 -> 32487.4
A9: Ծախսերի գծով | D9: =+'Հավելված N 4'!I13 -> 32487.4
A10: Դեֆիցիտը (պակասուրդը) | D10: =+D9-D8 -> 5.8207661e-11

Sheet Հավելված N 2 
C1: Հավելված N 2
C2: ՀՀ կառավարության 2026 թվականի
C3: ______________ ի ___Ն որոշման
A6: «ՀԱՅԱՍՏԱՆԻ ՀԱՆՐԱՊԵՏՈՒԹՅԱՆ 2026 ԹՎԱԿԱՆԻ ՊԵՏԱԿԱՆ ԲՅՈՒՋԵԻ ՄԱՍԻՆ» ՀԱՅԱՍՏԱՆԻ ՀԱՆՐԱՊԵՏՈՒԹՅԱՆ ՕՐԵՆՔԻ 6-ՐԴ ՀՈԴՎԱԾԻ ԱՂՅՈՒՍԱԿՈՒՄ ԵՎ ՀԱՅԱՍՏԱՆԻ ՀԱՆՐԱՊԵՏՈՒԹՅԱՆ ԿԱՌԱՎԱՐՈՒԹՅԱՆ 2025 ԹՎԱԿԱՆԻ ԴԵԿՏԵՄԲԵՐԻ 25-Ի N 1910-Ն ՈՐՈՇՄԱՆ N 2 ՀԱՎԵԼՎԱԾԻ ԱՂՅՈՒՍԱԿՈՒՄ ԿԱՏԱՐՎՈՂ ՓՈՓՈԽՈՒԹՅՈՒՆՆԵՐԸ
E8: հազ. դրամներով
A9: Եկամտատեսակ | D9: Ցուցանիշների փոփոխությունը (ավելացումները նշված են դրական նշանով)
D10: Առաջին կիսամյակ | E10: Ինն ամիս | F10: Տարի
A11: ՊԵՏԱԿԱՆ ԲՅՈՒՋԵԻ ԵԿԱՄՈՒՏՆԵՐ | D11: =+D12 -> 0 | E11: =+E12 -> 32487.4 | F11: =+F12 -> 32487.4
A12: Ընդամենը | D12: =+D14 -> 0 | E12: =+E14 -> 32487.4 | F12: =+F14 -> 32487.4
A13: այդ թվում՝
A14: Այլ եկամուտներ | D14: =+'Հավելված N 9'!E11 -> 0 | E14: =+'Հավելված N 9'!F11 -> 32487.4 | F14: =+'Հավելված N 9'!G11 -> 32487.4

Sheet Հավելված N 3
D1: Հավելված N 3
D2: ՀՀ կառավարության 2026 թվականի
D3: ______________ ի ___Ն որոշման
A5: «ՀԱՅԱՍՏԱՆԻ ՀԱՆՐԱՊԵՏՈՒԹՅԱՆ 2026 ԹՎԱԿԱՆԻ ՊԵՏԱԿԱՆ ԲՅՈՒՋԵԻ ՄԱՍԻՆ» ՕՐԵՆՔԻ 3-ՐԴ ՀՈԴՎԱԾԻ ԱՂՅՈՒՍԱԿՈՒՄ, N 3 ՀԱՎԵԼՎԱԾԻ N 1 ԱՂՅՈՒՍԱԿՈՒՄ ԵՎ ՀԱՅԱՍՏԱՆԻ ՀԱՆՐԱՊԵՏՈՒԹՅԱՆ ԿԱՌԱՎԱՐՈՒԹՅԱՆ 2025 ԹՎԱԿԱՆԻ ԴԵԿՏԵՄԲԵՐԻ 25-Ի N 1910-Ն ՈՐՈՇՄԱՆ N 1 ՀԱՎԵԼՎԱԾԻ N 1 ԱՂՅՈՒՍԱԿՈՒՄ ԿԱՏԱՐՎՈՂ ՓՈՓՈԽՈՒԹՅՈՒՆԸ
D7: հազ. դրամներով
A8: Պետական բյուջեի դեֆիցիտի ֆինանսավորման աղբյուրներն ու դրանց տարրերի անվանումները | B8: Ցուցանիշների փոփոխությունը (ավելացումները նշված են դրական նշանով)
B9: Առաջին կիսամյակ | C9: Ինն ամիս | D9: Տարի
A10: ԸՆԴԱՄԵՆԸ | B10: =+B12 -> 1124540.6 | C10: =+C12 -> 1019779 | D10: =+D12 -> 5.8207661e-11
A11: այդ թվում՝
A12: Ա.Ներքին աղբյուրներ-ընդամենը | B12: =+B14 -> 1124540.6 | C12: =+C14 -> 1019779 | D12: =+D14 -> 5.8207661e-11
A13: այդ թվում՝
A14: 2. Ֆինանսական զուտ ակտիվներ | B14: =+B16 -> 1124540.6 | C14: =+C16 -> 1019779 | D14: =+D16 -> 5.8207661e-11
A15: այդ թվում՝
A16: 2.6.Այլ | B16: =+B18 -> 1124540.6 | C16: =+C18 -> 1019779 | D16: =+D18 -> 5.8207661e-11
A17: որից՝
A18: Ժամանակավորապես ազատ միջոցներ | B18: =+'Հավելված N 4'!G13-'Հավելված N 9'!E11 -> 1124540.6 | C18: =+'Հավելված N 4'!H13-'Հավելված N 9'!F11 -> 1019779 | D18: =+'Հավելված N 4'!I13-'Հավելված N 9'!G11 -> 5.8207661e-11

Sheet Հավելված N 4
F1: Հավելված N 4
F2: ՀՀ կառավարության 2026 թվականի
F3: ______________ ի ___Ն որոշման
A6: «ՀԱՅԱUՏԱՆԻ ՀԱՆՐԱՊԵՏՈՒԹՅԱՆ 2026 ԹՎԱԿԱՆԻ ՊԵՏԱԿԱՆ ԲՅՈՒՋԵԻ ՄԱUԻՆ» ՀԱՅԱUՏԱՆԻ ՀԱՆՐԱՊԵՏՈՒԹՅԱՆ OՐԵՆՔԻ N 1 ՀԱՎԵԼՎԱԾԻ N 2 ԱՂՅՈՒՍԱԿՈՒՄ ԿԱՏԱՐՎՈՂ ՎԵՐԱԲԱՇԽՈՒՄԸ ԵՎ ՀԱՅԱՍՏԱՆԻ ՀԱՆՐԱՊԵՏՈՒԹՅԱՆ ԿԱՌԱՎԱՐՈՒԹՅԱՆ 2025 ԹՎԱԿԱՆԻ ԴԵԿՏԵՄԲԵՐԻ 25-Ի N 1910-Ն ՈՐՈՇՄԱՆ N 5 ՀԱՎԵԼՎԱԾԻ N 1 ԱՂՅՈՒՍԱԿՈՒՄ ԿԱՏԱՐՎՈՂ ՓՈՓՈԽՈՒԹՅՈՒՆՆԵՐԸ ԵՎ ԼՐԱՑՈՒՄՆԵՐԸ
I9: հազ. դրամներով
A10: ԲԳԿ | B10: Ծրագրային դասիչը | D10: ԲԳԿ/Ծրագրի /միջոցառման անվանումը | E10: Ծրագրի նպատակը/Միջոցառման նկարագրությունը | F10: Վերջնական արդյունքի նկարագրությունը/Միջոցառման տեսակը | G10: Ցուցանիշների փոփոխությունը (ավելացումները նշված են դրական նշանով, իսկ նվազեցումները փակագծերում)
G11: Առաջին կիսամյակ | H11: Ինն ամիս | I11: Տարի
B12: Ծրագիր | C12: Միջոցառում
A13: ԸՆԴԱՄԵՆԸ | G13: =+G15+G37 -> 1124540.6 | H13: =+H15+H37 -> 1052266.4 | I13: =+I15+I37 -> 32487.4
A14: այդ թվում՝
A15: ՀՀ ԿՐԹՈՒԹՅԱՆ, ԳԻՏՈՒԹՅԱՆ, ՄՇԱԿՈՒՅԹԻ ԵՎ ՍՊՈՐՏԻ ՆԱԽԱՐԱՐՈՒԹՅՈՒՆ | G15: =+G16+G19+G24+G26+G28+G31+G33 -> 1124540.6 | H15: =+H16+H19+H24+H26+H28+H31+H33 -> 1052266.4 | I15: =+I16+I19+I24+I26+I28+I31+I33 -> 32487.4
B16: 1045 | D16: Մասնագիտական կրթության և ուսուցման ծրագիր | E16: Աշխատաշուկայի արդի պահանջներին համապատասխան արհեստագործական և միջին մասնագիտական կրթության որակավորում ունեցող մասնագետների պատրաստում, կրթության մատչելիության ապահովում: | F16: Արհեստագործական և միջին մասնագիտական կրթության գրավչության բարձրացում, մատչելի և մրցունակ արհեստագործական և միջին մասնագիտական կրթության ապահովում | G16: =SUM(G17:G18) -> -266599.5 | H16: =SUM(H17:H18) -> -397139.3 | I16: =SUM(I17:I18) -> -385437.9
C17: 1045 - 32001 | D17: Մասնագիտական ուսումնական հաստատությունների շենքային պայմանների բարելավում | E17: Մասնագիտական ուսումնական հաստատությունների շենքերի հիմնանորոգման և նախագծման (շինարարական աշխատանքներ, ջեռուցման համակարգի ստեղծում, ներքին հարդարում, տարածքի բարեկարգում) աշխատանքների իրականացում | F17: Այլ պետական կազմակերպությունների կողմից օգտագործվող ոչ ֆինանսական ակտիվների հետ գործառնություններ | G17: =+'Հավելված N 5'!G212 -> -208152.9 | H17: =+'Հավելված N 5'!H212 -> -375041.1 | I17: =+'Հավելված N 5'!I212 -> -521729.3
C18: 1045 - 32005 | D18: Մասնագիտական ուսումնական հաստատությունների շենքերի կառուցում | E18: Մասնագիտական ուսումնական հաստատությունների շենքերի (մասնաշենքերի) կառուցման և նախագծման աշխատանքների իրականացում | F18: Այլ պետական կազմակերպությունների կողմից օգտագործվող ոչ ֆինանսական ակտիվների հետ գործառնություններ | G18: =+'Հավելված N 5'!G221 -> -58446.6 | H18: =+'Հավելված N 5'!H221 -> -22098.2 | I18: =+'Հավելված N 5'!I221 -> 136291.4
B19: 1075 | D19: Մշակութային ժառանգության ծրագիր | E19: Մշակութային ժառանգության պահպանում, օգտագործում, համալրում և հանրահռչակում | F19: Մշակութային ժառանգության շարունակական պահպանում, մշակութային զբոսաշրջության զարգացում և խթանում | G19: =SUM(G20:G23) -> 108574.2 | H19: =SUM(H20:H23) -> 115032.4 | I19: =SUM(I20:I23) -> 94173.6
C20: 1075 - 21001 | D20: Հուշարձանների ամրակայում, նորոգում և վերականգնում | E20: Հուշարձանների գիտանախագծային փաստաթղթերի կազմում, հրատապ ուսումնասիրում, վավերագրման և ուսումնասիրման աշխատանքներ, հետախուզում և հնագիտական պեղում, ամրակայում, նորոգում և վերականգնում | F20: Հանրության կողմից անմիջականորեն օգտագործվող ակտիվների հետ կապված միջոցառումներ | G20: =+'Հավելված N 5'!G118 -> 10122.4 | H20: =+'Հավելված N 5'!H118 -> -3210.4 | I20: =+'Հավելված N 5'!I118 -> -24069.2
C21: 1075 - 32001 | D21: Ներդրումներ թանգարանների և պատկերասրահների հիմնանորոգման համար | E21: Թանգարանների և պատկերասրահների շենքերի, մասնաշենքերի հիմնանորոգում, համաշինարարական աշխատանքներ, ջեռուցման համակարգի իրականացում, ներքին հարդարում, տարածքի բարեկարգում և նախագծում | F21: Այլ պետական կազմակերպությունների կողմից օգտագործվող ոչ ֆինանսական ակտիվների հետ գործառնություններ | G21: =+'Հավելված N 5'!G26 -> 53674.6 | H21: =+'Հավելված N 5'!H26 -> 73465.6 | I21: =+'Հավելված N 5'!I26 -> 73465.6
C22: 1075 - 32008 | D22: Թանգարանների և պատկերասրահների գույքային և տեխնիկական հագեցվածության բարելավում | E22: Թանգարանների և պատկերասրահների համար անհրաժեշտ գույքի, տեխնիկայի և սարքավորումների ձեռքբերում | F22: Այլ պետական կազմակերպությունների կողմից օգտագործվող ոչ ֆինանսական ակտիվների հետ գործառնություններ | G22: =+'Հավելված N 5'!G42 -> 34777.2 | H22: =+'Հավելված N 5'!H42 -> 34777.2 | I22: =+'Հավելված N 5'!I42 -> 34777.2
C23: 1075 - 32009 | D23: Պատմամշակութային ժառանգության ոլորտի կազմակերպությունների գույքային ապահովվածության բարելավում | E23: Պատմամշակութային ժառանգության ոլորտի կազմակերպությունների գույքով և տեխնիկայով ապահովում | F23: Այլ պետական կազմակերպությունների կողմից օգտագործվող ոչ ֆինանսական ակտիվների հետ գործառնություններ | G23: =+'Հավելված N 5'!G79 -> 10000 | H23: =+'Հավելված N 5'!H79 -> 10000 | I23: =+'Հավելված N 5'!I79 -> 10000
B24: 1111 | D24: Բարձրագույն և հետբուհական մասնագիտական կրթության ծրագիր | E24: Ապահովել մատչելի, որակյալ և մրցունակ բարձրագույն և հետբուհական մասնագիտական կրթություն: | F24: Գիտելիքների տնտեսության և գիտության զարգացման արդի պահանջներին համապատասխան բարձրագույն և հետբուհական մասնագիտական որակավորում ունեցող մասնագետների պատրաստում | G24: =+G25 -> 190409.3 | H24: =+H25 -> 190409.3 | I24: =+I25 -> 190409.3
C25: 1111 - 32001 | D25: Բարձրագույն ուսումնական հաստատությունների և «Զեյթուն» ուսանողական ավան» հիմնադրամի շենքային պայմանների բարելավում | E25: Բարձրագույն ուսումնական հաստատությունների և «Զեյթուն» ուսանողական ավան» հիմնադրամի շենքային պայմանների բարելավում | F25: Այլ պետական կազմակերպությունների կողմից օգտագործվող ոչ ֆինանսական ակտիվների հետ գործառնություններ | G25: =+'Հավելված N 5'!G239 -> 190409.3 | H25: =+'Հավելված N 5'!H239 -> 190409.3 | I25: =+'Հավելված N 5'!I239 -> 190409.3
B26: 1130 | D26: Կրթության, գիտության, մշակույթի և սպորտի բնագավառի պետական քաղաքականության մշակում, ծրագրերի համակարգում և մոնիտորինգ | E26: Ապահովել համընդհանուր, հավասարապես հասանելի, ներառական և որակյալ կրթություն՛ բավարարելով տնտեսության ու հասարակության պահանջները, լիարժեք ծառայելով ազգային շահերին | F26: Կրթության, գիտության, մշակույթի և սպորտի բնագավառում իրականացվող ծրագրերի ազդեցության և արդյունավետության բարելավում | G26: =+G27 -> 100666.3 | H26: =+H27 -> 100666.3 | I26: =+I27 -> 100666.3
C27: 1130 - 11011 | D27: Կրթության, գիտության, մշակույթի և սպորտի բնագավառներում ծրագրերի ապահովման նպատակով անհրաժեշտ պետական տուրքերի և պարտադիր վճարների կատարում | E27: Կրթության, գիտության, մշակույթի և սպորտի բնագավառներում ծրագրերի ապահովման նպատակով անհրաժեշտ ՀՀ պետական կառավարման և տեղական ինքնակառավարման մարմինների կողմից սահմանված պետական տուրքերի և պարտադիր վճարների կատարում | F27: Ծառայությունների մատուցում | G27: =+'Հավելված N 5'!G256 -> 100666.3 | H27: =+'Հավելված N 5'!H256 -> 100666.3 | I27: =+'Հավելված N 5'!I256 -> 100666.3
B28: 1168 | D28: Արվեստների ծրագիր | E28: Նպաստել ազգային հենքի վրա ժամանակակից թատերարվեստի, երաժշտարվեստի, կերպարվեստի և պարարվեստի զարգացմանը և հանրահռչակմանը | F28: Մրցունակ արվեստային արտադրանքի ստեղծում, ստեղծագործական գործընթացների խթանում, արվեստի նոր նախագծերի ներդրում և մշակութային կյանքում հասարակության ներգրավում | G28: =SUM(G29:G30) -> 8507.9 | H28: =SUM(H29:H30) -> 8507.9 | I28: =SUM(I29:I30) -> 8507.9
C29: 1168 - 32001 | D29: Ներդրումներ թատրոնների և համերգային կազմակերպությունների շենքերի կապիտալ վերանորոգման համար | E29: Թատրոնների և համերգային կազմակերպությունների շենքերի մասնաշենքերի հիմնանորոգում, համաշինարարական աշխատանքներ, ջեռուցման համակարգի իրականացում, ներքին հարդարում, տարածքի բարեկարգում և նախագծում | F29: Այլ պետական կազմակերպությունների կողմից օգտագործվող ոչ ֆինանսական ակտիվների հետ գործառնություններ | G29: =+'Հավելված N 5'!G94 -> 2412.3 | H29: =+'Հավելված N 5'!H94 -> 2412.3 | I29: =+'Հավելված N 5'!I94 -> 2412.3
C30: 1168 - 32007 | D30: Թատերահամերգային կազմակերպությունների նյութատեխնիկական բազայի համալրում | E30: Թատերահամերգային կազմակերպությունների համար անհրաժեշտ տեխնիկայի և սարքավորումների ձեռքբերում | F30: Այլ պետական կազմակերպությունների կողմից օգտագործվող ոչ ֆինանսական ակտիվների հետ գործառնություններ | G30: =+'Հավելված N 5'!G103 -> 6095.6 | H30: =+'Հավելված N 5'!H103 -> 6095.6 | I30: =+'Հավելված N 5'!I103 -> 6095.6
B31: 1196 | D31: Մարզերի մշակութային զարգացման ծրագիր | E31: Մարզերում մշակութային կյանքի և մշակութաստեղծ գործունեության ակտիվացում | F31: Համայնքներում մշակույթի հասանելիության և մշակութային կյանքին մարզային բնակչության ընդգրկվածության ընդլայնում | G31: =SUM(G32:G32) -> -52500 | H31: =SUM(H32:H32) -> -33180 | I31: =SUM(I32:I32) -> -8319.4
C32: 1196 - 12002 | D32: Համայնքային մշակութային-ժամանցային կենտրոնի ստեղծում | E32: Համայնքի մշակութային կյանքի ակտիվացում, հանրային ընթերցանության, գեղագիտական կրթության զարգացում, համայնքի բնակչության որակյալ և բովանդակալից ժամանցի կազմակերպում | F32: Տրանսֆերտների տրամադրում | G32: =+'Հավելված N 5'!G64 -> -52500 | H32: =+'Հավելված N 5'!H64 -> -33180 | I32: =+'Հավելված N 5'!I64 -> -8319.4
B33: 1236 | D33: Հանրակրթական և նախադպրոցական հաստատությունների հիմնում, կառուցում, բարելավում | E33: Առնվազն 300 դպրոցի և 500 մանկապարտեզի կառուցման, վերակառուցման, հիմնանորոգման ծրագրերի իրականացում ՀՀ պետական բյուջեի միջոցների շրջանակներում | F33: Կրթական միջավայրի բարելավում | G33: =SUM(G34:G35) -> 1035482.4 | H33: =SUM(H34:H35) -> 1067969.8 | I33: =SUM(I34:I35) -> 32487.6
C34: 1236 - 32002 | D34: Մանկապարտեզների շենքերի վերակառուցում, հիմնանորոգում | E34: Նախադպրոցական կրթության հասանելիության ապահովման նպատակով՛ մանկապարտեզների շենքերի (մասնաշենքերի), վերակառուցում, հիմնանորոգում և նախագծում | F34: Այլ պետական կազմակերպությունների կողմից օգտագործվող ոչ ֆինանսական ակտիվների հետ գործառնություններ | G34: =+'Հավելված N 5'!G143 -> 4591.4 | H34: =+'Հավելված N 5'!H143 -> 4591.4 | I34: =+'Հավելված N 5'!I143 -> -30890.8
C35: 1236 - 32006 | D35: Հանրակրթական դպրոցների, մանկապարտեզների և կրթահամալիրների գույքով և տեխնիկայով ապահովում | E35: Կրթական ժամանակակից նորմերին և կրթական չափորոշիչներին համապատասխան ուսուցման ծրագրերն իրականացնելու նպատակով հանրակրթական և նախադպրոցական հաստատությունների համար գույքի և տեխնիկայի ձեռքբերում | F35: Այլ պետական կազմակերպությունների կողմից օգտագործվող ոչ ֆինանսական ակտիվների հետ գործառնություններ | G35: =+'Հավելված N 5'!G167 -> 1030891 | H35: =+'Հավելված N 5'!H167 -> 1063378.4 | I35: =+'Հավելված N 5'!I167 -> 63378.4
A37: ՀՀ ԿԱՌԱՎԱՐՈՒԹՅՈՒՆ | G37: =+G38 -> 0 | H37: =+H38 -> 0 | I37: =+I38 -> 0
B38: 1139 | D38: ՀՀ կառավարության պահուստային ֆոնդ | E38: Պետական բյուջեում չկանխատեսված, ինչպես նաեւ բյուջետային երաշխիքների ապահովման ծախսերի ֆինանսավորման ապահովում | F38: Պահուստային ֆոնդի կառավարման արդյունավետության և թափանցիկության ապահովում | G38: =+G39+G40 -> 0 | H38: =+H39+H40 -> 0 | I38: =+I39+I40 -> 0
C39: 1139 - 11001 | D39: ՀՀ կառավարության պահուստային ֆոնդ | E39: ՀՀ պետական բյուջեում նախատեսված ելքերի լրացուցիչ ֆինանսավորման, պետական բյուջեում չկանխատեսված ելքերի, ինչպես նաև բյուջետային երաշխիքների ապահովման ելքերի ֆինանսավորման ապահովում | F39: Ծառայությունների մատուցում | G39: =+'Հավելված N 5'!G277 -> -110666.3 | H39: =+'Հավելված N 5'!H277 -> -110666.3 | I39: =+'Հավելված N 5'!I277 -> -110666.3
C40: 1139 - 11001 | D40: ՀՀ կառավարության պահուստային ֆոնդ | E40: ՀՀ պետական բյուջեում նախատեսված ելքերի լրացուցիչ ֆինանսավորման, պետական բյուջեում չկանխատեսված ելքերի, ինչպես նաև բյուջետային երաշխիքների ապահովման ելքերի ֆինանսավորման ապահովում | F40: Ծառայությունների մատուցում | G40: =+'Հավելված N 5'!G285 -> 110666.3 | H40: =+'Հավելված N 5'!H285 -> 110666.3 | I40: =+'Հավելված N 5'!I285 -> 110666.3

Sheet Հավելված N 5
F1: Հավելված N 5
F2: ՀՀ կառավարության 2026 թվականի
F3: ______________ ի ___Ն որոշման
A7: ՀԱՅԱՍՏԱՆԻ ՀԱՆՐԱՊԵՏՈՒԹՅԱՆ ԿԱՌԱՎԱՐՈՒԹՅԱՆ 2025 ԹՎԱԿԱՆԻ ԴԵԿՏԵՄԲԵՐԻ 25-Ի N 1910-Ն ՈՐՈՇՄԱՆ N 3 ԵՎ N 4 ՀԱՎԵԼՎԱԾՆԵՐՈՒՄ ԿԱՏԱՐՎՈՂ ՓՈՓՈԽՈՒԹՅՈՒՆՆԵՐԸ ԵՎ ԼՐԱՑՈՒՄՆԵՐԸ
I10: հազ. դրամներով
A11: Գործառական դասիչը | D11: Ծրագրային դասիչը | F11: Բյուջետային հատկացումների գլխավոր կարգադրիչների, ծրագրերի, միջոցառումների և միջոցառումները կատարող պետական մարմինների անվանումները | G11: Ցուցանիշների փոփոխությունը (ավելացումները նշված են դրական նշանով, իսկ նվազեցումները փակագծերում)
A12: Բաժին | B12: Խումբ | C12: Դաս | D12: Ծրագիր | E12: Միջոցառում | G12: Առաջին կիսամյակ | H12: Ինն ամիս | I12: Տարի
F13: ԸՆԴԱՄԵՆԸ | G13: =+G15+G266 -> 1124540.6 | H13: =+H15+H266 -> 1052266.4 | I13: =+I15+I266 -> 32487.4
F14: այդ թվում՝
F15: ՀՀ ԿՐԹՈՒԹՅԱՆ, ԳԻՏՈՒԹՅԱՆ, ՄՇԱԿՈՒՅԹԻ ԵՎ ՍՊՈՐՏԻ ՆԱԽԱՐԱՐՈՒԹՅՈՒՆ | G15: =+G16+G133 -> 1124540.6 | H15: =+H16+H133 -> 1052266.4 | I15: =+I16+I133 -> 32487.4
A16: 08 | F16: ՀԱՆԳԻՍՏ, ՄՇԱԿՈՒՅԹ ԵՎ ԿՐՈՆ | G16: =+G18 -> 64582.1 | H16: =+H18 -> 90360.3 | I16: =+I18 -> 94362.1
F17: այդ թվում`
B18: 02 | F18: Մշակութային ծառայություններ | G18: =+G20+G58+G73+G88+G112 -> 64582.1 | H18: =+H20+H58+H73+H88+H112 -> 90360.3 | I18: =+I20+I58+I73+I88+I112 -> 94362.1
F19: այդ թվում`
C20: 02 | F20: Թանգարաններ և ցուցասրահներ | G20: =+G22 -> 88451.8 | H20: =+H22 -> 108242.8 | I20: =+I22 -> 108242.8
F21: այդ թվում`
F22: ՀՀ կրթության, գիտության, մշակույթի և սպորտի նախարարություն | G22: =+G24 -> 88451.8 | H22: =+H24 -> 108242.8 | I22: =+I24 -> 108242.8
F23: այդ թվում`
D24: 1075 | E24: Մշակութային ժառանգության ծրագիր | G24: =+G26+G42 -> 88451.8 | H24: =+H26+H42 -> 108242.8 | I24: =+I26+I42 -> 108242.8
F25: այդ թվում`
E26: 32001 | F26: Ներդրումներ թանգարանների և պատկերասրահների հիմնանորոգման համար | G26: =+G28+G35 -> 53674.6 | H26: =+H28+H35 -> 73465.6 | I26: =+I28+I35 -> 73465.6
F27: այդ թվում` ըստ կատարողների
F28: ՀՀ կրթության, գիտության, մշակույթի և սպորտի նախարարություն | G28: =+G30 -> 53674.6 | H28: =+H30 -> 53674.6 | I28: =+I30 -> 53674.6
F29: այդ թվում` բյուջետային ծախսերի տնտեսագիտական դասակարգման հոդվածներ
F30: ԸՆԴԱՄԵՆԸ ԾԱԽՍԵՐ | G30: =G31 -> 53674.6 | H30: =H31 -> 53674.6 | I30: =I31 -> 53674.6
F31: ԸՆԹԱՑԻԿ ԾԱԽՍԵՐ | G31: =+G32 -> 53674.6 | H31: =+H32 -> 53674.6 | I31: =+I32 -> 53674.6
F32: ԴՐԱՄԱՇՆՈՐՀՆԵՐ | G32: =+G33 -> 53674.6 | H32: =+H33 -> 53674.6 | I32: =+I33 -> 53674.6
F33: ԿԱՊԻՏԱԼ ԴՐԱՄԱՇՆՈՐՀՆԵՐ ՊԵՏԱԿԱՆ ՀԱՏՎԱԾԻ ԱՅԼ ՄԱԿԱՐԴԱԿՆԵՐԻՆ | G33: =+G34 -> 53674.6 | H33: =+H34 -> 53674.6 | I33: =+I34 -> 53674.6
F34: - Այլ կապիտալ դրամաշնորհներ | G34: =+I34 -> 53674.6 | H34: =+I34 -> 53674.6 | I34: =+'Հավելված N 8'!G28 -> 53674.6
F35: ՀՀ քաղաքաշինության կոմիտե | G35: =+G37 -> 0 | H35: =+H37 -> 19791 | I35: =+I37 -> 19791
F36: այդ թվում` բյուջետային ծախսերի տնտեսագիտական դասակարգման հոդվածներ
F37: ԸՆԴԱՄԵՆԸ ԾԱԽՍԵՐ | G37: =G38 -> 0 | H37: =H38 -> 19791 | I37: =I38 -> 19791
F38: ՈՉ ՖԻՆԱՆՍԱԿԱՆ ԱԿՏԻՎՆԵՐԻ ԳԾՈՎ ԾԱԽՍԵՐ | G38: =+G39 -> 0 | H38: =+H39 -> 19791 | I38: =+I39 -> 19791
F39: ՀԻՄՆԱԿԱՆ ՄԻՋՈՑՆԵՐ | G39: =+G40 -> 0 | H39: =+H40 -> 19791 | I39: =+I40 -> 19791
F40: ՇԵՆՔԵՐ ԵՎ ՇԻՆՈՒԹՅՈՒՆՆԵՐ | G40: =+G41 -> 0 | H40: =+H41 -> 19791 | I40: =+I41 -> 19791
F41: - Շենքերի և շինությունների կապիտալ վերանորոգում | G41: =+'Հավելված N 7'!E90 -> 0 | H41: =+'Հավելված N 7'!F90 -> 19791 | I41: =+'Հավելված N 7'!G90 -> 19791
E42: 32008 | F42: Թանգարանների և պատկերասրահների գույքային և տեխնիկական հագեցվածության բարելավում | G42: =+G44+G51 -> 34777.2 | H42: =+H44+H51 -> 34777.2 | I42: =+I44+I51 -> 34777.2
F43: այդ թվում` ըստ կատարողների
F44: ՀՀ կրթության, գիտության, մշակույթի և սպորտի նախարարություն | G44: =+G46 -> 29650 | H44: =+H46 -> 29650 | I44: =+I46 -> 29650
F45: այդ թվում` բյուջետային ծախսերի տնտեսագիտական դասակարգման հոդվածներ
...

Sheet Հավելված N 6
F1: Հավելված N 6
F2: ՀՀ կառավարության 2026 թվականի
F3: ______________ ի ___Ն որոշման
A5: «ՀԱՅԱUՏԱՆԻ ՀԱՆՐԱՊԵՏՈՒԹՅԱՆ 2026 ԹՎԱԿԱՆԻ ՊԵՏԱԿԱՆ ԲՅՈՒՋԵԻ ՄԱUԻՆ» ՀԱՅԱUՏԱՆԻ ՀԱՆՐԱՊԵՏՈՒԹՅԱՆ OՐԵՆՔԻ N 1 ՀԱՎԵԼՎԱԾԻ N 3 ԱՂՅՈՒՍԱԿՈՒՄ ԿԱՏԱՐՎՈՂ ՓՈՓՈԽՈՒԹՅՈՒՆՆԵՐԸ ԵՎ ԼՐԱՑՈՒՄՆԵՐԸ
G8: հազ. դրամներով
A9: Ծրագրային դասիչ | C9: Բյուջետային գլխավոր կարգադրիչների, ծրագրերի, միջոցառումների, միջոցառումները կատարող պետական մարմինների և ուղղությունների անվանումները | D9: Ընդամենը | E9: Ցուցանիշների փոփոխությունը (ավելացումները նշված են դրական նշանով, իսկ նվազեցումները՝ փակագծերում)
A10: Ծրագիր | B10: Միջոցառում | E10: Կառուցման աշխատանքներ | F10: Վերակառուցման, վերանորոգման և վերականգնման աշխատանքներ | G10: Նախագծահե- տազոտական, գեոդեզիա- քարտեզագրա- կան աշխա- տանքներ | H10: Ոչ ֆինանսական այլ ակտիվների ձեռքբերում
C11: ԸՆԴԱՄԵՆԸ | D11: =SUM(E11:H11) -> -490703.1 | E11: =+E13 -> 143276.3 | F11: =+F13 -> -565972.7 | G11: =+G13 -> -136512.3 | H11: =+H13 -> 68505.6
C12: այդ թվում՝
C13: ՀՀ ԿՐԹՈՒԹՅԱՆ, ԳԻՏՈՒԹՅԱՆ, ՄՇԱԿՈՒՅԹԻ ԵՎ ՍՊՈՐՏԻ ՆԱԽԱՐԱՐՈՒԹՅՈՒՆ | D13: =SUM(E13:H13) -> -490703.1 | E13: =+E15+E25+E36+E81+E85+E89+E93+E94+E97 -> 143276.3 | F13: =+F15+F25+F36+F81+F85+F89+F93+F94+F97 -> -565972.7 | G13: =+G15+G25+G36+G81+G85+G89+G93+G94+G97 -> -136512.3 | H13: =+H15+H25+H36+H81+H85+H89+H93+H94+H97 -> 68505.6
C14: այդ թվում`
A15: 1045 | B15: 32001 | C15: Մասնագիտական ուսումնական հաստատությունների շենքային պայմանների բարելավում | D15: =SUM(E15:H15) -> -521729.3 | E15: =+E17+E20+E23 -> 0 | F15: =+F17+F20+F23 -> -521729.3 | G15: =+G17+G20+G23 -> 0 | H15: =+H17+H20+H23 -> 0
C16: այդ թվում`
C17: Երևան քաղաք | D17: =SUM(E17:H17) -> 0 | E17: =SUM(E18:E19) -> 0 | F17: =SUM(F18:F19) -> 0 | G17: =SUM(G18:G19) -> 0 | H17: =SUM(H18:H19) -> 0
C18: «Երևանի հ․8 արհեստագործական պետական ուսումնարան» ՊՈԱԿ | D18: =+E18+F18+G18+H18 -> -111195.1 | F18: -111195.1
C19: Երևանի հ․8 արհեստագործական պետական ուսումնարան (իրավահաջորդը՝ «Երևանի արհեստի պետական քոլեջ» ՊՈԱԿ) | D19: =+E19+F19+G19+H19 -> 111195.1 | F19: =-F18 -> 111195.1
C20: ՀՀ Շիրակի մարզ | D20: =SUM(E20:H20) -> -262729.3 | E20: =SUM(E21:E22) -> 0 | F20: =SUM(F21:F22) -> -262729.3 | G20: =SUM(G21:G22) -> 0 | H20: =SUM(H21:H22) -> 0
C21: «Գյումրու պետական բժշկական քոլեջ» ՊՈԱԿ | D21: =+E21+F21+G21+H21 -> -32768.6 | F21: =+'Հավելված N 12'!I66+'Հավելված N 12'!I70+'Հավելված N 12'!I73 -> -32768.6
C22: «Արթիկի պետական քոլեջ» ՊՈԱԿ | D22: =+E22+F22+G22+H22 -> -229960.7 | F22: =+'Հավելված N 12'!I67+'Հավելված N 12'!I71+'Հավելված N 12'!I74 -> -229960.7
C23: ՀՀ Տավուշի մարզ | D23: =SUM(E23:H23) -> -259000 | E23: =+E24 -> 0 | F23: =+F24 -> -259000 | G23: =+G24 -> 0 | H23: =+H24 -> 0
C24: «Դիլիջանի բազմագործառութային պետական քոլեջ» ՊՈԱԿ | D24: =+E24+F24+G24+H24 -> -259000 | F24: =+'Հավելված N 12'!I68+'Հավելված N 12'!I72+'Հավելված N 12'!I75 -> -259000
A25: 1045 | B25: 32005 | C25: Մասնագիտական ուսումնական հաստատությունների շենքերի կառուցում | D25: =SUM(E25:H25) -> 136291.4 | E25: =+E27+E29+E31+E33 -> 143276.3 | F25: =+F27+F29+F31+F33 -> 0 | G25: =+G27+G29+G31+G33 -> -6984.9 | H25: =+H27+H29+H31+H33 -> 0
C26: այդ թվում`
C27: Երևան քաղաք | D27: =SUM(E27:H27) -> -131383.7 | E27: =+E28 -> -131383.7 | F27: =+F28 -> 0 | G27: =+G28 -> 0 | H27: =+H28 -> 0
C28: «Երևանի զարդարվեստի պետական արհեստագործական ուսումնարան» ՊՈԱԿ | D28: =+E28+F28+G28+H28 -> -131383.7 | E28: =+'Հավելված N 12'!I78+'Հավելված N 12'!I82+'Հավելված N 12'!I85 -> -131383.7
C29: ՀՀ Արմավիրի մարզ | D29: =SUM(E29:H29) -> -17984.9 | E29: =+E30 -> 0 | F29: =+F30 -> 0 | G29: =+G30 -> -17984.9 | H29: =+H30 -> 0
C30: «Արմավիրի տարածաշրջանային պետական քոլեջ» ՊՈԱԿ | D30: =+E30+F30+G30+H30 -> -17984.9 | G30: =+'Հավելված N 12'!I108 -> -17984.9
C31: ՀՀ Շիրակի մարզ | D31: =SUM(E31:H31) -> 173060 | E31: =+E32 -> 173060 | F31: =+F32 -> 0 | G31: =+G32 -> 0 | H31: =+H32 -> 0
C32: «Արթիկի պետական քոլեջ» ՊՈԱԿ | D32: =+E32+F32+G32+H32 -> 173060 | E32: =+'Հավելված N 12'!I79+'Հավելված N 12'!I83+'Հավելված N 12'!I86 -> 173060
C33: ՀՀ Տավուշի մարզ | D33: =SUM(E33:H33) -> 112600 | E33: =SUM(E34:E35) -> 101600 | F33: =SUM(F34:F35) -> 0 | G33: =SUM(G34:G35) -> 11000 | H33: =SUM(H34:H35) -> 0
C34: «Դիլիջանի բազմագործառութային պետական քոլեջ» ՊՈԱԿ | D34: =+E34+F34+G34+H34 -> 101600 | E34: =+'Հավելված N 12'!I80+'Հավելված N 12'!I84+'Հավելված N 12'!I87 -> 101600
C35: «Նոյեմբերյանի պետական քոլեջ» ՊՈԱԿ | D35: =+E35+F35+G35+H35 -> 11000 | G35: =+'Հավելված N 12'!I109 -> 11000
A36: 1075 | B36: 21001 | C36: Հուշարձանների ամրակայում, նորոգում և վերականգնում | D36: =SUM(E36:H36) -> -152172.5 | E36: =+E38+E53 -> 0 | F36: =+F38+F53 -> -22645.1 | G36: =+G38+G53 -> -129527.4 | H36: =+H38+H53 -> 0
C37: այդ թվում`
C38: 1. Վերականգնողական աշխատանքներ | D38: =SUM(E38:H38) -> -22645.1 | E38: =+E40+E42+E44+E47+E49+E51 -> 0 | F38: =+F40+F42+F44+F47+F49+F51 -> -22645.1 | G38: =+G40+G42+G44+G47+G49+G51 -> 0 | H38: =+H40+H42+H44+H47+H49+H51 -> 0
C39: որից`
C40: ՀՀ Արագածոտնի մարզ | D40: =SUM(E40:H40) -> -13 | E40: =+E41 -> 0 | F40: =+F41 -> -13 | G40: =+G41 -> 0 | H40: =+H41 -> 0
C41: Փարպի համայնքի 5-րդ դարի Ծիրանավոր եկեղեցու ամրակայում, վերականգնում և տարածքի բարեկարգում | D41: =+E41+F41+G41+H41 -> -13 | F41: =+'Հավելված N 12'!I39 -> -13
C42: ՀՀ Արարատի մարզ | D42: =SUM(E42:H42) -> -5000 | E42: =+E43 -> 0 | F42: =+F43 -> -5000 | G42: =+G43 -> 0 | H42: =+H43 -> 0
C43: Հավուց Թառ վանական համալիրի Սբ. Ամենափրկիչ եկեղեցու ամրակայում, նորոգում և վերականգնում | D43: =+E43+F43+G43+H43 -> -5000 | F43: =+'Հավելված N 12'!I28+'Հավելված N 12'!I40+'Հավելված N 12'!I46 -> -5000
...

Sheet Հավելված N 7
F1: Հավելված N 7
E2: ՀՀ կառավարության 2026 թվականի
F3: ______________ ի ___Ն որոշման
B6: ՀԱՅԱՍՏԱՆԻ ՀԱՆՐԱՊԵՏՈՒԹՅԱՆ ԿԱՌԱՎԱՐՈՒԹՅԱՆ 2025 ԹՎԱԿԱՆԻ ԴԵԿՏԵՄԲԵՐԻ 25-Ի N 1910-Ն ՈՐՈՇՄԱՆ N 5 ՀԱՎԵԼՎԱԾԻ N 2 ԱՂՅՈՒՍԱԿՈՒՄ ԿԱՏԱՐՎՈՂ ՓՈՓՈԽՈՒԹՅՈՒՆՆԵՐԸ ԵՎ ԼՐԱՑՈՒՄՆԵՐԸ
G8: հազ. դրամներով
B9: Ծրագրային դասիչ | D9: Բյուջետային գլխավոր կարգադրիչների, ծրագրերի, միջոցառումների, միջոցառումները կատարող պետական մարմինների և ուղղությունների անվանումները | E9: Ցուցանիշների փոփոխությունը (ավելացումները նշված են դրական նշանով, իսկ նվազեցումները՝ փակագծերում)
B10: Ծրագիր | C10: Միջոցառում | E10: Առաջին կիսամյակ | F10: Ինն ամիս | G10: Տարի
D11: ՀՀ ԿՐԹՈՒԹՅԱՆ, ԳԻՏՈՒԹՅԱՆ, ՄՇԱԿՈՒՅԹԻ ԵՎ ՍՊՈՐՏԻ ՆԱԽԱՐԱՐՈՒԹՅՈՒՆ | E11: =+E13+E25+E41+E88+E94+E100+E106+E109+E112 -> 601350.1 | F11: =+F13+F25+F41+F88+F94+F100+F106+F109+F112 -> 529075.9 | G11: =+G13+G25+G41+G88+G94+G100+G106+G109+G112 -> -490703.1
D12: այդ թվում՝
B13: 1045 | C13: 32001 | D13: Մասնագիտական ուսումնական հաստատությունների շենքային պայմանների բարելավում | E13: =+E15 -> -208152.9 | F13: =+F15 -> -375041.1 | G13: =+G15 -> -521729.3
D14: այդ թվում` ըստ կատարողների
D15: ՀՀ կրթության, գիտության, մշակությի և սպորտի նախարարություն | E15: =+E17+E20+E23 -> -208152.9 | F15: =+F17+F20+F23 -> -375041.1 | G15: =+G17+G20+G23 -> -521729.3
D16: այդ թվում՝ ըստ ուղղությունների
D17: Երևան քաղաք | E17: =SUM(E18:E19) -> 0 | F17: =SUM(F18:F19) -> 0 | G17: =SUM(G18:G19) -> 0
D18: =+'Հավելված N 6'!C18 -> «Երևանի հ․8 արհեստագործական պետական ուսումնարան» ՊՈԱԿ | E18: -55597.6 | F18: =+G18 -> -111195.1 | G18: =+'Հավելված N 6'!D18 -> -111195.1
D19: =+'Հավելված N 6'!C19 -> Երևանի հ․8 արհեստագործական պետական ուսումնարան (իրավահաջորդը՝ «Երևանի արհեստի պետական քոլեջ» ՊՈԱԿ) | E19: 55597.6 | F19: =+G19 -> 111195.1 | G19: =+'Հավելված N 6'!D19 -> 111195.1
D20: ՀՀ Շիրակի մարզ | E20: =SUM(E21:E22) -> -130902.9 | F20: =SUM(F21:F22) -> -193741.1 | G20: =SUM(G21:G22) -> -262729.3
D21: =+'Հավելված N 6'!C21 -> «Գյումրու պետական բժշկական քոլեջ» ՊՈԱԿ | E21: =-62318.1 -> -62318.1 | F21: =+G21 -> -32768.6 | G21: =+'Հավելված N 6'!D21 -> -32768.6
D22: =+'Հավելված N 6'!C22 -> «Արթիկի պետական քոլեջ» ՊՈԱԿ | E22: -68584.8 | F22: -160972.5 | G22: =+'Հավելված N 6'!D22 -> -229960.7
D23: ՀՀ Տավուշի մարզ | E23: =+E24 -> -77250 | F23: =+F24 -> -181300 | G23: =+G24 -> -259000
D24: =+'Հավելված N 6'!C24 -> «Դիլիջանի բազմագործառութային պետական քոլեջ» ՊՈԱԿ | E24: -77250 | F24: -181300 | G24: =+'Հավելված N 6'!D24 -> -259000
B25: 1045 | C25: 32005 | D25: Մասնագիտական ուսումնական հաստատությունների շենքերի կառուցում | E25: =+E27+E35 -> -58446.6 | F25: =+F27+F35 -> -22098.2 | G25: =+G27+G35 -> 136291.4
D26: այդ թվում` ըստ կատարողների
D27: ՀՀ կրթության, գիտության, մշակությի և սպորտի նախարարություն | E27: =+E29+E31+E33 -> -58446.6 | F27: =+F29+F31+F33 -> -33098.2 | G27: =+G29+G31+G33 -> 143276.3
D28: այդ թվում՝ ըստ ուղղությունների
D29: Երևան քաղաք | E29: =+E30 -> -58446.6 | F29: =+F30 -> -137170 | G29: =+G30 -> -131383.7
D30: =+'Հավելված N 6'!C28 -> «Երևանի զարդարվեստի պետական արհեստագործական ուսումնարան» ՊՈԱԿ | E30: -58446.6 | F30: -137170 | G30: =+'Հավելված N 6'!D28 -> -131383.7
D31: ՀՀ Շիրակի մարզ | E31: =+E32 -> 0 | F31: =+F32 -> 104071.8 | G31: =+G32 -> 173060
D32: =+'Հավելված N 6'!C32 -> «Արթիկի պետական քոլեջ» ՊՈԱԿ | E32: 0 | F32: =100998.6+2467.2+606 -> 104071.8 | G32: =+'Հավելված N 6'!D32 -> 173060
D33: ՀՀ Տավուշի մարզ | E33: =+E34 -> 0 | F33: =+F34 -> 0 | G33: =+G34 -> 101600
D34: =+'Հավելված N 6'!C34 -> «Դիլիջանի բազմագործառութային պետական քոլեջ» ՊՈԱԿ | E34: 0 | F34: 0 | G34: =+'Հավելված N 6'!D34 -> 101600
D35: ՀՀ քաղաքաշինության կոմիտե | E35: =+E37+E39 -> 0 | F35: =+F37+F39 -> 11000 | G35: =+G37+G39 -> -6984.9
D36: այդ թվում՝ ըստ ուղղությունների
D37: ՀՀ Արմավիրի մարզ | E37: =+E38 -> 0 | F37: =+F38 -> 0 | G37: =+G38 -> -17984.9
D38: =+'Հավելված N 6'!C30 -> «Արմավիրի տարածաշրջանային պետական քոլեջ» ՊՈԱԿ | E38: 0 | F38: 0 | G38: =+'Հավելված N 6'!D30 -> -17984.9
D39: ՀՀ Տավուշի մարզ | E39: =+E40 -> 0 | F39: =+F40 -> 11000 | G39: =+G40 -> 11000
D40: =+'Հավելված N 6'!C35 -> «Նոյեմբերյանի պետական քոլեջ» ՊՈԱԿ | E40: 0 | F40: =+G40 -> 11000 | G40: =+'Հավելված N 6'!D35 -> 11000
B41: 1075 | C41: 21001 | D41: Հուշարձանների ամրակայում, նորոգում և վերականգնում | E41: =+E43 -> -117980.9 | F41: =+F43 -> -131313.7 | G41: =+G43 -> -152172.5
D42: այդ թվում` ըստ կատարողների
D43: ՀՀ կրթության, գիտության, մշակությի և սպորտի նախարարություն | E43: =+E45+E60 -> -117980.9 | F43: =+F45+F60 -> -131313.7 | G43: =+G45+G60 -> -152172.5
...

Sheet Հավելված N 8
F1: Հավելված 8
F2: ՀՀ կառավարության 2026 թվականի
F3: ______________ ի ___Ն որոշման
A6: ՀԱՅԱՍՏԱՆԻ ՀԱՆՐԱՊԵՏՈՒԹՅԱՆ ԿԱՌԱՎԱՐՈՒԹՅԱՆ 2025 ԹՎԱԿԱՆԻ ԴԵԿՏԵՄԲԵՐԻ 25-Ի N 1910-Ն ՈՐՈՇՄԱՆ N 5 ՀԱՎԵԼՎԱԾԻ N 7 ԱՂՅՈՒՍԱԿՈՒՄ ԿԱՏԱՐՎՈՂ ԼՐԱՑՈՒՄՆԵՐԸ
A7: հազար դրամներով
A8: Ծրագրային դասիչը | D8: Բյուջետային հատկացումների գլխավոր կարգադրիչների, ծրագրերի, միջոցառումների և միջոցառումները կատարող պետական մարմինների անվանումները | F8: Միջոցառումները կատարող պետական մարմինների և դրամաշնորհ ստացող տնտեսվարող սուբյեկտների անվանումները | G8: Ցուցանիշների փոփոխությունը (ավելացումները նշված են դրական նշանով)
A9: Ծրագիր | B9: Միջոցառում | G9: Տարի
A10: ՀՀ կրթության, գիտության, մշակույթի և սպորտի նախարարություն | G10: =+G11+G15+G39 -> 417932.8
A11: 1111 | B11: Բարձրագույն և հետբուհական մասնագիտական կրթության ծրագիր | G11: =+G12 -> 190409.3
B12: 32001 | C12: Բարձրագույն ուսումնական հաստատությունների և «Զեյթուն» ուսանողական ավան» հիմնադրամի շենքային պայմանների բարելավում | F12: ՀՀ կրթության, գիտության, մշակույթի և սպորտի նախարարություն | G12: =+G14 -> 190409.3
D13: այդ թվում՝ ըստ ուղղությունների և միջոցառումների անվանումների
E14: Գեղարվեստի պետական ակադեմիային ամրացված շենքի էլեկտրամատակարարման համակարգի նորոգում և պատուհանների փոխարինում | F14: «Հայաստանի գեղարվեստի պետական ակադեմիա» հիմնադրամ | G14: =124225.4+66183.9 -> 190409.3
A15: 1075 | B15: Մշակութային ժառանգության ծրագիր | G15: =+G16+G28+G33+G36 -> 221427.9
B16: 21001 | C16: Հուշարձանների ամրակայում, նորոգում և վերականգնում | F16: ՀՀ կրթության, գիտության, մշակույթի և սպորտի նախարարություն | G16: =+G18 -> 128103.3
D17: այդ թվում՝ ըստ ուղղությունների և միջոցառումների անվանումների
E18: Վավերագրման և ուսումնասիրման աշխատանքներ, (այդ թվում՝ հետախուզումև պեղում), գիտանախագծային փաստաթղթերի կազմում և փորձաքննում | G18: =SUM(G19:G27) -> 128103.3
E19: Օհանավան գյուղի ժայռափոր համալիրի պեղման, մաքրման աշխատանքներ, քարայրների ամրակայման, տարածքի բարեկարգման գիտանախագծային փաստաթղթեր | F19: «Պատմամշակութային ժառանգության գիտահետազոտական կենտրոն» ՊՈԱԿ | G19: =+ROUND(10000*1.2,1) -> 12000
E20: Դսեղ համայնքի Բարձրաքաշի Սբ Գրիգոր վանական համալիրի ինժեներաերկրաբանական հետազոտություն | F20: «Պատմամշակութային ժառանգության գիտահետազոտական կենտրոն» ՊՈԱԿ | G20: =+ROUND(10000*1.2,1) -> 12000
E21: Երերույքի տաճարի հարակից քարայրների պեղման-մաքրման աշխատանքներ, քարայրների ամրակայման, տարածքի բարեկարգման գիտանախագծային փաստաթղթեր | F21: «Պատմամշակութային ժառանգության գիտահետազոտական կենտրոն» ՊՈԱԿ | G21: =+ROUND(15000*1.2,1) -> 18000
E22: Երիցվանքի հնագիտական պեղումներ, համալիրի նորոգման, ամրակայման, վերականգնման և տարածքի բարեկարգման գիտանախագծային փաստաթղթեր | F22: «Պատմամշակութային արգելոց թանգարանների և պատմական միջավայրի պահպանության ծառայություն» ՊՈԱԿ | G22: =+ROUND(18763*1.2,1) -> 22515.6
E23: Ագարակ քաղաքի Սբ. Աստվածածին եկեղեցու տարածքի պեղումներ | F23: «Պատմամշակութային արգելոց թանգարանների և պատմական միջավայրի պահպանության ծառայություն» ՊՈԱԿ | G23: =+ROUND(4989.75*1.2,1) -> 5987.7
E24: Թալինի քարավանատան տարածքի պեղումներ | F24: «Պատմամշակութային ժառանգության գիտահետազոտական կենտրոն» ՊՈԱԿ | G24: =+ROUND(8000*1.2,1) -> 9600
E25: Տիրինկատարի հնավայրի հնագիտական պեղումներ | F25: ՀՀ ԳԱԱ «Հնագիտության և ազգագրության ինստիտուտ» ՊՈԱԿ | G25: 15000
E26: Լոռի Բերդի հնագիտական պեղումներ | F26: «Պատմամշակութային ժառանգության գիտահետազոտական կենտրոն» ՊՈԱԿ | G26: =+ROUND(15000*1.2,1) -> 18000
E27: Շատիվանք վանական համալիրի հնագիտական պեղումներ | F27: ՀՀ ԳԱԱ «Հնագիտության և ազգագրության ինստիտուտ» ՊՈԱԿ | G27: 15000
B28: 32001 | C28: Ներդրումներ թանգարանների և պատկերասրահների հիմնանորոգման համար | F28: ՀՀ կրթության, գիտության, մշակույթի և սպորտի նախարարություն | G28: =SUM(G30:G32) -> 53674.6
D29: այդ թվում՝ ըստ ուղղությունների և միջոցառումների անվանումների
E30: Հայաստանի ազգային պատկերասրահի 2-րդ հարկի հուշանվերների խանութ-սրճարան-գրադարանի դիզայնավորում և կահավորում | F30: «Մշակույթի զարգացման» հիմնադրամ | G30: 12840
E31: Հայաստանի պատմության թանգարանի խանութ-սրճարանի դիզայնավորում և կահավորում | F31: «Մշակույթի զարգացման» հիմնադրամ | G31: 24634.4
E32: Հայաստանի պատմության թանգարանի 1-ին հարկի սանհանգույցի վերակառուցում և վերաձևավորում | F32: «Մշակույթի զարգացման» հիմնադրամ | G32: 16200.2
B33: 32008 | C33: Թանգարանների և պատկերասրահների գույքային և տեխնիկական հագեցվածության բարելավում | F33: ՀՀ կրթության, գիտության, մշակույթի և սպորտի նախարարություն | G33: =+G35 -> 29650
D34: այդ թվում՝ ըստ ուղղությունների և միջոցառումների անվանումների
E35: Հուշարձանների տարածքում տեղադրվելիք տեղեկատվական եռալեզու վահանակների (ցուցանակների) ձեռքբերում | F35: «Պատմամշակութային արգելոց թանգարանների և պատմական միջավայրի պահպանության ծառայություն» ՊՈԱԿ | G35: 29650
B36: 32009 | C36: Պատմամշակութային ժառանգության ոլորտի կազմակերպությունների գույքային ապահովվածության բարելավում | F36: ՀՀ կրթության, գիտության, մշակույթի և սպորտի նախարարություն | G36: =+G38 -> 10000
D37: այդ թվում՝ ըստ ուղղությունների և միջոցառումների անվանումների
E38: Ամենագնաց մեքենայի ձեռքբերում | F38: «Պատմամշակութային ժառանգության գիտահետազոտական կենտրոն» ՊՈԱԿ | G38: 10000
A39: 1168 | B39: Արվեստների ծրագիր | G39: =+G40 -> 6095.6
B40: 32007 | C40: Թատերահամերգային կազմակերպությունների նյութատեխնիկական բազայի համալրում | F40: ՀՀ կրթության, գիտության, մշակույթի և սպորտի նախարարություն | G40: =+G42 -> 6095.6
D41: այդ թվում՝ ըստ ուղղությունների և միջոցառումների անվանումների
E42: Մարդատար վերելակների ձեռքբերմ | F42: «Սոս Սարգսյանի անվան hամազգային թատրոն» ՊՈԱԿ | G42: =+ROUND(15.239*400,1) -> 6095.6

Sheet Հավելված N 9
C1: Հավելված N 9
C2: ՀՀ կառավարության 2026 թվականի
C3: ______________ ի ___Ն որոշման
A6: ՀԱՅԱՍՏԱՆԻ ՀԱՆՐԱՊԵՏՈՒԹՅԱՆ ԿԱՌԱՎԱՐՈՒԹՅԱՆ 2025 ԹՎԱԿԱՆԻ ԴԵԿՏԵՄԲԵՐԻ 25-Ի N 1910-Ն ՈՐՈՇՄԱՆ N 6 ՀԱՎԵԼՎԱԾՈՒՄ ԿԱՏԱՐՎՈՂ ԼՐԱՑՈՒՄԸ
G8: հազ. դրամներով
A9: NN ը/կ | B9: Եկամտատեսակը | D9: Գանձման համար պատասխանատու պետական կառավարման մարմինը (մարմինները) | E9: Ցուցանիշների փոփոխությունը (ավելացումները նշված են դրական նշանով)
E10: Առաջին կիսամյակ | F10: Ինն ամիս | G10: Տարի
A11: Այլ եկամուտներ, ընդամենը՝ | E11: =+E13 -> 0 | F11: =+F13 -> 32487.4 | G11: =+G13 -> 32487.4
B12: այդ թվում՝
A13: 6 | B13: Օրենքով և այլ իրավական ակտերով սահմանված պետական բյուջե մուտքագրվող այլ եկամուտներ | E13: =+E14 -> 0 | F13: =+F14 -> 32487.4 | G13: =+G14 -> 32487.4
A14: 6.8 | B14: Նախորդ տարիների՝ ՀՀ պետական բյուջեից ծախսերի ֆինանսավորման նպատակով հատկացված գումարների (բացառությամբ փոխառու միջոցների) վերադարձից մուտքեր | D14: ՀՀ պետական կառավարման մարմիններ | E14: =+'Հավելված N 7'!E147 -> 0 | F14: =+'Հավելված N 7'!F147 -> 32487.4 | G14: =+'Հավելված N 7'!G147 -> 32487.4

Sheet Հավելված N 10
J1: Հավելված N 10
J2: ՀՀ կառավարության 2026 թվականի
J3: ______________ ի ___Ն որոշման
A6: ՀԱՅԱՍՏԱՆԻ ՀԱՆՐԱՊԵՏՈՒԹՅԱՆ ԿԱՌԱՎԱՐՈՒԹՅԱՆ 2025 ԹՎԱԿԱՆԻ ԴԵԿՏԵՄԲԵՐԻ 25-Ի N 1910-Ն ՈՐՈՇՄԱՆ N 9 ՀԱՎԵԼՎԱԾՈՒՄ ԿԱՏԱՐՎՈՂ ՓՈՓՈԽՈՒԹՅՈՒՆՆԵՐԸ ԵՎ ԼՐԱՑՈՒՄՆԵՐԸ
K8: հազար դրամներոով
A9: ԲԳԿ | B9: Ծրագիր | D9: Միջոցառում | H9: Իրականացնողը/ ակտիվն օգտագործողը/ շահառուի ընտրության չափորոշիչը | I9: Արդյունքային չափորոշիչը | J9: Ցուցանիշների փոփոխությունը (ավելացումները նշված են դրական նշանով, իսկ նվազեցումները՝ փակագծերում)
B10: Դասիչը | C10: Անվանումը | D10: Դասիչը | E10: Անվանումը | F10: Նկարագրությունը | G10: Տեսակը | J10: Առաջին կիսամյակ | K10: Ինն ամիս | L10: Տարի
A11: ԸՆԴԱՄԵՆԸ | J11: =+J13+J94 -> 1124540.6 | K11: =+K13+K94 -> 1052266.4 | L11: =+L13+L94 -> 32487.4
A12: այդ թվում՝
A13: ՀՀ ԿՐԹՈՒԹՅԱՆ, ԳԻՏՈՒԹՅԱՆ, ՄՇԱԿՈԻՅԹԻ ԵՎ ՍՊՈՐՏԻ ՆԱԽԱՐԱՐՈՒԹՅՈՒՆ | J13: =+J14+J28+J49+J56+J62+J73+J79 -> 1124540.6 | K13: =+K14+K28+K49+K56+K62+K73+K79 -> 1052266.4 | L13: =+L14+L28+L49+L56+L62+L73+L79 -> 32487.4
B14: 1045 | C14: Մասնագիտական կրթության և ուսուցման ծրագիր | J14: =+J15+J21 -> -266599.5 | K14: =+K15+K21 -> -397139.3 | L14: =+L15+L21 -> -385437.9
D15: 1045 - 32001 | E15: Մասնագիտական ուսումնական հաստատությունների շենքային պայմանների բարելավում | J15: =+'Հավելված N 4'!G17 -> -208152.9 | K15: =+'Հավելված N 4'!H17 -> -375041.1 | L15: =+'Հավելված N 4'!I17 -> -521729.3
F16: Մասնագիտական ուսումնական հաստատությունների շենքերի հիմնանորոգման և նախագծման (շինարարական աշխատանքներ, ջեռուցման համակարգի ստեղծում, ներքին հարդարում, տարածքի բարեկարգում) աշխատանքների իրականացում
G17: Այլ պետական կազմակերպությունների կողմից օգտագործվող ոչ ֆինանսական ակտիվների հետ գործառնություններ
H18: Ակտիվն օգտագործող կազմակերպությունների անվանումները` Մասնագիտական ուսումնական հաստատություններ
I19: Հիմնանորոգվող մասնագիտական ուսումնական հաստատությունների քանակ, հատ | J19: -3 | L19: -3
I20: Մասնակի նորոգվող նախնական (արհեստագործական) և միջին մասնագիտական ուսումնական հաստատությունների քանակ, հատ | J20: 1 | L20: -1
D21: 1045 - 32005 | E21: Մասնագիտական ուսումնական հաստատությունների շենքերի կառուցում | J21: =+'Հավելված N 4'!G18 -> -58446.6 | K21: =+'Հավելված N 4'!H18 -> -22098.2 | L21: =+'Հավելված N 4'!I18 -> 136291.4
F22: Մասնագիտական ուսումնական հաստատությունների շենքերի (մասնաշենքերի) կառուցման և նախագծման աշխատանքների իրականացում
G23: Այլ պետական կազմակերպությունների կողմից օգտագործվող ոչ ֆինանսական ակտիվների հետ գործառնություններ
H24: Ակտիվն օգտագործող կազմակերպությունների անվանումները` Մասնագիտական ուսումնական հաստատություններ
I25: Կառուցվող մասնագիտական ուսումնական հաստատությունների քանակ, հատ | J25: -1 | L25: =2 -> 2
I26: Նախագծանախահաշվային փաստաթղթերի քանակ, հատ | L26: 1
B28: 1075 | C28: Մշակութային ժառանգության ծրագիր | J28: =+J29+J33+J38+J43 -> 108574.2 | K28: =+K29+K33+K38+K43 -> 115032.4 | L28: =+L29+L33+L38+L43 -> 94173.6
D29: 1075 - 21001 | E29: Հուշարձանների ամրակայում, նորոգում և վերականգնում | J29: =+'Հավելված N 4'!G20 -> 10122.4 | K29: =+'Հավելված N 4'!H20 -> -3210.4 | L29: =+'Հավելված N 4'!I20 -> -24069.2
F30: Հուշարձանների գիտանախագծային փաստաթղթերի կազմում, հրատապ ուսումնասիրում, վավերագրման և ուսումնասիրման աշխատանքներ, հետախուզում և հնագիտական պեղում, ամրակայում, նորոգում և վերականգնում
G31: Հանրության կողմից անմիջականորեն օգտագործվող ակտիվների հետ կապված միջոցառումներ
H32: Ծառայությունը մատուցող կազմակերպության անվանումը` Մասնագիտացված կազմակերպություններ
D33: 1075 - 32001 | E33: Ներդրումներ թանգարանների և պատկերասրահների հիմնանորոգման համար | J33: =+'Հավելված N 4'!G21 -> 53674.6 | K33: =+'Հավելված N 4'!H21 -> 73465.6 | L33: =+'Հավելված N 4'!I21 -> 73465.6
F34: Թանգարանների և պատկերասրահների շենքերի, մասնաշենքերի հիմնանորոգում, համաշինարարական աշխատանքներ, ջեռուցման համակարգի իրականացում, ներքին հարդարում, տարածքի բարեկարգում և նախագծում
G35: Այլ պետական կազմակերպությունների կողմից օգտագործվող ոչ ֆինանսական ակտիվների հետ գործառնություններ
H36: Ակտիվն օգտագործող կազմակերպության անվանումը` Թանգարաններ և պատկերասրահներ
I37: Հիմնանորոգվող թանգարաններ և պատկերասրահներ քանակ, հատ | J37: 3 | L37: 3
D38: 1075 - 32008 | E38: Թանգարանների և պատկերասրահների գույքային և տեխնիկական հագեցվածության բարելավում | J38: =+'Հավելված N 4'!G22 -> 34777.2 | K38: =+'Հավելված N 4'!H22 -> 34777.2 | L38: =+'Հավելված N 4'!I22 -> 34777.2
F39: Թանգարանների և պատկերասրահների համար անհրաժեշտ գույքի, տեխնիկայի և սարքավորումների ձեռքբերում
G40: Այլ պետական կազմակերպությունների կողմից օգտագործվող ոչ ֆինանսական ակտիվների հետ գործառնություններ
H41: Ակտիվն օգտագործող կազմակերպության անվանումը` Թանգարաններ և պատկերասրահներ
I42: Կազմակերպությունների թիվը, որտեղ կատարվում են ներդրումները | J42: 2 | L42: 2
D43: 1075 - 32009 | E43: Պատմամշակութային ժառանգության ոլորտի կազմակերպությունների գույքային ապահովվածության բարելավում | J43: =+'Հավելված N 4'!G23 -> 10000 | K43: =+'Հավելված N 4'!H23 -> 10000 | L43: =+'Հավելված N 4'!I23 -> 10000
F44: Պատմամշակութային ժառանգության ոլորտի կազմակերպությունների գույքով և տեխնիկայով ապահովում
...

Sheet Հավելված N 11
J1: Հավելված N 11
J2: ՀՀ կառավարության 2026 թվականի
J3: ______________ ի ___Ն որոշման
A6: ՀԱՅԱՍՏԱՆԻ ՀԱՆՐԱՊԵՏՈՒԹՅԱՆ ԿԱՌԱՎԱՐՈՒԹՅԱՆ 2025 ԹՎԱԿԱՆԻ ԴԵԿՏԵՄԲԵՐԻ 25-Ի N 1910-Ն ՈՐՈՇՄԱՆ N 9.1 ՀԱՎԵԼՎԱԾՈՒՄ ԿԱՏԱՐՎՈՂ ՓՈՓՈԽՈՒԹՅՈՒՆՆԵՐԸ ԵՎ ԼՐԱՑՈՒՄՆԵՐԸ
K8: հազար դրամներոով
A9: ԲՍԿ | B9: Ծրագիր | D9: Միջոցառում | H9: Իրականացնողը/ ակտիվն օգտագործողը/ շահառուի ընտրության չափորոշիչը | I9: Արդյունքային չափորոշիչը | J9: Ցուցանիշների փոփոխությունը (ավելացումները նշված են դրական նշանով, իսկ նվազեցումները՝ փակագծերում)
B10: Դասիչը | C10: Անվանումը | D10: Դասիչը | E10: Անվանումը | F10: Նկարագրությունը | G10: Տեսակը | J10: Առաջին կիսամյակ | K10: Ինն ամիս | L10: Տարի
A11: ԸՆԴԱՄԵՆԸ | J11: =+J13+J83+J103+J118+J126+J134+J143 -> 1124540.6 | K11: =+K13+K83+K103+K118+K126+K134+K143 -> 1052266.4 | L11: =+L13+L83+L103+L118+L126+L134+L143 -> 32487.4
A12: այդ թվում՝
A13: ՀՀ ԿՐԹՈՒԹՅԱՆ, ԳԻՏՈՒԹՅԱՆ, ՄՇԱԿՈԻՅԹԻ ԵՎ ՍՊՈՐՏԻ ՆԱԽԱՐԱՐՈՒԹՅՈՒՆ | J13: =+J14+J27+J48+J55+J61+J72+J77 -> 1083931 | K13: =+K14+K27+K48+K55+K61+K72+K77 -> 948378.4 | L13: =+L14+L27+L48+L55+L61+L72+L77 -> -17933.5
B14: 1045 | C14: Մասնագիտական կրթության և ուսուցման ծրագիր | J14: =+J15+J21 -> -266599.5 | K14: =+K15+K21 -> -408139.3 | L14: =+L15+L21 -> -378453
D15: 1045 - 32001 | E15: Մասնագիտական ուսումնական հաստատությունների շենքային պայմանների բարելավում | J15: =+'Հավելված N 5'!G214 -> -208152.9 | K15: =+'Հավելված N 5'!H214 -> -375041.1 | L15: =+'Հավելված N 5'!I214 -> -521729.3
F16: Մասնագիտական ուսումնական հաստատությունների շենքերի հիմնանորոգման և նախագծման (շինարարական աշխատանքներ, ջեռուցման համակարգի ստեղծում, ներքին հարդարում, տարածքի բարեկարգում) աշխատանքների իրականացում
G17: Այլ պետական կազմակերպությունների կողմից օգտագործվող ոչ ֆինանսական ակտիվների հետ գործառնություններ
H18: Ակտիվն օգտագործող կազմակերպությունների անվանումները` Մասնագիտական ուսումնական հաստատություններ
I19: Հիմնանորոգվող մասնագիտական ուսումնական հաստատությունների քանակ, հատ | J19: -3 | L19: -3
I20: Մասնակի նորոգվող նախնական (արհեստագործական) և միջին մասնագիտական ուսումնական հաստատությունների քանակ, հատ | J20: 1 | L20: -1
D21: 1045 - 32005 | E21: Մասնագիտական ուսումնական հաստատությունների շենքերի կառուցում | J21: =+'Հավելված N 5'!G223 -> -58446.6 | K21: =+'Հավելված N 5'!H223 -> -33098.2 | L21: =+'Հավելված N 5'!I223 -> 143276.3
F22: Մասնագիտական ուսումնական հաստատությունների շենքերի (մասնաշենքերի) կառուցման և նախագծման աշխատանքների իրականացում
G23: Այլ պետական կազմակերպությունների կողմից օգտագործվող ոչ ֆինանսական ակտիվների հետ գործառնություններ
H24: Ակտիվն օգտագործող կազմակերպությունների անվանումները` Մասնագիտական ուսումնական հաստատություններ
I25: Կառուցվող մասնագիտական ուսումնական հաստատությունների քանակ, հատ | J25: -1 | L25: =2-1 -> 1
B27: 1075 | C27: Մշակութային ժառանգության ծրագիր | J27: =+J28+J32+J37+J42 -> 103447 | K27: =+K28+K32+K37+K42 -> 90114.2 | L27: =+L28+L32+L37+L42 -> 69255.4
D28: 1075 - 21001 | E28: Հուշարձանների ամրակայում, նորոգում և վերականգնում | J28: =+'Հավելված N 5'!G120 -> 10122.4 | K28: =+'Հավելված N 5'!H120 -> -3210.4 | L28: =+'Հավելված N 5'!I120 -> -24069.2
F29: Հուշարձանների գիտանախագծային փաստաթղթերի կազմում, հրատապ ուսումնասիրում, վավերագրման և ուսումնասիրման աշխատանքներ, հետախուզում և հնագիտական պեղում, ամրակայում, նորոգում և վերականգնում
G30: Հանրության կողմից անմիջականորեն օգտագործվող ակտիվների հետ կապված միջոցառումներ
H31: Ծառայությունը մատուցող կազմակերպության անվանումը` Մասնագիտացված կազմակերպություններ
D32: 1075 - 32001 | E32: Ներդրումներ թանգարանների և պատկերասրահների հիմնանորոգման համար | J32: =+'Հավելված N 5'!G28 -> 53674.6 | K32: =+'Հավելված N 5'!H28 -> 53674.6 | L32: =+'Հավելված N 5'!I28 -> 53674.6
F33: Թանգարանների և պատկերասրահների շենքերի, մասնաշենքերի հիմնանորոգում, համաշինարարական աշխատանքներ, ջեռուցման համակարգի իրականացում, ներքին հարդարում, տարածքի բարեկարգում և նախագծում
G34: Այլ պետական կազմակերպությունների կողմից օգտագործվող ոչ ֆինանսական ակտիվների հետ գործառնություններ
H35: Ակտիվն օգտագործող կազմակերպության անվանումը` Թանգարաններ և պատկերասրահներ
I36: Հիմնանորոգվող թանգարաններ և պատկերասրահներ քանակ, հատ | J36: 2 | L36: 2
D37: 1075 - 32008 | E37: Թանգարանների և պատկերասրահների գույքային և տեխնիկական հագեցվածության բարելավում | J37: =+'Հավելված N 5'!G44 -> 29650 | K37: =+'Հավելված N 5'!H44 -> 29650 | L37: =+'Հավելված N 5'!I44 -> 29650
F38: Թանգարանների և պատկերասրահների համար անհրաժեշտ գույքի, տեխնիկայի և սարքավորումների ձեռքբերում
G39: Այլ պետական կազմակերպությունների կողմից օգտագործվող ոչ ֆինանսական ակտիվների հետ գործառնություններ
H40: Ակտիվն օգտագործող կազմակերպության անվանումը` Թանգարաններ և պատկերասրահներ
I41: Կազմակերպությունների թիվը, որտեղ կատարվում են ներդրումները | J41: 1 | L41: 1
D42: 1075 - 32009 | E42: Պատմամշակութային ժառանգության ոլորտի կազմակերպությունների գույքային ապահովվածության բարելավում | J42: =+'Հավելված N 5'!G81 -> 10000 | K42: =+'Հավելված N 5'!H81 -> 10000 | L42: =+'Հավելված N 5'!I81 -> 10000
F43: Պատմամշակութային ժառանգության ոլորտի կազմակերպությունների գույքով և տեխնիկայով ապահովում
G44: Այլ պետական կազմակերպությունների կողմից օգտագործվող ոչ ֆինանսական ակտիվների հետ գործառնություններ
...

Sheet Հավելված N 12
H1: Հավելված N 12
H2: ՀՀ կառավարության 2026 թվականի
H3: ______________ ի ___Ն որոշման
A6: ՀԱՅԱՍՏԱՆԻ ՀԱՆՐԱՊԵՏՈՒԹՅԱՆ ԿԱՌԱՎԱՐՈՒԹՅԱՆ 2025 ԹՎԱԿԱՆԻ ԴԵԿՏԵՄԲԵՐԻ 25-Ի N 1910-Ն N 10 ՀԱՎԵԼՎԱԾՈՒՄ ԿԱՏԱՐՎՈՂ ՓՈՓՈԽՈՒԹՅՈՒՆՆԵՐԸ ԵՎ ԼՐԱՑՈՒՄՆԵՐԸ
A10: Կոդը | B10: Անվանումը | E10: Գնման ձևը | F10: Չափման միավորը | G10: Միավորի գինը | H10: Ցուցանիշների փոփոխությունը (ավելացումները նշված են դրական նշանով, իսկ նվազեցումները՝ փակագծերում)
H11: Քանակը | I11: Գումարը (հազար դրամ)
A12: 1 | B12: 2 | E12: 3 | F12: 4 | G12: 5 | H12: 6 | I12: 7
A13: ՀՀ կրթության, գիտության, մշակույթի և սպորտի նախարարություն | I13: =+I14+I21+I25+I63 -> -536532.6
A14: Բաժին N 08 | B14: Խումբ N 02 | C14: Դաս N 03 | D14: Մշակույթի տներ, ակումբներ, կենտրոններ | I14: =+I15 -> -8319.4
A15: 1196-12002 | B15: Համայնքային մշակութային-ժամանցային կենտրոնի ստեղծում | I15: =+I16+I18 -> -8319.4
B16: ՄԱՍ II. ԱՇԽԱՏԱՆՔՆԵՐ | I16: =+I17 -> -8108.6
A17: 45611200-1 | B17: մշակութային օբյեկտների հիմնանորոգում | E17: ԲՄ | F17: դրամ | I17: -8108.6
B18: ՄԱՍ III. ԾԱՌԱՅՈՒԹՅՈՒՆՆԵՐ | I18: =SUM(I19:I20) -> -210.8
A19: 71351540-1 | B19: տեխնիկական հսկողության ծառայություններ | E19: ԳՀ | F19: դրամ | I19: -162.2
A20: 98111140-1 | B20: հեղինակային հսկողության ծառայություններ | E20: ՄԱ | F20: դրամ | I20: -48.6
A21: Բաժին N 08 | B21: Խումբ N 02 | C21: Դաս N 05 | D21: Արվեստ | I21: =+I22 -> 2412.3
A22: 1168-32001 | B22: Ներդրումներ թատրոնների և համերգային կազմակերպությունների շենքերի կապիտալ վերանորոգման համար | I22: =+I23 -> 2412.3
B23: ՄԱՍ II. ԱՇԽԱՏԱՆՔՆԵՐ | I23: =SUM(I24:I24) -> 2412.3
A24: 45611200 | B24: մշակութային օբյեկտների հիմնանորոգում | E24: ԲՄ | F24: դրամ | G24: 2412213 | H24: 1 | I24: =+ROUNDUP(G24*H24/1000,1) -> 2412.3 | J24: Արամ Խաչատրյան
A25: Բաժին N 08 | B25: Խումբ N 02 | C25: Դաս N 07 | D25: Հուշարձանների և մշակութային արժեքների վերականգնում և պահպանում | I25: =+I26 -> -152172.5
A26: 1075-21001 | B26: Հուշարձանների ամրակայում, նորոգում և վերականգնում | I26: =+I27+I38 -> -152172.5
B27: ՄԱՍ II. ԱՇԽԱՏԱՆՔՆԵՐ | I27: =SUM(I28:I37) -> -79283.6
A28: 45451600-3 | B28: վերականգնողական աշխատանքներ | E28: ԲՄ | F28: դրամ | I28: -4717 | J28: Հավուց Թառ
A29: 45451600-5 | B29: վերականգնողական աշխատանքներ | E29: ՀԲՄ | F29: դրամ | I29: 4140.8 | J29: Այգեշատ
A30: 45451600-18 | B30: վերականգնողական աշխատանքներ | E30: ԲՄ | F30: դրամ | I30: -7030.9 | J30: Տավուշ
A31: 45111410-4 | B31: հնէաբանական պեղումների վայրերում հողի փորման աշխատանքներ | E31: ԳՀ | F31: դրամ | G31: 5000000 | H31: -1 | I31: =+ROUNDDOWN(G31*H31/1000,1) -> -5000 | J31: Ագարակ
A32: 45111410-5 | B32: հնէաբանական պեղումների վայրերում հողի փորման աշխատանքներ | E32: ԳՀ | F32: դրամ | G32: 8000000 | H32: -1 | I32: =+ROUNDDOWN(G32*H32/1000,1) -> -8000 | J32: Թալին
A33: 45111410-2 | B33: հնէաբանական պեղումների վայրերում հողի փորման աշխատանքներ | E33: ԳՀ | F33: դրամ | G33: 15000000 | H33: -1 | I33: =+ROUNDDOWN(G33*H33/1000,1) -> -15000 | J33: Տիրինկատար
A34: 45111410-1 | B34: հնէաբանական պեղումների վայրերում հողի փորման աշխատանքներ | E34: ԳՀ | F34: դրամ | G34: 15000000 | H34: -1 | I34: =+ROUNDDOWN(G34*H34/1000,1) -> -15000 | J34: Լոռի Բերդ
A35: 45111410-3 | B35: հնէաբանական պեղումների վայրերում հողի փորման աշխատանքներ | E35: ԳՀ | F35: դրամ | G35: 15000000 | H35: -1 | I35: =+ROUNDDOWN(G35*H35/1000,1) -> -15000 | J35: Շատիվանք
A36: 45261168-1 | B36: որմնանկարների պահպանման աշխատանքներ | E36: ԳՀ | F36: դրամ | I36: -10628.3 | J36: Սիոն
A37: 45261168-2 | B37: որմնանկարների պահպանման աշխատանքներ | E37: ԳՀ | F37: դրամ | I37: -3048.2 | J37: Ապագա
B38: ՄԱՍ III. ԾԱՌԱՅՈՒԹՅՈՒՆՆԵՐ | I38: =SUM(I39:I62) -> -72888.9
A39: 71351540-1 | B39: տեխնիկական հսկողության ծառայություններ | E39: ԳՀ | F39: դրամ | I39: -13 | J39: Փարպի
A40: 71351540-3 | B40: տեխնիկական հսկողության ծառայություններ | E40: ԳՀ | F40: դրամ | I40: -94.3 | J40: Հավուց Թառ
A41: 71351540-4 | B41: տեխնիկական հսկողության ծառայություններ | E41: ԳՀ | F41: դրամ | I41: -47.1 | J41: Այգեշատ
A42: 71351540-17 | B42: տեխնիկական հսկողության ծառայություններ | E42: ԳՀ | F42: դրամ | I42: -6.6 | J42: Ապագա
A43: 71351540-8 | B43: տեխնիկական հսկողության ծառայություններ | E43: ԳՀ | F43: դրամ | I43: -457.4 | J43: Կրասար
A44: 71351540-10 | B44: տեխնիկական հսկողության ծառայություններ | E44: ԳՀ | F44: դրամ | I44: -28.9 | J44: Սիոն
A45: 71351540-15 | B45: տեխնիկական հսկողության ծառայություններ | E45: ԳՀ | F45: դրամ | I45: -105.5 | J45: Տավուշ
...

Sheet Հավելված N 13
F1: Հավելված N 13
I2: ՀՀ կառավարության 2026 թվականի
I3: ______________ ի ___Ն որոշման
A6: ՀԱՅԱՍՏԱՆԻ ՀԱՆՐԱՊԵՏՈՒԹՅԱՆ 2026 ԹՎԱԿԱՆԻ ՊԵՏԱԿԱՆ ԲՅՈՒՋԵՈՎ ՆԱԽԱՏԵՍՎԱԾ՝ ՀԱՅԱՍՏԱՆԻ ՀԱՆՐԱՊԵՏՈՒԹՅԱՆ ԿԱՌԱՎԱՐՈՒԹՅԱՆ ՊԱՀՈՒՍՏԱՅԻՆ ՖՈՆԴԻՑ ՀԱՏԿԱՑՈՒՄՆԵՐ ԿԱՏԱՐԵԼՈՒ ՎԵՐԱԲԵՐՅԱԼ
I8: հազ. դրամներով
A9: Գործառական դասիչը | D9: Ծրագրային դասիչը | F9: Բյուջետային հատկացումների գլխավոր կարգադրիչների, ծրագրերի, միջոցառումների և միջոցառումները կատարող պետական մարմինների անվանումները | G9: Ցուցանիշների փոփոխությունը (ավելացումները նշված են դրական նշանով, իսկ նվազեցումները` փակագծերում)
A10: Բաժին | B10: Խումբ | C10: Դաս | D10: Ծրագիր | E10: Միջոցառում | G10: Առաջին կիսամյակ | H10: Ինն ամիս | I10: Տարի
F11: ԸՆԴԱՄԵՆԸ | G11: =+G13+G33 -> 0 | H11: =+H13+H33 -> 0 | I11: =+I13+I33 -> 0
F12: այդ թվում
F13: ՀՀ ԿԱՌԱՎԱՐՈՒԹՅՈՒՆ | G13: =+G14 -> -110666.3 | H13: =+H14 -> -110666.3 | I13: =+I14 -> -110666.3
A14: 11 | F14: ՀԻՄՆԱԿԱՆ ԲԱԺԻՆՆԵՐԻՆ ՉԴԱՍՎՈՂ ՊԱՀՈՒՍՏԱՅԻՆ ՖՈՆԴԵՐ | G14: =+G16 -> -110666.3 | H14: =+H16 -> -110666.3 | I14: =+I16 -> -110666.3
F15: այդ թվում`
B16: 01 | F16: ՀՀ կառավարության և համայնքների պահուստային ֆոնդ | G16: =+G18 -> -110666.3 | H16: =+H18 -> -110666.3 | I16: =+I18 -> -110666.3
F17: այդ թվում`
C18: 01 | F18: ՀՀ կառավարության պահուստային ֆոնդ | G18: =+G20 -> -110666.3 | H18: =+H20 -> -110666.3 | I18: =+I20 -> -110666.3
F19: այդ թվում`
F20: ՀՀ կառավարություն | G20: =+G22 -> -110666.3 | H20: =+H22 -> -110666.3 | I20: =+I22 -> -110666.3
F21: այդ թվում`
D22: 1139 | E22: ՀՀ կառավարության պահուստային ֆոնդ | F22: ՀՀ կառավարության պահուստային ֆոնդ | G22: =+G24 -> -110666.3 | H22: =+H24 -> -110666.3 | I22: =+I24 -> -110666.3
F23: այդ թվում`
E24: 11001 | F24: ՀՀ կառավարության պահուստային ֆոնդ | G24: =+G26 -> -110666.3 | H24: =+H26 -> -110666.3 | I24: =+I26 -> -110666.3
F25: այդ թվում` ըստ կատարողների
F26: ՀՀ կառավարություն | G26: =+G28 -> -110666.3 | H26: =+H28 -> -110666.3 | I26: =+I28 -> -110666.3
F27: այդ թվում՝ բյուջետային ծախսերի տնտեսագիտական դասակարգման հոդվածներ
F28: ԸՆԴԱՄԵՆԸ ԾԱԽՍԵՐ | G28: =+G29 -> -110666.3 | H28: =+H29 -> -110666.3 | I28: =+I29 -> -110666.3
F29: ԸՆԹԱՑԻԿ ԾԱԽՍԵՐ | G29: =+G30 -> -110666.3 | H29: =+H30 -> -110666.3 | I29: =+I30 -> -110666.3
F30: ԱՅԼ ԾԱԽՍԵՐ | G30: =+G31 -> -110666.3 | H30: =+H31 -> -110666.3 | I30: =+I31 -> -110666.3
F31: - Պահուստային միջոցներ | G31: =+'Հավելված N 5'!G284 -> -110666.3 | H31: =+'Հավելված N 5'!H284 -> -110666.3 | I31: =+'Հավելված N 5'!I284 -> -110666.3
F33: ՀՀ ԿՐԹՈՒԹՅԱՆ, ԳԻՏՈՒԹՅԱՆ, ՄՇԱԿՈՒՅԹԻ ԵՎ ՍՊՈՐՏԻ ՆԱԽԱՐԱՐՈՒԹՅՈՒՆ | G33: =+G34+G53 -> 110666.3 | H33: =+H34+H53 -> 110666.3 | I33: =+I34+I53 -> 110666.3
A34: 08 | F34: ՀԱՆԳԻՍՏ, ՄՇԱԿՈՒՅԹ ԵՎ ԿՐՈՆ | G34: =+G36 -> 10000 | H34: =+H36 -> 10000 | I34: =+I36 -> 10000
F35: այդ թվում`
B36: 02 | F36: Մշակութային ծառայություններ | G36: =+G38 -> 10000 | H36: =+H38 -> 10000 | I36: =+I38 -> 10000
F37: այդ թվում`
C38: 04 | F38: Այլ մշակութային կազմակերպություններ | G38: =+G40 -> 10000 | H38: =+H40 -> 10000 | I38: =+I40 -> 10000
F39: այդ թվում`
F40: ՀՀ կրթության, գիտության, մշակույթի և սպորտի նախարարություն | G40: =+G42 -> 10000 | H40: =+H42 -> 10000 | I40: =+I42 -> 10000
F41: այդ թվում`
D42: 1075 | E42: Մշակութային ժառանգության ծրագիր | G42: =+G44 -> 10000 | H42: =+H44 -> 10000 | I42: =+I44 -> 10000
F43: այդ թվում`
E44: 32009 | F44: Պատմամշակութային ժառանգության ոլորտի կազմակերպությունների գույքային ապահովվածության բարելավում | G44: =+G46 -> 10000 | H44: =+H46 -> 10000 | I44: =+I46 -> 10000
...
