Workbook
Name a: #REF!
Name a: #REF!
Name a: #REF!
Name a: #REF!
Name a: #REF!
Name a: #REF!
Name a: #REF!
Name a: #REF!
Name a: #REF!
Name a: #REF!
Name AgencyCode: #REF!
Name AgencyCode: #REF!
Name AgencyCode: #REF!
Name AgencyCode: #REF!
Name AgencyCode: #REF!
Name AgencyCode: #REF!
Name AgencyCode: #REF!
Name AgencyCode: #REF!
Name AgencyCode: #REF!
Name AgencyCode: #REF!
Name AgencyName: #REF!
Name AgencyName: #REF!
Name AgencyName: #REF!
Name AgencyName: #REF!
Name AgencyName: #REF!
Name AgencyName: #REF!
Name AgencyName: #REF!
Name AgencyName: #REF!
Name AgencyName: #REF!
Name åû: #REF!
Name åû: #REF!
Name åû: #REF!
Name BOP: #REF!
Name BOPfoot: #REF!
Name davit: #REF!
Name davit: #REF!
Name davit: #REF!
Name davit: #REF!
Name davit: #REF!
Name davit: #REF!
Name davit: #REF!
Name davit: #REF!
Name DebtCG: #REF!
Name DebtGG: #REF!
Name Functional1: #REF!
Name Functional1: #REF!
Name Functional1: #REF!
Name Functional1: #REF!
Name Functional1: #REF!
Name Functional1: #REF!
Name Functional1: #REF!
Name Functional1: #REF!
Name Functional1: #REF!
Name ggg: #REF!
Name ggg: #REF!
Name ggg: #REF!
Name ggg: #REF!
Name ggg: #REF!
Name ggg: #REF!
Name ggg: #REF!

Sheet Հավելված N 1 
C1: Հավելված N 1
C2: ՀՀ կառավարության 2026 թվականի
C3: ______________ ի ___Ն որոշման
A5: «ՀԱՅԱՍՏԱՆԻ ՀԱՆՐԱՊԵՏՈՒԹՅԱՆ 2026 ԹՎԱԿԱՆԻ ՊԵՏԱԿԱՆ ԲՅՈՒՋԵԻ ՄԱՍԻՆ» ՀԱՅԱՍՏԱՆԻ ՀԱՆՐԱՊԵՏՈՒԹՅԱՆ ՕՐԵՆՔԻ 2-ՐԴ ՀՈԴՎԱԾԻ ԱՂՅՈՒՍԱԿԻ ՑՈՒՑԱՆԻՇՆԵՐՈՒՄ ԿԱՏԱՐՎՈՂ ՓՈՓՈԽՈՒԹՅՈՒՆՆԵՐԸ
D6: հազ. դրամներով
D7: Ցուցանիշների փոփոխությունը (ավելացումները նշված են դրական նշանով)
A8: Եկամուտների գծով | D8: =+'Հավելված N 2 '!F11 -> 32487.4
A9: Ծախսերի գծով | D9: =+'Հավելված N 4'!I13 -> 32487.4
A10: Դեֆիցիտը (պակասուրդը) | D10: =+D9-D8 -> 5.8207661e-11

Sheet Հավելված N 2 
C1: Հավելված N 2
C2: ՀՀ կառավարության 2026 թվականի
C3: ______________ ի ___Ն որոշման
A6: «ՀԱՅԱՍՏԱՆԻ ՀԱՆՐԱՊԵՏՈՒԹՅԱՆ 2026 ԹՎԱԿԱՆԻ ՊԵՏԱԿԱՆ ԲՅՈՒՋԵԻ ՄԱՍԻՆ» ՀԱՅԱՍՏԱՆԻ ՀԱՆՐԱՊԵՏՈՒԹՅԱՆ ՕՐԵՆՔԻ 6-ՐԴ ՀՈԴՎԱԾԻ ԱՂՅՈՒՍԱԿՈՒՄ ԵՎ ՀԱՅԱՍՏԱՆԻ ՀԱՆՐԱՊԵՏՈՒԹՅԱՆ ԿԱՌԱՎԱՐՈՒԹՅԱՆ 2025 ԹՎԱԿԱՆԻ ԴԵԿՏԵՄԲԵՐԻ 25-Ի N 1910-Ն ՈՐՈՇՄԱՆ N 2 ՀԱՎԵԼՎԱԾԻ ԱՂՅՈՒՍԱԿՈՒՄ ԿԱՏԱՐՎՈՂ ՓՈՓՈԽՈՒԹՅՈՒՆՆԵՐԸ
E8: հազ. դրամներով
A9: Եկամտատեսակ | D9: Ցուցանիշների փոփոխությունը (ավելացումները նշված են դրական նշանով)
D10: Առաջին կիսամյակ | E10: Ինն ամիս | F10: Տարի
A11: ՊԵՏԱԿԱՆ ԲՅՈՒՋԵԻ ԵԿԱՄՈՒՏՆԵՐ | D11: =+D12 -> 0 | E11: =+E12 -> 32487.4 | F11: =+F12 -> 32487.4
A12: Ընդամենը | D12: =+D14 -> 0 | E12: =+E14 -> 32487.4 | F12: =+F14 -> 32487.4
A13: այդ թվում՝
A14: Այլ եկամուտներ | D14: =+'Հավելված N 9'!E11 -> 0 | E14: =+'Հավելված N 9'!F11 -> 32487.4 | F14: =+'Հավելված N 9'!G11 -> 32487.4

Sheet Հավելված N 3
D1: Հավելված N 3
D2: ՀՀ կառավարության 2026 թվականի
D3: ______________ ի ___Ն որոշման
A5: «ՀԱՅԱՍՏԱՆԻ ՀԱՆՐԱՊԵՏՈՒԹՅԱՆ 2026 ԹՎԱԿԱՆԻ ՊԵՏԱԿԱՆ ԲՅՈՒՋԵԻ ՄԱՍԻՆ» ՕՐԵՆՔԻ 3-ՐԴ ՀՈԴՎԱԾԻ ԱՂՅՈՒՍԱԿՈՒՄ, N 3 ՀԱՎԵԼՎԱԾԻ N 1 ԱՂՅՈՒՍԱԿՈՒՄ ԵՎ ՀԱՅԱՍՏԱՆԻ ՀԱՆՐԱՊԵՏՈՒԹՅԱՆ ԿԱՌԱՎԱՐՈՒԹՅԱՆ 2025 ԹՎԱԿԱՆԻ ԴԵԿՏԵՄԲԵՐԻ 25-Ի N 1910-Ն ՈՐՈՇՄԱՆ N 1 ՀԱՎԵԼՎԱԾԻ N 1 ԱՂՅՈՒՍԱԿՈՒՄ ԿԱՏԱՐՎՈՂ ՓՈՓՈԽՈՒԹՅՈՒՆԸ
D7: հազ. դրամներով
A8: Պետական բյուջեի դեֆիցիտի ֆինանսավորման աղբյուրներն ու դրանց տարրերի անվանումները | B8: Ցուցանիշների փոփոխությունը (ավելացումները նշված են դրական նշանով)
B9: Առաջին կիսամյակ | C9: Ինն ամիս | D9: Տարի
A10: ԸՆԴԱՄԵՆԸ | B10: =+B12 -> 1124540.6 | C10: =+C12 -> 1019779 | D10: =+D12 -> 5.8207661e-11
A11: այդ թվում՝
A12: Ա.Ներքին աղբյուրներ-ընդամենը | B12: =+B14 -> 1124540.6 | C12: =+C14 -> 1019779 | D12: =+D14 -> 5.8207661e-11
A13: այդ թվում՝
A14: 2. Ֆինանսական զուտ ակտիվներ | B14: =+B16 -> 1124540.6 | C14: =+C16 -> 1019779 | D14: =+D16 -> 5.8207661e-11
A15: այդ թվում՝
A16: 2.6.Այլ | B16: =+B18 -> 1124540.6 | C16: =+C18 -> 1019779 | D16: =+D18 -> 5.8207661e-11
A17: որից՝
A18: Ժամանակավորապես ազատ միջոցներ | B18: =+'Հավելված N 4'!G13-'Հավելված N 9'!E11 -> 1124540.6 | C18: =+'Հավելված N 4'!H13-'Հավելված N 9'!F11 -> 1019779 | D18: =+'Հավելված N 4'!I13-'Հավելված N 9'!G11 -> 5.8207661e-11

Sheet Հավելված N 4
F1: Հավելված N 4
F2: ՀՀ կառավարության 2026 թվականի
F3: ______________ ի ___Ն որոշման
A6: «ՀԱՅԱUՏԱՆԻ ՀԱՆՐԱՊԵՏՈՒԹՅԱՆ 2026 ԹՎԱԿԱՆԻ ՊԵՏԱԿԱՆ ԲՅՈՒՋԵԻ ՄԱUԻՆ» ՀԱՅԱUՏԱՆԻ ՀԱՆՐԱՊԵՏՈՒԹՅԱՆ OՐԵՆՔԻ N 1 ՀԱՎԵԼՎԱԾԻ N 2 ԱՂՅՈՒՍԱԿՈՒՄ ԿԱՏԱՐՎՈՂ ՎԵՐԱԲԱՇԽՈՒՄԸ ԵՎ ՀԱՅԱՍՏԱՆԻ ՀԱՆՐԱՊԵՏՈՒԹՅԱՆ ԿԱՌԱՎԱՐՈՒԹՅԱՆ 2025 ԹՎԱԿԱՆԻ ԴԵԿՏԵՄԲԵՐԻ 25-Ի N 1910-Ն ՈՐՈՇՄԱՆ N 5 ՀԱՎԵԼՎԱԾԻ N 1 ԱՂՅՈՒՍԱԿՈՒՄ ԿԱՏԱՐՎՈՂ ՓՈՓՈԽՈՒԹՅՈՒՆՆԵՐԸ ԵՎ ԼՐԱՑՈՒՄՆԵՐԸ
I9: հազ. դրամներով
A10: ԲԳԿ | B10: Ծրագրային դասիչը | D10: ԲԳԿ/Ծրագրի /միջոցառման անվանումը | E10: Ծրագրի նպատակը/Միջոցառման նկարագրությունը | F10: Վերջնական արդյունքի նկարագրությունը/Միջոցառման տեսակը | G10: Ցուցանիշների փոփոխությունը (ավելացումները նշված են դրական նշանով, իսկ նվազեցումները փակագծերում)
G11: Առաջին կիսամյակ | H11: Ինն ամիս | I11: Տարի
B12: Ծրագիր | C12: Միջոցառում
A13: ԸՆԴԱՄԵՆԸ | G13: =+G15+G37 -> 1124540.6 | H13: =+H15+H37 -> 1052266.4 | I13: =+I15+I37 -> 32487.4
A14: այդ թվում՝
A15: ՀՀ ԿՐԹՈՒԹՅԱՆ, ԳԻՏՈՒԹՅԱՆ, ՄՇԱԿՈՒՅԹԻ ԵՎ ՍՊՈՐՏԻ ՆԱԽԱՐԱՐՈՒԹՅՈՒՆ | G15: =+G16+G19+G24+G26+G28+G31+G33 -> 1124540.6 | H15: =+H16+H19+H24+H26+H28+H31+H33 -> 1052266.4 | I15: =+I16+I19+I24+I26+I28+I31+I33 -> 32487.4
B16: 1045 | D16: Մասնագիտական կրթության և ուսուցման ծրագիր | E16: Աշխատաշուկայի արդի պահանջներին համապատասխան արհեստագործական և միջին մասնագիտական կրթության որակավորում ունեցող մասնագետների պատրաստում, կրթության մատչելիության ապահովում: | F16: Արհեստագործական և միջին մասնագիտական կրթության գրավչության բարձրացում, մատչելի և մրցունակ արհեստագործական և միջին մասնագիտական կրթության ապահովում | G16: =SUM(G17:G18) -> -266599.5 | H16: =SUM(H17:H18) -> -397139.3 | I16: =SUM(I17:I18) -> -385437.9
C17: 1045 - 32001 | D17: Մասնագիտական ուսումնական հաստատությունների շենքային պայմանների բարելավում | E17: Մասնագիտական ուսումնական հաստատությունների շենքերի հիմնանորոգման և նախագծման (շինարարական աշխատանքներ, ջեռուցման համակարգի ստեղծում, ներքին հարդարում, տարածքի բարեկարգում) աշխատանքների իրականացում | F17: Այլ պետական կազմակերպությունների կողմից օգտագործվող ոչ ֆինանսական ակտիվների հետ գործառնություններ | G17: =+'Հավելված N 5'!G212 -> -208152.9 | H17: =+'Հավելված N 5'!H212 -> -375041.1 | I17: =+'Հավելված N 5'!I212 -> -521729.3
C18: 1045 - 32005 | D18: Մասնագիտական ուսումնական հաստատությունների շենքերի կառուցում | E18: Մասնագիտական ուսումնական հաստատությունների շենքերի (մասնաշենքերի) կառուցման և նախագծման աշխատանքների իրականացում | F18: Այլ պետական կազմակերպությունների կողմից օգտագործվող ոչ ֆինանսական ակտիվների հետ գործառնություններ | G18: =+'Հավելված N 5'!G221 -> -58446.6 | H18: =+'Հավելված N 5'!H221 -> -22098.2 | I18: =+'Հավելված N 5'!I221 -> 136291.4
B19: 1075 | D19: Մշակութային ժառանգության ծրագիր | E19: Մշակութային ժառանգության պահպանում, օգտագործում, համալրում և հանրահռչակում | F19: Մշակութային ժառանգության շարունակական պահպանում, մշակութային զբոսաշրջության զարգացում և խթանում | G19: =SUM(G20:G23) -> 108574.2 | H19: =SUM(H20:H23) -> 115032.4 | I19: =SUM(I20:I23) -> 94173.6
C20: 1075 - 21001 | D20: Հուշարձանների ամրակայում, նորոգում և վերականգնում | E20: Հուշարձանների գիտանախագծային փաստաթղթերի կազմում, հրատապ ուսումնասիրում, վավերագրման և ուսումնասիրման աշխատանքներ, հետախուզում և հնագիտական պեղում, ամրակայում, նորոգում և վերականգնում | F20: Հանրության կողմից անմիջականորեն օգտագործվող ակտիվների հետ կապված միջոցառումներ | G20: =+'Հավելված N 5'!G118 -> 10122.4 | H20: =+'Հավելված N 5'!H118 -> -3210.4 | I20: =+'Հավելված N 5'!I118 -> -24069.2
C21: 1075 - 32001 | D21: Ներդրումներ թանգարանների և պատկերասրահների հիմնանորոգման համար | E21: Թանգարանների և պատկերասրահների շենքերի, մասնաշենքերի հիմնանորոգում, համաշինարարական աշխատանքներ, ջեռուցման համակարգի իրականացում, ներքին հարդարում, տարածքի բարեկարգում և նախագծում | F21: Այլ պետական կազմակերպությունների կողմից օգտագործվող ոչ ֆինանսական ակտիվների հետ գործառնություններ | G21: =+'Հավելված N 5'!G26 -> 53674.6 | H21: =+'Հավելված N 5'!H26 -> 73465.6 | I21: =+'Հավելված N 5'!I26 -> 73465.6
C22: 1075 - 32008 | D22: Թանգարանների և պատկերասրահների գույքային և տեխնիկական հագեցվածության բարելավում | E22: Թանգարանների և պատկերասրահների համար անհրաժեշտ գույքի, տեխնիկայի և սարքավորումների ձեռքբերում | F22: Այլ պետական կազմակերպությունների կողմից օգտագործվող ոչ ֆինանսական ակտիվների հետ գործառնություններ | G22: =+'Հավելված N 5'!G42 -> 34777.2 | H22: =+'Հավելված N 5'!H42 -> 34777.2 | I22: =+'Հավելված N 5'!I42 -> 34777.2
C23: 1075 - 32009 | D23: Պատմամշակութային ժառանգության ոլորտի կազմակերպությունների գույքային ապահովվածության բարելավում | E23: Պատմամշակութային ժառանգության ոլորտի կազմակերպությունների գույքով և տեխնիկայով ապահովում | F23: Այլ պետական կազմակերպությունների կողմից օգտագործվող ոչ ֆինանսական ակտիվների հետ գործառնություններ | G23: =+'Հավելված N 5'!G79 -> 10000 | H23: =+'Հավելված N 5'!H79 -> 10000 | I23: =+'Հավելված N 5'!I79 -> 10000
B24: 1111 | D24: Բարձրագույն և հետբուհական մասնագիտական կրթության ծրագիր | E24: Ապահովել մատչելի, որակյալ և մրցունակ բարձրագույն և հետբուհական մասնագիտական կրթություն: | F24: Գիտելիքների տնտեսության և գիտության զարգացման արդի պահանջներին համապատասխան բարձրագույն և հետբուհական մասնագիտական որակավորում ունեցող մասնագետների պատրաստում | G24: =+G25 -> 190409.3 | H24: =+H25 -> 190409.3 | I24: =+I25 -> 190409.3
C25: 1111 - 32001 | D25: Բարձրագույն ուսումնական հաստատությունների և «Զեյթուն» ուսանողական ավան» հիմնադրամի շենքային պայմանների բարելավում | E25: Բարձրագույն ուսումնական հաստատությունների և «Զեյթուն» ուսանողական ավան» հիմնադրամի շենքային պայմանների բարելավում | F25: Այլ պետական կազմակերպությունների կողմից օգտագործվող ոչ ֆինանսական ակտիվների հետ գործառնություններ | G25: =+'Հավելված N 5'!G239 -> 190409.3 | H25: =+'Հավելված N 5'!H239 -> 190409.3 | I25: =+'Հավելված N 5'!I239 -> 190409.3
B26: 1130 | D26: Կրթության, գիտության, մշակույթի և սպորտի բնագավառի պետական քաղաքականության մշակում, ծրագրերի համակարգում և մոնիտորինգ | E26: Ապահովել համընդհանուր, հավասարապես հասանելի, ներառական և որակյալ կրթություն՛ բավարարելով տնտեսության ու հասարակության պահանջները, լիարժեք ծառայելով ազգային շահերին | F26: Կրթության, գիտության, մշակույթի և սպորտի բնագավառում իրականացվող ծրագրերի ազդեցության և արդյունավետության բարելավում | G26: =+G27 -> 100666.3 | H26: =+H27 -> 100666.3 | I26: =+I27 -> 100666.3
C27: 1130 - 11011 | D27: Կրթության, գիտության, մշակույթի և սպորտի բնագավառներում ծրագրերի ապահովման նպատակով անհրաժեշտ պետական տուրքերի և պարտադիր վճարների կատարում | E27: Կրթության, գիտության, մշակույթի և սպորտի բնագավառներում ծրագրերի ապահովման նպատակով անհրաժեշտ ՀՀ պետական կառավարման և տեղական ինքնակառավարման մարմինների կողմից սահմանված պետական տուրքերի և պարտադիր վճարների կատարում | F27: Ծառայությունների մատուցում | G27: =+'Հավելված N 5'!G256 -> 100666.3 | H27: =+'Հավելված N 5'!H256 -> 100666.3 | I27: =+'Հավելված N 5'!I256 -> 100666.3
B28: 1168 | D28: Արվեստների ծրագիր | E28: Նպաստել ազգային հենքի վրա ժամանակակից թատերարվեստի, երաժշտարվեստի, կերպարվեստի և պարարվեստի զարգացմանը և հանրահռչակմանը | F28: Մրցունակ արվեստային արտադրանքի ստեղծում, ստեղծագործական գործընթացների խթանում, արվեստի նոր նախագծերի ներդրում և մշակութային կյանքում հասարակության ներգրավում | G28: =SUM(G29:G30) -> 8507.9 | H28: =SUM(H29:H30) -> 8507.9 | I28: =SUM(I29:I30) -> 8507.9
C29: 1168 - 32001 | D29: Ներդրումներ թատրոնների և համերգային կազմակերպությունների շենքերի կապիտալ վերանորոգման համար | E29: Թատրոնների և համերգային կազմակերպությունների շենքերի մասնաշենքերի հիմնանորոգում, համաշինարարական աշխատանքներ, ջեռուցման համակարգի իրականացում, ներքին հարդարում, տարածքի բարեկարգում և նախագծում | F29: Այլ պետական կազմակերպությունների կողմից օգտագործվող ոչ ֆինանսական ակտիվների հետ գործառնություններ | G29: =+'Հավելված N 5'!G94 -> 2412.3 | H29: =+'Հավելված N 5'!H94 -> 2412.3 | I29: =+'Հավելված N 5'!I94 -> 2412.3
C30: 1168 - 32007 | D30: Թատերահամերգային կազմակերպությունների նյութատեխնիկական բազայի համալրում | E30: Թատերահամերգային կազմակերպությունների համար անհրաժեշտ տեխնիկայի և սարքավորումների ձեռքբերում | F30: Այլ պետական կազմակերպությունների կողմից օգտագործվող ոչ ֆինանսական ակտիվների հետ գործառնություններ | G30: =+'Հավելված N 5'!G103 -> 6095.6 | H30: =+'Հավելված N 5'!H103 -> 6095.6 | I30: =+'Հավելված N 5'!I103 -> 6095.6
B31: 1196 | D31: Մարզերի մշակութային զարգացման ծրագիր | E31: Մարզերում մշակութային կյանքի և մշակութաստեղծ գործունեության ակտիվացում | F31: Համայնքներում մշակույթի հասանելիության և մշակութային կյանքին մարզային բնակչության ընդգրկվածության ընդլայնում | G31: =SUM(G32:G32) -> -52500 | H31: =SUM(H32:H32) -> -33180 | I31: =SUM(I32:I32) -> -8319.4
C32: 1196 - 12002 | D32: Համայնքային մշակութային-ժամանցային կենտրոնի ստեղծում | E32: Համայնքի մշակութային կյանքի ակտիվացում, հանրային ընթերցանության, գեղագիտական կրթության զարգացում, համայնքի բնակչության որակյալ և բովանդակալից ժամանցի կազմակերպում | F32: Տրանսֆերտների տրամադրում | G32: =+'Հավելված N 5'!G64 -> -52500 | H32: =+'Հավելված N 5'!H64 -> -33180 | I32: =+'Հավելված N 5'!I64 -> -8319.4
B33: 1236 | D33: Հանրակրթական և նախադպրոցական հաստատությունների հիմնում, կառուցում, բարելավում | E33: Առնվազն 300 դպրոցի և 500 մանկապարտեզի կառուցման, վերակառուցման, հիմնանորոգման ծրագրերի իրականացում ՀՀ պետական բյուջեի միջոցների շրջանակներում | F33: Կրթական միջավայրի բարելավում | G33: =SUM(G34:G35) -> 1035482.4 | H33: =SUM(H34:H35) -> 1067969.8 | I33: =SUM(I34:I35) -> 32487.6
C34: 1236 - 32002 | D34: Մանկապարտեզների շենքերի վերակառուցում, հիմնանորոգում | E34: Նախադպրոցական կրթության հասանելիության ապահովման նպատակով՛ մանկապարտեզների շենքերի (մասնաշենքերի), վերակառուցում, հիմնանորոգում և նախագծում | F34: Այլ պետական կազմակերպությունների կողմից օգտագործվող ոչ ֆինանսական ակտիվների հետ գործառնություններ | G34: =+'Հավելված N 5'!G143 -> 4591.4 | H34: =+'Հավելված N 5'!H143 -> 4591.4 | I34: =+'Հավելված N 5'!I143 -> -30890.8
C35: 1236 - 32006 | D35: Հանրակրթական դպրոցների, մանկապարտեզների և կրթահամալիրների գույքով և տեխնիկայով ապահովում | E35: Կրթական ժամանակակից նորմերին և կրթական չափորոշիչներին համապատասխան ուսուցման ծրագրերն իրականացնելու նպատակով հանրակրթական և նախադպրոցական հաստատությունների համար գույքի և տեխնիկայի ձեռքբերում | F35: Այլ պետական կազմակերպությունների կողմից օգտագործվող ոչ ֆինանսական ակտիվների հետ գործառնություններ | G35: =+'Հավելված N 5'!G167 -> 1030891 | H35: =+'Հավելված N 5'!H167 -> 1063378.4 | I35: =+'Հավելված N 5'!I167 -> 63378.4
A37: ՀՀ ԿԱՌԱՎԱՐՈՒԹՅՈՒՆ | G37: =+G38 -> 0 | H37: =+H38 -> 0 | I37: =+I38 -> 0
B38: 1139 | D38: ՀՀ կառավարության պահուստային ֆոնդ | E38: Պետական բյուջեում չկանխատեսված, ինչպես նաեւ բյուջետային երաշխիքների ապահովման ծախսերի ֆինանսավորման ապահովում | F38: Պահուստային ֆոնդի կառավարման արդյունավետության և թափանցիկության ապահովում | G38: =+G39+G40 -> 0 | H38: =+H39+H40 -> 0 | I38: =+I39+I40 -> 0
C39: 1139 - 11001 | D39: ՀՀ կառավարության պահուստային ֆոնդ | E39: ՀՀ պետական բյուջեում նախատեսված ելքերի լրացուցիչ ֆինանսավորման, պետական բյուջեում չկանխատեսված ելքերի, ինչպես նաև բյուջետային երաշխիքների ապահովման ելքերի ֆինանսավորման ապահովում | F39: Ծառայությունների մատուցում | G39: =+'Հավելված N 5'!G277 -> -110666.3 | H39: =+'Հավելված N 5'!H277 -> -110666.3 | I39: =+'Հավելված N 5'!I277 -> -110666.3
C40: 1139 - 11001 | D40: ՀՀ կառավարության պահուստային ֆոնդ | E40: ՀՀ պետական բյուջեում նախատեսված ելքերի լրացուցիչ ֆինանսավորման, պետական բյուջեում չկանխատեսված ելքերի, ինչպես նաև բյուջետային երաշխիքների ապահովման ելքերի ֆինանսավորման ապահովում | F40: Ծառայությունների մատուցում | G40: =+'Հավելված N 5'!G285 -> 110666.3 | H40: =+'Հավելված N 5'!H285 -> 110666.3 | I40: =+'Հավելված N 5'!I285 -> 110666.3

Sheet Հավելված N 5
F1: Հավելված N 5
F2: ՀՀ կառավարության 2026 թվականի
F3: ______________ ի ___Ն որոշման
A7: ՀԱՅԱՍՏԱՆԻ ՀԱՆՐԱՊԵՏՈՒԹՅԱՆ ԿԱՌԱՎԱՐՈՒԹՅԱՆ 2025 ԹՎԱԿԱՆԻ ԴԵԿՏԵՄԲԵՐԻ 25-Ի N 1910-Ն ՈՐՈՇՄԱՆ N 3 ԵՎ N 4 ՀԱՎԵԼՎԱԾՆԵՐՈՒՄ ԿԱՏԱՐՎՈՂ ՓՈՓՈԽՈՒԹՅՈՒՆՆԵՐԸ ԵՎ ԼՐԱՑՈՒՄՆԵՐԸ
I10: հազ. դրամներով
A11: Գործառական դասիչը | D11: Ծրագրային դասիչը | F11: Բյուջետային հատկացումների գլխավոր կարգադրիչների, ծրագրերի, միջոցառումների և միջոցառումները կատարող պետական մարմինների անվանումները | G11: Ցուցանիշների փոփոխությունը (ավելացումները նշված են դրական նշանով, իսկ նվազեցումները փակագծերում)
A12: Բաժին | B12: Խումբ | C12: Դաս | D12: Ծրագիր | E12: Միջոցառում | G12: Առաջին կիսամյակ | H12: Ինն ամիս | I12: Տարի
F13: ԸՆԴԱՄԵՆԸ | G13: =+G15+G266 -> 1124540.6 | H13: =+H15+H266 -> 1052266.4 | I13: =+I15+I266 -> 32487.4
F14: այդ թվում՝
F15: ՀՀ ԿՐԹՈՒԹՅԱՆ, ԳԻՏՈՒԹՅԱՆ, ՄՇԱԿՈՒՅԹԻ ԵՎ ՍՊՈՐՏԻ ՆԱԽԱՐԱՐՈՒԹՅՈՒՆ | G15: =+G16+G133 -> 1124540.6 | H15: =+H16+H133 -> 1052266.4 | I15: =+I16+I133 -> 32487.4
A16: 08 | F16: ՀԱՆԳԻՍՏ, ՄՇԱԿՈՒՅԹ ԵՎ ԿՐՈՆ | G16: =+G18 -> 64582.1 | H16: =+H18 -> 90360.3 | I16: =+I18 -> 94362.1
F17: այդ թվում`
B18: 02 | F18: Մշակութային ծառայություններ | G18: =+G20+G58+G73+G88+G112 -> 64582.1 | H18: =+H20+H58+H73+H88+H112 -> 90360.3 | I18: =+I20+I58+I73+I88+I112 -> 94362.1
F19: այդ թվում`
C20: 02 | F20: Թանգարաններ և ցուցասրահներ | G20: =+G22 -> 88451.8 | H20: =+H22 -> 108242.8 | I20: =+I22 -> 108242.8
F21: այդ թվում`
F22: ՀՀ կրթության, գիտության, մշակույթի և սպորտի նախարարություն | G22: =+G24 -> 88451.8 | H22: =+H24 -> 108242.8 | I22: =+I24 -> 108242.8
F23: այդ թվում`
D24: 1075 | E24: Մշակութային ժառանգության ծրագիր | G24: =+G26+G42 -> 88451.8 | H24: =+H26+H42 -> 108242.8 | I24: =+I26+I42 -> 108242.8
F25: այդ թվում`
E26: 32001 | F26: Ներդրումներ թանգարանների և պատկերասրահների հիմնանորոգման համար | G26: =+G28+G35 -> 53674.6 | H26: =+H28+H35 -> 73465.6 | I26: =+I28+I35 -> 73465.6
F27: այդ թվում` ըստ կատարողների
F28: ՀՀ կրթության, գիտության, մշակույթի և սպորտի նախարարություն | G28: =+G30 -> 53674.6 | H28: =+H30 -> 53674.6 | I28: =+I30 -> 53674.6
F29: այդ թվում` բյուջետային ծախսերի տնտեսագիտական դասակարգման հոդվածներ
F30: ԸՆԴԱՄԵՆԸ ԾԱԽՍԵՐ | G30: =G31 -> 53674.6 | H30: =H31 -> 53674.6 | I30: =I31 -> 53674.6
F31: ԸՆԹԱՑԻԿ ԾԱԽՍԵՐ | G31: =+G32 -> 53674.6 | H31: =+H32 -> 53674.6 | I31: =+I32 -> 53674.6
F32: ԴՐԱՄԱՇՆՈՐՀՆԵՐ | G32: =+G33 -> 53674.6 | H32: =+H33 -> 53674.6 | I32: =+I33 -> 53674.6
F33: ԿԱՊԻՏԱԼ ԴՐԱՄԱՇՆՈՐՀՆԵՐ ՊԵՏԱԿԱՆ ՀԱՏՎԱԾԻ ԱՅԼ ՄԱԿԱՐԴԱԿՆԵՐԻՆ | G33: =+G34 -> 53674.6 | H33: =+H34 -> 53674.6 | I33: =+I34 -> 53674.6
F34: - Այլ կապիտալ դրամաշնորհներ | G34: =+I34 -> 53674.6 | H34: =+I34 -> 53674.6 | I34: =+'Հավելված N 8'!G28 -> 53674.6
F35: ՀՀ քաղաքաշինության կոմիտե | G35: =+G37 -> 0 | H35: =+H37 -> 19791 | I35: =+I37 -> 19791
F36: այդ թվում` բյուջետային ծախսերի տնտեսագիտական դասակարգման հոդվածներ
F37: ԸՆԴԱՄԵՆԸ ԾԱԽՍԵՐ | G37: =G38 -> 0 | H37: =H38 -> 19791 | I37: =I38 -> 19791
F38: ՈՉ ՖԻՆԱՆՍԱԿԱՆ ԱԿՏԻՎՆԵՐԻ ԳԾՈՎ ԾԱԽՍԵՐ | G38: =+G39 -> 0 | H38: =+H39 -> 19791 | I38: =+I39 -> 19791
F39: ՀԻՄՆԱԿԱՆ ՄԻՋՈՑՆԵՐ | G39: =+G40 -> 0 | H39: =+H40 -> 19791 | I39: =+I40 -> 19791
F40: ՇԵՆՔԵՐ ԵՎ ՇԻՆՈՒԹՅՈՒՆՆԵՐ | G40: =+G41 -> 0 | H40: =+H41 -> 19791 | I40: =+I41 -> 19791
F41: - Շենքերի և շինությունների կապիտալ վերանորոգում | G41: =+'Հավելված N 7'!E90 -> 0 | H41: =+'Հավելված N 7'!F90 -> 19791 | I41: =+'Հավելված N 7'!G90 -> 19791
E42: 32008 | F42: Թանգարանների և պատկերասրահների գույքային և տեխնիկական հագեցվածության բարելավում | G42: =+G44+G51 -> 34777.2 | H42: =+H44+H51 -> 34777.2 | I42: =+I44+I51 -> 34777.2
F43: այդ թվում` ըստ կատարողների
F44: ՀՀ կրթության, գիտության, մշակույթի և սպորտի նախարարություն | G44: =+G46 -> 29650 | H44: =+H46 -> 29650 | I44: =+I46 -> 29650
F45: այդ թվում` բյուջետային ծախսերի տնտեսագիտական դասակարգման հոդվածներ
F46: ԸՆԴԱՄԵՆԸ ԾԱԽՍԵՐ | G46: =G47 -> 29650 | H46: =H47 -> 29650 | I46: =I47 -> 29650
F47: ԸՆԹԱՑԻԿ ԾԱԽՍԵՐ | G47: =+G48 -> 29650 | H47: =+H48 -> 29650 | I47: =+I48 -> 29650
F48: ԴՐԱՄԱՇՆՈՐՀՆԵՐ | G48: =+G49 -> 29650 | H48: =+H49 -> 29650 | I48: =+I49 -> 29650
F49: ԿԱՊԻՏԱԼ ԴՐԱՄԱՇՆՈՐՀՆԵՐ ՊԵՏԱԿԱՆ ՀԱՏՎԱԾԻ ԱՅԼ ՄԱԿԱՐԴԱԿՆԵՐԻՆ | G49: =+G50 -> 29650 | H49: =+H50 -> 29650 | I49: =+I50 -> 29650
F50: - Կապիտալ դրամաշնորհներ պետական և համայնքային ոչ առևտրային կազմակերպություններին | G50: =+I50 -> 29650 | H50: =+I50 -> 29650 | I50: =+'Հավելված N 8'!G33 -> 29650
F51: ՀՀ քաղաքաշինության կոմիտե | G51: =+G53 -> 5127.2 | H51: =+H53 -> 5127.2 | I51: =+I53 -> 5127.2
F52: այդ թվում` բյուջետային ծախսերի տնտեսագիտական դասակարգման հոդվածներ
F53: ԸՆԴԱՄԵՆԸ ԾԱԽՍԵՐ | G53: =G54 -> 5127.2 | H53: =H54 -> 5127.2 | I53: =I54 -> 5127.2
F54: ՈՉ ՖԻՆԱՆՍԱԿԱՆ ԱԿՏԻՎՆԵՐԻ ԳԾՈՎ ԾԱԽՍԵՐ | G54: =+G55 -> 5127.2 | H54: =+H55 -> 5127.2 | I54: =+I55 -> 5127.2
F55: ՀԻՄՆԱԿԱՆ ՄԻՋՈՑՆԵՐ | G55: =+G56 -> 5127.2 | H55: =+H56 -> 5127.2 | I55: =+I56 -> 5127.2
F56: ՄԵՔԵՆԱՆԵՐ ԵՎ ՍԱՐՔԱՎՈՐՈՒՄՆԵՐ | G56: =+G57 -> 5127.2 | H56: =+H57 -> 5127.2 | I56: =+I57 -> 5127.2
F57: - Այլ մեքենաներ և սարքավորումներ | G57: =+'Հավելված N 7'!E96 -> 5127.2 | H57: =+'Հավելված N 7'!F96 -> 5127.2 | I57: =+'Հավելված N 7'!G96 -> 5127.2
C58: 03 | F58: Մշակույթի տներ, ակումբներ, կենտրոններ | G58: =+G60 -> -52500 | H58: =+H60 -> -33180 | I58: =+I60 -> -8319.4
F59: այդ թվում`
F60: ՀՀ կրթության, գիտության, մշակույթի և սպորտի նախարարություն | G60: =+G62 -> -52500 | H60: =+H62 -> -33180 | I60: =+I62 -> -8319.4
F61: այդ թվում`
D62: 1196 | E62: Մարզերի մշակութային զարգացման ծրագիր | G62: =+G64 -> -52500 | H62: =+H64 -> -33180 | I62: =+I64 -> -8319.4
F63: այդ թվում`
E64: 12002 | F64: Համայնքային մշակութային-ժամանցային կենտրոնի ստեղծում | G64: =+G66 -> -52500 | H64: =+H66 -> -33180 | I64: =+I66 -> -8319.4
F65: այդ թվում` ըստ կատարողների
F66: ՀՀ կրթության, գիտության, մշակույթի և սպորտի նախարարություն | G66: =+G68 -> -52500 | H66: =+H68 -> -33180 | I66: =+I68 -> -8319.4
F67: այդ թվում` բյուջետային ծախսերի տնտեսագիտական դասակարգման հոդվածներ
F68: ԸՆԴԱՄԵՆԸ ԾԱԽՍԵՐ | G68: =G69 -> -52500 | H68: =H69 -> -33180 | I68: =I69 -> -8319.4
F69: ՈՉ ՖԻՆԱՆՍԱԿԱՆ ԱԿՏԻՎՆԵՐԻ ԳԾՈՎ ԾԱԽՍԵՐ | G69: =+G70 -> -52500 | H69: =+H70 -> -33180 | I69: =+I70 -> -8319.4
F70: ՀԻՄՆԱԿԱՆ ՄԻՋՈՑՆԵՐ | G70: =+G71 -> -52500 | H70: =+H71 -> -33180 | I70: =+I71 -> -8319.4
F71: ՇԵՆՔԵՐ ԵՎ ՇԻՆՈՒԹՅՈՒՆՆԵՐ | G71: =+G72 -> -52500 | H71: =+H72 -> -33180 | I71: =+I72 -> -8319.4
F72: - Շենքերի և շինությունների կապիտալ վերանորոգում | G72: =+'Հավելված N 7'!E108 -> -52500 | H72: =+'Հավելված N 7'!F108 -> -33180 | I72: =+'Հավելված N 7'!G108 -> -8319.4
C73: 04 | F73: Այլ մշակութային կազմակերպություններ | G73: =+G75 -> 10000 | H73: =+H75 -> 10000 | I73: =+I75 -> 10000
F74: այդ թվում`
F75: ՀՀ կրթության, գիտության, մշակույթի և սպորտի նախարարություն | G75: =+G77 -> 10000 | H75: =+H77 -> 10000 | I75: =+I77 -> 10000
F76: այդ թվում`
D77: 1075 | E77: Մշակութային ժառանգության ծրագիր | G77: =+G79 -> 10000 | H77: =+H79 -> 10000 | I77: =+I79 -> 10000
F78: այդ թվում`
E79: 32009 | F79: Պատմամշակութային ժառանգության ոլորտի կազմակերպությունների գույքային ապահովվածության բարելավում | G79: =+G81 -> 10000 | H79: =+H81 -> 10000 | I79: =+I81 -> 10000
F80: այդ թվում` ըստ կատարողների
F81: ՀՀ կրթության, գիտության, մշակույթի և սպորտի նախարարություն | G81: =+G83 -> 10000 | H81: =+H83 -> 10000 | I81: =+I83 -> 10000
F82: այդ թվում` բյուջետային ծախսերի տնտեսագիտական դասակարգման հոդվածներ
F83: ԸՆԴԱՄԵՆԸ ԾԱԽՍԵՐ | G83: =G84 -> 10000 | H83: =H84 -> 10000 | I83: =I84 -> 10000
F84: ԸՆԹԱՑԻԿ ԾԱԽՍԵՐ | G84: =+G85 -> 10000 | H84: =+H85 -> 10000 | I84: =+I85 -> 10000
F85: ԴՐԱՄԱՇՆՈՐՀՆԵՐ | G85: =+G86 -> 10000 | H85: =+H86 -> 10000 | I85: =+I86 -> 10000
F86: ԿԱՊԻՏԱԼ ԴՐԱՄԱՇՆՈՐՀՆԵՐ ՊԵՏԱԿԱՆ ՀԱՏՎԱԾԻ ԱՅԼ ՄԱԿԱՐԴԱԿՆԵՐԻՆ | G86: =+G87 -> 10000 | H86: =+H87 -> 10000 | I86: =+I87 -> 10000
F87: - Կապիտալ դրամաշնորհներ պետական և համայնքային ոչ առևտրային կազմակերպություններին | G87: =+H87 -> 10000 | H87: =+I87 -> 10000 | I87: =+'Հավելված N 8'!G36 -> 10000
C88: 05 | F88: Արվեստ | G88: =+G90 -> 8507.9 | H88: =+H90 -> 8507.9 | I88: =+I90 -> 8507.9
F89: այդ թվում`
F90: ՀՀ կրթության, գիտության, մշակույթի և սպորտի նախարարություն | G90: =+G92 -> 8507.9 | H90: =+H92 -> 8507.9 | I90: =+I92 -> 8507.9
F91: այդ թվում`
D92: 1168 | E92: Արվեստների ծրագիր | G92: =+G94+G103 -> 8507.9 | H92: =+H94+H103 -> 8507.9 | I92: =+I94+I103 -> 8507.9
F93: այդ թվում`
E94: 32001 | F94: Ներդրումներ թատրոնների և համերգային կազմակերպությունների շենքերի կապիտալ վերանորոգման համար | G94: =+G96 -> 2412.3 | H94: =+H96 -> 2412.3 | I94: =+I96 -> 2412.3
F95: այդ թվում` ըստ կատարողների
F96: ՀՀ կրթության, գիտության, մշակույթի և սպորտի նախարարություն | G96: =+G98 -> 2412.3 | H96: =+H98 -> 2412.3 | I96: =+I98 -> 2412.3
F97: այդ թվում` բյուջետային ծախսերի տնտեսագիտական դասակարգման հոդվածներ
F98: ԸՆԴԱՄԵՆԸ ԾԱԽՍԵՐ | G98: =G99 -> 2412.3 | H98: =H99 -> 2412.3 | I98: =I99 -> 2412.3
F99: ՈՉ ՖԻՆԱՆՍԱԿԱՆ ԱԿՏԻՎՆԵՐԻ ԳԾՈՎ ԾԱԽՍԵՐ | G99: =+G100 -> 2412.3 | H99: =+H100 -> 2412.3 | I99: =+I100 -> 2412.3
F100: ՀԻՄՆԱԿԱՆ ՄԻՋՈՑՆԵՐ | G100: =+G101 -> 2412.3 | H100: =+H101 -> 2412.3 | I100: =+I101 -> 2412.3
F101: ՇԵՆՔԵՐ ԵՎ ՇԻՆՈՒԹՅՈՒՆՆԵՐ | G101: =+G102 -> 2412.3 | H101: =+H102 -> 2412.3 | I101: =+I102 -> 2412.3
F102: - Շենքերի և շինությունների կապիտալ վերանորոգում | G102: =+'Հավելված N 7'!E102 -> 2412.3 | H102: =+'Հավելված N 7'!F102 -> 2412.3 | I102: =+'Հավելված N 7'!G102 -> 2412.3
E103: 32007 | F103: Թատերահամերգային կազմակերպությունների նյութատեխնիկական բազայի համալրում | G103: =+G105 -> 6095.6 | H103: =+H105 -> 6095.6 | I103: =+I105 -> 6095.6
F104: այդ թվում` ըստ կատարողների
F105: ՀՀ կրթության, գիտության, մշակույթի և սպորտի նախարարություն | G105: =+G107 -> 6095.6 | H105: =+H107 -> 6095.6 | I105: =+I107 -> 6095.6
...

Sheet Հավելված N 6
F1: Հավելված N 6
F2: ՀՀ կառավարության 2026 թվականի
F3: ______________ ի ___Ն որոշման
A5: «ՀԱՅԱUՏԱՆԻ ՀԱՆՐԱՊԵՏՈՒԹՅԱՆ 2026 ԹՎԱԿԱՆԻ ՊԵՏԱԿԱՆ ԲՅՈՒՋԵԻ ՄԱUԻՆ» ՀԱՅԱUՏԱՆԻ ՀԱՆՐԱՊԵՏՈՒԹՅԱՆ OՐԵՆՔԻ N 1 ՀԱՎԵԼՎԱԾԻ N 3 ԱՂՅՈՒՍԱԿՈՒՄ ԿԱՏԱՐՎՈՂ ՓՈՓՈԽՈՒԹՅՈՒՆՆԵՐԸ ԵՎ ԼՐԱՑՈՒՄՆԵՐԸ
G8: հազ. դրամներով
A9: Ծրագրային դասիչ | C9: Բյուջետային գլխավոր կարգադրիչների, ծրագրերի, միջոցառումների, միջոցառումները կատարող պետական մարմինների և ուղղությունների անվանումները | D9: Ընդամենը | E9: Ցուցանիշների փոփոխությունը (ավելացումները նշված են դրական նշանով, իսկ նվազեցումները՝ փակագծերում)
A10: Ծրագիր | B10: Միջոցառում | E10: Կառուցման աշխատանքներ | F10: Վերակառուցման, վերանորոգման և վերականգնման աշխատանքներ | G10: Նախագծահե- տազոտական, գեոդեզիա- քարտեզագրա- կան աշխա- տանքներ | H10: Ոչ ֆինանսական այլ ակտիվների ձեռքբերում
C11: ԸՆԴԱՄԵՆԸ | D11: =SUM(E11:H11) -> -490703.1 | E11: =+E13 -> 143276.3 | F11: =+F13 -> -565972.7 | G11: =+G13 -> -136512.3 | H11: =+H13 -> 68505.6
C12: այդ թվում՝
C13: ՀՀ ԿՐԹՈՒԹՅԱՆ, ԳԻՏՈՒԹՅԱՆ, ՄՇԱԿՈՒՅԹԻ ԵՎ ՍՊՈՐՏԻ ՆԱԽԱՐԱՐՈՒԹՅՈՒՆ | D13: =SUM(E13:H13) -> -490703.1 | E13: =+E15+E25+E36+E81+E85+E89+E93+E94+E97 -> 143276.3 | F13: =+F15+F25+F36+F81+F85+F89+F93+F94+F97 -> -565972.7 | G13: =+G15+G25+G36+G81+G85+G89+G93+G94+G97 -> -136512.3 | H13: =+H15+H25+H36+H81+H85+H89+H93+H94+H97 -> 68505.6
C14: այդ թվում`
A15: 1045 | B15: 32001 | C15: Մասնագիտական ուսումնական հաստատությունների շենքային պայմանների բարելավում | D15: =SUM(E15:H15) -> -521729.3 | E15: =+E17+E20+E23 -> 0 | F15: =+F17+F20+F23 -> -521729.3 | G15: =+G17+G20+G23 -> 0 | H15: =+H17+H20+H23 -> 0
C16: այդ թվում`
C17: Երևան քաղաք | D17: =SUM(E17:H17) -> 0 | E17: =SUM(E18:E19) -> 0 | F17: =SUM(F18:F19) -> 0 | G17: =SUM(G18:G19) -> 0 | H17: =SUM(H18:H19) -> 0
C18: «Երևանի հ․8 արհեստագործական պետական ուսումնարան» ՊՈԱԿ | D18: =+E18+F18+G18+H18 -> -111195.1 | F18: -111195.1
C19: Երևանի հ․8 արհեստագործական պետական ուսումնարան (իրավահաջորդը՝ «Երևանի արհեստի պետական քոլեջ» ՊՈԱԿ) | D19: =+E19+F19+G19+H19 -> 111195.1 | F19: =-F18 -> 111195.1
C20: ՀՀ Շիրակի մարզ | D20: =SUM(E20:H20) -> -262729.3 | E20: =SUM(E21:E22) -> 0 | F20: =SUM(F21:F22) -> -262729.3 | G20: =SUM(G21:G22) -> 0 | H20: =SUM(H21:H22) -> 0
C21: «Գյումրու պետական բժշկական քոլեջ» ՊՈԱԿ | D21: =+E21+F21+G21+H21 -> -32768.6 | F21: =+'Հավելված N 12'!I66+'Հավելված N 12'!I70+'Հավելված N 12'!I73 -> -32768.6
C22: «Արթիկի պետական քոլեջ» ՊՈԱԿ | D22: =+E22+F22+G22+H22 -> -229960.7 | F22: =+'Հավելված N 12'!I67+'Հավելված N 12'!I71+'Հավելված N 12'!I74 -> -229960.7
C23: ՀՀ Տավուշի մարզ | D23: =SUM(E23:H23) -> -259000 | E23: =+E24 -> 0 | F23: =+F24 -> -259000 | G23: =+G24 -> 0 | H23: =+H24 -> 0
C24: «Դիլիջանի բազմագործառութային պետական քոլեջ» ՊՈԱԿ | D24: =+E24+F24+G24+H24 -> -259000 | F24: =+'Հավելված N 12'!I68+'Հավելված N 12'!I72+'Հավելված N 12'!I75 -> -259000
A25: 1045 | B25: 32005 | C25: Մասնագիտական ուսումնական հաստատությունների շենքերի կառուցում | D25: =SUM(E25:H25) -> 136291.4 | E25: =+E27+E29+E31+E33 -> 143276.3 | F25: =+F27+F29+F31+F33 -> 0 | G25: =+G27+G29+G31+G33 -> -6984.9 | H25: =+H27+H29+H31+H33 -> 0
C26: այդ թվում`
C27: Երևան քաղաք | D27: =SUM(E27:H27) -> -131383.7 | E27: =+E28 -> -131383.7 | F27: =+F28 -> 0 | G27: =+G28 -> 0 | H27: =+H28 -> 0
C28: «Երևանի զարդարվեստի պետական արհեստագործական ուսումնարան» ՊՈԱԿ | D28: =+E28+F28+G28+H28 -> -131383.7 | E28: =+'Հավելված N 12'!I78+'Հավելված N 12'!I82+'Հավելված N 12'!I85 -> -131383.7
C29: ՀՀ Արմավիրի մարզ | D29: =SUM(E29:H29) -> -17984.9 | E29: =+E30 -> 0 | F29: =+F30 -> 0 | G29: =+G30 -> -17984.9 | H29: =+H30 -> 0
C30: «Արմավիրի տարածաշրջանային պետական քոլեջ» ՊՈԱԿ | D30: =+E30+F30+G30+H30 -> -17984.9 | G30: =+'Հավելված N 12'!I108 -> -17984.9
C31: ՀՀ Շիրակի մարզ | D31: =SUM(E31:H31) -> 173060 | E31: =+E32 -> 173060 | F31: =+F32 -> 0 | G31: =+G32 -> 0 | H31: =+H32 -> 0
C32: «Արթիկի պետական քոլեջ» ՊՈԱԿ | D32: =+E32+F32+G32+H32 -> 173060 | E32: =+'Հավելված N 12'!I79+'Հավելված N 12'!I83+'Հավելված N 12'!I86 -> 173060
C33: ՀՀ Տավուշի մարզ | D33: =SUM(E33:H33) -> 112600 | E33: =SUM(E34:E35) -> 101600 | F33: =SUM(F34:F35) -> 0 | G33: =SUM(G34:G35) -> 11000 | H33: =SUM(H34:H35) -> 0
C34: «Դիլիջանի բազմագործառութային պետական քոլեջ» ՊՈԱԿ | D34: =+E34+F34+G34+H34 -> 101600 | E34: =+'Հավելված N 12'!I80+'Հավելված N 12'!I84+'Հավելված N 12'!I87 -> 101600
C35: «Նոյեմբերյանի պետական քոլեջ» ՊՈԱԿ | D35: =+E35+F35+G35+H35 -> 11000 | G35: =+'Հավելված N 12'!I109 -> 11000
A36: 1075 | B36: 21001 | C36: Հուշարձանների ամրակայում, նորոգում և վերականգնում | D36: =SUM(E36:H36) -> -152172.5 | E36: =+E38+E53 -> 0 | F36: =+F38+F53 -> -22645.1 | G36: =+G38+G53 -> -129527.4 | H36: =+H38+H53 -> 0
C37: այդ թվում`
C38: 1. Վերականգնողական աշխատանքներ | D38: =SUM(E38:H38) -> -22645.1 | E38: =+E40+E42+E44+E47+E49+E51 -> 0 | F38: =+F40+F42+F44+F47+F49+F51 -> -22645.1 | G38: =+G40+G42+G44+G47+G49+G51 -> 0 | H38: =+H40+H42+H44+H47+H49+H51 -> 0
C39: որից`
C40: ՀՀ Արագածոտնի մարզ | D40: =SUM(E40:H40) -> -13 | E40: =+E41 -> 0 | F40: =+F41 -> -13 | G40: =+G41 -> 0 | H40: =+H41 -> 0
C41: Փարպի համայնքի 5-րդ դարի Ծիրանավոր եկեղեցու ամրակայում, վերականգնում և տարածքի բարեկարգում | D41: =+E41+F41+G41+H41 -> -13 | F41: =+'Հավելված N 12'!I39 -> -13
C42: ՀՀ Արարատի մարզ | D42: =SUM(E42:H42) -> -5000 | E42: =+E43 -> 0 | F42: =+F43 -> -5000 | G42: =+G43 -> 0 | H42: =+H43 -> 0
C43: Հավուց Թառ վանական համալիրի Սբ. Ամենափրկիչ եկեղեցու ամրակայում, նորոգում և վերականգնում | D43: =+E43+F43+G43+H43 -> -5000 | F43: =+'Հավելված N 12'!I28+'Հավելված N 12'!I40+'Հավելված N 12'!I46 -> -5000
C44: ՀՀ Արմավիրի մարզ | D44: =SUM(E44:H44) -> 912.5 | E44: =SUM(E45:E46) -> 0 | F44: =SUM(F45:F46) -> 912.5 | G44: =SUM(G45:G46) -> 0 | H44: =SUM(H45:H46) -> 0
C45: Այգեշատ համայնքի Թարգմանչաց եկեղեցու վերականգնում | D45: =+E45+F45+G45+H45 -> 3967.3 | F45: =+'Հավելված N 12'!I29+'Հավելված N 12'!I41+'Հավելված N 12'!I47 -> 3967.3
C46: Ապագա գյուղի մշակույթի տան Սարգիս Մուրադյանի «Սասունցիներ» որմնանկարի (պետ.ցուցիչ 3.12.1) ամրակայում և վերականգնում | D46: =+E46+F46+G46+H46 -> -3054.8 | F46: =+'Հավելված N 12'!I37+'Հավելված N 12'!I42 -> -3054.8
C47: ՀՀ Շիրակի մարզ | D47: =SUM(E47:H47) -> -457.4 | E47: =+E48 -> 0 | F47: =+F48 -> -457.4 | G47: =+G48 -> 0 | H47: =+H48 -> 0
C48: Աշոցք համայնքի Կրասար բնակավայրի 19-րդ դարի կամրջի նորոգում, ամրակայում և վերականգնում | D48: =+E48+F48+G48+H48 -> -457.4 | F48: =+'Հավելված N 12'!I43 -> -457.4
C49: ՀՀ Վայոց Ձորի մարզ | D49: =SUM(E49:H49) -> -10657.2 | E49: =+E50 -> 0 | F49: =+F50 -> -10657.2 | G49: =+G50 -> 0 | H49: =+H50 -> 0
C50: Եղեգիս խոշորացված համայնքի Շատիվանքի Սբ․ Սիոն եկեղեցու որմնանկարների ամրակայում և վերականգնում | D50: =+E50+F50+G50+H50 -> -10657.2 | F50: =+'Հավելված N 12'!I36+'Հավելված N 12'!I44 -> -10657.2
C51: ՀՀ Տավուշի մարզ | D51: =SUM(E51:H51) -> -7430 | E51: =+E52 -> 0 | F51: =+F52 -> -7430 | G51: =+G52 -> 0 | H51: =+H52 -> 0
C52: Տավուշի մարզի «Տավուշ» ամրոցի պարիսպների, կից կառույցների, եկեղեցու ամրակայում, վերականգնում և տարածքի բարեկարգում | D52: =+E52+F52+G52+H52 -> -7430 | F52: =+'Հավելված N 12'!I30+'Հավելված N 12'!I45+'Հավելված N 12'!I48 -> -7430
C53: 2. Վավերագրման և ուսումնասիրման աշխատանքներ, (այդ թվում՝ հետախուզում և պեղում), գիտանախագծային փաստաթղթերի կազմում և փորձաքննում | D53: =SUM(E53:H53) -> -129527.4 | E53: =+E55+E56+E58+E65+E67+E69+E72+E75+E77+E79 -> 0 | F53: =+F55+F56+F58+F65+F67+F69+F72+F75+F77+F79 -> 0 | G53: =+G55+G56+G58+G65+G67+G69+G72+G75+G77+G79 -> -129527.4 | H53: =+H55+H56+H58+H65+H67+H69+H72+H75+H77+H79 -> 0
C54: որից`
C55: Հայաստանի ուրարտական 7 արձանագրությունների (Մարմաշեն, Սպանդարյան, Զվարթնոց, Գառնի, Լճաշեն, Օձաբերդ, Ծովակ), Ագարակի ուրարտական դմաբարանի, Գառնիի և Արմավիրի հունական արձանագրությունների ամրակայում, պահպանություն (կոնսերվցիա) և տարածքների բարեկարգում | D55: =+E55+F55+G55+H55 -> -700 | G55: =+'Հավելված N 12'!I49 -> -700
C56: Երևան քաղաք | D56: =SUM(E56:H56) -> 2500 | E56: =+E57 -> 0 | F56: =+F57 -> 0 | G56: =+G57 -> 2500 | H56: =+H57 -> 0
C57: Ա. Սպենդիարյանի անվան օպերայի և բալետի ազգային ակադեմիական թատրոնի և «Ա. Խաչատրյան» համերգասրահի ինժեներական ենթակառուցվածքների և տանիքի հիմնանորոգում | D57: =+E57+F57+G57+H57 -> 2500 | G57: =+'Հավելված N 12'!I62 -> 2500
C58: ՀՀ Արագածոտնի մարզ | D58: =SUM(E58:H58) -> -47911 | E58: =SUM(E59:E64) -> 0 | F58: =SUM(F59:F64) -> 0 | G58: =SUM(G59:G64) -> -47911 | H58: =SUM(H59:H64) -> 0
C59: Ագարակ քաղաքի Սբ. Աստվածածին եկեղեցու ամրակայման, նորոգման և վերականգնման գիտանախագծային փաստաթղթեր | D59: =+E59+F59+G59+H59 -> -4000 | G59: =+'Հավելված N 12'!I50 -> -4000
C60: Ագարակ քաղաքի Սբ. Աստվածածին եկեղեցու տարածքի պեղման աշխատանքներ | D60: =+E60+F60+G60+H60 -> -5000 | G60: =+'Հավելված N 12'!I31 -> -5000
C61: Թալինի քարավանատան ամրակայման, նորոգման և վերականգնման գիտանախագծային փաստաթղթեր | D61: =+E61+F61+G61+H61 -> -5111 | G61: =+'Հավելված N 12'!I51 -> -5111
C62: Թալինի քարավանատան տարածքի պեղման աշխատանքներ | D62: =+E62+F62+G62+H62 -> -8000 | G62: =+'Հավելված N 12'!I32 -> -8000
C63: Տիրինկատարի հնավայրի հնագիտական պեղումներ | D63: =+E63+F63+G63+H63 -> -15000 | G63: =+'Հավելված N 12'!I33 -> -15000
C64: Օհանավան գյուղի ժայռափոր համալիրի պեղման, մաքրման աշխատանքներ, քարայրների ամրակայման, տարածքի բարեկարգման գիտանախագծային փաստաթղթեր | D64: =+E64+F64+G64+H64 -> -10800 | G64: =+'Հավելված N 12'!I52+'Հավելված N 12'!I58 -> -10800
C65: ՀՀ Արարատի մարզ | D65: =SUM(E65:H65) -> -900 | E65: =+E66 -> 0 | F65: =+F66 -> 0 | G65: =+G66 -> -900 | H65: =+H66 -> 0
C66: Վերին Դվին գյուղի Ասորական Ումրա եկեղեցու ամրակայման, նորոգման և վերականգնման գիտանախագծային փաստաթղթեր | D66: =+E66+F66+G66+H66 -> -900 | G66: =+'Հավելված N 12'!I53 -> -900
C67: ՀՀ Արմավիրի մարզ | D67: =SUM(E67:H67) -> -5440 | E67: =+E68 -> 0 | F67: =+F68 -> 0 | G67: =+G68 -> -5440 | H67: =+H68 -> 0
C68: Զվարթնոցի տաճարի չօգտագործված բեկորների ցուցադրության համար նախատեսված ժամանակակից նյութերով և ճարտարապետական լուծումներով ցուցասրահի կառուցման գիտանախագծային փաստաթղթեր | D68: =+E68+F68+G68+H68 -> -5440 | G68: =+'Հավելված N 12'!I54 -> -5440
C69: ՀՀ Լոռու մարզ | D69: =SUM(E69:H69) -> -25800 | E69: =SUM(E70:E71) -> 0 | F69: =SUM(F70:F71) -> 0 | G69: =SUM(G70:G71) -> -25800 | H69: =SUM(H70:H71) -> 0
C70: Դսեղ համայնքի Բարձրաքաշի Սբ Գրիգոր վանական համալիրի ինժեներաերկրաբանական հետազոտություն | D70: =+E70+F70+G70+H70 -> -10800 | G70: =+'Հավելված N 12'!I55+'Հավելված N 12'!I59 -> -10800
C71: Լոռի Բերդի հնագիտական պեղումներ | D71: =+E71+F71+G71+H71 -> -15000 | G71: =+'Հավելված N 12'!I34 -> -15000
C72: ՀՀ Կոտայքի մարզ | D72: =SUM(E72:H72) -> 0 | E72: =SUM(E73:E74) -> 0 | F72: =SUM(F73:F74) -> 0 | G72: =SUM(G73:G74) -> 0 | H72: =SUM(H73:H74) -> 0
C73: Կամարիս գյուղի Սբ. Հակոբ եկեղեցու որմնանկարների ամրակայման և վերականգնման գիտանախագծային փաստաթղթեր | D73: =+E73+F73+G73+H73 -> -4092 | G73: -4092
C74: Կամարիս գյուղի Սբ. Հովհաննես եկեղեցու որմնանկարների ամրակայման և վերականգնման գիտանախագծային փաստաթղթեր | D74: =+E74+F74+G74+H74 -> 4092 | G74: 4092
C75: ՀՀ Շիրակի մարզ | D75: =SUM(E75:H75) -> -16200 | E75: =+E76 -> 0 | F75: =+F76 -> 0 | G75: =+G76 -> -16200 | H75: =+H76 -> 0
C76: Երերույքի տաճարի հարակից քարայրների պեղման-մաքրման աշխատանքներ, քարայրների ամրակայման, տարածքի բարեկարգման գիտանախագծային փաստաթղթեր | D76: =+E76+F76+G76+H76 -> -16200 | G76: =+'Հավելված N 12'!I56+'Հավելված N 12'!I60 -> -16200
C77: ՀՀ Սյունիքի մարզ | D77: =SUM(E77:H77) -> -20076.4 | E77: =+E78 -> 0 | F77: =+F78 -> 0 | G77: =+G78 -> -20076.4 | H77: =+H78 -> 0
C78: Երիցվանքի հնագիտական պեղումներ, համալիրի նորոգման, ամրակայման, վերականգնման և տարածքի բարեկարգման գիտանախագծային փաստաթղթեր | D78: =+E78+F78+G78+H78 -> -20076.4 | G78: =+'Հավելված N 12'!I57+'Հավելված N 12'!I61 -> -20076.4
C79: ՀՀ Վայոց Ձորի մարզ | D79: =SUM(E79:H79) -> -15000 | E79: =+E80 -> 0 | F79: =+F80 -> 0 | G79: =+G80 -> -15000 | H79: =+H80 -> 0
C80: Շատիվանք վանական համալիրի հնագիտական պեղումների իրականացում | D80: =+E80+F80+G80+H80 -> -15000 | G80: =+'Հավելված N 12'!I35 -> -15000
A81: 1075 | B81: 32001 | C81: Ներդրումներ թանգարանների և պատկերասրահների հիմնանորոգման համար | D81: =SUM(E81:H81) -> 19791 | E81: =+E83 -> 0 | F81: =+F83 -> 19791 | G81: =+G83 -> 0 | H81: =+H83 -> 0
C82: այդ թվում`
C83: Երևան քաղաք | D83: =SUM(E83:H83) -> 19791 | E83: =SUM(E84:E84) -> 0 | F83: =SUM(F84:F84) -> 19791 | G83: =SUM(G84:G84) -> 0 | H83: =SUM(H84:H84) -> 0
C84: «Ալեքսանդր Թամանյանի անվան ճարտարապետության ազգային թանգարան-ինստիտուտ» ՊՈԱԿ | D84: =+E84+F84+G84+H84 -> 19791 | F84: =+SUM('Հավելված N 12'!I93:I97) -> 19791
A85: 1075 | B85: 32008 | C85: Թանգարանների և պատկերասրահների գույքային և տեխնիկական հագեցվածության բարելավում | D85: =SUM(E85:H85) -> 5127.2 | E85: =+E87 -> 0 | F85: =+F87 -> 0 | G85: =+G87 -> 0 | H85: =+H87 -> 5127.2
C86: այդ թվում`
C87: Երևան քաղաք | D87: =SUM(E87:H87) -> 5127.2 | E87: =+E88 -> 0 | F87: =+F88 -> 0 | G87: =+G88 -> 0 | H87: =+H88 -> 5127.2
C88: «Ալեքսանդր Թամանյանի անվան ճարտարապետության ազգային թանգարան-ինստիտուտ» ՊՈԱԿ | D88: =+E88+F88+G88+H88 -> 5127.2 | H88: =+'Հավելված N 12'!I99 -> 5127.2
A89: 1168 | B89: 32001 | C89: Ներդրումներ թատրոնների և համերգային կազմակերպությունների շենքերի կապիտալ վերանորոգման համար | D89: =SUM(E89:H89) -> 2412.3 | E89: =+E91 -> 0 | F89: =+F91 -> 2412.3 | G89: =+G91 -> 0 | H89: =+H91 -> 0
C90: այդ թվում`
C91: Երևան քաղաք | D91: =SUM(E91:H91) -> 2412.3 | E91: =SUM(E92:E92) -> 0 | F91: =SUM(F92:F92) -> 2412.3 | G91: =SUM(G92:G92) -> 0 | H91: =SUM(H92:H92) -> 0
C92: «Հայաստանի ազգային ֆիլհարմոնիկ նվագախումբ» ՊՈԱԿ | D92: =+E92+F92+G92+H92 -> 2412.3 | F92: =+'Հավելված N 12'!I24 -> 2412.3
A93: 1196 | B93: 12002 | C93: Համայնքային մշակութային-ժամանցային կենտրոնի ստեղծում | D93: =SUM(E93:H93) -> -8319.4 | E93: 0 | F93: =+'Հավելված N 12'!I17+'Հավելված N 12'!I19+'Հավելված N 12'!I20 -> -8319.4 | G93: 0 | H93: 0
A94: 1236 | B94: 32002 | C94: Մանկապարտեզների շենքերի վերակառուցում, հիմնանորոգում | D94: =SUM(E94:H94) -> -35482.2 | E94: =+E96 -> 0 | F94: =+F96 -> -35482.2 | G94: =+G96 -> 0 | H94: =+H96 -> 0
C95: այդ թվում`
C96: Մանկապարտեզների շենքերի վերակառուցում, հիմնանորոգում | D96: =SUM(E96:H96) -> -35482.2 | E96: 0 | F96: =-'Հավելված N 12'!I111-'Հավելված N 12'!I163-'Հավելված N 6'!H138 -> -35482.2 | G96: 0 | H96: 0
A97: 1236 | B97: 32006 | C97: Հանրակրթական դպրոցների, մանկապարտեզների և կրթահամալիրների գույքով և տեխնիկայով ապահովում | D97: =SUM(E97:H97) -> 63378.4 | E97: =+E99+E127+E136+E138 -> 0 | F97: =+F99+F127+F136+F138 -> 0 | G97: =+G99+G127+G136+G138 -> 0 | H97: =+H99+H127+H136+H138 -> 63378.4
C98: այդ թվում`
C99: ՀՀ Արմավիրի մարզ | D99: =SUM(E99:H99) -> 30480.2 | E99: =SUM(E119:E126) -> 0 | F99: =SUM(F119:F126) -> 0 | G99: =SUM(G119:G126) -> 0 | H99: =SUM(H100:H126) -> 30480.2
C100: Արաքս համայնքի Խորոնք գյուղի մանկապարտեզ | D100: =+E100+F100+G100+H100 -> 1246.6 | H100: 1246.6
C101: Արաքս համայնքի Ջրառատ գյուղի մանկապարտեզ | D101: =+E101+F101+G101+H101 -> 1246.6 | H101: 1246.6
C102: Արաքս համայնքի Մեծամոր գյուղի մանկապարտեզ | D102: =+E102+F102+G102+H102 -> 1246.6 | H102: 1246.6
C103: Բաղրամյան համայնքի Հուշակերտ գյուղի մանկապարտեզ | D103: =+E103+F103+G103+H103 -> 1246.6 | H103: 1246.6
...

Sheet Հավելված N 7
F1: Հավելված N 7
E2: ՀՀ կառավարության 2026 թվականի
F3: ______________ ի ___Ն որոշման
B6: ՀԱՅԱՍՏԱՆԻ ՀԱՆՐԱՊԵՏՈՒԹՅԱՆ ԿԱՌԱՎԱՐՈՒԹՅԱՆ 2025 ԹՎԱԿԱՆԻ ԴԵԿՏԵՄԲԵՐԻ 25-Ի N 1910-Ն ՈՐՈՇՄԱՆ N 5 ՀԱՎԵԼՎԱԾԻ N 2 ԱՂՅՈՒՍԱԿՈՒՄ ԿԱՏԱՐՎՈՂ ՓՈՓՈԽՈՒԹՅՈՒՆՆԵՐԸ ԵՎ ԼՐԱՑՈՒՄՆԵՐԸ
G8: հազ. դրամներով
B9: Ծրագրային դասիչ | D9: Բյուջետային գլխավոր կարգադրիչների, ծրագրերի, միջոցառումների, միջոցառումները կատարող պետական մարմինների և ուղղությունների անվանումները | E9: Ցուցանիշների փոփոխությունը (ավելացումները նշված են դրական նշանով, իսկ նվազեցումները՝ փակագծերում)
B10: Ծրագիր | C10: Միջոցառում | E10: Առաջին կիսամյակ | F10: Ինն ամիս | G10: Տարի
D11: ՀՀ ԿՐԹՈՒԹՅԱՆ, ԳԻՏՈՒԹՅԱՆ, ՄՇԱԿՈՒՅԹԻ ԵՎ ՍՊՈՐՏԻ ՆԱԽԱՐԱՐՈՒԹՅՈՒՆ | E11: =+E13+E25+E41+E88+E94+E100+E106+E109+E112 -> 601350.1 | F11: =+F13+F25+F41+F88+F94+F100+F106+F109+F112 -> 529075.9 | G11: =+G13+G25+G41+G88+G94+G100+G106+G109+G112 -> -490703.1
D12: այդ թվում՝
B13: 1045 | C13: 32001 | D13: Մասնագիտական ուսումնական հաստատությունների շենքային պայմանների բարելավում | E13: =+E15 -> -208152.9 | F13: =+F15 -> -375041.1 | G13: =+G15 -> -521729.3
D14: այդ թվում` ըստ կատարողների
D15: ՀՀ կրթության, գիտության, մշակությի և սպորտի նախարարություն | E15: =+E17+E20+E23 -> -208152.9 | F15: =+F17+F20+F23 -> -375041.1 | G15: =+G17+G20+G23 -> -521729.3
D16: այդ թվում՝ ըստ ուղղությունների
D17: Երևան քաղաք | E17: =SUM(E18:E19) -> 0 | F17: =SUM(F18:F19) -> 0 | G17: =SUM(G18:G19) -> 0
D18: =+'Հավելված N 6'!C18 -> «Երևանի հ․8 արհեստագործական պետական ուսումնարան» ՊՈԱԿ | E18: -55597.6 | F18: =+G18 -> -111195.1 | G18: =+'Հավելված N 6'!D18 -> -111195.1
D19: =+'Հավելված N 6'!C19 -> Երևանի հ․8 արհեստագործական պետական ուսումնարան (իրավահաջորդը՝ «Երևանի արհեստի պետական քոլեջ» ՊՈԱԿ) | E19: 55597.6 | F19: =+G19 -> 111195.1 | G19: =+'Հավելված N 6'!D19 -> 111195.1
D20: ՀՀ Շիրակի մարզ | E20: =SUM(E21:E22) -> -130902.9 | F20: =SUM(F21:F22) -> -193741.1 | G20: =SUM(G21:G22) -> -262729.3
D21: =+'Հավելված N 6'!C21 -> «Գյումրու պետական բժշկական քոլեջ» ՊՈԱԿ | E21: =-62318.1 -> -62318.1 | F21: =+G21 -> -32768.6 | G21: =+'Հավելված N 6'!D21 -> -32768.6
D22: =+'Հավելված N 6'!C22 -> «Արթիկի պետական քոլեջ» ՊՈԱԿ | E22: -68584.8 | F22: -160972.5 | G22: =+'Հավելված N 6'!D22 -> -229960.7
D23: ՀՀ Տավուշի մարզ | E23: =+E24 -> -77250 | F23: =+F24 -> -181300 | G23: =+G24 -> -259000
D24: =+'Հավելված N 6'!C24 -> «Դիլիջանի բազմագործառութային պետական քոլեջ» ՊՈԱԿ | E24: -77250 | F24: -181300 | G24: =+'Հավելված N 6'!D24 -> -259000
B25: 1045 | C25: 32005 | D25: Մասնագիտական ուսումնական հաստատությունների շենքերի կառուցում | E25: =+E27+E35 -> -58446.6 | F25: =+F27+F35 -> -22098.2 | G25: =+G27+G35 -> 136291.4
D26: այդ թվում` ըստ կատարողների
D27: ՀՀ կրթության, գիտության, մշակությի և սպորտի նախարարություն | E27: =+E29+E31+E33 -> -58446.6 | F27: =+F29+F31+F33 -> -33098.2 | G27: =+G29+G31+G33 -> 143276.3
D28: այդ թվում՝ ըստ ուղղությունների
D29: Երևան քաղաք | E29: =+E30 -> -58446.6 | F29: =+F30 -> -137170 | G29: =+G30 -> -131383.7
D30: =+'Հավելված N 6'!C28 -> «Երևանի զարդարվեստի պետական արհեստագործական ուսումնարան» ՊՈԱԿ | E30: -58446.6 | F30: -137170 | G30: =+'Հավելված N 6'!D28 -> -131383.7
D31: ՀՀ Շիրակի մարզ | E31: =+E32 -> 0 | F31: =+F32 -> 104071.8 | G31: =+G32 -> 173060
D32: =+'Հավելված N 6'!C32 -> «Արթիկի պետական քոլեջ» ՊՈԱԿ | E32: 0 | F32: =100998.6+2467.2+606 -> 104071.8 | G32: =+'Հավելված N 6'!D32 -> 173060
D33: ՀՀ Տավուշի մարզ | E33: =+E34 -> 0 | F33: =+F34 -> 0 | G33: =+G34 -> 101600
D34: =+'Հավելված N 6'!C34 -> «Դիլիջանի բազմագործառութային պետական քոլեջ» ՊՈԱԿ | E34: 0 | F34: 0 | G34: =+'Հավելված N 6'!D34 -> 101600
D35: ՀՀ քաղաքաշինության կոմիտե | E35: =+E37+E39 -> 0 | F35: =+F37+F39 -> 11000 | G35: =+G37+G39 -> -6984.9
D36: այդ թվում՝ ըստ ուղղությունների
D37: ՀՀ Արմավիրի մարզ | E37: =+E38 -> 0 | F37: =+F38 -> 0 | G37: =+G38 -> -17984.9
D38: =+'Հավելված N 6'!C30 -> «Արմավիրի տարածաշրջանային պետական քոլեջ» ՊՈԱԿ | E38: 0 | F38: 0 | G38: =+'Հավելված N 6'!D30 -> -17984.9
D39: ՀՀ Տավուշի մարզ | E39: =+E40 -> 0 | F39: =+F40 -> 11000 | G39: =+G40 -> 11000
D40: =+'Հավելված N 6'!C35 -> «Նոյեմբերյանի պետական քոլեջ» ՊՈԱԿ | E40: 0 | F40: =+G40 -> 11000 | G40: =+'Հավելված N 6'!D35 -> 11000
B41: 1075 | C41: 21001 | D41: Հուշարձանների ամրակայում, նորոգում և վերականգնում | E41: =+E43 -> -117980.9 | F41: =+F43 -> -131313.7 | G41: =+G43 -> -152172.5
D42: այդ թվում` ըստ կատարողների
D43: ՀՀ կրթության, գիտության, մշակությի և սպորտի նախարարություն | E43: =+E45+E60 -> -117980.9 | F43: =+F45+F60 -> -131313.7 | G43: =+G45+G60 -> -152172.5
D44: այդ թվում՝ ըստ ուղղությունների
D45: 1. Վերականգնողական աշխատանքներ | E45: =+E47+E49+E51+E54+E56+E58 -> -2104.5 | F45: =+F47+F49+F51+F54+F56+F58 -> -15437.3 | G45: =+G47+G49+G51+G54+G56+G58 -> -22645.1
D46: որից`
D47: ՀՀ Արագածոտնի մարզ | E47: =+E48 -> 0 | F47: =+F48 -> -9.1 | G47: =+G48 -> -13
D48: =+'Հավելված N 6'!C41 -> Փարպի համայնքի 5-րդ դարի Ծիրանավոր եկեղեցու ամրակայում, վերականգնում և տարածքի բարեկարգում | E48: 0 | F48: -9.1 | G48: =+'Հավելված N 6'!D41 -> -13
D49: ՀՀ Արարատի մարզ | E49: =+E50 -> -4611 | F49: =+F50 -> -3500 | G49: =+G50 -> -5000
D50: =+'Հավելված N 6'!C43 -> Հավուց Թառ վանական համալիրի Սբ. Ամենափրկիչ եկեղեցու ամրակայում, նորոգում և վերականգնում | E50: -4611 | F50: =-3301.9-66-132.1 -> -3500 | G50: =+'Հավելված N 6'!D43 -> -5000
D51: ՀՀ Արմավիրի մարզ | E51: =SUM(E52:E53) -> 2597.9 | F51: =SUM(F52:F53) -> 1053 | G51: =SUM(G52:G53) -> 912.5
D52: =+'Հավելված N 6'!C45 -> Այգեշատ համայնքի Թարգմանչաց եկեղեցու վերականգնում | E52: =+'Հավելված N 12'!I29-18.8 -> 4122 | F52: =+'Հավելված N 12'!I29-33 -> 4107.8 | G52: =+'Հավելված N 6'!D45 -> 3967.3
D53: =+'Հավելված N 6'!C46 -> Ապագա գյուղի մշակույթի տան Սարգիս Մուրադյանի «Սասունցիներ» որմնանկարի (պետ.ցուցիչ 3.12.1) ամրակայում և վերականգնում | E53: -1524.1 | F53: =+G53 -> -3054.8 | G53: =+'Հավելված N 6'!D46 -> -3054.8
D54: ՀՀ Շիրակի մարզ | E54: =+E55 -> -91.4 | F54: =+F55 -> -320.2 | G54: =+G55 -> -457.4
D55: =+'Հավելված N 6'!C48 -> Աշոցք համայնքի Կրասար բնակավայրի 19-րդ դարի կամրջի նորոգում, ամրակայում և վերականգնում | E55: -91.4 | F55: -320.2 | G55: =+'Հավելված N 6'!D48 -> -457.4
D56: ՀՀ Վայոց Ձորի մարզ | E56: =+E57 -> 0 | F56: =+F57 -> -7460.1 | G56: =+G57 -> -10657.2
D57: =+'Հավելված N 6'!C50 -> Եղեգիս խոշորացված համայնքի Շատիվանքի Սբ․ Սիոն եկեղեցու որմնանկարների ամրակայում և վերականգնում | E57: 0 | F57: =-7439.9-20.2 -> -7460.1 | G57: =+'Հավելված N 6'!D50 -> -10657.2
D58: ՀՀ Տավուշի մարզ | E58: =+E59 -> 0 | F58: =+F59 -> -5200.9 | G58: =+G59 -> -7430
D59: =+'Հավելված N 6'!C52 -> Տավուշի մարզի «Տավուշ» ամրոցի պարիսպների, կից կառույցների, եկեղեցու ամրակայում, վերականգնում և տարածքի բարեկարգում | E59: 0 | F59: =-4921.6-73.8-205.5 -> -5200.9 | G59: =+'Հավելված N 6'!D52 -> -7430
D60: 2. Վավերագրման և ուսումնասիրման աշխատանքներ, (այդ թվում՝ հետախուզում և պեղում), գիտանախագծային փաստաթղթերի կազմում և փորձաքննում | E60: =+E62+E63+E65+E72+E74+E76+E79+E82+E84+E86 -> -115876.4 | F60: =+F62+F63+F65+F72+F74+F76+F79+F82+F84+F86 -> -115876.4 | G60: =+G62+G63+G65+G72+G74+G76+G79+G82+G84+G86 -> -129527.4
D61: որից`
D62: =+'Հավելված N 6'!C55 -> Հայաստանի ուրարտական 7 արձանագրությունների (Մարմաշեն, Սպանդարյան, Զվարթնոց, Գառնի, Լճաշեն, Օձաբերդ, Ծովակ), Ագարակի ուրարտական դմաբարանի, Գառնիի և Արմավիրի հունական արձանագրությունների ամրակայում, պահպանություն (կոնսերվցիա) և տարածքների բարեկարգում | E62: =+E63 -> 0 | F62: =+F63 -> 0 | G62: =+'Հավելված N 6'!D55 -> -700
D63: Երևան քաղաք | E63: =+E64 -> 0 | F63: =+F64 -> 0 | G63: =+G64 -> 2500
D64: =+'Հավելված N 6'!C57 -> Ա. Սպենդիարյանի անվան օպերայի և բալետի ազգային ակադեմիական թատրոնի և «Ա. Խաչատրյան» համերգասրահի ինժեներական ենթակառուցվածքների և տանիքի հիմնանորոգում | E64: 0 | F64: 0 | G64: =+'Հավելված N 6'!D56 -> 2500
D65: ՀՀ Արագածոտնի մարզ | E65: =SUM(E66:E71) -> -38800 | F65: =SUM(F66:F71) -> -38800 | G65: =SUM(G66:G71) -> -47911
D66: =+'Հավելված N 6'!C59 -> Ագարակ քաղաքի Սբ. Աստվածածին եկեղեցու ամրակայման, նորոգման և վերականգնման գիտանախագծային փաստաթղթեր | E66: 0 | F66: 0 | G66: =+'Հավելված N 6'!D59 -> -4000
D67: =+'Հավելված N 6'!C60 -> Ագարակ քաղաքի Սբ. Աստվածածին եկեղեցու տարածքի պեղման աշխատանքներ | E67: =+G67 -> -5000 | F67: =+G67 -> -5000 | G67: =+'Հավելված N 6'!D60 -> -5000
D68: =+'Հավելված N 6'!C61 -> Թալինի քարավանատան ամրակայման, նորոգման և վերականգնման գիտանախագծային փաստաթղթեր | E68: 0 | F68: 0 | G68: =+'Հավելված N 6'!D61 -> -5111
D69: =+'Հավելված N 6'!C62 -> Թալինի քարավանատան տարածքի պեղման աշխատանքներ | E69: =+G69 -> -8000 | F69: =+G69 -> -8000 | G69: =+'Հավելված N 6'!D62 -> -8000
D70: =+'Հավելված N 6'!C63 -> Տիրինկատարի հնավայրի հնագիտական պեղումներ | E70: =+G70 -> -15000 | F70: =+G70 -> -15000 | G70: =+'Հավելված N 6'!D63 -> -15000
D71: =+'Հավելված N 6'!C64 -> Օհանավան գյուղի ժայռափոր համալիրի պեղման, մաքրման աշխատանքներ, քարայրների ամրակայման, տարածքի բարեկարգման գիտանախագծային փաստաթղթեր | E71: =+G71 -> -10800 | F71: =+G71 -> -10800 | G71: =+'Հավելված N 6'!D64 -> -10800
D72: ՀՀ Արարատի մարզ | E72: =+E73 -> 0 | F72: =+F73 -> 0 | G72: =+G73 -> -900
D73: =+'Հավելված N 6'!C66 -> Վերին Դվին գյուղի Ասորական Ումրա եկեղեցու ամրակայման, նորոգման և վերականգնման գիտանախագծային փաստաթղթեր | E73: 0 | F73: 0 | G73: =+'Հավելված N 6'!D66 -> -900
D74: ՀՀ Արմավիրի մարզ | E74: =+E75 -> 0 | F74: =+F75 -> 0 | G74: =+G75 -> -5440
D75: =+'Հավելված N 6'!C68 -> Զվարթնոցի տաճարի չօգտագործված բեկորների ցուցադրության համար նախատեսված ժամանակակից նյութերով և ճարտարապետական լուծումներով ցուցասրահի կառուցման գիտանախագծային փաստաթղթեր | E75: 0 | F75: 0 | G75: =+'Հավելված N 6'!D68 -> -5440
D76: ՀՀ Լոռու մարզ | E76: =SUM(E77:E78) -> -25800 | F76: =SUM(F77:F78) -> -25800 | G76: =SUM(G77:G78) -> -25800
D77: =+'Հավելված N 6'!C70 -> Դսեղ համայնքի Բարձրաքաշի Սբ Գրիգոր վանական համալիրի ինժեներաերկրաբանական հետազոտություն | E77: =+G77 -> -10800 | F77: =+G77 -> -10800 | G77: =+'Հավելված N 6'!D70 -> -10800
D78: =+'Հավելված N 6'!C71 -> Լոռի Բերդի հնագիտական պեղումներ | E78: =+G78 -> -15000 | F78: =+G78 -> -15000 | G78: =+'Հավելված N 6'!D71 -> -15000
D79: ՀՀ Կոտայքի մարզ | E79: =SUM(E80:E81) -> 0 | F79: =SUM(F80:F81) -> 0 | G79: =SUM(G80:G81) -> 0
D80: =+'Հավելված N 6'!C73 -> Կամարիս գյուղի Սբ. Հակոբ եկեղեցու որմնանկարների ամրակայման և վերականգնման գիտանախագծային փաստաթղթեր | E80: 0 | F80: 0 | G80: =+'Հավելված N 6'!D73 -> -4092
D81: =+'Հավելված N 6'!C74 -> Կամարիս գյուղի Սբ. Հովհաննես եկեղեցու որմնանկարների ամրակայման և վերականգնման գիտանախագծային փաստաթղթեր | E81: 0 | F81: 0 | G81: =+'Հավելված N 6'!D74 -> 4092
D82: ՀՀ Շիրակի մարզ | E82: =+E83 -> -16200 | F82: =+F83 -> -16200 | G82: =+G83 -> -16200
D83: =+'Հավելված N 6'!C76 -> Երերույքի տաճարի հարակից քարայրների պեղման-մաքրման աշխատանքներ, քարայրների ամրակայման, տարածքի բարեկարգման գիտանախագծային փաստաթղթեր | E83: =+G83 -> -16200 | F83: =+G83 -> -16200 | G83: =+'Հավելված N 6'!D76 -> -16200
D84: ՀՀ Սյունիքի մարզ | E84: =+E85 -> -20076.4 | F84: =+F85 -> -20076.4 | G84: =+G85 -> -20076.4
D85: =+'Հավելված N 6'!C78 -> Երիցվանքի հնագիտական պեղումներ, համալիրի նորոգման, ամրակայման, վերականգնման և տարածքի բարեկարգման գիտանախագծային փաստաթղթեր | E85: =+G85 -> -20076.4 | F85: =+G85 -> -20076.4 | G85: =+'Հավելված N 6'!D78 -> -20076.4
D86: ՀՀ Վայոց Ձորի մարզ | E86: =+E87 -> -15000 | F86: =+F87 -> -15000 | G86: =+G87 -> -15000
D87: =+'Հավելված N 6'!C80 -> Շատիվանք վանական համալիրի հնագիտական պեղումների իրականացում | E87: =+G87 -> -15000 | F87: =+G87 -> -15000 | G87: =+'Հավելված N 6'!D80 -> -15000
B88: 1075 | C88: 32001 | D88: Ներդրումներ թանգարանների և պատկերասրահների հիմնանորոգման համար | E88: =+E90 -> 0 | F88: =+F90 -> 19791 | G88: =+G90 -> 19791
D89: այդ թվում` ըստ կատարողների
D90: ՀՀ քաղաքաշինության կոմիտե | E90: =+E92 -> 0 | F90: =+F92 -> 19791 | G90: =+G92 -> 19791
D91: այդ թվում՝ ըստ ուղղությունների
D92: Երևան քաղաք | E92: =SUM(E93:E93) -> 0 | F92: =SUM(F93:F93) -> 19791 | G92: =SUM(G93:G93) -> 19791
D93: =+'Հավելված N 6'!C84 -> «Ալեքսանդր Թամանյանի անվան ճարտարապետության ազգային թանգարան-ինստիտուտ» ՊՈԱԿ | E93: 0 | F93: =+G93 -> 19791 | G93: =+'Հավելված N 6'!D84 -> 19791
B94: 1075 | C94: 32008 | D94: Թանգարանների և պատկերասրահների գույքային և տեխնիկական հագեցվածության բարելավում | E94: =+E96 -> 5127.2 | F94: =+F96 -> 5127.2 | G94: =+G96 -> 5127.2
D95: այդ թվում` ըստ կատարողների
D96: ՀՀ քաղաքաշինության կոմիտե | E96: =+E98 -> 5127.2 | F96: =+F98 -> 5127.2 | G96: =+G98 -> 5127.2
D97: այդ թվում՝ ըստ ուղղությունների
D98: Երևան քաղաք | E98: =+E99 -> 5127.2 | F98: =+F99 -> 5127.2 | G98: =+G99 -> 5127.2
D99: =+'Հավելված N 6'!C88 -> «Ալեքսանդր Թամանյանի անվան ճարտարապետության ազգային թանգարան-ինստիտուտ» ՊՈԱԿ | E99: =+G99 -> 5127.2 | F99: =+G99 -> 5127.2 | G99: =+'Հավելված N 6'!D88 -> 5127.2
B100: 1168 | C100: 32001 | D100: Ներդրումներ թատրոնների և համերգային կազմակերպությունների շենքերի կապիտալ վերանորոգման համար | E100: =+E102 -> 2412.3 | F100: =+F102 -> 2412.3 | G100: =+G102 -> 2412.3
D101: այդ թվում` ըստ կատարողների
D102: ՀՀ կրթության, գիտության, մշակությի և սպորտի նախարարություն | E102: =+E104 -> 2412.3 | F102: =+F104 -> 2412.3 | G102: =+G104 -> 2412.3
D103: այդ թվում՝ ըստ ուղղությունների
...

Sheet Հավելված N 8
F1: Հավելված 8
F2: ՀՀ կառավարության 2026 թվականի
F3: ______________ ի ___Ն որոշման
A6: ՀԱՅԱՍՏԱՆԻ ՀԱՆՐԱՊԵՏՈՒԹՅԱՆ ԿԱՌԱՎԱՐՈՒԹՅԱՆ 2025 ԹՎԱԿԱՆԻ ԴԵԿՏԵՄԲԵՐԻ 25-Ի N 1910-Ն ՈՐՈՇՄԱՆ N 5 ՀԱՎԵԼՎԱԾԻ N 7 ԱՂՅՈՒՍԱԿՈՒՄ ԿԱՏԱՐՎՈՂ ԼՐԱՑՈՒՄՆԵՐԸ
A7: հազար դրամներով
A8: Ծրագրային դասիչը | D8: Բյուջետային հատկացումների գլխավոր կարգադրիչների, ծրագրերի, միջոցառումների և միջոցառումները կատարող պետական մարմինների անվանումները | F8: Միջոցառումները կատարող պետական մարմինների և դրամաշնորհ ստացող տնտեսվարող սուբյեկտների անվանումները | G8: Ցուցանիշների փոփոխությունը (ավելացումները նշված են դրական նշանով)
A9: Ծրագիր | B9: Միջոցառում | G9: Տարի
A10: ՀՀ կրթության, գիտության, մշակույթի և սպորտի նախարարություն | G10: =+G11+G15+G39 -> 417932.8
A11: 1111 | B11: Բարձրագույն և հետբուհական մասնագիտական կրթության ծրագիր | G11: =+G12 -> 190409.3
B12: 32001 | C12: Բարձրագույն ուսումնական հաստատությունների և «Զեյթուն» ուսանողական ավան» հիմնադրամի շենքային պայմանների բարելավում | F12: ՀՀ կրթության, գիտության, մշակույթի և սպորտի նախարարություն | G12: =+G14 -> 190409.3
D13: այդ թվում՝ ըստ ուղղությունների և միջոցառումների անվանումների
E14: Գեղարվեստի պետական ակադեմիային ամրացված շենքի էլեկտրամատակարարման համակարգի նորոգում և պատուհանների փոխարինում | F14: «Հայաստանի գեղարվեստի պետական ակադեմիա» հիմնադրամ | G14: =124225.4+66183.9 -> 190409.3
A15: 1075 | B15: Մշակութային ժառանգության ծրագիր | G15: =+G16+G28+G33+G36 -> 221427.9
B16: 21001 | C16: Հուշարձանների ամրակայում, նորոգում և վերականգնում | F16: ՀՀ կրթության, գիտության, մշակույթի և սպորտի նախարարություն | G16: =+G18 -> 128103.3
D17: այդ թվում՝ ըստ ուղղությունների և միջոցառումների անվանումների
E18: Վավերագրման և ուսումնասիրման աշխատանքներ, (այդ թվում՝ հետախուզումև պեղում), գիտանախագծային փաստաթղթերի կազմում և փորձաքննում | G18: =SUM(G19:G27) -> 128103.3
E19: Օհանավան գյուղի ժայռափոր համալիրի պեղման, մաքրման աշխատանքներ, քարայրների ամրակայման, տարածքի բարեկարգման գիտանախագծային փաստաթղթեր | F19: «Պատմամշակութային ժառանգության գիտահետազոտական կենտրոն» ՊՈԱԿ | G19: =+ROUND(10000*1.2,1) -> 12000
E20: Դսեղ համայնքի Բարձրաքաշի Սբ Գրիգոր վանական համալիրի ինժեներաերկրաբանական հետազոտություն | F20: «Պատմամշակութային ժառանգության գիտահետազոտական կենտրոն» ՊՈԱԿ | G20: =+ROUND(10000*1.2,1) -> 12000
E21: Երերույքի տաճարի հարակից քարայրների պեղման-մաքրման աշխատանքներ, քարայրների ամրակայման, տարածքի բարեկարգման գիտանախագծային փաստաթղթեր | F21: «Պատմամշակութային ժառանգության գիտահետազոտական կենտրոն» ՊՈԱԿ | G21: =+ROUND(15000*1.2,1) -> 18000
E22: Երիցվանքի հնագիտական պեղումներ, համալիրի նորոգման, ամրակայման, վերականգնման և տարածքի բարեկարգման գիտանախագծային փաստաթղթեր | F22: «Պատմամշակութային արգելոց թանգարանների և պատմական միջավայրի պահպանության ծառայություն» ՊՈԱԿ | G22: =+ROUND(18763*1.2,1) -> 22515.6
E23: Ագարակ քաղաքի Սբ. Աստվածածին եկեղեցու տարածքի պեղումներ | F23: «Պատմամշակութային արգելոց թանգարանների և պատմական միջավայրի պահպանության ծառայություն» ՊՈԱԿ | G23: =+ROUND(4989.75*1.2,1) -> 5987.7
E24: Թալինի քարավանատան տարածքի պեղումներ | F24: «Պատմամշակութային ժառանգության գիտահետազոտական կենտրոն» ՊՈԱԿ | G24: =+ROUND(8000*1.2,1) -> 9600
E25: Տիրինկատարի հնավայրի հնագիտական պեղումներ | F25: ՀՀ ԳԱԱ «Հնագիտության և ազգագրության ինստիտուտ» ՊՈԱԿ | G25: 15000
E26: Լոռի Բերդի հնագիտական պեղումներ | F26: «Պատմամշակութային ժառանգության գիտահետազոտական կենտրոն» ՊՈԱԿ | G26: =+ROUND(15000*1.2,1) -> 18000
E27: Շատիվանք վանական համալիրի հնագիտական պեղումներ | F27: ՀՀ ԳԱԱ «Հնագիտության և ազգագրության ինստիտուտ» ՊՈԱԿ | G27: 15000
B28: 32001 | C28: Ներդրումներ թանգարանների և պատկերասրահների հիմնանորոգման համար | F28: ՀՀ կրթության, գիտության, մշակույթի և սպորտի նախարարություն | G28: =SUM(G30:G32) -> 53674.6
D29: այդ թվում՝ ըստ ուղղությունների և միջոցառումների անվանումների
E30: Հայաստանի ազգային պատկերասրահի 2-րդ հարկի հուշանվերների խանութ-սրճարան-գրադարանի դիզայնավորում և կահավորում | F30: «Մշակույթի զարգացման» հիմնադրամ | G30: 12840
E31: Հայաստանի պատմության թանգարանի խանութ-սրճարանի դիզայնավորում և կահավորում | F31: «Մշակույթի զարգացման» հիմնադրամ | G31: 24634.4
E32: Հայաստանի պատմության թանգարանի 1-ին հարկի սանհանգույցի վերակառուցում և վերաձևավորում | F32: «Մշակույթի զարգացման» հիմնադրամ | G32: 16200.2
B33: 32008 | C33: Թանգարանների և պատկերասրահների գույքային և տեխնիկական հագեցվածության բարելավում | F33: ՀՀ կրթության, գիտության, մշակույթի և սպորտի նախարարություն | G33: =+G35 -> 29650
D34: այդ թվում՝ ըստ ուղղությունների և միջոցառումների անվանումների
E35: Հուշարձանների տարածքում տեղադրվելիք տեղեկատվական եռալեզու վահանակների (ցուցանակների) ձեռքբերում | F35: «Պատմամշակութային արգելոց թանգարանների և պատմական միջավայրի պահպանության ծառայություն» ՊՈԱԿ | G35: 29650
B36: 32009 | C36: Պատմամշակութային ժառանգության ոլորտի կազմակերպությունների գույքային ապահովվածության բարելավում | F36: ՀՀ կրթության, գիտության, մշակույթի և սպորտի նախարարություն | G36: =+G38 -> 10000
D37: այդ թվում՝ ըստ ուղղությունների և միջոցառումների անվանումների
E38: Ամենագնաց մեքենայի ձեռքբերում | F38: «Պատմամշակութային ժառանգության գիտահետազոտական կենտրոն» ՊՈԱԿ | G38: 10000
A39: 1168 | B39: Արվեստների ծրագիր | G39: =+G40 -> 6095.6
B40: 32007 | C40: Թատերահամերգային կազմակերպությունների նյութատեխնիկական բազայի համալրում | F40: ՀՀ կրթության, գիտության, մշակույթի և սպորտի նախարարություն | G40: =+G42 -> 6095.6
D41: այդ թվում՝ ըստ ուղղությունների և միջոցառումների անվանումների
E42: Մարդատար վերելակների ձեռքբերմ | F42: «Սոս Սարգսյանի անվան hամազգային թատրոն» ՊՈԱԿ | G42: =+ROUND(15.239*400,1) -> 6095.6

Sheet Հավելված N 9
C1: Հավելված N 9
C2: ՀՀ կառավարության 2026 թվականի
C3: ______________ ի ___Ն որոշման
A6: ՀԱՅԱՍՏԱՆԻ ՀԱՆՐԱՊԵՏՈՒԹՅԱՆ ԿԱՌԱՎԱՐՈՒԹՅԱՆ 2025 ԹՎԱԿԱՆԻ ԴԵԿՏԵՄԲԵՐԻ 25-Ի N 1910-Ն ՈՐՈՇՄԱՆ N 6 ՀԱՎԵԼՎԱԾՈՒՄ ԿԱՏԱՐՎՈՂ ԼՐԱՑՈՒՄԸ
G8: հազ. դրամներով
A9: NN ը/կ | B9: Եկամտատեսակը | D9: Գանձման համար պատասխանատու պետական կառավարման մարմինը (մարմինները) | E9: Ցուցանիշների փոփոխությունը (ավելացումները նշված են դրական նշանով)
E10: Առաջին կիսամյակ | F10: Ինն ամիս | G10: Տարի
A11: Այլ եկամուտներ, ընդամենը՝ | E11: =+E13 -> 0 | F11: =+F13 -> 32487.4 | G11: =+G13 -> 32487.4
B12: այդ թվում՝
A13: 6 | B13: Օրենքով և այլ իրավական ակտերով սահմանված պետական բյուջե մուտքագրվող այլ եկամուտներ | E13: =+E14 -> 0 | F13: =+F14 -> 32487.4 | G13: =+G14 -> 32487.4
A14: 6.8 | B14: Նախորդ տարիների՝ ՀՀ պետական բյուջեից ծախսերի ֆինանսավորման նպատակով հատկացված գումարների (բացառությամբ փոխառու միջոցների) վերադարձից մուտքեր | D14: ՀՀ պետական կառավարման մարմիններ | E14: =+'Հավելված N 7'!E147 -> 0 | F14: =+'Հավելված N 7'!F147 -> 32487.4 | G14: =+'Հավելված N 7'!G147 -> 32487.4

Sheet Հավելված N 10
J1: Հավելված N 10
J2: ՀՀ կառավարության 2026 թվականի
J3: ______________ ի ___Ն որոշման
A6: ՀԱՅԱՍՏԱՆԻ ՀԱՆՐԱՊԵՏՈՒԹՅԱՆ ԿԱՌԱՎԱՐՈՒԹՅԱՆ 2025 ԹՎԱԿԱՆԻ ԴԵԿՏԵՄԲԵՐԻ 25-Ի N 1910-Ն ՈՐՈՇՄԱՆ N 9 ՀԱՎԵԼՎԱԾՈՒՄ ԿԱՏԱՐՎՈՂ ՓՈՓՈԽՈՒԹՅՈՒՆՆԵՐԸ ԵՎ ԼՐԱՑՈՒՄՆԵՐԸ
K8: հազար դրամներոով
A9: ԲԳԿ | B9: Ծրագիր | D9: Միջոցառում | H9: Իրականացնողը/ ակտիվն օգտագործողը/ շահառուի ընտրության չափորոշիչը | I9: Արդյունքային չափորոշիչը | J9: Ցուցանիշների փոփոխությունը (ավելացումները նշված են դրական նշանով, իսկ նվազեցումները՝ փակագծերում)
B10: Դասիչը | C10: Անվանումը | D10: Դասիչը | E10: Անվանումը | F10: Նկարագրությունը | G10: Տեսակը | J10: Առաջին կիսամյակ | K10: Ինն ամիս | L10: Տարի
A11: ԸՆԴԱՄԵՆԸ | J11: =+J13+J94 -> 1124540.6 | K11: =+K13+K94 -> 1052266.4 | L11: =+L13+L94 -> 32487.4
A12: այդ թվում՝
A13: ՀՀ ԿՐԹՈՒԹՅԱՆ, ԳԻՏՈՒԹՅԱՆ, ՄՇԱԿՈԻՅԹԻ ԵՎ ՍՊՈՐՏԻ ՆԱԽԱՐԱՐՈՒԹՅՈՒՆ | J13: =+J14+J28+J49+J56+J62+J73+J79 -> 1124540.6 | K13: =+K14+K28+K49+K56+K62+K73+K79 -> 1052266.4 | L13: =+L14+L28+L49+L56+L62+L73+L79 -> 32487.4
B14: 1045 | C14: Մասնագիտական կրթության և ուսուցման ծրագիր | J14: =+J15+J21 -> -266599.5 | K14: =+K15+K21 -> -397139.3 | L14: =+L15+L21 -> -385437.9
D15: 1045 - 32001 | E15: Մասնագիտական ուսումնական հաստատությունների շենքային պայմանների բարելավում | J15: =+'Հավելված N 4'!G17 -> -208152.9 | K15: =+'Հավելված N 4'!H17 -> -375041.1 | L15: =+'Հավելված N 4'!I17 -> -521729.3
F16: Մասնագիտական ուսումնական հաստատությունների շենքերի հիմնանորոգման և նախագծման (շինարարական աշխատանքներ, ջեռուցման համակարգի ստեղծում, ներքին հարդարում, տարածքի բարեկարգում) աշխատանքների իրականացում
G17: Այլ պետական կազմակերպությունների կողմից օգտագործվող ոչ ֆինանսական ակտիվների հետ գործառնություններ
H18: Ակտիվն օգտագործող կազմակերպությունների անվանումները` Մասնագիտական ուսումնական հաստատություններ
I19: Հիմնանորոգվող մասնագիտական ուսումնական հաստատությունների քանակ, հատ | J19: -3 | L19: -3
I20: Մասնակի նորոգվող նախնական (արհեստագործական) և միջին մասնագիտական ուսումնական հաստատությունների քանակ, հատ | J20: 1 | L20: -1
D21: 1045 - 32005 | E21: Մասնագիտական ուսումնական հաստատությունների շենքերի կառուցում | J21: =+'Հավելված N 4'!G18 -> -58446.6 | K21: =+'Հավելված N 4'!H18 -> -22098.2 | L21: =+'Հավելված N 4'!I18 -> 136291.4
F22: Մասնագիտական ուսումնական հաստատությունների շենքերի (մասնաշենքերի) կառուցման և նախագծման աշխատանքների իրականացում
G23: Այլ պետական կազմակերպությունների կողմից օգտագործվող ոչ ֆինանսական ակտիվների հետ գործառնություններ
H24: Ակտիվն օգտագործող կազմակերպությունների անվանումները` Մասնագիտական ուսումնական հաստատություններ
I25: Կառուցվող մասնագիտական ուսումնական հաստատությունների քանակ, հատ | J25: -1 | L25: =2 -> 2
I26: Նախագծանախահաշվային փաստաթղթերի քանակ, հատ | L26: 1
B28: 1075 | C28: Մշակութային ժառանգության ծրագիր | J28: =+J29+J33+J38+J43 -> 108574.2 | K28: =+K29+K33+K38+K43 -> 115032.4 | L28: =+L29+L33+L38+L43 -> 94173.6
D29: 1075 - 21001 | E29: Հուշարձանների ամրակայում, նորոգում և վերականգնում | J29: =+'Հավելված N 4'!G20 -> 10122.4 | K29: =+'Հավելված N 4'!H20 -> -3210.4 | L29: =+'Հավելված N 4'!I20 -> -24069.2
F30: Հուշարձանների գիտանախագծային փաստաթղթերի կազմում, հրատապ ուսումնասիրում, վավերագրման և ուսումնասիրման աշխատանքներ, հետախուզում և հնագիտական պեղում, ամրակայում, նորոգում և վերականգնում
G31: Հանրության կողմից անմիջականորեն օգտագործվող ակտիվների հետ կապված միջոցառումներ
H32: Ծառայությունը մատուցող կազմակերպության անվանումը` Մասնագիտացված կազմակերպություններ
D33: 1075 - 32001 | E33: Ներդրումներ թանգարանների և պատկերասրահների հիմնանորոգման համար | J33: =+'Հավելված N 4'!G21 -> 53674.6 | K33: =+'Հավելված N 4'!H21 -> 73465.6 | L33: =+'Հավելված N 4'!I21 -> 73465.6
F34: Թանգարանների և պատկերասրահների շենքերի, մասնաշենքերի հիմնանորոգում, համաշինարարական աշխատանքներ, ջեռուցման համակարգի իրականացում, ներքին հարդարում, տարածքի բարեկարգում և նախագծում
G35: Այլ պետական կազմակերպությունների կողմից օգտագործվող ոչ ֆինանսական ակտիվների հետ գործառնություններ
H36: Ակտիվն օգտագործող կազմակերպության անվանումը` Թանգարաններ և պատկերասրահներ
I37: Հիմնանորոգվող թանգարաններ և պատկերասրահներ քանակ, հատ | J37: 3 | L37: 3
D38: 1075 - 32008 | E38: Թանգարանների և պատկերասրահների գույքային և տեխնիկական հագեցվածության բարելավում | J38: =+'Հավելված N 4'!G22 -> 34777.2 | K38: =+'Հավելված N 4'!H22 -> 34777.2 | L38: =+'Հավելված N 4'!I22 -> 34777.2
F39: Թանգարանների և պատկերասրահների համար անհրաժեշտ գույքի, տեխնիկայի և սարքավորումների ձեռքբերում
G40: Այլ պետական կազմակերպությունների կողմից օգտագործվող ոչ ֆինանսական ակտիվների հետ գործառնություններ
H41: Ակտիվն օգտագործող կազմակերպության անվանումը` Թանգարաններ և պատկերասրահներ
I42: Կազմակերպությունների թիվը, որտեղ կատարվում են ներդրումները | J42: 2 | L42: 2
D43: 1075 - 32009 | E43: Պատմամշակութային ժառանգության ոլորտի կազմակերպությունների գույքային ապահովվածության բարելավում | J43: =+'Հավելված N 4'!G23 -> 10000 | K43: =+'Հավելված N 4'!H23 -> 10000 | L43: =+'Հավելված N 4'!I23 -> 10000
F44: Պատմամշակութային ժառանգության ոլորտի կազմակերպությունների գույքով և տեխնիկայով ապահովում
G45: Այլ պետական կազմակերպությունների կողմից օգտագործվող ոչ ֆինանսական ակտիվների հետ գործառնություններ
H46: Ակտիվն օգտագործող կազմակերպության անվանումը` Պատմամշակութային ժառանգության ոլորտի կազմակերպություններ
I47: Կազմակերպությունների թիվը, որտեղ կատարվում են ներդրումները | J47: 1 | L47: 1
B49: 1111 | C49: Բարձրագույն և հետբուհական մասնագիտական կրթության ծրագիր | J49: =+J50 -> 190409.3 | K49: =+K50 -> 190409.3 | L49: =+L50 -> 190409.3
D50: 1111 - 32001 | E50: Բարձրագույն ուսումնական հաստատությունների և «Զեյթուն» ուսանողական ավան» հիմնադրամի շենքային պայմանների բարելավում | J50: =+'Հավելված N 4'!G25 -> 190409.3 | K50: =+'Հավելված N 4'!H25 -> 190409.3 | L50: =+'Հավելված N 4'!I25 -> 190409.3
F51: Բարձրագույն ուսումնական հաստատությունների և «Զեյթուն» ուսանողական ավան» հիմնադրամի շենքային պայմանների բարելավում
G52: Այլ պետական կազմակերպությունների կողմից օգտագործվող ոչ ֆինանսական ակտիվների հետ գործառնություններ
H53: Ակտիվն օգտագործող կազմակերպության անվանումը` Բարձրագույն ուսումնական հաստատություններ
I54: Կազմակերպությունների թիվը, որտեղ կատարվում են ներդրումները, հատ | J54: 1 | L54: 1
B56: 1130 | C56: Կրթության, գիտության, մշակույթի և սպորտի բնագավառի պետական քաղաքականության մշակում, ծրագրերի համակարգում և մոնիտորինգ | J56: =+J57 -> 100666.3 | K56: =+K57 -> 100666.3 | L56: =+L57 -> 100666.3
D57: 1130 - 11011 | E57: Կրթության, գիտության, մշակույթի և սպորտի բնագավառներում ծրագրերի ապահովման նպատակով անհրաժեշտ պետական տուրքերի և պարտադիր վճարների կատարում | J57: =+'Հավելված N 4'!G27 -> 100666.3 | K57: =+'Հավելված N 4'!H27 -> 100666.3 | L57: =+'Հավելված N 4'!I27 -> 100666.3
F58: Կրթության, գիտության, մշակույթի և սպորտի բնագավառներում ծրագրերի ապահովման նպատակով անհրաժեշտ ՀՀ պետական կառավարման և տեղական ինքնակառավարման մարմինների կողմից սահմանված պետական տուրքերի և պարտադիր վճարների կատարում
G59: Ծառայությունների մատուցում
H60: Ծառայությունը մատուցողի անվանումը` ՀՀ կրթության, գիտության, մշակույթի և սպորտի նախարարություն
B62: 1168 | C62: Արվեստների ծրագիր | J62: =+J63+J67 -> 8507.9 | K62: =+K63+K67 -> 8507.9 | L62: =+L63+L67 -> 8507.9
D63: 1168 - 32001 | E63: Ներդրումներ թատրոնների և համերգային կազմակերպությունների շենքերի կապիտալ վերանորոգման համար | J63: =+'Հավելված N 4'!G29 -> 2412.3 | K63: =+'Հավելված N 4'!H29 -> 2412.3 | L63: =+'Հավելված N 4'!I29 -> 2412.3
F64: Թատրոնների և համերգային կազմակերպությունների շենքերի մասնաշենքերի հիմնանորոգում, համաշինարարական աշխատանքներ, ջեռուցման համակարգի իրականացում, ներքին հարդարում, տարածքի բարեկարգում և նախագծում
G65: Այլ պետական կազմակերպությունների կողմից օգտագործվող ոչ ֆինանսական ակտիվների հետ գործառնություններ
H66: Ակտիվն օգտագործող կազմակերպության անվանումը` Թատրոններ և համերգային կազմակերպություններ
D67: 1168 - 32007 | E67: Թատերահամերգային կազմակերպությունների նյութատեխնիկական բազայի համալրում | J67: =+'Հավելված N 4'!G30 -> 6095.6 | K67: =+'Հավելված N 4'!H30 -> 6095.6 | L67: =+'Հավելված N 4'!I30 -> 6095.6
F68: Թատերահամերգային կազմակերպությունների համար անհրաժեշտ տեխնիկայի և սարքավորումների ձեռքբերում
G69: Այլ պետական կազմակերպությունների կողմից օգտագործվող ոչ ֆինանսական ակտիվների հետ գործառնություններ
H70: Ակտիվն օգտագործող կազմակերպության անվանումը` Թատրոններ և համերգային կազմակերպություններ
I71: Թատրոնների թիվը, որտեղ կատարվում են ներդրումները, հատ | J71: 1 | L71: 1
B73: 1196 | C73: Մարզերի մշակութային զարգացման ծրագիր | J73: =+J74 -> -52500 | K73: =+K74 -> -33180 | L73: =+L74 -> -8319.4
D74: 1196 - 12002 | E74: Համայնքային մշակութային-ժամանցային կենտրոնի ստեղծում | J74: =+'Հավելված N 4'!G32 -> -52500 | K74: =+'Հավելված N 4'!H32 -> -33180 | L74: =+'Հավելված N 4'!I32 -> -8319.4
F75: Համայնքի մշակութային կյանքի ակտիվացում, հանրային ընթերցանության, գեղագիտական կրթության զարգացում, համայնքի բնակչության որակյալ և բովանդակալից ժամանցի կազմակերպում
G76: Տրանսֆերտների տրամադրում
H77: Շահառուների ընտրության չափանիշները՝ ՀՀ համայնքների ենթակայության մշակութային հաստատություններ
B79: 1236 | C79: Հանրակրթական և նախադպրոցական հաստատությունների հիմնում, կառուցում, բարելավում | J79: =+J80+J84 -> 1035482.4 | K79: =+K80+K84 -> 1067969.8 | L79: =+L80+L84 -> 32487.6
D80: 1236 - 32002 | E80: Մանկապարտեզների շենքերի վերակառուցում, հիմնանորոգում | J80: =+'Հավելված N 4'!G34 -> 4591.4 | K80: =+'Հավելված N 4'!H34 -> 4591.4 | L80: =+'Հավելված N 4'!I34 -> -30890.8
F81: Նախադպրոցական կրթության հասանելիության ապահովման նպատակով՛ մանկապարտեզների շենքերի (մասնաշենքերի), վերակառուցում, հիմնանորոգում և նախագծում
G82: Այլ պետական կազմակերպությունների կողմից օգտագործվող ոչ ֆինանսական ակտիվների հետ գործառնություններ
H83: Ակտիվն օգտագործող կազմակերպության անվանումը` Նախադպրոցական կրթություն իրականացնող ուսումնական հաստատություններ
D84: 1236 - 32006 | E84: Հանրակրթական դպրոցների, մանկապարտեզների և կրթահամալիրների գույքով և տեխնիկայով ապահովում | J84: =+'Հավելված N 4'!G35 -> 1030891 | K84: =+'Հավելված N 4'!H35 -> 1063378.4 | L84: =+'Հավելված N 4'!I35 -> 63378.4
F85: Կրթական ժամանակակից նորմերին և կրթական չափորոշիչներին համապատասխան ուսուցման ծրագրերն իրականացնելու նպատակով հանրակրթական և նախադպրոցական հաստատությունների համար գույքի և տեխնիկայի ձեռքբերում
G86: Այլ պետական կազմակերպությունների կողմից օգտագործվող ոչ ֆինանսական ակտիվների հետ գործառնություններ
H87: Ակտիվն օգտագործող կազմակերպությունների անվանումները` Հանրակրթական դպրոցներ, մանկապարտեզներ և կրթահամալիրներ
I88: Մասնակի գույքով ապահովվող դպրոցների քանակ, հատ | J88: 0 | L88: 8
I89: Սուբվենցիոն ծրագրերի շրջանակներում կառուցվող(ած), վերակառուցվող(ած) և հիմնանորոգվող(ած) մանկապարտեզների թիվը, որոնք ապահովվում են գույքով, հատ | J89: 23 | L89: 23
I90: Անհետաձգելի ծրագրերի շրջանակներում կառուցվող(ած), վերակառուցվող(ած) և հիմնանորոգվող(ած) մանկապարտեզների թիվը, որոնք ապահովվում են գույքով, հատ | J90: 1 | L90: 1
I91: «Մոդուլային» տիպի 144 տեղ հզորությամբ կառուցվող(ած) մսուր–մանկապարտեզների թիվը, որոնք ապահովվում են գույքով, հատ | J91: 2 | L91: 2
I92: Բարեգործական ծրագրերով կառուցվող(ած), վերակառուցվող(ած) և հիմնանորոգվող(ած) մանկապարտեզների թիվը, որոնք ապահովվում են գույքով, հատ | J92: 3 | L92: 3
A94: ՀՀ ԿԱՌԱՎԱՐՈՒԹՅՈՒՆ | J94: =+J95 -> 0 | K94: =+K95 -> 0 | L94: =+L95 -> 0
B95: 1139 | C95: ՀՀ կառավարության պահուստային ֆոնդ | J95: =+J96+J100 -> 0 | K95: =+K96+K100 -> 0 | L95: =+L96+L100 -> 0
D96: 1139 - 11001 | E96: ՀՀ կառավարության պահուստային ֆոնդ | J96: =+'Հավելված N 4'!G39 -> -110666.3 | K96: =+'Հավելված N 4'!H39 -> -110666.3 | L96: =+'Հավելված N 4'!I39 -> -110666.3
F97: ՀՀ պետական բյուջեում նախատեսված ելքերի լրացուցիչ ֆինանսավորման, պետական բյուջեում չկանխատեսված ելքերի, ինչպես նաև բյուջետային երաշխիքների ապահովման ելքերի ֆինանսավորման ապահովում
G98: Ծառայությունների մատուցում
H99: Ծառայությունը մատուցողի անվանումը` ՀՀ կառավարություն
D100: 1139 - 11001 | E100: ՀՀ կառավարության պահուստային ֆոնդ | J100: =+'Հավելված N 4'!G40 -> 110666.3 | K100: =+'Հավելված N 4'!H40 -> 110666.3 | L100: =+'Հավելված N 4'!I40 -> 110666.3
F101: ՀՀ պետական բյուջեում նախատեսված ելքերի լրացուցիչ ֆինանսավորման, պետական բյուջեում չկանխատեսված ելքերի, ինչպես նաև բյուջետային երաշխիքների ապահովման ելքերի ֆինանսավորման ապահովում
G102: Ծառայությունների մատուցում
H103: Ծառայությունը մատուցողի անվանումը` ՀՀ կառավարություն

Sheet Հավելված N 11
J1: Հավելված N 11
J2: ՀՀ կառավարության 2026 թվականի
J3: ______________ ի ___Ն որոշման
A6: ՀԱՅԱՍՏԱՆԻ ՀԱՆՐԱՊԵՏՈՒԹՅԱՆ ԿԱՌԱՎԱՐՈՒԹՅԱՆ 2025 ԹՎԱԿԱՆԻ ԴԵԿՏԵՄԲԵՐԻ 25-Ի N 1910-Ն ՈՐՈՇՄԱՆ N 9.1 ՀԱՎԵԼՎԱԾՈՒՄ ԿԱՏԱՐՎՈՂ ՓՈՓՈԽՈՒԹՅՈՒՆՆԵՐԸ ԵՎ ԼՐԱՑՈՒՄՆԵՐԸ
K8: հազար դրամներոով
A9: ԲՍԿ | B9: Ծրագիր | D9: Միջոցառում | H9: Իրականացնողը/ ակտիվն օգտագործողը/ շահառուի ընտրության չափորոշիչը | I9: Արդյունքային չափորոշիչը | J9: Ցուցանիշների փոփոխությունը (ավելացումները նշված են դրական նշանով, իսկ նվազեցումները՝ փակագծերում)
B10: Դասիչը | C10: Անվանումը | D10: Դասիչը | E10: Անվանումը | F10: Նկարագրությունը | G10: Տեսակը | J10: Առաջին կիսամյակ | K10: Ինն ամիս | L10: Տարի
A11: ԸՆԴԱՄԵՆԸ | J11: =+J13+J83+J103+J118+J126+J134+J143 -> 1124540.6 | K11: =+K13+K83+K103+K118+K126+K134+K143 -> 1052266.4 | L11: =+L13+L83+L103+L118+L126+L134+L143 -> 32487.4
A12: այդ թվում՝
A13: ՀՀ ԿՐԹՈՒԹՅԱՆ, ԳԻՏՈՒԹՅԱՆ, ՄՇԱԿՈԻՅԹԻ ԵՎ ՍՊՈՐՏԻ ՆԱԽԱՐԱՐՈՒԹՅՈՒՆ | J13: =+J14+J27+J48+J55+J61+J72+J77 -> 1083931 | K13: =+K14+K27+K48+K55+K61+K72+K77 -> 948378.4 | L13: =+L14+L27+L48+L55+L61+L72+L77 -> -17933.5
B14: 1045 | C14: Մասնագիտական կրթության և ուսուցման ծրագիր | J14: =+J15+J21 -> -266599.5 | K14: =+K15+K21 -> -408139.3 | L14: =+L15+L21 -> -378453
D15: 1045 - 32001 | E15: Մասնագիտական ուսումնական հաստատությունների շենքային պայմանների բարելավում | J15: =+'Հավելված N 5'!G214 -> -208152.9 | K15: =+'Հավելված N 5'!H214 -> -375041.1 | L15: =+'Հավելված N 5'!I214 -> -521729.3
F16: Մասնագիտական ուսումնական հաստատությունների շենքերի հիմնանորոգման և նախագծման (շինարարական աշխատանքներ, ջեռուցման համակարգի ստեղծում, ներքին հարդարում, տարածքի բարեկարգում) աշխատանքների իրականացում
G17: Այլ պետական կազմակերպությունների կողմից օգտագործվող ոչ ֆինանսական ակտիվների հետ գործառնություններ
H18: Ակտիվն օգտագործող կազմակերպությունների անվանումները` Մասնագիտական ուսումնական հաստատություններ
I19: Հիմնանորոգվող մասնագիտական ուսումնական հաստատությունների քանակ, հատ | J19: -3 | L19: -3
I20: Մասնակի նորոգվող նախնական (արհեստագործական) և միջին մասնագիտական ուսումնական հաստատությունների քանակ, հատ | J20: 1 | L20: -1
D21: 1045 - 32005 | E21: Մասնագիտական ուսումնական հաստատությունների շենքերի կառուցում | J21: =+'Հավելված N 5'!G223 -> -58446.6 | K21: =+'Հավելված N 5'!H223 -> -33098.2 | L21: =+'Հավելված N 5'!I223 -> 143276.3
F22: Մասնագիտական ուսումնական հաստատությունների շենքերի (մասնաշենքերի) կառուցման և նախագծման աշխատանքների իրականացում
G23: Այլ պետական կազմակերպությունների կողմից օգտագործվող ոչ ֆինանսական ակտիվների հետ գործառնություններ
H24: Ակտիվն օգտագործող կազմակերպությունների անվանումները` Մասնագիտական ուսումնական հաստատություններ
I25: Կառուցվող մասնագիտական ուսումնական հաստատությունների քանակ, հատ | J25: -1 | L25: =2-1 -> 1
B27: 1075 | C27: Մշակութային ժառանգության ծրագիր | J27: =+J28+J32+J37+J42 -> 103447 | K27: =+K28+K32+K37+K42 -> 90114.2 | L27: =+L28+L32+L37+L42 -> 69255.4
D28: 1075 - 21001 | E28: Հուշարձանների ամրակայում, նորոգում և վերականգնում | J28: =+'Հավելված N 5'!G120 -> 10122.4 | K28: =+'Հավելված N 5'!H120 -> -3210.4 | L28: =+'Հավելված N 5'!I120 -> -24069.2
F29: Հուշարձանների գիտանախագծային փաստաթղթերի կազմում, հրատապ ուսումնասիրում, վավերագրման և ուսումնասիրման աշխատանքներ, հետախուզում և հնագիտական պեղում, ամրակայում, նորոգում և վերականգնում
G30: Հանրության կողմից անմիջականորեն օգտագործվող ակտիվների հետ կապված միջոցառումներ
H31: Ծառայությունը մատուցող կազմակերպության անվանումը` Մասնագիտացված կազմակերպություններ
D32: 1075 - 32001 | E32: Ներդրումներ թանգարանների և պատկերասրահների հիմնանորոգման համար | J32: =+'Հավելված N 5'!G28 -> 53674.6 | K32: =+'Հավելված N 5'!H28 -> 53674.6 | L32: =+'Հավելված N 5'!I28 -> 53674.6
F33: Թանգարանների և պատկերասրահների շենքերի, մասնաշենքերի հիմնանորոգում, համաշինարարական աշխատանքներ, ջեռուցման համակարգի իրականացում, ներքին հարդարում, տարածքի բարեկարգում և նախագծում
G34: Այլ պետական կազմակերպությունների կողմից օգտագործվող ոչ ֆինանսական ակտիվների հետ գործառնություններ
H35: Ակտիվն օգտագործող կազմակերպության անվանումը` Թանգարաններ և պատկերասրահներ
I36: Հիմնանորոգվող թանգարաններ և պատկերասրահներ քանակ, հատ | J36: 2 | L36: 2
D37: 1075 - 32008 | E37: Թանգարանների և պատկերասրահների գույքային և տեխնիկական հագեցվածության բարելավում | J37: =+'Հավելված N 5'!G44 -> 29650 | K37: =+'Հավելված N 5'!H44 -> 29650 | L37: =+'Հավելված N 5'!I44 -> 29650
F38: Թանգարանների և պատկերասրահների համար անհրաժեշտ գույքի, տեխնիկայի և սարքավորումների ձեռքբերում
G39: Այլ պետական կազմակերպությունների կողմից օգտագործվող ոչ ֆինանսական ակտիվների հետ գործառնություններ
H40: Ակտիվն օգտագործող կազմակերպության անվանումը` Թանգարաններ և պատկերասրահներ
I41: Կազմակերպությունների թիվը, որտեղ կատարվում են ներդրումները | J41: 1 | L41: 1
D42: 1075 - 32009 | E42: Պատմամշակութային ժառանգության ոլորտի կազմակերպությունների գույքային ապահովվածության բարելավում | J42: =+'Հավելված N 5'!G81 -> 10000 | K42: =+'Հավելված N 5'!H81 -> 10000 | L42: =+'Հավելված N 5'!I81 -> 10000
F43: Պատմամշակութային ժառանգության ոլորտի կազմակերպությունների գույքով և տեխնիկայով ապահովում
G44: Այլ պետական կազմակերպությունների կողմից օգտագործվող ոչ ֆինանսական ակտիվների հետ գործառնություններ
H45: Ակտիվն օգտագործող կազմակերպության անվանումը` Պատմամշակութային ժառանգության ոլորտի կազմակերպություններ
I46: Կազմակերպությունների թիվը, որտեղ կատարվում են ներդրումները | J46: 1 | L46: 1
B48: 1111 | C48: Բարձրագույն և հետբուհական մասնագիտական կրթության ծրագիր | J48: =+J49 -> 190409.3 | K48: =+K49 -> 190409.3 | L48: =+L49 -> 190409.3
D49: 1111 - 32001 | E49: Բարձրագույն ուսումնական հաստատությունների և «Զեյթուն» ուսանողական ավան» հիմնադրամի շենքային պայմանների բարելավում | J49: =+'Հավելված N 5'!G241 -> 190409.3 | K49: =+'Հավելված N 5'!H241 -> 190409.3 | L49: =+'Հավելված N 5'!I241 -> 190409.3
F50: Բարձրագույն ուսումնական հաստատությունների և «Զեյթուն» ուսանողական ավան» հիմնադրամի շենքային պայմանների բարելավում
G51: Այլ պետական կազմակերպությունների կողմից օգտագործվող ոչ ֆինանսական ակտիվների հետ գործառնություններ
H52: Ակտիվն օգտագործող կազմակերպության անվանումը` Բարձրագույն ուսումնական հաստատություններ
I53: Կազմակերպությունների թիվը, որտեղ կատարվում են ներդրումները, հատ | J53: 1 | L53: 1
B55: 1130 | C55: Կրթության, գիտության, մշակույթի և սպորտի բնագավառի պետական քաղաքականության մշակում, ծրագրերի համակարգում և մոնիտորինգ | J55: =+J56 -> 100666.3 | K55: =+K56 -> 100666.3 | L55: =+L56 -> 100666.3
D56: 1130 - 11011 | E56: Կրթության, գիտության, մշակույթի և սպորտի բնագավառներում ծրագրերի ապահովման նպատակով անհրաժեշտ պետական տուրքերի և պարտադիր վճարների կատարում | J56: =+'Հավելված N 5'!G258 -> 100666.3 | K56: =+'Հավելված N 5'!H258 -> 100666.3 | L56: =+'Հավելված N 5'!I258 -> 100666.3
F57: Կրթության, գիտության, մշակույթի և սպորտի բնագավառներում ծրագրերի ապահովման նպատակով անհրաժեշտ ՀՀ պետական կառավարման և տեղական ինքնակառավարման մարմինների կողմից սահմանված պետական տուրքերի և պարտադիր վճարների կատարում
G58: Ծառայությունների մատուցում
H59: Ծառայությունը մատուցողի անվանումը` ՀՀ կրթության, գիտության, մշակույթի և սպորտի նախարարություն
B61: 1168 | C61: Արվեստների ծրագիր | J61: =+J62+J66 -> 8507.9 | K61: =+K62+K66 -> 8507.9 | L61: =+L62+L66 -> 8507.9
D62: 1168 - 32001 | E62: Ներդրումներ թատրոնների և համերգային կազմակերպությունների շենքերի կապիտալ վերանորոգման համար | J62: =+'Հավելված N 5'!G96 -> 2412.3 | K62: =+'Հավելված N 5'!H96 -> 2412.3 | L62: =+'Հավելված N 5'!I96 -> 2412.3
F63: Թատրոնների և համերգային կազմակերպությունների շենքերի մասնաշենքերի հիմնանորոգում, համաշինարարական աշխատանքներ, ջեռուցման համակարգի իրականացում, ներքին հարդարում, տարածքի բարեկարգում և նախագծում
G64: Այլ պետական կազմակերպությունների կողմից օգտագործվող ոչ ֆինանսական ակտիվների հետ գործառնություններ
H65: Ակտիվն օգտագործող կազմակերպության անվանումը` Թատրոններ և համերգային կազմակերպություններ
D66: 1168 - 32007 | E66: Թատերահամերգային կազմակերպությունների նյութատեխնիկական բազայի համալրում | J66: =+'Հավելված N 5'!G105 -> 6095.6 | K66: =+'Հավելված N 5'!H105 -> 6095.6 | L66: =+'Հավելված N 5'!I105 -> 6095.6
F67: Թատերահամերգային կազմակերպությունների համար անհրաժեշտ տեխնիկայի և սարքավորումների ձեռքբերում
G68: Այլ պետական կազմակերպությունների կողմից օգտագործվող ոչ ֆինանսական ակտիվների հետ գործառնություններ
H69: Ակտիվն օգտագործող կազմակերպության անվանումը` Թատրոններ և համերգային կազմակերպություններ
I70: Թատրոնների թիվը, որտեղ կատարվում են ներդրումները, հատ | J70: 1 | L70: 1
B72: 1196 | C72: Մարզերի մշակութային զարգացման ծրագիր | J72: =+J73 -> -52500 | K72: =+K73 -> -33180 | L72: =+L73 -> -8319.4
D73: 1196 - 12002 | E73: Համայնքային մշակութային-ժամանցային կենտրոնի ստեղծում | J73: =+'Հավելված N 5'!G66 -> -52500 | K73: =+'Հավելված N 5'!H66 -> -33180 | L73: =+'Հավելված N 5'!I66 -> -8319.4
F74: Համայնքի մշակութային կյանքի ակտիվացում, հանրային ընթերցանության, գեղագիտական կրթության զարգացում, համայնքի բնակչության որակյալ և բովանդակալից ժամանցի կազմակերպում
G75: Տրանսֆերտների տրամադրում
H76: Շահառուների ընտրության չափանիշները՝ ՀՀ համայնքների ենթակայության մշակութային հաստատություններ
B77: 1236 | C77: Հանրակրթական և նախադպրոցական հաստատությունների հիմնում, կառուցում, բարելավում | J77: =+J78 -> 1000000 | K77: =+K78 -> 1000000 | L77: =+L78 -> 0
D78: 1236 - 32006 | E78: Հանրակրթական դպրոցների, մանկապարտեզների և կրթահամալիրների գույքով և տեխնիկայով ապահովում | J78: =+'Հավելված N 5'!G169 -> 1000000 | K78: =+'Հավելված N 5'!H169 -> 1000000 | L78: =+'Հավելված N 5'!I169 -> 0
F79: Կրթական ժամանակակից նորմերին և կրթական չափորոշիչներին համապատասխան ուսուցման ծրագրերն իրականացնելու նպատակով հանրակրթական և նախադպրոցական հաստատությունների համար գույքի և տեխնիկայի ձեռքբերում
G80: Այլ պետական կազմակերպությունների կողմից օգտագործվող ոչ ֆինանսական ակտիվների հետ գործառնություններ
H81: Ակտիվն օգտագործող կազմակերպությունների անվանումները` Հանրակրթական դպրոցներ, մանկապարտեզներ և կրթահամալիրներ
A83: ՀՀ ՔԱՂԱՔԱՇԻՆՈՒԹՅԱՆ ԿՈՄԻՏԵ | J83: =+J84+J91 -> 5127.2 | K83: =+K84+K91 -> 35918.2 | L83: =+L84+L91 -> 17933.3
B84: 1045 | C84: Մասնագիտական կրթության և ուսուցման ծրագիր | J84: =+J85 -> 0 | K84: =+K85 -> 11000 | L84: =+L85 -> -6984.9
D85: 1045 - 32005 | E85: Մասնագիտական ուսումնական հաստատությունների շենքերի կառուցում | J85: =+'Հավելված N 5'!G230 -> 0 | K85: =+'Հավելված N 5'!H230 -> 11000 | L85: =+'Հավելված N 5'!I230 -> -6984.9
F86: Մասնագիտական ուսումնական հաստատությունների շենքերի (մասնաշենքերի) կառուցման և նախագծման աշխատանքների իրականացում
G87: Այլ պետական կազմակերպությունների կողմից օգտագործվող ոչ ֆինանսական ակտիվների հետ գործառնություններ
H88: Ակտիվն օգտագործող կազմակերպությունների անվանումները` Մասնագիտական ուսումնական հաստատություններ
I89: Նախագծանախահաշվային փաստաթղթերի քանակ, հատ | L89: 1
B91: 1075 | C91: Մշակութային ժառանգության ծրագիր | J91: =+J92+J97 -> 5127.2 | K91: =+K92+K97 -> 24918.2 | L91: =+L92+L97 -> 24918.2
D92: 1075 - 32001 | E92: Ներդրումներ թանգարանների և պատկերասրահների հիմնանորոգման համար | J92: =+'Հավելված N 5'!G35 -> 0 | K92: =+'Հավելված N 5'!H35 -> 19791 | L92: =+'Հավելված N 5'!I35 -> 19791
F93: Թանգարանների և պատկերասրահների շենքերի, մասնաշենքերի հիմնանորոգում, համաշինարարական աշխատանքներ, ջեռուցման համակարգի իրականացում, ներքին հարդարում, տարածքի բարեկարգում և նախագծում
G94: Այլ պետական կազմակերպությունների կողմից օգտագործվող ոչ ֆինանսական ակտիվների հետ գործառնություններ
H95: Ակտիվն օգտագործող կազմակերպության անվանումը` Թանգարաններ և պատկերասրահներ
I96: Հիմնանորոգվող թանգարաններ և պատկերասրահներ քանակ, հատ | J96: 1 | L96: 1
D97: 1075 - 32008 | E97: Թանգարանների և պատկերասրահների գույքային և տեխնիկական հագեցվածության բարելավում | J97: =+'Հավելված N 5'!G51 -> 5127.2 | K97: =+'Հավելված N 5'!H51 -> 5127.2 | L97: =+'Հավելված N 5'!I51 -> 5127.2
F98: Թանգարանների և պատկերասրահների համար անհրաժեշտ գույքի, տեխնիկայի և սարքավորումների ձեռքբերում
G99: Այլ պետական կազմակերպությունների կողմից օգտագործվող ոչ ֆինանսական ակտիվների հետ գործառնություններ
H100: Ակտիվն օգտագործող կազմակերպության անվանումը` Թանգարաններ և պատկերասրահներ
I101: Կազմակերպությունների թիվը, որտեղ կատարվում են ներդրումները | J101: 1 | L101: 1
A103: ՀՀ ԱՐՄԱՎԻՐԻ ՄԱՐԶՊԵՏԻ ԱՇԽԱՏԱԿԱԶՄ | J103: =+J104 -> 35071.6 | K103: =+K104 -> 35071.6 | L103: =+L104 -> 35071.6
B104: 1236 | C104: Հանրակրթական և նախադպրոցական հաստատությունների հիմնում, կառուցում, բարելավում | J104: =+J105+J109 -> 35071.6 | K104: =+K105+K109 -> 35071.6 | L104: =+L105+L109 -> 35071.6
D105: 1236 - 32002 | E105: Մանկապարտեզների շենքերի վերակառուցում, հիմնանորոգում | J105: =+'Հավելված N 5'!G152 -> 4591.4 | K105: =+'Հավելված N 5'!H152 -> 4591.4 | L105: =+'Հավելված N 5'!I152 -> 4591.4
F106: Նախադպրոցական կրթության հասանելիության ապահովման նպատակով՛ մանկապարտեզների շենքերի (մասնաշենքերի), վերակառուցում, հիմնանորոգում և նախագծում
G107: Այլ պետական կազմակերպությունների կողմից օգտագործվող ոչ ֆինանսական ակտիվների հետ գործառնություններ
H108: Ակտիվն օգտագործող կազմակերպության անվանումը` Նախադպրոցական կրթություն իրականացնող ուսումնական հաստատություններ
D109: 1236 - 32006 | E109: Հանրակրթական դպրոցների, մանկապարտեզների և կրթահամալիրների գույքով և տեխնիկայով ապահովում | J109: =+'Հավելված N 5'!G176 -> 30480.2 | K109: =+'Հավելված N 5'!H176 -> 30480.2 | L109: =+'Հավելված N 5'!I176 -> 30480.2
F110: Կրթական ժամանակակից նորմերին և կրթական չափորոշիչներին համապատասխան ուսուցման ծրագրերն իրականացնելու նպատակով հանրակրթական և նախադպրոցական հաստատությունների համար գույքի և տեխնիկայի ձեռքբերում
G111: Այլ պետական կազմակերպությունների կողմից օգտագործվող ոչ ֆինանսական ակտիվների հետ գործառնություններ
...

Sheet Հավելված N 12
H1: Հավելված N 12
H2: ՀՀ կառավարության 2026 թվականի
H3: ______________ ի ___Ն որոշման
A6: ՀԱՅԱՍՏԱՆԻ ՀԱՆՐԱՊԵՏՈՒԹՅԱՆ ԿԱՌԱՎԱՐՈՒԹՅԱՆ 2025 ԹՎԱԿԱՆԻ ԴԵԿՏԵՄԲԵՐԻ 25-Ի N 1910-Ն N 10 ՀԱՎԵԼՎԱԾՈՒՄ ԿԱՏԱՐՎՈՂ ՓՈՓՈԽՈՒԹՅՈՒՆՆԵՐԸ ԵՎ ԼՐԱՑՈՒՄՆԵՐԸ
A10: Կոդը | B10: Անվանումը | E10: Գնման ձևը | F10: Չափման միավորը | G10: Միավորի գինը | H10: Ցուցանիշների փոփոխությունը (ավելացումները նշված են դրական նշանով, իսկ նվազեցումները՝ փակագծերում)
H11: Քանակը | I11: Գումարը (հազար դրամ)
A12: 1 | B12: 2 | E12: 3 | F12: 4 | G12: 5 | H12: 6 | I12: 7
A13: ՀՀ կրթության, գիտության, մշակույթի և սպորտի նախարարություն | I13: =+I14+I21+I25+I63 -> -536532.6
A14: Բաժին N 08 | B14: Խումբ N 02 | C14: Դաս N 03 | D14: Մշակույթի տներ, ակումբներ, կենտրոններ | I14: =+I15 -> -8319.4
A15: 1196-12002 | B15: Համայնքային մշակութային-ժամանցային կենտրոնի ստեղծում | I15: =+I16+I18 -> -8319.4
B16: ՄԱՍ II. ԱՇԽԱՏԱՆՔՆԵՐ | I16: =+I17 -> -8108.6
A17: 45611200-1 | B17: մշակութային օբյեկտների հիմնանորոգում | E17: ԲՄ | F17: դրամ | I17: -8108.6
B18: ՄԱՍ III. ԾԱՌԱՅՈՒԹՅՈՒՆՆԵՐ | I18: =SUM(I19:I20) -> -210.8
A19: 71351540-1 | B19: տեխնիկական հսկողության ծառայություններ | E19: ԳՀ | F19: դրամ | I19: -162.2
A20: 98111140-1 | B20: հեղինակային հսկողության ծառայություններ | E20: ՄԱ | F20: դրամ | I20: -48.6
A21: Բաժին N 08 | B21: Խումբ N 02 | C21: Դաս N 05 | D21: Արվեստ | I21: =+I22 -> 2412.3
A22: 1168-32001 | B22: Ներդրումներ թատրոնների և համերգային կազմակերպությունների շենքերի կապիտալ վերանորոգման համար | I22: =+I23 -> 2412.3
B23: ՄԱՍ II. ԱՇԽԱՏԱՆՔՆԵՐ | I23: =SUM(I24:I24) -> 2412.3
A24: 45611200 | B24: մշակութային օբյեկտների հիմնանորոգում | E24: ԲՄ | F24: դրամ | G24: 2412213 | H24: 1 | I24: =+ROUNDUP(G24*H24/1000,1) -> 2412.3 | J24: Արամ Խաչատրյան
A25: Բաժին N 08 | B25: Խումբ N 02 | C25: Դաս N 07 | D25: Հուշարձանների և մշակութային արժեքների վերականգնում և պահպանում | I25: =+I26 -> -152172.5
A26: 1075-21001 | B26: Հուշարձանների ամրակայում, նորոգում և վերականգնում | I26: =+I27+I38 -> -152172.5
B27: ՄԱՍ II. ԱՇԽԱՏԱՆՔՆԵՐ | I27: =SUM(I28:I37) -> -79283.6
A28: 45451600-3 | B28: վերականգնողական աշխատանքներ | E28: ԲՄ | F28: դրամ | I28: -4717 | J28: Հավուց Թառ
A29: 45451600-5 | B29: վերականգնողական աշխատանքներ | E29: ՀԲՄ | F29: դրամ | I29: 4140.8 | J29: Այգեշատ
A30: 45451600-18 | B30: վերականգնողական աշխատանքներ | E30: ԲՄ | F30: դրամ | I30: -7030.9 | J30: Տավուշ
A31: 45111410-4 | B31: հնէաբանական պեղումների վայրերում հողի փորման աշխատանքներ | E31: ԳՀ | F31: դրամ | G31: 5000000 | H31: -1 | I31: =+ROUNDDOWN(G31*H31/1000,1) -> -5000 | J31: Ագարակ
A32: 45111410-5 | B32: հնէաբանական պեղումների վայրերում հողի փորման աշխատանքներ | E32: ԳՀ | F32: դրամ | G32: 8000000 | H32: -1 | I32: =+ROUNDDOWN(G32*H32/1000,1) -> -8000 | J32: Թալին
A33: 45111410-2 | B33: հնէաբանական պեղումների վայրերում հողի փորման աշխատանքներ | E33: ԳՀ | F33: դրամ | G33: 15000000 | H33: -1 | I33: =+ROUNDDOWN(G33*H33/1000,1) -> -15000 | J33: Տիրինկատար
A34: 45111410-1 | B34: հնէաբանական պեղումների վայրերում հողի փորման աշխատանքներ | E34: ԳՀ | F34: դրամ | G34: 15000000 | H34: -1 | I34: =+ROUNDDOWN(G34*H34/1000,1) -> -15000 | J34: Լոռի Բերդ
A35: 45111410-3 | B35: հնէաբանական պեղումների վայրերում հողի փորման աշխատանքներ | E35: ԳՀ | F35: դրամ | G35: 15000000 | H35: -1 | I35: =+ROUNDDOWN(G35*H35/1000,1) -> -15000 | J35: Շատիվանք
A36: 45261168-1 | B36: որմնանկարների պահպանման աշխատանքներ | E36: ԳՀ | F36: դրամ | I36: -10628.3 | J36: Սիոն
A37: 45261168-2 | B37: որմնանկարների պահպանման աշխատանքներ | E37: ԳՀ | F37: դրամ | I37: -3048.2 | J37: Ապագա
B38: ՄԱՍ III. ԾԱՌԱՅՈՒԹՅՈՒՆՆԵՐ | I38: =SUM(I39:I62) -> -72888.9
A39: 71351540-1 | B39: տեխնիկական հսկողության ծառայություններ | E39: ԳՀ | F39: դրամ | I39: -13 | J39: Փարպի
A40: 71351540-3 | B40: տեխնիկական հսկողության ծառայություններ | E40: ԳՀ | F40: դրամ | I40: -94.3 | J40: Հավուց Թառ
A41: 71351540-4 | B41: տեխնիկական հսկողության ծառայություններ | E41: ԳՀ | F41: դրամ | I41: -47.1 | J41: Այգեշատ
A42: 71351540-17 | B42: տեխնիկական հսկողության ծառայություններ | E42: ԳՀ | F42: դրամ | I42: -6.6 | J42: Ապագա
A43: 71351540-8 | B43: տեխնիկական հսկողության ծառայություններ | E43: ԳՀ | F43: դրամ | I43: -457.4 | J43: Կրասար
A44: 71351540-10 | B44: տեխնիկական հսկողության ծառայություններ | E44: ԳՀ | F44: դրամ | I44: -28.9 | J44: Սիոն
A45: 71351540-15 | B45: տեխնիկական հսկողության ծառայություններ | E45: ԳՀ | F45: դրամ | I45: -105.5 | J45: Տավուշ
A46: 98111140-3 | B46: հեղինակային հսկողության ծառայություններ | E46: ՄԱ | F46: դրամ | I46: -188.7 | J46: Հավուց Թառ
A47: 98111140-4 | B47: հեղինակային հսկողության ծառայություններ | E47: ՄԱ | F47: դրամ | I47: -126.4 | J47: Այգեշատ
A48: 98111140-18 | B48: հեղինակային հսկողության ծառայություններ | E48: ՄԱ | F48: դրամ | I48: -293.6 | J48: Տավուշ
A49: 71241200-10 | B49: նախագծերի պատրաստում, ծախսերի գնահատում | E49: ԳՀ | F49: դրամ | I49: -700 | J49: 7 արձանագրություն
A50: 71241200-1 | B50: նախագծերի պատրաստում, ծախսերի գնահատում | E50: ԳՀ | F50: դրամ | I50: -4000 | J50: Ագարակ
A51: 71241200-12 | B51: նախագծերի պատրաստում, ծախսերի գնահատում | E51: ԳՀ | F51: դրամ | I51: -5111 | J51: Թալին
A52: 71241200-3 | B52: նախագծերի պատրաստում, ծախսերի գնահատում | E52: ԳՀ | F52: դրամ | G52: 10000000 | H52: -1 | I52: =+ROUND(G52*H52/1000,1) -> -10000 | J52: Օհանավան
A53: 71241200-4 | B53: նախագծերի պատրաստում, ծախսերի գնահատում | E53: ԳՀ | F53: դրամ | I53: -900 | J53: Վերին Դվին
A54: 71241200-5 | B54: նախագծերի պատրաստում, ծախսերի գնահատում | E54: ԳՀ | F54: դրամ | I54: -5440 | J54: Զվարթնոց
A55: 71241200-6 | B55: նախագծերի պատրաստում, ծախսերի գնահատում | E55: ԳՀ | F55: դրամ | G55: 10000000 | H55: -1 | I55: =+ROUND(G55*H55/1000,1) -> -10000 | J55: Դսեղ
A56: 71241200-8 | B56: նախագծերի պատրաստում, ծախսերի գնահատում | E56: ԳՀ | F56: դրամ | G56: 15000000 | H56: -1 | I56: =+ROUND(G56*H56/1000,1) -> -15000 | J56: Երերույք
A57: 71241200-9 | B57: նախագծերի պատրաստում, ծախսերի գնահատում | E57: ԳՀ | F57: դրամ | G57: 18763000 | H57: -1 | I57: =+ROUND(G57*H57/1000,1) -> -18763 | J57: Երիցվանք
A58: 50531140-3 | B58: փորձաքննության ծառայություններ | E58: ԳՀ | F58: դրամ | G58: 800000 | H58: -1 | I58: =+ROUND(G58*H58/1000,1) -> -800 | J58: Օհանավան
A59: 50531140-6 | B59: փորձաքննության ծառայություններ | E59: ԳՀ | F59: դրամ | G59: 800000 | H59: -1 | I59: =+ROUND(G59*H59/1000,1) -> -800 | J59: Դսեղ
A60: 50531140-8 | B60: փորձաքննության ծառայություններ | E60: ԳՀ | F60: դրամ | G60: 1200000 | H60: -1 | I60: =+ROUND(G60*H60/1000,1) -> -1200 | J60: Երերույք
A61: 50531140-9 | B61: փորձաքննության ծառայություններ | E61: ԳՀ | F61: դրամ | G61: 1313410 | H61: -1 | I61: =+ROUND(G61*H61/1000,1) -> -1313.4 | J61: Երիցվանք
A62: 50531140 | B62: փորձաքննության ծառայություններ | E62: ԳՀ | F62: դրամ | G62: 2500000 | H62: 1 | I62: =+ROUNDUP(G62*H62/1000,1) -> 2500 | J62: Օպերա
A63: Բաժին N 09 | B63: Խումբ N 06 | C63: Դաս N 01 | D63: Կրթությանը տրամադրվող օժանդակ ծառայություններ | I63: =+I64+I76 -> -378453
A64: 1045-32001 | B64: Մասնագիտական ուսումնական հաստատությունների շենքային պայմանների բարելավում | I64: =+I65+I69 -> -521729.3
B65: ՄԱՍ II. ԱՇԽԱՏԱՆՔՆԵՐ | I65: =SUM(I66:I68) -> -503073
A66: 45611100-3 | B66: կրթական օբյեկտների հիմնանորոգում | E66: ԲՄ | F66: դրամ | I66: =-51676.6+14160+8576.8 -> -28939.8 | J66: Գյումրու բժշկական
A67: 45611100-4 | B67: կրթական օբյեկտների հիմնանորոգում | E67: ԲՄ | F67: դրամ | G67: 224133200 | H67: -1 | I67: =+ROUNDDOWN(G67*H67/1000,1) -> -224133.2 | J67: Արթիկ
A68: 45611100-5 | B68: կրթական օբյեկտների հիմնանորոգում | E68: ԲՄ | F68: դրամ | G68: 250000000 | H68: -1 | I68: =+ROUNDDOWN(G68*H68/1000,1) -> -250000 | J68: Դիլիջան
B69: ՄԱՍ III. ԾԱՌԱՅՈՒԹՅՈՒՆՆԵՐ | I69: =SUM(I70:I75) -> -18656.3
A70: 71351540-4 | B70: տեխնիկական հսկողության ծառայություններ | E70: ԳՀ | F70: դրամ | I70: -3550.2 | J70: Գյումրու բժշկական
A71: 71351540-5 | B71: տեխնիկական հսկողության ծառայություններ | E71: ԳՀ | F71: դրամ | G71: 4482700 | H71: -1 | I71: =+ROUNDDOWN(G71*H71/1000,1) -> -4482.7 | J71: Արթիկ
A72: 71351540-3 | B72: տեխնիկական հսկողության ծառայություններ | E72: ԳՀ | F72: դրամ | G72: 7500000 | H72: -1 | I72: =+ROUNDDOWN(G72*H72/1000,1) -> -7500 | J72: Դիլիջան
A73: 98111140-3 | B73: հեղինակային հսկողության ծառայություններ | E73: ՄԱ | F73: դրամ | I73: -278.6 | J73: Գյումրու բժշկական
A74: 98111140-4 | B74: հեղինակային հսկողության ծառայություններ | E74: ՄԱ | F74: դրամ | G74: 1344800 | H74: -1 | I74: =+ROUNDDOWN(G74*H74/1000,1) -> -1344.8 | J74: Արթիկ
A75: 98111140-5 | B75: հեղինակային հսկողության ծառայություններ | E75: ՄԱ | F75: դրամ | G75: 1500000 | H75: -1 | I75: =+ROUNDDOWN(G75*H75/1000,1) -> -1500 | J75: Դիլիջան
A76: 1045-32005 | B76: Մասնագիտական ուսումնական հաստատությունների շենքերի կառուցում | I76: =+I77+I81 -> 143276.3
B77: ՄԱՍ II. ԱՇԽԱՏԱՆՔՆԵՐ | I77: =SUM(I78:I80) -> 145425.6
A78: 45221142-1 | B78: ընդհանուր շինարարական աշխատանքներ | E78: ԲՄ | F78: դրամ | I78: =-189147.8+64573.4 -> -124574.4 | J78: Զարդարվեստ
A79: 45221142 | B79: ընդհանուր շինարարական աշխատանքներ | E79: ԲՄ | F79: դրամ | G79: 170000000 | H79: 1 | I79: =+ROUNDDOWN(G79*H79/1000,1) -> 170000 | J79: Արթիկ
A80: 45221142 | B80: ընդհանուր շինարարական աշխատանքներ | E80: ԲՄ | F80: դրամ | G80: 100000000 | H80: 1 | I80: =+ROUNDDOWN(G80*H80/1000,1) -> 100000 | J80: Դիլիջան
B81: ՄԱՍ III. ԾԱՌԱՅՈՒԹՅՈՒՆՆԵՐ | I81: =SUM(I82:I87) -> -2149.3
A82: 71351540-1 | B82: տեխնիկական հսկողության ծառայություններ | E82: ԳՀ | F82: դրամ | G82: 5674400 | H82: -1 | I82: =+ROUNDDOWN(G82*H82/1000,1) -> -5674.4 | J82: Զարդարվեստ
A83: 71351540 | B83: տեխնիկական հսկողության ծառայություններ | E83: ԳՀ | F83: դրամ | G83: 2040000 | H83: 1 | I83: =+ROUNDDOWN(G83*H83/1000,1) -> 2040 | J83: Արթիկ
A84: 71351540 | B84: տեխնիկական հսկողության ծառայություններ | E84: ԳՀ | F84: դրամ | G84: 1000000 | H84: 1 | I84: =+ROUNDDOWN(G84*H84/1000,1) -> 1000 | J84: Դիլիջան
A85: 98111140-1 | B85: հեղինակային հսկողության ծառայություններ | E85: ՄԱ | F85: դրամ | G85: 1134900 | H85: -1 | I85: =+ROUNDDOWN(G85*H85/1000,1) -> -1134.9 | J85: Զարդարվեստ
A86: 98111140 | B86: հեղինակային հսկողության ծառայություններ | E86: ՄԱ | F86: դրամ | G86: 1020000 | H86: 1 | I86: =+ROUNDDOWN(G86*H86/1000,1) -> 1020 | J86: Արթիկ
A87: 98111140 | B87: հեղինակային հսկողության ծառայություններ | E87: ՄԱ | F87: դրամ | G87: 600000 | H87: 1 | I87: =+ROUNDDOWN(G87*H87/1000,1) -> 600 | J87: Դիլիջան
A89: ՀՀ քաղաքաշինության կոմիտե | I89: =+I90+I105 -> 17933.3
A90: Բաժին N 08 | B90: Խումբ N 02 | C90: Դաս N 02 | D90: Թանգարաններ և ցուցասրահներ | I90: =+I91+I98 -> 24918.2
A91: 1075-32001 | B91: Ներդրումներ թանգարանների և պատկերասրահների հիմնանորոգման համար | I91: =+I92 -> 19791
B92: ՄԱՍ II. ԱՇԽԱՏԱՆՔՆԵՐ | I92: =SUM(I93:I97) -> 19791
A93: 45311126-503 | B93: մալուխային ենթակառուցվածքների տեղադրում | E93: ԳՀ | F93: դրամ | G93: 11400000 | H93: 1 | I93: =+ROUNDUP(G93*H93/1000,1) -> 11400 | J93: Թամանյան
A94: 45311112-501 | B94: հրդեհի տագնապի համակարգերի տեղադրման աշխատանքներ | E94: ԳՀ | F94: դրամ | G94: 1591000 | H94: 1 | I94: =+ROUNDUP(G94*H94/1000,1) -> 1591 | J94: Թամանյան
A95: 45311139-501 | B95: ազդանշանային սարքերի տեղադրում | E95: ԳՀ | F95: դրամ | G95: 950000 | H95: 1 | I95: =+ROUNDUP(G95*H95/1000,1) -> 950 | J95: Թամանյան
A96: 45421122-501 | B96: պատուհանների տեղադրում | E96: ԳՀ | F96: դրամ | G96: 546000 | H96: 1 | I96: =+ROUNDUP(G96*H96/1000,1) -> 546 | J96: Թամանյան
A97: 45331123-501 | B97: ջերմաստիճանի կարգավորման համակարգի տեղադրման աշխատանքներ | E97: ԳՀ | F97: դրամ | G97: 5304000 | H97: 1 | I97: =+ROUNDUP(G97*H97/1000,1) -> 5304 | J97: Թամանյան
A98: 1075-32008 | B98: Թանգարանների և պատկերասրահների գույքային և տեխնիկական հագեցվածության բարելավում | I98: =+I99 -> 5127.2
B99: ՄԱՍ I. ԱՊՐԱՆՔՆԵՐ | I99: =SUM(I100:I104) -> 5127.2
A100: 39131200-501 | B100: արխիվի դարակաշարեր | E100: ԷԱՃ | F100: հատ | G100: 69996 | H100: 10 | I100: =+ROUNDUP(G100*H100/1000,1) -> 700 | J100: Թամանյան
A101: 30216110-501 | B101: սկաներներ համակարգիչների համար | E101: ԷԱՃ | F101: հատ | G101: 798000 | H101: 1 | I101: =+ROUNDUP(G101*H101/1000,1) -> 798 | J101: Թամանյան
A102: 30211280-501 | B102: համակարգիչ ամբողջը մեկում | E102: ԷԱՃ | F102: հատ | G102: 478800 | H102: 1 | I102: =+ROUNDUP(G102*H102/1000,1) -> 478.8 | J102: Թամանյան
A103: 30232140-501 | B103: պլոտերներ | E103: ԷԱՃ | F103: հատ | G103: 950400 | H103: 1 | I103: =+ROUNDUP(G103*H103/1000,1) -> 950.4 | J103: Թամանյան
A104: 38591100-501 | B104: շարժական լաբորատոր համալիր | E104: ԷԱՃ | F104: հատ | G104: 2200000 | H104: 1 | I104: =+ROUNDUP(G104*H104/1000,1) -> 2200 | J104: Թամանյան
A105: Բաժին N 09 | B105: Խումբ N 06 | C105: Դաս N 01 | D105: Կրթությանը տրամադրվող օժանդակ ծառայություններ | I105: =+I106 -> -6984.9
A106: 1045-32005 | B106: Մասնագիտական ուսումնական հաստատությունների շենքերի կառուցում | I106: =+I107 -> -6984.9
...

Sheet Հավելված N 13
F1: Հավելված N 13
I2: ՀՀ կառավարության 2026 թվականի
I3: ______________ ի ___Ն որոշման
A6: ՀԱՅԱՍՏԱՆԻ ՀԱՆՐԱՊԵՏՈՒԹՅԱՆ 2026 ԹՎԱԿԱՆԻ ՊԵՏԱԿԱՆ ԲՅՈՒՋԵՈՎ ՆԱԽԱՏԵՍՎԱԾ՝ ՀԱՅԱՍՏԱՆԻ ՀԱՆՐԱՊԵՏՈՒԹՅԱՆ ԿԱՌԱՎԱՐՈՒԹՅԱՆ ՊԱՀՈՒՍՏԱՅԻՆ ՖՈՆԴԻՑ ՀԱՏԿԱՑՈՒՄՆԵՐ ԿԱՏԱՐԵԼՈՒ ՎԵՐԱԲԵՐՅԱԼ
I8: հազ. դրամներով
A9: Գործառական դասիչը | D9: Ծրագրային դասիչը | F9: Բյուջետային հատկացումների գլխավոր կարգադրիչների, ծրագրերի, միջոցառումների և միջոցառումները կատարող պետական մարմինների անվանումները | G9: Ցուցանիշների փոփոխությունը (ավելացումները նշված են դրական նշանով, իսկ նվազեցումները` փակագծերում)
A10: Բաժին | B10: Խումբ | C10: Դաս | D10: Ծրագիր | E10: Միջոցառում | G10: Առաջին կիսամյակ | H10: Ինն ամիս | I10: Տարի
F11: ԸՆԴԱՄԵՆԸ | G11: =+G13+G33 -> 0 | H11: =+H13+H33 -> 0 | I11: =+I13+I33 -> 0
F12: այդ թվում
F13: ՀՀ ԿԱՌԱՎԱՐՈՒԹՅՈՒՆ | G13: =+G14 -> -110666.3 | H13: =+H14 -> -110666.3 | I13: =+I14 -> -110666.3
A14: 11 | F14: ՀԻՄՆԱԿԱՆ ԲԱԺԻՆՆԵՐԻՆ ՉԴԱՍՎՈՂ ՊԱՀՈՒՍՏԱՅԻՆ ՖՈՆԴԵՐ | G14: =+G16 -> -110666.3 | H14: =+H16 -> -110666.3 | I14: =+I16 -> -110666.3
F15: այդ թվում`
B16: 01 | F16: ՀՀ կառավարության և համայնքների պահուստային ֆոնդ | G16: =+G18 -> -110666.3 | H16: =+H18 -> -110666.3 | I16: =+I18 -> -110666.3
F17: այդ թվում`
C18: 01 | F18: ՀՀ կառավարության պահուստային ֆոնդ | G18: =+G20 -> -110666.3 | H18: =+H20 -> -110666.3 | I18: =+I20 -> -110666.3
F19: այդ թվում`
F20: ՀՀ կառավարություն | G20: =+G22 -> -110666.3 | H20: =+H22 -> -110666.3 | I20: =+I22 -> -110666.3
F21: այդ թվում`
D22: 1139 | E22: ՀՀ կառավարության պահուստային ֆոնդ | F22: ՀՀ կառավարության պահուստային ֆոնդ | G22: =+G24 -> -110666.3 | H22: =+H24 -> -110666.3 | I22: =+I24 -> -110666.3
F23: այդ թվում`
E24: 11001 | F24: ՀՀ կառավարության պահուստային ֆոնդ | G24: =+G26 -> -110666.3 | H24: =+H26 -> -110666.3 | I24: =+I26 -> -110666.3
F25: այդ թվում` ըստ կատարողների
F26: ՀՀ կառավարություն | G26: =+G28 -> -110666.3 | H26: =+H28 -> -110666.3 | I26: =+I28 -> -110666.3
F27: այդ թվում՝ բյուջետային ծախսերի տնտեսագիտական դասակարգման հոդվածներ
F28: ԸՆԴԱՄԵՆԸ ԾԱԽՍԵՐ | G28: =+G29 -> -110666.3 | H28: =+H29 -> -110666.3 | I28: =+I29 -> -110666.3
F29: ԸՆԹԱՑԻԿ ԾԱԽՍԵՐ | G29: =+G30 -> -110666.3 | H29: =+H30 -> -110666.3 | I29: =+I30 -> -110666.3
F30: ԱՅԼ ԾԱԽՍԵՐ | G30: =+G31 -> -110666.3 | H30: =+H31 -> -110666.3 | I30: =+I31 -> -110666.3
F31: - Պահուստային միջոցներ | G31: =+'Հավելված N 5'!G284 -> -110666.3 | H31: =+'Հավելված N 5'!H284 -> -110666.3 | I31: =+'Հավելված N 5'!I284 -> -110666.3
F33: ՀՀ ԿՐԹՈՒԹՅԱՆ, ԳԻՏՈՒԹՅԱՆ, ՄՇԱԿՈՒՅԹԻ ԵՎ ՍՊՈՐՏԻ ՆԱԽԱՐԱՐՈՒԹՅՈՒՆ | G33: =+G34+G53 -> 110666.3 | H33: =+H34+H53 -> 110666.3 | I33: =+I34+I53 -> 110666.3
A34: 08 | F34: ՀԱՆԳԻՍՏ, ՄՇԱԿՈՒՅԹ ԵՎ ԿՐՈՆ | G34: =+G36 -> 10000 | H34: =+H36 -> 10000 | I34: =+I36 -> 10000
F35: այդ թվում`
B36: 02 | F36: Մշակութային ծառայություններ | G36: =+G38 -> 10000 | H36: =+H38 -> 10000 | I36: =+I38 -> 10000
F37: այդ թվում`
C38: 04 | F38: Այլ մշակութային կազմակերպություններ | G38: =+G40 -> 10000 | H38: =+H40 -> 10000 | I38: =+I40 -> 10000
F39: այդ թվում`
F40: ՀՀ կրթության, գիտության, մշակույթի և սպորտի նախարարություն | G40: =+G42 -> 10000 | H40: =+H42 -> 10000 | I40: =+I42 -> 10000
F41: այդ թվում`
D42: 1075 | E42: Մշակութային ժառանգության ծրագիր | G42: =+G44 -> 10000 | H42: =+H44 -> 10000 | I42: =+I44 -> 10000
F43: այդ թվում`
E44: 32009 | F44: Պատմամշակութային ժառանգության ոլորտի կազմակերպությունների գույքային ապահովվածության բարելավում | G44: =+G46 -> 10000 | H44: =+H46 -> 10000 | I44: =+I46 -> 10000
F45: այդ թվում` ըստ կատարողների
F46: ՀՀ կրթության, գիտության, մշակույթի և սպորտի նախարարություն | G46: =+G48 -> 10000 | H46: =+H48 -> 10000 | I46: =+I48 -> 10000
F47: այդ թվում` բյուջետային ծախսերի տնտեսագիտական դասակարգման հոդվածներ
F48: ԸՆԴԱՄԵՆԸ ԾԱԽՍԵՐ | G48: =G49 -> 10000 | H48: =H49 -> 10000 | I48: =I49 -> 10000
F49: ԸՆԹԱՑԻԿ ԾԱԽՍԵՐ | G49: =+G50 -> 10000 | H49: =+H50 -> 10000 | I49: =+I50 -> 10000
F50: ԴՐԱՄԱՇՆՈՐՀՆԵՐ | G50: =+G51 -> 10000 | H50: =+H51 -> 10000 | I50: =+I51 -> 10000
F51: ԿԱՊԻՏԱԼ ԴՐԱՄԱՇՆՈՐՀՆԵՐ ՊԵՏԱԿԱՆ ՀԱՏՎԱԾԻ ԱՅԼ ՄԱԿԱՐԴԱԿՆԵՐԻՆ | G51: =+G52 -> 10000 | H51: =+H52 -> 10000 | I51: =+I52 -> 10000
F52: - Կապիտալ դրամաշնորհներ պետական և համայնքային ոչ առևտրային կազմակերպություններին | G52: =+'Հավելված N 5'!G87 -> 10000 | H52: =+'Հավելված N 5'!H87 -> 10000 | I52: =+'Հավելված N 5'!I87 -> 10000
A53: 09 | F53: ԿՐԹՈՒԹՅՈՒՆ | G53: =+G55 -> 100666.3 | H53: =+H55 -> 100666.3 | I53: =+I55 -> 100666.3
F54: այդ թվում`
B55: 08 | F55: Կրթություն (այլ դասերին չպատկանող) | G55: =+G57 -> 100666.3 | H55: =+H57 -> 100666.3 | I55: =+I57 -> 100666.3
F56: այդ թվում`
C57: 01 | F57: Կրթություն (այլ դասերին չպատկանող) | G57: =+G59 -> 100666.3 | H57: =+H59 -> 100666.3 | I57: =+I59 -> 100666.3
F58: այդ թվում`
F59: ՀՀ կրթության, գիտության, մշակույթի և սպորտի նախարարություն | G59: =+G61 -> 100666.3 | H59: =+H61 -> 100666.3 | I59: =+I61 -> 100666.3
F60: այդ թվում`
D61: 1130 | E61: Կրթության, գիտության, մշակույթի և սպորտի բնագավառի պետական քաղաքականության մշակում, ծրագրերի համակարգում և մոնիտորինգ | G61: =+G63 -> 100666.3 | H61: =+H63 -> 100666.3 | I61: =+I63 -> 100666.3
F62: այդ թվում`
E63: 11011 | F63: Կրթության, գիտության, մշակույթի և սպորտի բնագավառներում ծրագրերի ապահովման նպատակով անհրաժեշտ պետական տուրքերի և պարտադիր վճարների կատարում | G63: =+G65 -> 100666.3 | H63: =+H65 -> 100666.3 | I63: =+I65 -> 100666.3
F64: այդ թվում` ըստ կատարողների
F65: ՀՀ կրթության , գիտության, մշակույթի և սպորտի նախարարություն | G65: =+G67 -> 100666.3 | H65: =+H67 -> 100666.3 | I65: =+I67 -> 100666.3
F66: այդ թվում` բյուջետային ծախսերի տնտեսագիտական դասակարգման հոդվածներ
F67: ԸՆԴԱՄԵՆԸ ԾԱԽՍԵՐ | G67: =G68 -> 100666.3 | H67: =H68 -> 100666.3 | I67: =I68 -> 100666.3
F68: ԸՆԹԱՑԻԿ ԾԱԽՍԵՐ | G68: =+G69 -> 100666.3 | H68: =+H69 -> 100666.3 | I68: =+I69 -> 100666.3
F69: ԱՅԼ ԾԱԽՍԵՐ | G69: =+G70+G72 -> 100666.3 | H69: =+H70+H72 -> 100666.3 | I69: =+I70+I72 -> 100666.3
F70: ՀԱՐԿԵՐ, ՊԱՐՏԱԴԻՐ ՎՃԱՐՆԵՐ ԵՎ ՏՈՒՅԺԵՐ, ՈՐՈՆՔ ԿԱՌԱՎԱՐՄԱՆ ՏԱՐԲԵՐ ՄԱԿԱՐԴԱԿՆԵՐԻ ԿՈՂՄԻՑ ԿԻՐԱՌՎՈՒՄ ԵՆ ՄԻՄՅԱՆՑ ՆԿԱՏՄԱՄԲ | G70: =+G71 -> 100666.3 | H70: =+H71 -> 100666.3 | I70: =+I71 -> 100666.3
F71: - Պարտադիր վճարներ | G71: =+'Հավելված N 5'!G264 -> 100666.3 | H71: =+'Հավելված N 5'!H264 -> 100666.3 | I71: =+'Հավելված N 5'!I264 -> 100666.3
