Workbook

Sheet 1
G1: Հավելված N1
I2: ՀՀ կառավարության 2026 թվականի
I3: ______________ ի ___Ն որոշման
B5: «ՀԱՅԱUՏԱՆԻ ՀԱՆՐԱՊԵՏՈՒԹՅԱՆ 2026 ԹՎԱԿԱՆԻ ՊԵՏԱԿԱՆ ԲՅՈՒՋԵԻ ՄԱUԻՆ» OՐԵՆՔԻ N 1 ՀԱՎԵԼՎԱԾԻ N 2 ԱՂՅՈՒՍԱԿՈՒՄ ԿԱՏԱՐՎՈՂ ՎԵՐԱԲԱՇԽՈՒՄԸ, ՓՈՓՈԽՈՒԹՅՈՒՆՆԵՐԸ ԵՎ ԼՐԱՑՈՒՄԸ, ՀԱՅԱՍՏԱՆԻ ՀԱՆՐԱՊԵՏՈՒԹՅԱՆ ԿԱՌԱՎԱՐՈՒԹՅԱՆ 2025 ԹՎԱԿԱՆԻ ԴԵԿՏԵՄԲԵՐԻ 25-Ի N 1910-Ն ՈՐՈՇՄԱՆ N 5 ՀԱՎԵԼՎԱԾԻ N 1 ԱՂՅՈՒՍԱԿՈՒՄ ԿԱՏԱՐՎՈՂ ՓՈՓՈԽՈՒԹՅՈՒՆՆԵՐԸ ԵՎ ԼՐԱՑՈՒՄԸ
H6: հազար դրամներով
A7: ԲԳԿ | B7: Ծրագրային դասիչը | D7: ԲԳԿ/Ծրագրի /միջոցառման անվանումը | E7: Ծրագրի նպատակը/Միջոցառման նկարագրությունը | F7: Վերջնական արդյունքի նկարագրությունը/Միջոցառման տեսակը | G7: Ցուցանիշների փոփոխությունը (ավելացումները նշված են դրական նշանով, իսկ նվազեցումները՝ փակագծերում)
G8: Առաջին կիսամյակ | H8: Ինն ամիս | I8: Տարի
B9: Ծրագիր | C9: Միջոցառում
A10: ԸՆԴԱՄԵՆԸ | G10: =G11+G25 -> 0 | H10: =H11+H25 -> 0 | I10: =I11+I25 -> 0
A11: ՀՀ տարածքային կառավարման և ենթակառուցվածքների նախարարություն | G11: =G12+G19+G21 -> 0 | H11: =H12+H19+H21 -> 0 | I11: =I12+I19+I21 -> 0
B12: 1004 | D12: Ոռոգման համակարգի առողջացում | E12: Ոռոգման ծառայությունների հասանելիության և մատչելիության ապահովում | F12: Ոռոգման ջրի մատակարարման արդյունավետության և հասանելիության բարելավում, կորուստների կրճատում | G12: =SUM(G13:G18) -> 210000 | H12: =SUM(H13:H18) -> 0 | I12: =SUM(I13:I18) -> 0
C13: 1004 - 11020 | D13: Հակահեղեղային անհետաձգելի միջոցառումներ | E13: Գետերի և հեղեղատարների մաքրման, հեղեղների կանխման և վերացման աշխատանքներ | F13: Ծառայությունների մատուցում | G13: 446528.2 | H13: 446528.2 | I13: 446528.2
C14: 1004-31002 | D14: Ոռոգման համակարգերի հիմնանորոգում | E14: Ոռոգման համակարգերի հիմնանորոգում | F14: Պետական մարմինների կողմից օգտագործվող ոչ ֆինանսական ակտիվների հետ գործառնություններ | G14: ='3'!G31 -> -20000 | H14: ='3'!H31 -> 0 | I14: ='3'!I31 -> 0
C15: 1004-31009 | D15: Օրվա կարգավորման ջրավազանների կառուցում և վերակառուցում | E15: Օրվա կարգավորման ջրավազանների կառուցման և վերակառուցման համար նախագծերի և աշխատանքների ձեռք բերում | F15: Պետական մարմինների կողմից օգտագործվող ոչ ֆինանսական ակտիվների հետ գործառնություններ | G15: ='3'!G40 -> -70000 | H15: ='3'!H40 -> 0 | I15: ='3'!I40 -> 0
C16: 1004 - 31012 | D16: Գետերի և հեղեղատարների տեղամասերի ամրացման և մաքրման աշխատանքներ | E16: Գետերի և հեղեղատարների տեղամասերի ամրացման և մաքրման համար նախագծերի և աշխատանքների ձեռքբերում | F16: Պետական մարմինների կողմից օգտագործվող ոչ ֆինանսական ակտիվների հետ գործառնություններ | G16: ='3'!G50 -> 0 | H16: ='3'!H50 -> -281437.4 | I16: ='3'!I50 -> -281437.4
C17: 1004 - 31013 | D17: Փոքր և միջին ջրամբարների կառուցում | E17: Փոքր և միջին ջրամբարների կառուցման աշխատանքներ | F17: Պետական մարմինների կողմից օգտագործվող ոչ ֆինանսական ակտիվների հետ գործառնություններ | G17: -100000 | H17: ='3'!H67 -> -165090.8 | I17: ='3'!I67 -> -165090.8
C18: 1004 - 31014 | D18: Ջրամբարների վերականգնման և վերազինման աշխատանքներ | E18: Ջրամբարների վերականգնման և վերազինման համար նախագծերի և աշխատանքների ձեռքբերում | F18: Պետական մարմինների կողմից օգտագործվող ոչ ֆինանսական ակտիվների հետ գործառնություններ | G18: -46528.2 | H18: 0 | I18: 0
B19: 1017 | D19: Որոտան-Արփա-Սևան թունելի ջրային համակարգի կառավարում | E19: Որոտան-Արփա-Սևան թունելի ջրային համակարգի պահպանում և շահագործում | F19: Որոտան-Արփա-Սևան հիդրոհամակարգի անվտանգության և հուսալիության ապահովում | G19: =G20 -> -50000
C20: 1017- 11001 | D20: Արփա-Սևան թունելի ընթացիկ շահագործում և պահպանում | E20: Որոտան-Արփա-Սևան թունելի շահագործման և պահպանման նպատակով ծառայությունների մատուցում | F20: Ծառայությունների մատուցում | G20: -50000
B21: 1072 | D21: Ջրամատակարարաման և ջրահեռացման բարելավում | E21: Ջրամատակարարման ծառայությունների հասանելիության և մատչելիության ապահովում | F21: Խմելու ջրի մատակարարման և ջրահեռացման համակարգի բարելավում, կորուստների կրճատում | G21: =SUM(G22:G24) -> -160000 | H21: =SUM(H22:H24) -> 0 | I21: =SUM(I22:I24) -> 0
C22: 1072 - 11018 | D22: Աուդիտորական ծառայությունների ձեռքբերում | E22: Վարձակալության պայմանագրի շրջանակներում տեխնիկական աուդիտորական կազմակերպության ծառայությունների ձեռքբերում | F22: Ծառայությունների մատուցում | G22: -60000 | H22: 0 | I22: 0
C23: 1072 - 31010 | D23: Ջրամատակարարման և ջրահեռացման համակարգի հիմնանորոգում | E23: Ջրամատակարարման և ջրահեռացման համակարգի հիմնանորոգման նախագծերի և աշխատանքների ձեռքբերում | F23: Պետական մարմինների կողմից օգտագործվող ոչ ֆինանսական ակտիվների հետ գործառնություններ | G23: ='3'!G113 -> -50000 | H23: 0 | I23: 0
C24: 1072 - 31013 | D24: Ջրամատակարարման և ջրահեռացման համակարգի կառուցում | E24: Ջրամատակարարման և ջրահեռացման համակարգի կառուցման նախագծերի և աշխատանքների ձեռքբերում | F24: Պետական մարմինների կողմից օգտագործվող ոչ ֆինանսական ակտիվների հետ գործառնություններ | G24: -50000
A25: ՀՀ կառավարություն | G25: =G26 -> 0 | H25: =H26 -> 0 | I25: =I26 -> 0
B26: 1139 | D26: ՀՀ կառավարության պահուստային ֆոնդ | E26: Պետական բյուջեում չկանխատեսված, ինչպես նաեւ բյուջետային երաշխիքների ապահովման ծախսերի ֆինանսավորման ապահովում | F26: Պահուստային ֆոնդի կառավարման արդյունավետության և թափանցիկության ապահովում | G26: =G27+G28 -> 0 | H26: =H27+H28 -> 0 | I26: =I27+I28 -> 0
C27: 1139 - 11001 | D27: ՀՀ կառավարության պահուստային ֆոնդ | E27: ՀՀ պետական բյուջեում նախատեսված ելքերի լրացուցիչ ֆինանսավորման, պետական բյուջեում չկանխատեսված ելքերի, ինչպես նաև բյուջետային երաշխիքների ապահովման ելքերի ֆինանսավորման ապահովում | F27: Ծառայությունների մատուցում | G27: =-G28 -> 446528.2 | H27: =-H28 -> 446528.2 | I27: =-I28 -> 446528.2
C28: 1139 - 11001 | D28: ՀՀ կառավարության պահուստային ֆոնդ | E28: ՀՀ պետական բյուջեում նախատեսված ելքերի լրացուցիչ ֆինանսավորման, պետական բյուջեում չկանխատեսված ելքերի, ինչպես նաև բյուջետային երաշխիքների ապահովման ելքերի ֆինանսավորման ապահովում | F28: Ծառայությունների մատուցում | G28: =-G13 -> -446528.2 | H28: =-H13 -> -446528.2 | I28: =-I13 -> -446528.2
D30: ՂԵԿԱՎԱՐ ՝ Ա. ՀԱՐՈՒԹՅՈՒՆՅԱՆ

Sheet 2
A1: Հավելված N 2
A2: ՀՀ կառավարության 2026 թվականի
A3: -ի N -Ն որոշման
A4: «ՀԱՅԱՍՏԱՆԻ ՀԱՆՐԱՊԵՏՈՒԹՅԱՆ 2026 ԹՎԱԿԱՆԻ ՊԵՏԱԿԱՆ ԲՅՈՒՋԵԻ ՄԱՍԻՆ» ՀԱՅԱՍՏԱՆԻ ՀԱՆՐԱՊԵՏՈՒԹՅԱՆ ՕՐԵՆՔԻ N 1 ՀԱՎԵԼՎԱԾԻ N 3 ԱՂՅՈՒՍԱԿՈՒՄ ԿԱՏԱՐՎՈՂ ՓՈՓՈԽՈՒԹՅՈՒՆՆԵՐԸ
G5: հազար դրամներով
A6: Ծրագրային դասիչ | C6: Բյուջետային գլխավոր կարգադրիչների, ծրագրերի, միջոցառումների և ուղղությունների անվանումները | D6: Ցուցանիշների փոփոխությունը (Նվազեցումները նշված են փակագծերում)
D7: Ընդամենը, | E7: այդ թվում՝
A8: Ծրագիր | B8: Միջոցառում | E8: Կառուցման աշխատանքներ | F8: Վերակառուցման, վերանորոգման և վերականգնման աշխատանքներ | G8: Նախագծահե- տազոտական, գեոդեզիա- քարտեզագրա- կան աշխա- տանքներ | H8: Ոչ ֆինանսական այլ ակտիվների ձեռքբերում
C9: ԸՆԴԱՄԵՆԸ | D9: =SUM(E9:H9) -> -446528.2 | E9: =E10 -> -281437.4 | F9: =F10 -> 0 | G9: =G10 -> -165090.8 | H9: =H10 -> 0
C10: ՀՀ ՏԱՐԱԾՔԱՅԻՆ ԿԱՌԱՎԱՐՄԱՆ ԵՎ ԵՆԹԱԿԱՌՈՒՑՎԱԾՔՆԵՐԻ ՆԱԽԱՐԱՐՈՒԹՅՈՒՆ | D10: =SUM(E10:H10) -> -446528.2 | E10: =E12+E15 -> -281437.4 | F10: =F12+F15 -> 0 | G10: =G12+G15 -> -165090.8 | H10: =H12+H15 -> 0
C11: այդ թվում`
A12: 1004 | B12: 31012 | C12: Գետերի և հեղեղատարների տեղամասերի ամրացման և մաքրման աշխատանքներ | D12: =SUM(E12:H12) -> -281437.4 | E12: =SUM(E14:E15) -> -281437.4 | F12: =SUM(F14:F15) -> 0 | H12: =SUM(H14:H15) -> 0
C13: այդ թվում՝
C14: Գավառագետի հունի մաքրման և ափերի ամրացման աշխատանքներ | D14: =SUM(E14:H14) -> -281437.4 | E14: -281437.4
A15: 1004 | B15: 31013 | C15: Փոքր և միջին ջրամբարների կառուցում | D15: =SUM(E15:H15) -> -165090.8 | E15: 0 | F15: 0 | G15: -165090.8 | H15: 0

Sheet 3
A1: Հավելված N 3
A2: ՀՀ կառավարության 2026 թվականի
A3: -ի N -Ն որոշման
A4: ՀԱՅԱՍՏԱՆԻ ՀԱՆՐԱՊԵՏՈՒԹՅԱՆ ԿԱՌԱՎԱՐՈՒԹՅԱՆ 2025 ԹՎԱԿԱՆԻ ԴԵԿՏԵՄԲԵՐԻ 25-Ի N 1910-Ն ՈՐՈՇՄԱՆ N 3 ԵՎ N 4 ՀԱՎԵԼՎԱԾՆԵՐՈՒՄ ԿԱՏԱՐՎՈՂ ՓՈՓՈԽՈՒԹՅՈՒՆՆԵՐԸ ԵՎ ԼՐԱՑՈՒՄՆԵՐԸ
H5: հազար դրամներով
A6: Գործառական դասիչը | D6: Ծրագրային դասիչը | F6: Բյուջետային ծախսերի գործառական դասակարգման բաժինների, խմբերի և դասերի, բյուջետային ծրագրերի միջոցառումների, բյուջետային հատկացումների գլխավոր կարգադրիչների անվանումները | G6: Ցուցանիշների փոփոխությունը (ավելացումները նշված են դրական նշանով, իսկ նվազեցումները՝ փակագծերում)
A7: Բաժին | B7: Խումբ | C7: Դաս | D7: Ծրագիր | E7: Միջոցառում | G7: Առաջին կիսամյակ | H7: Ինն ամիս | I7: Տարի
F8: ԸՆԴԱՄԵՆԸ ԾԱԽՍԵՐ | G8: =G10 -> 0 | H8: =H10 -> 0 | I8: =I10 -> 0
F9: այդ թվում`
F10: ՀՀ տարածքային կառավարման և ենթակառուցվածքների նախարարություն | G10: =G12+G79+G96 -> 0 | H10: =H12+H79+H96 -> 0 | I10: =I12+I79+I96 -> 0
F11: այդ թվում`
A12: 04 | F12: ՏՆՏԵՍԱԿԱՆ ՀԱՐԱԲԵՐՈՒԹՅՈՒՆՆԵՐ | G12: =G14 -> 210000 | H12: =H14 -> 0 | I12: =I14 -> 0
F13: այդ թվում`
B14: 02 | F14: Գյուղատնտեսություն, անտառային տնտեսություն, ձկնորսություն և որսորդություն | G14: =G16 -> 210000 | H14: =H16 -> 0 | I14: =I16 -> 0
F15: այդ թվում`
C16: 04 | F16: Ոռոգում | G16: =G18 -> 210000 | H16: =H18 -> 0 | I16: =I18 -> 0
F17: այդ թվում`
F18: ՀՀ տարածքային կառավարման և ենթակառուցվածքների նախարարություն | G18: =G20 -> 210000 | H18: =H20 -> 0 | I18: =I20 -> 0
F19: այդ թվում`
D20: 1004 | F20: Ոռոգման համակարգի առողջացում | G20: =G22+G40+G50+G59+G68+G31 -> 210000 | H20: =H22+H40+H50+H59+H68 -> 0 | I20: =I22+I40+I50+I59+I68 -> 0
F21: այդ թվում`
E22: 11020 | F22: Հակահեղեղային անհետաձգելի միջոցառումներ | G22: =G24 -> 446528.2 | H22: =H24 -> 446528.2 | I22: =I24 -> 446528.2
F23: այդ թվում` ըստ կատարողների
F24: ՀՀ տարածքային կառավարման և ենթակառուցվածքների նախարարության ջրային կոմիտե | G24: =G26 -> 446528.2 | H24: =H26 -> 446528.2 | I24: =I26 -> 446528.2
F25: այդ թվում` բյուջետային ծախսերի տնտեսագիտական դասակարգման հոդվածներ
F26: ԸՆԴԱՄԵՆԸ ԾԱԽՍԵՐ | G26: =G27 -> 446528.2 | H26: =H27 -> 446528.2 | I26: =I27 -> 446528.2
F27: ԸՆԹԱՑԻԿ ԾԱԽՍԵՐ | G27: =G28 -> 446528.2 | H27: =H28 -> 446528.2 | I27: =I28 -> 446528.2
F28: ԾԱՌԱՅՈՒԹՅՈՒՆՆԵՐԻ ԵՎ ԱՊՐԱՆՔՆԵՐԻ ՁԵՌՔԲԵՐՈՒՄ | G28: =G29 -> 446528.2 | H28: =H29 -> 446528.2 | I28: =I29 -> 446528.2
F29: Պայմանագրային այլ ծառայությունների ձեռքբերում | G29: =G30 -> 446528.2 | H29: =H30 -> 446528.2 | I29: =I30 -> 446528.2
F30: - Ընդհանուր բնույթի այլ ծառայություններ | G30: ='1'!G13 -> 446528.2 | H30: ='1'!H13 -> 446528.2 | I30: ='1'!I13 -> 446528.2
E31: 31002 | F31: Ոռոգման համակարգերի հիմնանորոգում | G31: =G33 -> -20000 | H31: =H33 -> 0 | I31: =I33 -> 0
F32: այդ թվում` ըստ կատարողների
F33: ՀՀ տարածքային կառավարման և ենթակառուցվածքների նախարարության ջրային կոմիտե | G33: =G35 -> -20000 | H33: =H35 -> 0 | I33: =I35 -> 0
F34: այդ թվում` բյուջետային ծախսերի տնտեսագիտական դասակարգման հոդվածներ
F35: ԸՆԴԱՄԵՆԸ ԾԱԽՍԵՐ | G35: =G36 -> -20000 | H35: =H36 -> 0 | I35: =I36 -> 0
F36: ՈՉ ՖԻՆԱՆՍԱԿԱՆ ԱԿՏԻՎՆԵՐԻ ԳԾՈՎ ԾԱԽՍԵՐ | G36: =G37 -> -20000 | H36: =H37 -> 0 | I36: =I37 -> 0
F37: ՀԻՄՆԱԿԱՆ ՄԻՋՈՑՆԵՐ | G37: =G38 -> -20000 | H37: =H38 -> 0 | I37: =I38 -> 0
F38: ՇԵՆՔԵՐ ԵՎ ՇԻՆՈՒԹՅՈՒՆՆԵՐ | G38: =G39 -> -20000 | H38: =H39 -> 0 | I38: =I39 -> 0
F39: - Շենքերի և շինությունների կապիտալ վերանորոգում | G39: ='4'!D14 -> -20000 | H39: 0 | I39: 0
E40: 31009 | F40: Օրվա կարգավորման ջրավազանների կառուցում և վերակառուցում | G40: =G42 -> -70000
F41: այդ թվում` ըստ կատարողների
F42: ՀՀ տարածքային կառավարման և ենթակառուցվածքների նախարարության ջրային կոմիտե | G42: =G44 -> -70000
F43: այդ թվում` բյուջետային ծախսերի տնտեսագիտական դասակարգման հոդվածներ
F44: ԸՆԴԱՄԵՆԸ ԾԱԽՍԵՐ | G44: =G45 -> -70000
F45: ՈՉ ՖԻՆԱՆՍԱԿԱՆ ԱԿՏԻՎՆԵՐԻ ԳԾՈՎ ԾԱԽՍԵՐ | G45: =G46 -> -70000
F46: ՀԻՄՆԱԿԱՆ ՄԻՋՈՑՆԵՐ | G46: =G47 -> -70000
F47: ՇԵՆՔԵՐ ԵՎ ՇԻՆՈՒԹՅՈՒՆՆԵՐ | G47: =G48+G49 -> -70000
F48: - Շենքերի և շինությունների շինարարություն | G48: ='4'!D24 -> -30000
F49: - Շենքերի և շինությունների կապիտալ վերանորոգում | G49: ='4'!D23 -> -40000
E50: 31012 | F50: Գետերի և հեղեղատարների տեղամասերի ամրացման և մաքրման աշխատանքներ | G50: =G52 -> 0 | H50: =H52 -> -281437.4 | I50: =I52 -> -281437.4
F51: այդ թվում` ըստ կատարողների
F52: ՀՀ տարածքային կառավարման և ենթակառուցվածքների նախարարության ջրային կոմիտե | G52: =G54 -> 0 | H52: =H54 -> -281437.4 | I52: =I54 -> -281437.4
F53: այդ թվում` բյուջետային ծախսերի տնտեսագիտական դասակարգման հոդվածներ
F54: ԸՆԴԱՄԵՆԸ ԾԱԽՍԵՐ | G54: =G55 -> 0 | H54: =H55 -> -281437.4 | I54: =I55 -> -281437.4
F55: ՈՉ ՖԻՆԱՆՍԱԿԱՆ ԱԿՏԻՎՆԵՐԻ ԳԾՈՎ ԾԱԽՍԵՐ | G55: =G56 -> 0 | H55: =H56 -> -281437.4 | I55: =I56 -> -281437.4
F56: ՀԻՄՆԱԿԱՆ ՄԻՋՈՑՆԵՐ | G56: =G57 -> 0 | H56: =H57 -> -281437.4 | I56: =I57 -> -281437.4
F57: ՇԵՆՔԵՐ ԵՎ ՇԻՆՈՒԹՅՈՒՆՆԵՐ | G57: =G58 -> 0 | H57: =H58 -> -281437.4 | I57: =I58 -> -281437.4
F58: - Շենքերի և շինությունների շինարարություն | G58: 0 | H58: ='2'!D14 -> -281437.4 | I58: =H58 -> -281437.4
E59: 31013 | F59: Փոքր և միջին ջրամբարների կառուցում | G59: =G61 -> -100000 | H59: =H61 -> -165090.8 | I59: =I61 -> -165090.8
F60: այդ թվում` ըստ կատարողների
F61: ՀՀ տարածքային կառավարման և ենթակառուցվածքների նախարարության ջրային կոմիտե | G61: =G63 -> -100000 | H61: =H63 -> -165090.8 | I61: =I63 -> -165090.8
F62: այդ թվում` բյուջետային ծախսերի տնտեսագիտական դասակարգման հոդվածներ
F63: ԸՆԴԱՄԵՆԸ ԾԱԽՍԵՐ | G63: =G64 -> -100000 | H63: =H64 -> -165090.8 | I63: =I64 -> -165090.8
F64: ՈՉ ՖԻՆԱՆՍԱԿԱՆ ԱԿՏԻՎՆԵՐԻ ԳԾՈՎ ԾԱԽՍԵՐ | G64: =G65 -> -100000 | H64: =H65 -> -165090.8 | I64: =I65 -> -165090.8
F65: ՀԻՄՆԱԿԱՆ ՄԻՋՈՑՆԵՐ | G65: =G66 -> -100000 | H65: =H66 -> -165090.8 | I65: =I66 -> -165090.8
F66: ԱՅԼ ՀԻՄՆԱԿԱՆ ՄԻՋՈՑՆԵՐ | G66: =G67 -> -100000 | H66: =H67 -> -165090.8 | I66: =I67 -> -165090.8
F67: - Նախագծահետազոտական ծախսեր | G67: ='1'!G17 -> -100000 | H67: ='2'!G15 -> -165090.8 | I67: =H67 -> -165090.8
E68: 31014 | F68: Ջրամբարների վերականգնման և վերազինման աշխատանքներ | G68: =G70 -> -46528.2 | H68: =H70 -> 0 | I68: =I70 -> 0
F69: այդ թվում` ըստ կատարողների
F70: ՀՀ տարածքային կառավարման և ենթակառուցվածքների նախարարության ջրային կոմիտե | G70: =G72 -> -46528.2 | H70: =H72 -> 0 | I70: =I72 -> 0
F71: այդ թվում` բյուջետային ծախսերի տնտեսագիտական դասակարգման հոդվածներ
F72: ԸՆԴԱՄԵՆԸ ԾԱԽՍԵՐ | G72: =G73 -> -46528.2 | H72: =H73 -> 0 | I72: =I73 -> 0
F73: ՈՉ ՖԻՆԱՆՍԱԿԱՆ ԱԿՏԻՎՆԵՐԻ ԳԾՈՎ ԾԱԽՍԵՐ | G73: =G74 -> -46528.2 | H73: =H74 -> 0 | I73: =I74 -> 0
F74: ՀԻՄՆԱԿԱՆ ՄԻՋՈՑՆԵՐ | G74: =G77+G75 -> -46528.2 | H74: =H77 -> 0 | I74: =I77 -> 0
F75: ՇԵՆՔԵՐ ԵՎ ՇԻՆՈՒԹՅՈՒՆՆԵՐ | G75: =G76 -> -10000
F76: - Շենքերի և շինությունների կապիտալ վերանորոգում | G76: ='4'!D39 -> -10000
F77: ԱՅԼ ՀԻՄՆԱԿԱՆ ՄԻՋՈՑՆԵՐ | G77: =G78 -> -36528.2 | H77: =H78 -> 0 | I77: =I78 -> 0
F78: - Նախագծահետազոտական ծախսեր | G78: ='4'!D37+'4'!D38 -> -36528.2 | H78: ='1'!H18 -> 0 | I78: ='1'!I18 -> 0
A79: 05 | F79: ՇՐՋԱԿԱ ՄԻՋԱՎԱՅՐԻ ՊԱՇՏՊԱՆՈՒԹՅՈՒՆ | G79: =G81 -> -50000 | H79: =H81 -> 0 | I79: =I81 -> 0
F80: այդ թվում`
B81: 04 | F81: Կենսաբազմազանության և բնության պաշտպանություն | G81: =G83 -> -50000 | H81: =H83 -> 0 | I81: =I83 -> 0
F82: այդ թվում`
C83: 01 | F83: Կենսաբազմազանության և բնության պաշտպանություն | G83: =G85 -> -50000 | H83: =H85 -> 0 | I83: =I85 -> 0
F84: այդ թվում`
D85: 1017 | F85: Որոտան-Արփա-Սևան թունելի ջրային համակարգի կառավարում | G85: =G87 -> -50000 | H85: =H87 -> 0 | I85: =I87 -> 0
F86: այդ թվում`
E87: 11001 | F87: Արփա-Սևան թունելի ընթացիկ շահագործում և պահպանում | G87: =G89 -> -50000 | H87: =H89 -> 0 | I87: =I89 -> 0
F88: այդ թվում` ըստ կատարողների
F89: ՀՀ տարածքային կառավարման և ենթակառուցվածքների նախարարության ջրային կոմիտե | G89: =G91 -> -50000 | H89: =H91 -> 0 | I89: =I91 -> 0
F90: այդ թվում` բյուջետային ծախսերի տնտեսագիտական դասակարգման հոդվածներ
F91: ԸՆԴԱՄԵՆԸ ԾԱԽՍԵՐ | G91: =G92 -> -50000 | H91: =H92 -> 0 | I91: =I92 -> 0
F92: ԸՆԹԱՑԻԿ ԾԱԽՍԵՐ | G92: =G93 -> -50000 | H92: =H93 -> 0 | I92: =I93 -> 0
F93: ԾԱՌԱՅՈՒԹՅՈՒՆՆԵՐԻ ԵՎ ԱՊՐԱՆՔՆԵՐԻ ՁԵՌՔԲԵՐՈՒՄ | G93: =G94 -> -50000 | H93: =H94 -> 0 | I93: =I94 -> 0
F94: Պայմանագրային այլ ծառայությունների ձեռքբերում | G94: =G95 -> -50000 | H94: =H95 -> 0 | I94: =I95 -> 0
F95: - Ընդհանուր բնույթի այլ ծառայություններ | G95: ='1'!G20 -> -50000 | H95: ='1'!H20 -> 0 | I95: ='1'!I20 -> 0
A96: 06 | F96: ԲՆԱԿԱՐԱՆԱՅԻՆ ՇԻՆԱՐԱՐՈՒԹՅՈՒՆ ԵՎ ԿՈՄՈՒՆԱԼ ԾԱՌԱՅՈՒԹՅՈՒՆՆԵՐ | G96: =G98 -> -160000 | H96: =H98 -> 0 | I96: =I98 -> 0
F97: այդ թվում`
B98: 03 | F98: Ջրամատակարարում | G98: =G100 -> -160000 | H98: =H100 -> 0 | I98: =I100 -> 0
F99: այդ թվում`
C100: 01 | F100: Ջրամատակարարում | G100: =G102+G131 -> -160000 | H100: =H102+H131 -> 0 | I100: =I102+I131 -> 0
...

Sheet 4
A1: Հավելված N 4
A2: ՀՀ կառավարության 2026 թվականի
A3: -ի N -Ն որոշման
A4: ՀԱՅԱՍՏԱՆԻ ՀԱՆՐԱՊԵՏՈՒԹՅԱՆ ԿԱՌԱՎԱՐՈՒԹՅԱՆ 2025 ԹՎԱԿԱՆԻ ԴԵԿՏԵՄԲԵՐԻ 27-Ի N 1910-Ն ՈՐՈՇՄԱՆ N 5 ՀԱՎԵԼՎԱԾԻ N 2 ԱՂՅՈՒՍԱԿՈՒՄ ԿԱՏԱՐՎՈՂ ՓՈՓՈԽՈՒԹՅՈՒՆՆԵՐԸ
A6: հազար դրամներով
A7: Ծրագրային դասիչ | C7: Բյուջետային գլխավոր կարգադրիչների, ծրագրերի, միջոցառումների և ուղղությունների անվանումները | D7: Ցուցանիշների փոփոխությունը (Նվազեցումները նշված են փակագծերում)
D8: Առաջին կիսամյակ | E8: Ինն ամիս | F8: Տարի
A9: Ծրագիր | B9: Միջոց առում
C10: ԸՆԴԱՄԵՆԸ | D10: =D12 -> -336528.2 | E10: =E12 -> -446528.2 | F10: =F12 -> -446528.2
C11: այդ թվում`
C12: ՀՀ տարածքային կառավարման և ենթակառուցվածքների նախարարություն | D12: =D19+D25+D30+D33+D40+D45+D14 -> -336528.2 | E12: =E19+E25+E30+E33+E40+E45 -> -446528.2 | F12: =F19+F25+F30+F33+F40+F45 -> -446528.2
C13: այդ թվում՛
A14: 1004 | B14: 31002 | C14: Ոռոգման համակարգերի հիմնանորոգում | D14: =D16 -> -20000 | E14: =E16 -> 0 | F14: =F16 -> 0
C15: այդ թվում` ըստ կատարողների
C16: ՀՀ տարածքային կառավարման և ենթակառուցվածքների նախարարության ջրային կոմիտե | D16: =D18 -> -20000 | E16: =E18 -> 0 | F16: =F18 -> 0
C17: այդ թվում՝ ըստ ուղղությունների
C18: Արազափ 1 պոմպակայանի մղման խողովակաշարի հիմնանորոգում (2-րդ փուլ) | D18: -20000 | E18: 0 | F18: 0
A19: 1004 | B19: 31009 | C19: Օրվա կարգավորման ջրավազանների կառուցում և վերակառուցում | D19: =D21 -> -70000
C20: այդ թվում` ըստ կատարողների
C21: ՀՀ տարածքային կառավարման և ենթակառուցվածքների նախարարության ջրային կոմիտե | D21: =SUM(D23:D24) -> -70000
C22: այդ թվում՝ ըստ ուղղությունների
C23: Արզնի-Շամիրամ 2-րդ հերթի ջրանցքի վերջնամասում գտնվող, Ներքին Բազմաբերդի պոմպակայանի ջրընդունիչ ավազան հանդիսացող 24 հազ․խմ ծավալով ՕԿՋ-ի հիմնանորոգում | D23: -40000
C24: Ոսկեպար-Բաղանիս-Ոսկեվան-Կոթի ինքնահոս ջրագծի վրա՝ Բաղանիս-Ոսկեվան № 2 նախկին պոմպակայանի տարածքում, մինչև 8 հազ.խմ ծավալով ՕԿՋ-ի կառուցում | D24: -30000
A25: 1004 | B25: 31012 | C25: Գետերի և հեղեղատարների տեղամասերի ամրացման և մաքրման աշխատանքներ | D25: =D27 -> 0 | E25: =E27 -> -281437.4 | F25: =F27 -> -281437.4
C26: այդ թվում` ըստ կատարողների
C27: ՀՀ տարածքային կառավարման և ենթակառուցվածքների նախարարության ջրային կոմիտե | D27: =D29 -> 0 | E27: =E29 -> -281437.4 | F27: =F29 -> -281437.4
C28: այդ թվում՝ ըստ ուղղությունների
C29: Գավառագետի հունի մաքրման և ափերի ամրացման աշխատանքներ | D29: ='1'!G16 -> 0 | E29: ='1'!H16 -> -281437.4 | F29: ='1'!I16 -> -281437.4
A30: 1004 | B30: 31013 | C30: Փոքր և միջին ջրամբարների կառուցում | D30: =D32 -> -100000 | E30: =E32 -> -165090.8 | F30: =F32 -> -165090.8
C31: այդ թվում` ըստ կատարողների
C32: ՀՀ տարածքային կառավարման և ենթակառուցվածքների նախարարության ջրային կոմիտե | D32: ='1'!G17 -> -100000 | E32: ='1'!H17 -> -165090.8 | F32: ='1'!I17 -> -165090.8
A33: 1004 | B33: 31014 | C33: Ջրամբարների վերականգնման և վերազինման աշխատանքներ | D33: =D35 -> -46528.2
C34: այդ թվում` ըստ կատարողների
C35: ՀՀ տարածքային կառավարման և ենթակառուցվածքների նախարարության ջրային կոմիտե | D35: =SUM(D37:D39) -> -46528.2
C36: այդ թվում՝ ըստ ուղղությունների
C37: ՀՀ Շիրակի մարզի Սառնաղբյուրի ջրամբարի պատվարի անվտանգ շահագործման նպատակով նախագծանախահաշվային փաստաթղթերի կազմման ծառայությունների ձեռբերում և շինարարության իրականացում | D37: -7000
C38: ՀՀ Տավուշի մարզի Այգեձորի ջրամբարի տեխնիկական վիճակի ուսումնասիրությունների, հիմնանորոգման ենթակա հիդրոտեխնիկական կառուցվածքների վերականգնման և վերազինման աշխատանքներ | D38: -29528.2
C39: ՀՀ Գեղարքունիքի մարզի Գեղարքունիք-2 ջրամբարի վերակառուցում | D39: -10000
A40: 1072 | B40: 31010 | C40: Ջրամատակարարման և ջրահեռացման համակարգի հիմնանորոգում | D40: =D42 -> -50000
C41: այդ թվում` ըստ կատարողների
C42: ՀՀ տարածքային կառավարման և ենթակառուցվածքների նախարարության ջրային կոմիտե | D42: =D44 -> -50000
C43: այդ թվում՝ ըստ ուղղությունների
C44: ՀՀ Սյունիքի մարզի Ագարակ քաղաքի գոյություն ունեցող ջրի մաքրման կայանի հիմնանորոգում, լրացուցիչ նոր կայանի կառուցում | D44: -50000
A45: 1072 | B45: 31013 | C45: Ջրամատակարարման և ջրահեռացման համակարգի կառուցում | D45: =D47 -> -50000
C46: այդ թվում` ըստ կատարողների
C47: ՀՀ տարածքային կառավարման և ենթակառուցվածքների նախարարության ջրային կոմիտե | D47: =D49 -> -50000
C48: այդ թվում՝ ըստ ուղղությունների
C49: ՀՀ Սյունիքի մարզի Բռնակոթ համայնքի այլընտրանքային աղբյուրից ջրատարի կառուցում | D49: -50000

Sheet 5
A1: Հավելված N 5
A2: ՀՀ կառավարության 2026 թվականի
A3: -ի N -Ն որոշման
A5: ՀԱՅԱՍՏԱՆԻ ՀԱՆՐԱՊԵՏՈՒԹՅԱՆ ԿԱՌԱՎԱՐՈՒԹՅԱՆ 2025 ԹՎԱԿԱՆԻ ԴԵԿՏԵՄԲԵՐԻ 25-Ի N 1910-Ն ՈՐՈՇՄԱՆ N 9 ՀԱՎԵԼՎԱԾՈՒՄ ԿԱՏԱՐՎՈՂ ՓՈՓՈԽՈՒԹՅՈՒՆՆԵՐԸ ԵՎ ԼՐԱՑՈՒՄԸ
L6: հազար դրամներով
A7: ԲԳԿ | B7: Ծրագիր | D7: Միջոցառում | H7: Իրականացնողը/ ակտիվն օգտագործողը/ շահառուի ընտրության չափորոշիչը | I7: Արդյունքային չափորոշիչը | J7: Ցուցանիշների փոփոխությունը (ավելացումները նշված են դրական նշանով, իսկ նվազեցումները՝ փակագծերում)
B8: Դասիչը | C8: Անվանումը | D8: Դասիչը | E8: Անվա-նումը | F8: Նկարագրու-թյունը | G8: Տեսակը | J8: Առաջին կիսամյակ | K8: Ինն ամիս | L8: Տարի
A9: ԸՆԴԱՄԵՆԸ | J9: =J10+J55 -> 0 | K9: =K10+K55 -> 0 | L9: =L10+L55 -> 0
A10: ՀՀ տարածքային կառավարման և ենթակառուցվածքների նախարարություն | J10: =J11+J37+J42 -> 0 | K10: =K11+K37+K42 -> 0 | L10: =L11+L37+L42 -> 0
B11: 1004 | C11: Ոռոգման համակարգի առողջացում | J11: =J12+J21+J25+J29+J33+J17 -> 210000 | K11: =K12+K21+K25+K29+K33 -> 0 | L11: =L12+L21+L25+L29+L33 -> 0
D12: 1004 - 11020 | E12: Հակահեղեղային անհետաձգելի միջոցառումներ | J12: ='1'!G13 -> 446528.2 | K12: ='1'!H13 -> 446528.2 | L12: ='1'!I13 -> 446528.2
F13: Գետերի և հեղեղատարների մաքրման, հեղեղների կանխման և վերացման աշխատանքներ
G14: Ծառայությունների մատուցում
H15: Ծառայությունը մատուցողի անվանումը` Մասնագիտացված կազմակերպություններ
I16: Հակահեղեղային միջոցառումների քանակ, հատ | J16: 5 | L16: 5
D17: 1004 - 31002 | E17: Ոռոգման համակարգերի հիմնանորոգում | J17: ='1'!G14 -> -20000 | K17: ='1'!H14 -> 0 | L17: ='1'!I14 -> 0
F18: Ոռոգման համակարգերի հիմնանորոգում
G19: Պետական մարմինների կողմից օգտագործվող ոչ ֆինանսական ակտիվների հետ գործառնություններ
H20: Ակտիվն օգտագործող կազմակերպության անվանումը` ՀՀ ՏԿԵՆ ջրային կոմիտե
D21: 1004 - 31009 | E21: Օրվա կարգավորման ջրավազանների կառուցում և վերակառուցում | J21: ='1'!G15 -> -70000 | K21: ='1'!H15 -> 0 | L21: ='1'!I15 -> 0
F22: Օրվա կարգավորման ջրավազանների կառուցման և վերակառուցման համար նախագծերի և աշխատանքների ձեռք բերում
G23: Պետական մարմինների կողմից օգտագործվող ոչ ֆինանսական ակտիվների հետ գործառնություններ
H24: Ակտիվն օգտագործող կազմակերպության անվանումը` ՀՀ ՏԿԵՆ ջրային կոմիտե
D25: 1004 - 31012 | E25: Գետերի և հեղեղատարների տեղամասերի ամրացման և մաքրման աշխատանքներ | J25: ='1'!G16 -> 0 | K25: ='1'!H16 -> -281437.4 | L25: ='1'!I16 -> -281437.4
F26: Գետերի և հեղեղատարների տեղամասերի ամրացման և մաքրման համար նախագծերի և աշխատանքների ձեռքբերում
G27: Պետական մարմինների կողմից օգտագործվող ոչ ֆինանսական ակտիվների հետ գործառնություններ
H28: Ակտիվն օգտագործող կազմակերպության անվանումը` ՀՀ ՏԿԵՆ ջրային կոմիտե
D29: 1004 - 31013 | E29: Փոքր և միջին ջրամբարների կառուցում | J29: ='1'!G17 -> -100000 | K29: ='1'!H17 -> -165090.8 | L29: ='1'!I17 -> -165090.8
F30: Փոքր և միջին ջրամբարների կառուցման աշխատանքներ
G31: Պետական մարմինների կողմից օգտագործվող ոչ ֆինանսական ակտիվների հետ գործառնություններ
H32: Ակտիվն օգտագործող կազմակերպության անվանումը` ՀՀ ՏԿԵՆ ջրային կոմիտե
D33: 1004 - 31014 | E33: Ջրամբարների վերականգնման և վերազինման աշխատանքներ | J33: ='1'!G18 -> -46528.2 | K33: ='1'!H18 -> 0 | L33: ='1'!I18 -> 0
F34: Ջրամբարների վերականգնման և վերազինման համար նախագծերի և աշխատանքների ձեռքբերում
G35: Պետական մարմինների կողմից օգտագործվող ոչ ֆինանսական ակտիվների հետ գործառնություններ
H36: Ակտիվն օգտագործող կազմակերպության անվանումը` ՀՀ ՏԿԵՆ ջրային կոմիտե
B37: 1017 | C37: Որոտան-Արփա-Սևան թունելի ջրային համակարգի կառավարում | J37: =J38 -> -50000 | K37: =K38 -> 0 | L37: =L38 -> 0
D38: 1017 - 11001 | E38: Արփա-Սևան թունելի ընթացիկ շահագործում և պահպանում | J38: ='1'!G20 -> -50000 | K38: ='1'!H20 -> 0 | L38: ='1'!I20 -> 0
F39: Որոտան-Արփա-Սևան թունելի շահագործման և պահպանման նպատակով ծառայությունների մատուցում
G40: Ծառայությունների մատուցում
H41: Ծառայությունը մատուցողի անվանումը` Մասնագիտացված կազմակերպություններ
B42: 1072 | C42: Ջրամատակարարաման և ջրահեռացման բարելավում | J42: =J43+J47+J51 -> -160000 | K42: =K43+K47+K51 -> 0 | L42: =L43+L47+L51 -> 0
D43: 1072 - 11018 | E43: Աուդիտորական ծառայությունների ձեռքբերում | J43: ='1'!G22 -> -60000 | K43: ='1'!H22 -> 0 | L43: ='1'!I22 -> 0
F44: Վարձակալության պայմանագրի շրջանակներում տեխնիկական աուդիտորական կազմակերպության ծառայությունների ձեռքբերում
G45: Ծառայությունների մատուցում
H46: Ծառայությունը մատուցողի անվանումը` Մասնագիտացված միավոր
D47: 1072 - 31010 | E47: Ջրամատակարարման և ջրահեռացման համակարգի հիմնանորոգում | J47: ='1'!G23 -> -50000 | K47: ='1'!H23 -> 0 | L47: ='1'!I23 -> 0
F48: Ջրամատակարարման և ջրահեռացման համակարգի հիմնանորոգման նախագծերի և աշխատանքների ձեռքբերում
G49: Պետական մարմինների կողմից օգտագործվող ոչ ֆինանսական ակտիվների հետ գործառնություններ
H50: Ակտիվն օգտագործող կազմակերպության անվանումը` ՀՀ ՏԿԵՆ ջրային կոմիտե
D51: 1072 - 31013 | E51: Ջրամատակարարման և ջրահեռացման համակարգի կառուցում | J51: ='1'!G24 -> -50000 | K51: ='1'!H24 -> 0 | L51: ='1'!I24 -> 0
F52: Ջրամատակարարման և ջրահեռացման համակարգի կառուցման նախագծերի և աշխատանքների ձեռքբերում
G53: Պետական մարմինների կողմից օգտագործվող ոչ ֆինանսական ակտիվների հետ գործառնություններ
H54: Ակտիվն օգտագործող կազմակերպության անվանումը` ՀՀ ՏԿԵՆ ջրային կոմիտե
A55: ՀՀ կառավարություն | J55: =J56 -> 0 | K55: =K56 -> 0 | L55: =L56 -> 0
B56: 1139 | C56: ՀՀ կառավարության պահուստային ֆոնդ | J56: =J57+J61 -> 0 | K56: =K57+K61 -> 0 | L56: =L57+L61 -> 0
D57: 1139 - 11001 | E57: ՀՀ կառավարության պահուստային ֆոնդ | J57: ='1'!G27 -> 446528.2 | K57: ='1'!H27 -> 446528.2 | L57: ='1'!I27 -> 446528.2
F58: ՀՀ պետական բյուջեում նախատեսված ելքերի լրացուցիչ ֆինանսավորման, պետական բյուջեում չկանխատեսված ելքերի, ինչպես նաև բյուջետային երաշխիքների ապահովման ելքերի ֆինանսավորման ապահովում
G59: Ծառայությունների մատուցում
H60: Ծառայությունը մատուցողի անվանումը` ՀՀ կառավարություն
D61: 1139 - 11001 | E61: ՀՀ կառավարության պահուստային ֆոնդ | J61: ='1'!G28 -> -446528.2 | K61: ='1'!H28 -> -446528.2 | L61: ='1'!I28 -> -446528.2
F62: ՀՀ պետական բյուջեում նախատեսված ելքերի լրացուցիչ ֆինանսավորման, պետական բյուջեում չկանխատեսված ելքերի, ինչպես նաև բյուջետային երաշխիքների ապահովման ելքերի ֆինանսավորման ապահովում
G63: Ծառայությունների մատուցում
H64: Ծառայությունը մատուցողի անվանումը` ՀՀ կառավարություն
A79: ՀԱՅԱՍՏԱՆԻ ՀԱՆՐԱՊԵՏՈՒԹՅԱՆ
A80: ՎԱՐՉԱՊԵՏԻ ԱՇԽԱՏԱԿԱԶՄԻ
B81: ՂԵԿԱՎԱՐ ՝ Ա. ՀԱՐՈՒԹՅՈՒՆՅԱՆ

Sheet 6
A1: Հավելված N 6
A2: ՀՀ կառավարության 2026 թվականի
A3: -ի N -Ն որոշման
A5: ՀԱՅԱՍՏԱՆԻ ՀԱՆՐԱՊԵՏՈՒԹՅԱՆ ԿԱՌԱՎԱՐՈՒԹՅԱՆ 2025 ԹՎԱԿԱՆԻ ԴԵԿՏԵՄԲԵՐԻ 25-Ի N 1910-Ն ՈՐՈՇՄԱՆ N 9.1 ՀԱՎԵԼՎԱԾՈՒՄ ԿԱՏԱՐՎՈՂ ՓՈՓՈԽՈՒԹՅՈՒՆՆԵՐԸ ԵՎ ԼՐԱՑՈՒՄԸ
L7: հազար դրամներով
A8: ԲՍԿ | B8: Ծրագիր | D8: Միջոցառում | H8: Իրականացնողը/ ակտիվն օգտագործողը/ շահառուի ընտրության չափորոշիչը | I8: Արդյունքային չափորոշիչը | J8: Ցուցանիշների փոփոխությունը (ավելացումները նշված են դրական նշանով, իսկ նվազեցումները՝ փակագծերում)
B9: Դասիչը | C9: Անվանումը | D9: Դասիչը | E9: Անվանումը | F9: Նկարագրությունը | G9: Տեսակը | J9: Առաջին կիսամյակ | K9: Ինն ամիս | L9: Տարի
A10: ԸՆԴԱՄԵՆԸ | J10: =J11+J56 -> 0 | K10: =K11+K56 -> 0 | L10: =L11+L56 -> 0
A11: ՀՀ տարածքային կառավարման և ենթակառուցվածքների նախարարության ջրային կոմիտե | J11: =J12+J38+J43 -> 0 | K11: =K12+K38+K43 -> 0 | L11: =L12+L38+L43 -> 0
B12: 1004 | C12: Ոռոգման համակարգի առողջացում | J12: =J13+J22+J26+J30+J34+J18 -> 210000 | K12: =K13+K22+K26+K30+K34 -> 0 | L12: =L13+L22+L26+L30+L34 -> 0
D13: 1004 - 11020 | E13: Հակահեղեղային անհետաձգելի միջոցառումներ | J13: ='5'!J12 -> 446528.2 | K13: ='5'!K12 -> 446528.2 | L13: ='5'!L12 -> 446528.2
F14: Գետերի և հեղեղատարների մաքրման, հեղեղների կանխման և վերացման աշխատանքներ
G15: Ծառայությունների մատուցում
H16: Ծառայությունը մատուցողի անվանումը` Մասնագիտացված կազմակերպություններ
I17: Հակահեղեղային միջոցառումների քանակ, հատ | J17: 5 | L17: 5
D18: 1004 - 31002 | E18: Ոռոգման համակարգերի հիմնանորոգում | J18: ='5'!J17 -> -20000 | K18: ='1'!H15 -> 0 | L18: ='1'!I15 -> 0
F19: Ոռոգման համակարգերի հիմնանորոգում
G20: Պետական մարմինների կողմից օգտագործվող ոչ ֆինանսական ակտիվների հետ գործառնություններ
H21: Ակտիվն օգտագործող կազմակերպության անվանումը` ՀՀ ՏԿԵՆ ջրային կոմիտե
D22: 1004 - 31009 | E22: Օրվա կարգավորման ջրավազանների կառուցում և վերակառուցում | J22: ='5'!J21 -> -70000 | K22: ='5'!K21 -> 0 | L22: ='5'!L21 -> 0
F23: Օրվա կարգավորման ջրավազանների կառուցման և վերակառուցման համար նախագծերի և աշխատանքների ձեռք բերում
G24: Պետական մարմինների կողմից օգտագործվող ոչ ֆինանսական ակտիվների հետ գործառնություններ
H25: Ակտիվն օգտագործող կազմակերպության անվանումը` ՀՀ ՏԿԵՆ ջրային կոմիտե
D26: 1004 - 31012 | E26: Գետերի և հեղեղատարների տեղամասերի ամրացման և մաքրման աշխատանքներ | J26: ='5'!J25 -> 0 | K26: ='5'!K25 -> -281437.4 | L26: ='5'!L25 -> -281437.4
F27: Գետերի և հեղեղատարների տեղամասերի ամրացման և մաքրման համար նախագծերի և աշխատանքների ձեռքբերում
G28: Պետական մարմինների կողմից օգտագործվող ոչ ֆինանսական ակտիվների հետ գործառնություններ
H29: Ակտիվն օգտագործող կազմակերպության անվանումը` ՀՀ ՏԿԵՆ ջրային կոմիտե
D30: 1004 - 31013 | E30: Փոքր և միջին ջրամբարների կառուցում | J30: ='5'!J29 -> -100000 | K30: ='5'!K29 -> -165090.8 | L30: ='5'!L29 -> -165090.8
F31: Փոքր և միջին ջրամբարների կառուցման աշխատանքներ
G32: Պետական մարմինների կողմից օգտագործվող ոչ ֆինանսական ակտիվների հետ գործառնություններ
H33: Ակտիվն օգտագործող կազմակերպության անվանումը` ՀՀ ՏԿԵՆ ջրային կոմիտե
D34: 1004 - 31014 | E34: Ջրամբարների վերականգնման և վերազինման աշխատանքներ | J34: ='5'!J33 -> -46528.2 | K34: ='5'!K33 -> 0 | L34: ='5'!L33 -> 0
F35: Ջրամբարների վերականգնման և վերազինման համար նախագծերի և աշխատանքների ձեռքբերում
G36: Պետական մարմինների կողմից օգտագործվող ոչ ֆինանսական ակտիվների հետ գործառնություններ
H37: Ակտիվն օգտագործող կազմակերպության անվանումը` ՀՀ ՏԿԵՆ ջրային կոմիտե
B38: 1017 | C38: Որոտան-Արփա-Սևան թունելի ջրային համակարգի կառավարում | J38: =J39 -> -50000 | K38: =K39 -> 0 | L38: =L39 -> 0
D39: 1017 - 11001 | E39: Արփա-Սևան թունելի ընթացիկ շահագործում և պահպանում | J39: ='5'!J38 -> -50000 | K39: ='5'!K38 -> 0 | L39: ='5'!L38 -> 0
F40: Որոտան-Արփա-Սևան թունելի շահագործման և պահպանման նպատակով ծառայությունների մատուցում
G41: Ծառայությունների մատուցում
H42: Ծառայությունը մատուցողի անվանումը` Մասնագիտացված կազմակերպություններ
B43: 1072 | C43: Ջրամատակարարաման և ջրահեռացման բարելավում | J43: =J44+J48+J52 -> -160000 | K43: =K44+K48+K52 -> 0 | L43: =L44+L48+L52 -> 0
D44: 1072 - 11018 | E44: Աուդիտորական ծառայությունների ձեռքբերում | J44: ='5'!J43 -> -60000 | K44: ='5'!K43 -> 0 | L44: ='5'!L43 -> 0
F45: Վարձակալության պայմանագրի շրջանակներում տեխնիկական աուդիտորական կազմակերպության ծառայությունների ձեռքբերում
G46: Ծառայությունների մատուցում
H47: Ծառայությունը մատուցողի անվանումը` Մասնագիտացված միավոր
D48: 1072 - 31010 | E48: Ջրամատակարարման և ջրահեռացման համակարգի հիմնանորոգում | J48: ='5'!J47 -> -50000 | K48: ='5'!K47 -> 0 | L48: ='5'!L47 -> 0
F49: Ջրամատակարարման և ջրահեռացման համակարգի հիմնանորոգման նախագծերի և աշխատանքների ձեռքբերում
G50: Պետական մարմինների կողմից օգտագործվող ոչ ֆինանսական ակտիվների հետ գործառնություններ
H51: Ակտիվն օգտագործող կազմակերպության անվանումը` ՀՀ ՏԿԵՆ ջրային կոմիտե
D52: 1072 - 31013 | E52: Ջրամատակարարման և ջրահեռացման համակարգի կառուցում | J52: ='5'!J51 -> -50000 | K52: ='5'!K51 -> 0 | L52: ='5'!L51 -> 0
F53: Ջրամատակարարման և ջրահեռացման համակարգի կառուցման նախագծերի և աշխատանքների ձեռքբերում
G54: Պետական մարմինների կողմից օգտագործվող ոչ ֆինանսական ակտիվների հետ գործառնություններ
H55: Ակտիվն օգտագործող կազմակերպության անվանումը` ՀՀ ՏԿԵՆ ջրային կոմիտե
A56: ՀՀ կառավարություն | J56: =J57 -> 0 | K56: =K57 -> 0 | L56: =L57 -> 0
B57: 1139 | C57: ՀՀ կառավարության պահուստային ֆոնդ | J57: =J58+J62 -> 0 | K57: =K58+K62 -> 0 | L57: =L58+L62 -> 0
D58: 1139 - 11001 | E58: ՀՀ կառավարության պահուստային ֆոնդ | J58: ='5'!J57 -> 446528.2 | K58: ='5'!K57 -> 446528.2 | L58: ='5'!L57 -> 446528.2
F59: ՀՀ պետական բյուջեում նախատեսված ելքերի լրացուցիչ ֆինանսավորման, պետական բյուջեում չկանխատեսված ելքերի, ինչպես նաև բյուջետային երաշխիքների ապահովման ելքերի ֆինանսավորման ապահովում
G60: Ծառայությունների մատուցում
H61: Ծառայությունը մատուցողի անվանումը` ՀՀ կառավարություն
D62: 1139 - 11001 | E62: ՀՀ կառավարության պահուստային ֆոնդ | J62: ='5'!J61 -> -446528.2 | K62: ='5'!K61 -> -446528.2 | L62: ='5'!L61 -> -446528.2
F63: ՀՀ պետական բյուջեում նախատեսված ելքերի լրացուցիչ ֆինանսավորման, պետական բյուջեում չկանխատեսված ելքերի, ինչպես նաև բյուջետային երաշխիքների ապահովման ելքերի ֆինանսավորման ապահովում
G64: Ծառայությունների մատուցում
H65: Ծառայությունը մատուցողի անվանումը` ՀՀ կառավարություն
B69: ՎԱՐՉԱՊԵՏԻ ԱՇԽԱՏԱԿԱԶՄԻ
C70: ՂԵԿԱՎԱՐ ՝ Ա. ՀԱՐՈՒԹՅՈՒՆՅԱՆ

Sheet 7
A1: Հավելված N 7
A2: ՀՀ կառավարության 2026 թվականի
A3: -ի N -Ն որոշման
A5: ՀՀ ԿԱՌԱՎԱՐՈՒԹՅԱՆ 2025 ԹՎԱԿԱՆԻ ԴԵԿՏԵՄԲԵՐԻ 25-Ի N 1910-Ն ՈՐՈՇՄԱՆ N 10 ՀԱՎԵԼՎԱԾՈՒՄ ԿԱՏԱՐՎՈՂ ՓՈՓՈԽՈՒԹՅՈՒՆՆԵՐԸ ԵՎ ԼՐԱՑՈՒՄՆԵՐԸ
A7: Կոդը | B7: Անվանումը | C7: Գնման ձևը | D7: Չափի միավորը | E7: Միավորի գինը | F7: Ցուցանիշների փոփոխությունը (ավելացումները նշված են դրական նշանով, իսկ նվազեցումները՝ փակագծերում)
F8: քանակը | G8: գումարը (հազ. դրամ)
A9: ԸՆԴԱՄԵՆԸ | G9: =G10 -> -0.04
A10: ՀՀ տարածքային կառավարման և ենթակառուցվածքների նախարարության ջրային կոմիտե | G10: =G11+G26 -> -0.04
A11: Բաժին N 04 | B11: Խումբ N 02 | C11: Դաս N 04 | D11: Ոռոգում | G11: =G20+G17+G12 -> -0.04
A12: 1004 31012 | B12: Գետերի և հեղեղատարների տեղամասերի ամրացման և մաքրման աշխատանքներ | G12: =G13 -> -281437.4
B13: ՄԱՍ II ԱՇԽԱՏԱՆՔՆԵՐ | G13: =G14+G15+G16 -> -281437.4
A14: 45241133/2 | B14: գետերի ափերի պաշտպանության աշխատանքներ | C14: ՀԲՄ | D14: դրամ | G14: -275300.3
A15: 71351540/1 | B15: տեխնիկական հսկողության ծառայություններ | C15: ԳՀ | D15: դրամ | G15: -4199.1
A16: 98111140/1 | B16: հեղինակային հսկողության ծառայություններ | C16: ՄԱ | D16: դրամ | G16: -1938
A17: 1004 31013 | B17: Փոքր և միջին ջրամբարների կառուցում | G17: =G18 -> -165090.8
B18: ՄԱՍ III. ԾԱՌԱՅՈՒԹՅՈՒՆՆԵՐ | G18: =G19 -> -165090.8
A19: 71241200/1 | B19: նախագծերի պատրաստում, ծախսերի գնահատում | C19: ԲՄ | D19: դրամ | G19: -165090.8
A20: 1004 11020 | B20: Հակահեղեղային անհետաձգելի միջոցառումներ | G20: =G21+G23 -> 446528.16
B21: ՄԱՍ II ԱՇԽԱՏԱՆՔՆԵՐ | G21: =G22 -> 439190.92
A22: 45241131/1 | B22: գետերի հոսանքների կարգավորման և ջրհեղեղների վերահսկման աշխատանքներ | C22: ՀՄԱ | D22: դրամ | E22: =395327160+43863760 -> 439190920 | F22: 1 | G22: =E22*F22/1000 -> 439190.92
B23: ՄԱՍ III. ԾԱՌԱՅՈՒԹՅՈՒՆՆԵՐ | G23: =G24+G25 -> 7337.24
A24: 71351540/ | B24: տեխնիկական հսկողության ծառայություններ | C24: ՀՄԱ | D24: դրամ | E24: =5902200+657900 -> 6560100 | F24: 1 | G24: =E24*F24/1000 -> 6560.1
A25: 98111140/ | B25: հեղինակային հսկողության ծառայություններ | C25: ՄԱ | D25: դրամ | E25: =513900+263240 -> 777140 | F25: 1 | G25: =E25*F25/1000 -> 777.14
A26: Բաժին N 06 | B26: Խումբ N 03 | C26: Դաս N 01 | D26: Ջրամատակարարում | G26: =G27+G29 -> 0
B27: ՄԱՍ III. ԾԱՌԱՅՈՒԹՅՈՒՆՆԵՐ | G27: =G28 -> -3760
A28: 98111121/501 | B28: անվտանգության ապահովման ծառայություններ | C28: ԷԱՃ | D28: դրամ | G28: -3760
A29: 1109 11001 | B29: Ջրային տնտեսության ոլորտում պետական քաղաքականության մշակում, ծրագրերի համակարգում և մոնիտորինգ | G29: =G30 -> 3760
B30: ՄԱՍ III. ԾԱՌԱՅՈՒԹՅՈՒՆՆԵՐ | G30: =G31+G32 -> 3760
A31: 79111100 | B31: Իրավական խորհրդատվության ծառայություններ | C31: ԳՀ | D31: դրամ | E31: 1880000 | F31: 1 | G31: 1880
A32: 79111100 | B32: Իրավական խորհրդատվության ծառայություններ | C32: ԳՀ | D32: դրամ | E32: 1880000 | F32: 1 | G32: 1880
A34: ՀԱՅԱՍՏԱՆԻ ՀԱՆՐԱՊԵՏՈՒԹՅԱՆ
A35: ՎԱՐՉԱՊԵՏԻ ԱՇԽԱՏԱԿԱԶՄԻ
B36: ՂԵԿԱՎԱՐ ՝ Ա. ՀԱՐՈՒԹՅՈՒՆՅԱՆ

Sheet 8
A1: Հավելված N 8
A2: ՀՀ կառավարության 2026 թվականի
A3: -ի N -Ն որոշման
A4: ՀԱՅԱՍՏԱՆԻ ՀԱՆՐԱՊԵՏՈՒԹՅԱՆ ԿԱՌԱՎԱՐՈՒԹՅԱՆ ՊԱՀՈՒՍՏԱՅԻՆ ՖՈՆԴԻՑ ԿԱՏԱՐՎՈՂ ՀԱՏԿԱՑՈՒՄԸ
I5: հազար դրամներով
A6: Գործառական դասիչը | D6: Ծրագրային դասիչը | F6: Բյուջետային ծախսերի գործառական դասակարգման բաժինների, խմբերի և դասերի, բյուջետային ծրագրերի միջոցառումների, բյուջետային հատկացումների գլխավոր կարգադրիչների անվանումները | G6: Ցուցանիշների փոփոխությունը (գումարների ավելացումները նշված են դրական նշանով, իսկ նվազեցումները՝ փակագծերում)
G7: Առաջին կիսամյակ | H7: Ինն ամիս | I7: Տարի
A8: Բաժին | B8: Խումբ | C8: Դաս | D8: Ծրագիր | E8: Միջոցառում
F9: ԸՆԴԱՄԵՆԸ ԾԱԽՍԵՐ | G9: =G11+G31 -> 0 | H9: =H11+H31 -> 0 | I9: =I11+I31 -> 0
F10: այդ թվում`
F11: ՀՀ կառավարություն | G11: =G13 -> -446528.2 | H11: =H13 -> -446528.2 | I11: =I13 -> -446528.2
F12: այդ թվում`
A13: 11 | F13: ՀԻՄՆԱԿԱՆ ԲԱԺԻՆՆԵՐԻՆ ՉԴԱՍՎՈՂ ՊԱՀՈՒՍՏԱՅԻՆ ՖՈՆԴԵՐ | G13: =G15 -> -446528.2 | H13: =H15 -> -446528.2 | I13: =I15 -> -446528.2
F14: այդ թվում`
B15: 01 | F15: ՀՀ կառավարության և համայնքների պահուստային ֆոնդ | G15: =G17 -> -446528.2 | H15: =H17 -> -446528.2 | I15: =I17 -> -446528.2
F16: այդ թվում`
C17: 01 | F17: ՀՀ կառավարության պահուստային ֆոնդ | G17: =G19 -> -446528.2 | H17: =H19 -> -446528.2 | I17: =I19 -> -446528.2
F18: այդ թվում`
F19: ՀՀ կառավարություն | G19: =G21 -> -446528.2 | H19: =H21 -> -446528.2 | I19: =I21 -> -446528.2
F20: այդ թվում`
D21: 1139 | F21: ՀՀ կառավարության պահուստային ֆոնդ | G21: =G23 -> -446528.2 | H21: =H23 -> -446528.2 | I21: =I23 -> -446528.2
F22: այդ թվում`
E23: 11001 | F23: ՀՀ կառավարության պահուստային ֆոնդ | G23: =G25 -> -446528.2 | H23: =H25 -> -446528.2 | I23: =I25 -> -446528.2
F24: այդ թվում` ըստ կատարողների
F25: ՀՀ կառավարություն | G25: =G27 -> -446528.2 | H25: =H27 -> -446528.2 | I25: =I27 -> -446528.2
F26: այդ թվում` բյուջետային ծախսերի տնտեսագիտական դասակարգման հոդվածներ
F27: ԸՆԴԱՄԵՆԸ ԾԱԽՍԵՐ | G27: =G28 -> -446528.2 | H27: =H28 -> -446528.2 | I27: =I28 -> -446528.2
F28: ԸՆԹԱՑԻԿ ԾԱԽՍԵՐ | G28: =G29 -> -446528.2 | H28: =H29 -> -446528.2 | I28: =I29 -> -446528.2
F29: ԱՅԼ ԾԱԽՍԵՐ | G29: =G30 -> -446528.2 | H29: =H30 -> -446528.2 | I29: =I30 -> -446528.2
F30: Պահուստային միջոցներ | G30: ='1'!G28 -> -446528.2 | H30: ='1'!H28 -> -446528.2 | I30: ='1'!I28 -> -446528.2
F31: ՀՀ տարածքային կառավարման և ենթակառուցվածքների նախարարություն | G31: =G33 -> 446528.2 | H31: =H33 -> 446528.2 | I31: =I33 -> 446528.2
F32: այդ թվում`
A33: 04 | F33: ՏՆՏԵՍԱԿԱՆ ՀԱՐԱԲԵՐՈՒԹՅՈՒՆՆԵՐ | G33: =G35 -> 446528.2 | H33: =H35 -> 446528.2 | I33: =I35 -> 446528.2
F34: այդ թվում`
B35: 02 | F35: Գյուղատնտեսություն, անտառային տնտեսություն, ձկնորսություն և որսորդություն | G35: =G37 -> 446528.2 | H35: =H37 -> 446528.2 | I35: =I37 -> 446528.2
F36: այդ թվում`
C37: 04 | F37: Ոռոգում | G37: =G39 -> 446528.2 | H37: =H39 -> 446528.2 | I37: =I39 -> 446528.2
F38: այդ թվում`
F39: ՀՀ տարածքային կառավարման և ենթակառուցվածքների նախարարություն | G39: =G41 -> 446528.2 | H39: =H41 -> 446528.2 | I39: =I41 -> 446528.2
F40: այդ թվում`
D41: 1004 | F41: Ոռոգման համակարգի առողջացում | G41: =G43+G52 -> 446528.2 | H41: =H43+H52 -> 446528.2 | I41: =I43+I52 -> 446528.2
F42: այդ թվում`
E43: 11020 | F43: Հակահեղեղային անհետաձգելի միջոցառումներ | G43: =G45 -> 446528.2 | H43: =H45 -> 446528.2 | I43: =I45 -> 446528.2
F44: այդ թվում` ըստ կատարողների
F45: ՀՀ տարածքային կառավարման և ենթակառուցվածքների նախարարության ջրային կոմիտե | G45: =G47 -> 446528.2 | H45: =H47 -> 446528.2 | I45: =I47 -> 446528.2
F46: այդ թվում` բյուջետային ծախսերի տնտեսագիտական դասակարգման հոդվածներ
F47: ԸՆԴԱՄԵՆԸ ԾԱԽՍԵՐ | G47: =G48 -> 446528.2 | H47: =H48 -> 446528.2 | I47: =I48 -> 446528.2
F48: ԸՆԹԱՑԻԿ ԾԱԽՍԵՐ | G48: =G49 -> 446528.2 | H48: =H49 -> 446528.2 | I48: =I49 -> 446528.2
F49: ԾԱՌԱՅՈՒԹՅՈՒՆՆԵՐԻ ԵՎ ԱՊՐԱՆՔՆԵՐԻ ՁԵՌՔԲԵՐՈՒՄ | G49: =G50 -> 446528.2 | H49: =H50 -> 446528.2 | I49: =I50 -> 446528.2
F50: Պայմանագրային այլ ծառայությունների ձեռքբերում | G50: =G51 -> 446528.2 | H50: =H51 -> 446528.2 | I50: =I51 -> 446528.2
F51: - Ընդհանուր բնույթի այլ ծառայություններ | G51: ='3'!G30 -> 446528.2 | H51: ='3'!H30 -> 446528.2 | I51: ='3'!I30 -> 446528.2
