Workbook

Sheet 1
G1: Հավելված N1
I2: ՀՀ կառավարության 2026 թվականի
I3: ______________ ի ___Ն որոշման
B5: «ՀԱՅԱUՏԱՆԻ ՀԱՆՐԱՊԵՏՈՒԹՅԱՆ 2026 ԹՎԱԿԱՆԻ ՊԵՏԱԿԱՆ ԲՅՈՒՋԵԻ ՄԱUԻՆ» OՐԵՆՔԻ N 1 ՀԱՎԵԼՎԱԾԻ N 2 ԱՂՅՈՒՍԱԿՈՒՄ ԿԱՏԱՐՎՈՂ ՎԵՐԱԲԱՇԽՈՒՄԸ, ՓՈՓՈԽՈՒԹՅՈՒՆՆԵՐԸ , ՀԱՅԱՍՏԱՆԻ ՀԱՆՐԱՊԵՏՈՒԹՅԱՆ ԿԱՌԱՎԱՐՈՒԹՅԱՆ 2025 ԹՎԱԿԱՆԻ ԴԵԿՏԵՄԲԵՐԻ 25-Ի N 1910-Ն ՈՐՈՇՄԱՆ N 5 ՀԱՎԵԼՎԱԾԻ N 1 ԱՂՅՈՒՍԱԿՈՒՄ ԿԱՏԱՐՎՈՂ ՓՈՓՈԽՈՒԹՅՈՒՆՆԵՐԸ
H6: հազար դրամներով
A7: ԲԳԿ | B7: Ծրագրային դասիչը | D7: ԲԳԿ/Ծրագրի /միջոցառման անվանումը | E7: Ծրագրի նպատակը/Միջոցառման նկարագրությունը | F7: Վերջնական արդյունքի նկարագրությունը/Միջոցառման տեսակը | G7: Ցուցանիշների փոփոխությունը (ավելացումները նշված են դրական նշանով, իսկ նվազեցումները՝ փակագծերում)
G8: Առաջին կիսամյակ | H8: Ինն ամիս | I8: Տարի
B9: Ծրագիր | C9: Միջոցառում
A10: ԸՆԴԱՄԵՆԸ | G10: =G11 -> 0 | H10: =H11 -> 0 | I10: =I11 -> 0
A11: ՀՀ տարածքային կառավարման և ենթակառուցվածքների նախարարություն | G11: =G12 -> 0 | H11: =H12 -> 0 | I11: =I12 -> 0
B12: 1004 | D12: Ոռոգման համակարգի առողջացում | E12: Ոռոգման ծառայությունների հասանելիության և մատչելիության ապահովում | F12: Ոռոգման ջրի մատակարարման արդյունավետության և հասանելիության բարելավում, կորուստների կրճատում | G12: =SUM(G13:G17) -> 0 | H12: =SUM(H13:H17) -> 0 | I12: =SUM(I13:I17) -> 0
C13: 1004 - 11001 | D13: Ոռոգում-ջրառ իրականացնող կազմակերպություններին ֆինանսական աջակցության տրամադրում | E13: Ոռոգման ոլորտի սուբսիդավորում ոռոգում-ջրառ իրականացնող ՓԲԸ-ի համար հաստատված ոռոգման ջրի սակագնի և նվազագույն շահավետ գնի տարբերության չափով | F13: Ծառայությունների մատուցում | G13: 50000 | H13: 429478 | I13: =H13 -> 429478
C14: 1004 - 12002 | D14: Գերմանիայի զարգացման բանկի աջակցությամբ իրականացվող Ախուրյան գետի ջրային ռեսուրսների ինտեգրված կառավարման փուլ 1 ծրագրով Ջրաձոր գյուղի վերաբնակեցման համար ենթակառուցվածքների և բնակելի տների կառուցում | E14: Գերմանիայի զարգացման բանկի աջակցությամբ իրականացվող Ախուրյան գետի ջրային ռեսուրսների ինտեգրված կառավարման փուլ 1 ծրագիր | F14: Տրանսֆերտների տրամադրում | G14: 0 | H14: -110000 | I14: -110000
C15: 1004-31002 | D15: Ոռոգման համակարգերի հիմնանորոգում | E15: Ոռոգման համակարգերի հիմնանորոգում | F15: Պետական մարմինների կողմից օգտագործվող ոչ ֆինանսական ակտիվների հետ գործառնություններ | G15: ='5'!D14 -> -50000 | H15: ='5'!E14 -> 0 | I15: ='5'!F14 -> 0
C16: 1004-31009 | D16: Օրվա կարգավորման ջրավազանների կառուցում և վերակառուցում | E16: Օրվա կարգավորման ջրավազանների կառուցման և վերակառուցման համար նախագծերի և աշխատանքների ձեռք բերում | F16: Պետական մարմինների կողմից օգտագործվող ոչ ֆինանսական ակտիվների հետ գործառնություններ | G16: ='5'!D19 -> 0 | H16: ='5'!E19 -> -200000 | I16: ='5'!F19 -> 0
C17: 1004 - 31013 | D17: Փոքր և միջին ջրամբարների կառուցում | E17: Փոքր և միջին ջրամբարների կառուցման աշխատանքներ | F17: Պետական մարմինների կողմից օգտագործվող ոչ ֆինանսական ակտիվների հետ գործառնություններ | G17: ='5'!D26 -> 0 | H17: -119478 | I17: -319478
D19: ՂԵԿԱՎԱՐ ՝ Ա. ՀԱՐՈՒԹՅՈՒՆՅԱՆ

Sheet 2
A1: Հավելված N 2
A2: ՀՀ կառավարության 2026 թվականի
A3: -ի N -Ն որոշման
A4: «ՀԱՅԱՍՏԱՆԻ ՀԱՆՐԱՊԵՏՈՒԹՅԱՆ 2026 ԹՎԱԿԱՆԻ ՊԵՏԱԿԱՆ ԲՅՈՒՋԵԻ ՄԱՍԻՆ» ՀԱՅԱՍՏԱՆԻ ՀԱՆՐԱՊԵՏՈՒԹՅԱՆ ՕՐԵՆՔԻ N 1 ՀԱՎԵԼՎԱԾԻ N 3 ԱՂՅՈՒՍԱԿՈՒՄ ԿԱՏԱՐՎՈՂ ՓՈՓՈԽՈՒԹՅՈՒՆԸ
G5: հազար դրամներով
A6: Ծրագրային դասիչ | C6: Բյուջետային գլխավոր կարգադրիչների, ծրագրերի, միջոցառումների և ուղղությունների անվանումները | D6: Ցուցանիշների փոփոխությունը (Նվազեցումները նշված են փակագծերում)
D7: Ընդամենը, | E7: այդ թվում՝
A8: Ծրագիր | B8: Միջոցառում | E8: Կառուցման աշխատանքներ | F8: Վերակառուցման, վերանորոգման և վերականգնման աշխատանքներ | G8: Նախագծահե- տազոտական, գեոդեզիա- քարտեզագրա- կան աշխա- տանքներ | H8: Ոչ ֆինանսական այլ ակտիվների ձեռքբերում
C9: ԸՆԴԱՄԵՆԸ | D9: =SUM(E9:H9) -> -319478 | E9: =E10 -> 0 | F9: =F10 -> 0 | G9: =G10 -> -319478 | H9: =H10 -> 0
C10: ՀՀ ՏԱՐԱԾՔԱՅԻՆ ԿԱՌԱՎԱՐՄԱՆ ԵՎ ԵՆԹԱԿԱՌՈՒՑՎԱԾՔՆԵՐԻ ՆԱԽԱՐԱՐՈՒԹՅՈՒՆ | D10: =SUM(E10:H10) -> -319478 | E10: =E12 -> 0 | F10: =F12 -> 0 | G10: =G12 -> -319478 | H10: =H12 -> 0
C11: այդ թվում`
A12: 1004 | B12: 31013 | C12: Փոքր և միջին ջրամբարների կառուցում | D12: =SUM(E12:H12) -> -319478 | E12: 0 | F12: 0 | G12: -319478 | H12: 0

Sheet 3
A1: Հավելված N 3
A2: ՀՀ կառավարության 2026 թվականի
A3: -ի N -Ն որոշման
A4: ՀԱՅԱՍՏԱՆԻ ՀԱՆՐԱՊԵՏՈՒԹՅԱՆ ԿԱՌԱՎԱՐՈՒԹՅԱՆ 2025 ԹՎԱԿԱՆԻ ԴԵԿՏԵՄԲԵՐԻ 25-Ի N 1910-Ն ՈՐՈՇՄԱՆ N 3 ԵՎ N 4 ՀԱՎԵԼՎԱԾՆԵՐՈՒՄ ԿԱՏԱՐՎՈՂ ՓՈՓՈԽՈՒԹՅՈՒՆՆԵՐԸ
H5: հազար դրամներով
A6: Գործառական դասիչը | D6: Ծրագրային դասիչը | F6: Բյուջետային ծախսերի գործառական դասակարգման բաժինների, խմբերի և դասերի, բյուջետային ծրագրերի միջոցառումների, բյուջետային հատկացումների գլխավոր կարգադրիչների անվանումները | G6: Ցուցանիշների փոփոխությունը (ավելացումները նշված են դրական նշանով, իսկ նվազեցումները՝ փակագծերում)
A7: Բաժին | B7: Խումբ | C7: Դաս | D7: Ծրագիր | E7: Միջոցառում | G7: Առաջին կիսամյակ | H7: Ինն ամիս | I7: Տարի
F8: ԸՆԴԱՄԵՆԸ ԾԱԽՍԵՐ | G8: =G10 -> 0 | H8: =H10 -> 0 | I8: =I10 -> 0
F9: այդ թվում`
A10: 04 | F10: ՏՆՏԵՍԱԿԱՆ ՀԱՐԱԲԵՐՈՒԹՅՈՒՆՆԵՐ | G10: =G12 -> 0 | H10: =H12 -> 0 | I10: =I12 -> 0
F11: այդ թվում`
B12: 02 | F12: Գյուղատնտեսություն, անտառային տնտեսություն, ձկնորսություն և որսորդություն | G12: =G14 -> 0 | H12: =H14 -> 0 | I12: =I14 -> 0
F13: այդ թվում`
C14: 04 | F14: Ոռոգում | G14: =G16 -> 0 | H14: =H16 -> 0 | I14: =I16 -> 0
F15: այդ թվում`
F16: ՀՀ տարածքային կառավարման և ենթակառուցվածքների նախարարություն | G16: =G18 -> 0 | H16: =H18 -> 0 | I16: =I18 -> 0
F17: այդ թվում`
D18: 1004 | F18: Ոռոգման համակարգի առողջացում | G18: =G20+G29+G38+G47+G57 -> 0 | H18: =H20+H29+H38+H47+H57 -> 0 | I18: =I20+I29+I38+I47+I57 -> 0
F19: այդ թվում`
E20: 11001 | F20: Ոռոգում-ջրառ իրականացնող կազմակերպություններին ֆինանսական աջակցության տրամադրում | G20: =G22 -> 50000 | H20: =H22 -> 429478 | I20: =I22 -> 429478
F21: այդ թվում` ըստ կատարողների
F22: ՀՀ տարածքային կառավարման և ենթակառուցվածքների նախարարության ջրային կոմիտե | G22: =G24 -> 50000 | H22: =H24 -> 429478 | I22: =I24 -> 429478
F23: այդ թվում` բյուջետային ծախսերի տնտեսագիտական դասակարգման հոդվածներ
F24: ԸՆԴԱՄԵՆԸ ԾԱԽՍԵՐ | G24: =G25 -> 50000 | H24: =H25 -> 429478 | I24: =I25 -> 429478
F25: ԸՆԹԱՑԻԿ ԾԱԽՍԵՐ | G25: =G26 -> 50000 | H25: =H26 -> 429478 | I25: =I26 -> 429478
F26: ՍՈՒԲՍԻԴԻԱՆԵՐ | G26: =G27 -> 50000 | H26: =H27 -> 429478 | I26: =I27 -> 429478
F27: Սուբսիդիաներ պետական կազմակերպություններին | G27: =G28 -> 50000 | H27: =H28 -> 429478 | I27: =I28 -> 429478
F28: - Սուբսիդիաներ ոչ ֆինանսական պետական կազմակերպություններին | G28: ='1'!G13 -> 50000 | H28: ='1'!H13 -> 429478 | I28: ='1'!I13 -> 429478
E29: 12002 | F29: Գերմանիայի զարգացման բանկի աջակցությամբ իրականացվող Ախուրյան գետի ջրային ռեսուրսների ինտեգրված կառավարման փուլ 1 ծրագրով Ջրաձոր գյուղի վերաբնակեցման համար ենթակառուցվածքների և բնակելի տների կառուցում | G29: =+G31 -> 0 | H29: =+H31 -> -110000 | I29: =+I31 -> -110000
F30: այդ թվում` ըստ կատարողների
F31: ՀՀ տարածքային կառավարման և ենթակառուցվածքների նախարարության ջրային կոմիտե | G31: =+G33 -> 0 | H31: =+H33 -> -110000 | I31: =+I33 -> -110000
F32: այդ թվում` բյուջետային ծախսերի տնտեսագիտական դասակարգման հոդվածներ
F33: ԸՆԴԱՄԵՆԸ ԾԱԽՍԵՐ | G33: =+G34 -> 0 | H33: =+H34 -> -110000 | I33: =+I34 -> -110000
F34: ՈՉ ՖԻՆԱՆՍԱԿԱՆ ԱԿՏԻՎՆԵՐԻ ԳԾՈՎ ԾԱԽՍԵՐ | G34: =+G35 -> 0 | H34: =+H35 -> -110000 | I34: =+I35 -> -110000
F35: ՀԻՄՆԱԿԱՆ ՄԻՋՈՑՆԵՐ | G35: =+G36 -> 0 | H35: =+H36 -> -110000 | I35: =+I36 -> -110000
F36: ՇԵՆՔԵՐ ԵՎ ՇԻՆՈՒԹՅՈՒՆՆԵՐ | G36: =+G37 -> 0 | H36: =+H37 -> -110000 | I36: =+I37 -> -110000
F37: - Շենքերի և շինությունների շինարարություն | G37: ='1'!G14 -> 0 | H37: ='1'!H14 -> -110000 | I37: ='1'!I14 -> -110000
E38: 31002 | F38: Ոռոգման համակարգերի հիմնանորոգում | G38: =G40 -> -50000 | H38: =H40 -> 0 | I38: =I40 -> 0
F39: այդ թվում` ըստ կատարողների
F40: ՀՀ տարածքային կառավարման և ենթակառուցվածքների նախարարության ջրային կոմիտե | G40: =G42 -> -50000 | H40: =H42 -> 0 | I40: =I42 -> 0
...

Sheet 4
L1: Հավելված N 4
J2: ՀՀ կառավարության 2026 թվականի
J3: ______________ ի ___Ն որոշման
A5: «ՀԱՅԱUՏԱՆԻ ՀԱՆՐԱՊԵՏՈՒԹՅԱՆ 2025 ԹՎԱԿԱՆԻ ՊԵՏԱԿԱՆ ԲՅՈՒՋԵԻ ՄԱUԻՆ» OՐԵՆՔԻ N 1 ՀԱՎԵԼՎԱԾԻ N 4 ԱՂՅՈՒՍԱԿՈՒՄ ԵՎ ՀԱՅԱՍՏԱՆԻ ՀԱՆՐԱՊԵՏՈՒԹՅԱՆ ԿԱՌԱՎԱՐՈՒԹՅԱՆ 2025 ԹՎԱԿԱՆԻ ԴԵԿՏԵՄԲԵՐԻ 25-Ի N 1910-Ն ՈՐՈՇՄԱՆ N 5 ՀԱՎԵԼՎԱԾԻ N 3 ԱՂՅՈՒՍԱԿՈՒՄ ԿԱՏԱՐՎՈՂ ՓՈՓՈԽՈՒԹՅՈՒՆՆԵՐԸ
K6: հազար դրամներով
A7: Ծրագրային դասիչը | C7: Բյուջետային գլխավոր կարգադրիչների, ծրագրերի և միջոցառումների անվանումները | D7: Ցուցանիշների փոփոխությունները (Նվազեցումները նշնած են փակագծերում)
D8: Առաջին կիսամյակ | G8: Ինն ամիս | J8: Տարի
D9: Ընդամենը | E9: այդ թվում` | G9: Ընդամենը | H9: այդ թվում` | J9: Ընդամենը | K9: այդ թվում`
A10: Ծրագիր | B10: Միջոցառում | E10: Վարկային միջոցներ | F10: Համաֆինան սավորում | H10: Վարկային միջոցներ | I10: Համաֆինան սավորում | K10: Վարկային միջոցներ | L10: Համաֆինան սավորում
C11: ԸՆԴԱՄԵՆԸ | D11: =+E11+F11 -> 0 | E11: =+E13+E14 -> 0 | F11: =+F13+F14 -> 0 | G11: =+H11+I11 -> -110000 | H11: =+H13+H14 -> 0 | I11: =+I13+I14 -> -110000 | J11: =+K11+L11 -> -110000 | K11: =+K13+K14 -> 0 | L11: =+L13+L14 -> -110000
C12: այդ թվում`
C13: ԸՆԹԱՑԻԿ ԾԱԽՍԵՐ | D13: =+E13+F13 -> 0 | G13: =+H13+I13 -> 0 | J13: =+K13+L13 -> 0
C14: ՈՉ ՖԻՆԱՆՍԱԿԱՆ ԱԿՏԻՎՆԵՐԻ ԳԾՈՎ ԾԱԽՍԵՐ | D14: =+E14+F14 -> 0 | E14: =+E23 -> 0 | F14: =+F23 -> 0 | G14: =+H14+I14 -> -110000 | H14: =+H23 -> 0 | I14: =+I23 -> -110000 | J14: =+K14+L14 -> -110000 | K14: =+K23 -> 0 | L14: =+L23 -> -110000
C15: ՀՀ ՏԱՐԱԾՔԱՅԻՆ ԿԱՌԱՎԱՐՄԱՆ ԵՎ ԵՆԹԱԿԱՌՈՒՑՎԱԾՔՆԵՐԻ ՆԱԽԱՐԱՐՈՒԹՅՈՒՆ | D15: =+E15+F15 -> 0 | E15: =+E16 -> 0 | F15: =+F16 -> 0 | G15: =+H15+I15 -> -110000 | H15: =+H16 -> 0 | I15: =+I16 -> -110000 | J15: =+K15+L15 -> -110000 | K15: =+K16 -> 0 | L15: =+L16 -> -110000
A16: 1004 | C16: Ոռոգման համակարգի առողջացում | D16: =+E16+F16 -> 0 | E16: =+E18 -> 0 | F16: =+F18 -> 0 | G16: =+H16+I16 -> -110000 | H16: =+H18 -> 0 | I16: =+I18 -> -110000 | J16: =+K16+L16 -> -110000 | K16: =+K18 -> 0 | L16: =+L18 -> -110000
C17: այդ թվում`
B18: 12002 | C18: Գերմանիայի զարգացման բանկի աջակցությամբ իրականացվող Ախուրյան գետի ջրային ռեսուրսների ինտեգրված կառավարման փուլ 1 ծրագրով Ջրաձոր գյուղի վերաբնակեցման համար ենթակառուցվածքների և բնակելի տների կառուցում | D18: 0 | E18: 0 | F18: 0 | G18: =+H18+I18 -> -110000 | H18: 0 | I18: =+I20 -> -110000 | J18: =+K18+L18 -> -110000 | K18: 0 | L18: =+L20 -> -110000
C19: այդ թվում` ըստ կատարողների
C20: ՀՀ տարածքային կառավարման և ենթակառուցվածքների նախարարության ջրային կոմիտե | D20: 0 | E20: 0 | F20: 0 | G20: =+H20+I20 -> -110000 | H20: 0 | I20: =+I22 -> -110000 | J20: =+K20+L20 -> -110000 | K20: 0 | L20: =+L22 -> -110000
C21: այդ թվում` բյուջետային ծախսերի տնտեսագիտական դասակարգման հոդվածներ
C22: ԸՆԴԱՄԵՆԸ ԾԱԽՍԵՐ | D22: 0 | E22: 0 | F22: 0 | G22: =+H22+I22 -> -110000 | H22: 0 | I22: =+I23 -> -110000 | J22: =+K22+L22 -> -110000 | K22: 0 | L22: =+L23 -> -110000
C23: ՈՉ ՖԻՆԱՆՍԱԿԱՆ ԱԿՏԻՎՆԵՐԻ ԳԾՈՎ ԾԱԽՍԵՐ | D23: 0 | E23: 0 | F23: 0 | G23: =+H23+I23 -> -110000 | H23: 0 | I23: =+I24 -> -110000 | J23: =+K23+L23 -> -110000 | K23: 0 | L23: =+L24 -> -110000
C24: ՀԻՄՆԱԿԱՆ ՄԻՋՈՑՆԵՐ | D24: 0 | E24: 0 | F24: 0 | G24: =+H24+I24 -> -110000 | H24: 0 | I24: =+I25 -> -110000 | J24: =+K24+L24 -> -110000 | K24: 0 | L24: =+L25 -> -110000
C25: ՇԵՆՔԵՐ ԵՎ ՇԻՆՈՒԹՅՈՒՆՆԵՐ | D25: 0 | E25: 0 | F25: 0 | G25: =+H25+I25 -> -110000 | H25: 0 | I25: =+I26 -> -110000 | J25: =+K25+L25 -> -110000 | K25: 0 | L25: =+L26 -> -110000
C26: - Շենքերի և շինությունների շինարարություն | D26: 0 | G26: =+H26+I26 -> -110000 | H26: 0 | I26: -110000 | J26: =+K26+L26 -> -110000 | K26: 0 | L26: -110000
C29: ՀԱՅԱՍՏԱՆԻ ՀԱՆՐԱՊԵՏՈՒԹՅԱՆ ՎԱՐՉԱՊԵՏԻ ԱՇԽԱՏԱԿԱԶՄԻ ՂԵԿԱՎԱՐ՝

Sheet 5
A1: Հավելված N 5
A2: ՀՀ կառավարության 2026 թվականի
A3: -ի N -Ն որոշման
A4: ՀԱՅԱՍՏԱՆԻ ՀԱՆՐԱՊԵՏՈՒԹՅԱՆ ԿԱՌԱՎԱՐՈՒԹՅԱՆ 2025 ԹՎԱԿԱՆԻ ԴԵԿՏԵՄԲԵՐԻ 27-Ի N 1910-Ն ՈՐՈՇՄԱՆ N 5 ՀԱՎԵԼՎԱԾԻ N 2 ԱՂՅՈՒՍԱԿՈՒՄ ԿԱՏԱՐՎՈՂ ՓՈՓՈԽՈՒԹՅՈՒՆՆԵՐԸ
A6: հազար դրամներով
A7: Ծրագրային դասիչ | C7: Բյուջետային գլխավոր կարգադրիչների, ծրագրերի, միջոցառումների և ուղղությունների անվանումները | D7: Ցուցանիշների փոփոխությունը (Նվազեցումները նշված են փակագծերում)
D8: Առաջին կիսամյակ | E8: Ինն ամիս | F8: Տարի
A9: Ծրագիր | B9: Միջոց առում
C10: ԸՆԴԱՄԵՆԸ | D10: =D12 -> -50000 | E10: =E12 -> -319478 | F10: =F12 -> -319478
C11: այդ թվում`
C12: ՀՀ տարածքային կառավարման և ենթակառուցվածքների նախարարություն | D12: =D14+D19+D26 -> -50000 | E12: =E14+E19+E26 -> -319478 | F12: =F14+F19+F26 -> -319478
C13: այդ թվում՛
A14: 1004 | B14: 31002 | C14: Ոռոգման համակարգերի հիմնանորոգում | D14: =D16 -> -50000 | E14: =E16 -> 0 | F14: =F16 -> 0
C15: այդ թվում` ըստ կատարողների
C16: ՀՀ տարածքային կառավարման և ենթակառուցվածքների նախարարության ջրային կոմիտե | D16: =D18 -> -50000 | E16: =E18 -> 0 | F16: =F18 -> 0
C17: այդ թվում՝ ըստ ուղղությունների
C18: Արազափ 1 պոմպակայանի մղման խողովակաշարի հիմնանորոգում (2-րդ փուլ) | D18: -50000 | E18: 0 | F18: 0
A19: 1004 | B19: 31009 | C19: Օրվա կարգավորման ջրավազանների կառուցում և վերակառուցում | D19: =D21 -> 0 | E19: =E21 -> -200000 | F19: =F21 -> 0
C20: այդ թվում` ըստ կատարողների
C21: ՀՀ տարածքային կառավարման և ենթակառուցվածքների նախարարության ջրային կոմիտե | D21: =SUM(D23:D24) -> 0 | E21: =SUM(E23:E24) -> -200000 | F21: =SUM(F23:F24) -> 0
C22: այդ թվում՝ ըստ ուղղությունների
C23: Արզնի-Շամիրամ 2-րդ հերթի ջրանցքի վերջնամասում գտնվող, Ներքին Բազմաբերդի պոմպակայանի ջրընդունիչ ավազան հանդիսացող 24 հազ․խմ ծավալով ՕԿՋ-ի հիմնանորոգում | E23: -100000
C24: Ոսկեպար-Բաղանիս-Ոսկեվան-Կոթի ինքնահոս ջրագծի վրա՝ Բաղանիս-Ոսկեվան № 2 նախկին պոմպակայանի տարածքում, մինչև 8 հազ.խմ ծավալով ՕԿՋ-ի կառուցում | E24: -100000
A26: 1004 | B26: 31013 | C26: Փոքր և միջին ջրամբարների կառուցում | D26: =D28 -> 0 | E26: =E28 -> -119478 | F26: =F28 -> -319478
C27: այդ թվում` ըստ կատարողների
C28: ՀՀ տարածքային կառավարման և ենթակառուցվածքների նախարարության ջրային կոմիտե | E28: -119478 | F28: -319478

Sheet 6
A1: Հավելված N 6
A2: ՀՀ կառավարության 2026 թվականի
A3: -ի N -Ն որոշման
A5: ՀԱՅԱՍՏԱՆԻ ՀԱՆՐԱՊԵՏՈՒԹՅԱՆ ԿԱՌԱՎԱՐՈՒԹՅԱՆ 2025 ԹՎԱԿԱՆԻ ԴԵԿՏԵՄԲԵՐԻ 25-Ի N 1910-Ն ՈՐՈՇՄԱՆ N 9 ՀԱՎԵԼՎԱԾՈՒՄ ԿԱՏԱՐՎՈՂ ՓՈՓՈԽՈՒԹՅՈՒՆՆԵՐԸ
L6: հազար դրամներով
A7: ԲԳԿ | B7: Ծրագիր | D7: Միջոցառում | H7: Իրականացնողը/ ակտիվն օգտագործողը/ շահառուի ընտրության չափորոշիչը | I7: Արդյունքային չափորոշիչը | J7: Ցուցանիշների փոփոխությունը (ավելացումները նշված են դրական նշանով, իսկ նվազեցումները՝ փակագծերում)
B8: Դասիչը | C8: Անվանումը | D8: Դասիչը | E8: Անվա-նումը | F8: Նկարագրու-թյունը | G8: Տեսակը | J8: Առաջին կիսամյակ | K8: Ինն ամիս | L8: Տարի
A9: ԸՆԴԱՄԵՆԸ | J9: =J10 -> 0 | K9: =K10 -> 0 | L9: =L10 -> 0
A10: ՀՀ տարածքային կառավարման և ենթակառուցվածքների նախարարություն | J10: =J11 -> 0 | K10: =K11 -> 0 | L10: =L11 -> 0
B11: 1004 | C11: Ոռոգման համակարգի առողջացում | J11: =J12+J16+J20+J24+J28 -> 0 | K11: =K12+K16+K20+K24+K28 -> 0 | L11: =L12+L16+L20+L24+L28 -> 0
D12: 1004 - 11001 | E12: Ոռոգում-ջրառ իրականացնող կազմակերպություններին ֆինանսական աջակցության տրամադրում | J12: ='1'!G13 -> 50000 | K12: ='1'!H13 -> 429478 | L12: ='1'!I13 -> 429478
F13: Ոռոգման ոլորտի սուբսիդավորում ոռոգում-ջրառ իրականացնող ՓԲԸ-ի համար հաստատված ոռոգման ջրի սակագնի և նվազագույն շահավետ գնի տարբերության չափով
G14: Ծառայությունների մատուցում
H15: Ծառայությունը մատուցողի անվանումը` Ոռոգում-ջրառ իրականացնող կազմակերպություններ
D16: 1004-12002 | E16: Գերմանիայի զարգացման բանկի աջակցությամբ իրականացվող Ախուրյան գետի ջրային ռեսուրսների ինտեգրված կառավարման փուլ 1 ծրագրով Ջրաձոր գյուղի վերաբնակեցման համար ենթակառուցվածքների և բնակելի տների կառուցում | J16: ='1'!G14 -> 0 | K16: ='1'!H14 -> -110000 | L16: ='1'!I14 -> -110000
F17: Գերմանիայի զարգացման բանկի աջակցությամբ իրականացվող Ախուրյան գետի ջրային ռեսուրսների ինտեգրված կառավարման փուլ 1 ծրագիր
G18: Տրանսֆերտների տրամադրում
H19: Շահառուների ընտրության չափորոշիչները` Տրանսֆերտների տրամադրում
D20: 1004 - 31002 | E20: Ոռոգման համակարգերի հիմնանորոգում | J20: ='1'!G15 -> -50000 | K20: ='1'!H15 -> 0 | L20: ='1'!I15 -> 0
F21: Ոռոգման համակարգերի հիմնանորոգում
G22: Պետական մարմինների կողմից օգտագործվող ոչ ֆինանսական ակտիվների հետ գործառնություններ
H23: Ակտիվն օգտագործող կազմակերպության անվանումը` ՀՀ ՏԿԵՆ ջրային կոմիտե
D24: 1004 - 31009 | E24: Օրվա կարգավորման ջրավազանների կառուցում և վերակառուցում | J24: ='1'!G16 -> 0 | K24: ='1'!H16 -> -200000 | L24: ='1'!I16 -> 0
F25: Օրվա կարգավորման ջրավազանների կառուցման և վերակառուցման համար նախագծերի և աշխատանքների ձեռք բերում
G26: Պետական մարմինների կողմից օգտագործվող ոչ ֆինանսական ակտիվների հետ գործառնություններ
H27: Ակտիվն օգտագործող կազմակերպության անվանումը` ՀՀ ՏԿԵՆ ջրային կոմիտե
D28: 1004 - 31013 | E28: Փոքր և միջին ջրամբարների կառուցում | J28: ='1'!G17 -> 0 | K28: ='1'!H17 -> -119478 | L28: ='1'!I17 -> -319478
F29: Փոքր և միջին ջրամբարների կառուցման աշխատանքներ
G30: Պետական մարմինների կողմից օգտագործվող ոչ ֆինանսական ակտիվների հետ գործառնություններ
H31: Ակտիվն օգտագործող կազմակերպության անվանումը` ՀՀ ՏԿԵՆ ջրային կոմիտե
A46: ՀԱՅԱՍՏԱՆԻ ՀԱՆՐԱՊԵՏՈՒԹՅԱՆ
A47: ՎԱՐՉԱՊԵՏԻ ԱՇԽԱՏԱԿԱԶՄԻ
B48: ՂԵԿԱՎԱՐ ՝ Ա. ՀԱՐՈՒԹՅՈՒՆՅԱՆ

Sheet 7
A1: Հավելված N 7
A2: ՀՀ կառավարության 2026 թվականի
A3: -ի N -Ն որոշման
A5: ՀԱՅԱՍՏԱՆԻ ՀԱՆՐԱՊԵՏՈՒԹՅԱՆ ԿԱՌԱՎԱՐՈՒԹՅԱՆ 2025 ԹՎԱԿԱՆԻ ԴԵԿՏԵՄԲԵՐԻ 25-Ի N 1910-Ն ՈՐՈՇՄԱՆ N 9.1 ՀԱՎԵԼՎԱԾՈՒՄ ԿԱՏԱՐՎՈՂ ՓՈՓՈԽՈՒԹՅՈՒՆՆԵՐԸ
L7: հազար դրամներով
A8: ԲՍԿ | B8: Ծրագիր | D8: Միջոցառում | H8: Իրականացնողը/ ակտիվն օգտագործողը/ շահառուի ընտրության չափորոշիչը | I8: Արդյունքային չափորոշիչը | J8: Ցուցանիշների փոփոխությունը (ավելացումները նշված են դրական նշանով, իսկ նվազեցումները՝ փակագծերում)
B9: Դասիչը | C9: Անվանումը | D9: Դասիչը | E9: Անվանումը | F9: Նկարագրությունը | G9: Տեսակը | J9: Առաջին կիսամյակ | K9: Ինն ամիս | L9: Տարի
A10: ԸՆԴԱՄԵՆԸ | J10: =J11 -> 0 | K10: =K11 -> 0 | L10: =L11 -> 0
A11: ՀՀ տարածքային կառավարման և ենթակառուցվածքների նախարարության ջրային կոմիտե | J11: =J12 -> 0 | K11: =K12 -> 0 | L11: =L12 -> 0
B12: 1004 | C12: Ոռոգման համակարգի առողջացում | J12: =J13+J17+J21+J25+J29 -> 0 | K12: =K13+K17+K21+K25+K29 -> 0 | L12: =L13+L17+L21+L25+L29 -> 0
D13: 1004 - 11001 | E13: Ոռոգում-ջրառ իրականացնող կազմակերպություններին ֆինանսական աջակցության տրամադրում | J13: ='6'!J12 -> 50000 | K13: ='6'!K12 -> 429478 | L13: ='6'!L12 -> 429478
F14: Ոռոգման ոլորտի սուբսիդավորում ոռոգում-ջրառ իրականացնող ՓԲԸ-ի համար հաստատված ոռոգման ջրի սակագնի և նվազագույն շահավետ գնի տարբերության չափով
G15: Ծառայությունների մատուցում
H16: Ծառայությունը մատուցողի անվանումը` Ոռոգում-ջրառ իրականացնող կազմակերպություններ
D17: 1004-12002 | E17: Գերմանիայի զարգացման բանկի աջակցությամբ իրականացվող Ախուրյան գետի ջրային ռեսուրսների ինտեգրված կառավարման փուլ 1 ծրագրով Ջրաձոր գյուղի վերաբնակեցման համար ենթակառուցվածքների և բնակելի տների կառուցում | J17: ='6'!J16 -> 0 | K17: ='6'!K16 -> -110000 | L17: ='6'!L16 -> -110000
F18: Գերմանիայի զարգացման բանկի աջակցությամբ իրականացվող Ախուրյան գետի ջրային ռեսուրսների ինտեգրված կառավարման փուլ 1 ծրագիր
G19: Տրանսֆերտների տրամադրում
H20: Շահառուների ընտրության չափորոշիչները` Տրանսֆերտների տրամադրում
D21: 1004 - 31002 | E21: Ոռոգման համակարգերի հիմնանորոգում | J21: ='6'!J20 -> -50000 | K21: ='6'!K20 -> 0 | L21: ='6'!L20 -> 0
F22: Ոռոգման համակարգերի հիմնանորոգում
G23: Պետական մարմինների կողմից օգտագործվող ոչ ֆինանսական ակտիվների հետ գործառնություններ
H24: Ակտիվն օգտագործող կազմակերպության անվանումը` ՀՀ ՏԿԵՆ ջրային կոմիտե
D25: 1004 - 31009 | E25: Օրվա կարգավորման ջրավազանների կառուցում և վերակառուցում | J25: ='6'!J24 -> 0 | K25: ='6'!K24 -> -200000 | L25: ='6'!L24 -> 0
F26: Օրվա կարգավորման ջրավազանների կառուցման և վերակառուցման համար նախագծերի և աշխատանքների ձեռք բերում
G27: Պետական մարմինների կողմից օգտագործվող ոչ ֆինանսական ակտիվների հետ գործառնություններ
H28: Ակտիվն օգտագործող կազմակերպության անվանումը` ՀՀ ՏԿԵՆ ջրային կոմիտե
D29: 1004 - 31013 | E29: Փոքր և միջին ջրամբարների կառուցում | J29: ='6'!J28 -> 0 | K29: ='6'!K28 -> -119478 | L29: ='6'!L28 -> -319478
F30: Փոքր և միջին ջրամբարների կառուցման աշխատանքներ
G31: Պետական մարմինների կողմից օգտագործվող ոչ ֆինանսական ակտիվների հետ գործառնություններ
H32: Ակտիվն օգտագործող կազմակերպության անվանումը` ՀՀ ՏԿԵՆ ջրային կոմիտե
B36: ՀԱՅԱՍՏԱՆԻ ՀԱՆՐԱՊԵՏՈՒԹՅԱՆ
B37: ՎԱՐՉԱՊԵՏԻ ԱՇԽԱՏԱԿԱԶՄԻ
C38: ՂԵԿԱՎԱՐ ՝ Ա. ՀԱՐՈՒԹՅՈՒՆՅԱՆ

Sheet 8
A1: Հավելված N 8
A2: ՀՀ կառավարության 2026 թվականի
A3: -ի N -Ն որոշման
A5: ՀՀ ԿԱՌԱՎԱՐՈՒԹՅԱՆ 2025 ԹՎԱԿԱՆԻ ԴԵԿՏԵՄԲԵՐԻ 25-Ի N 1910-Ն ՈՐՈՇՄԱՆ N 10 ՀԱՎԵԼՎԱԾՈՒՄ ԿԱՏԱՐՎՈՂ ՓՈՓՈԽՈՒԹՅՈՒՆԸ
A7: Կոդը | B7: Անվանումը | C7: Գնման ձևը | D7: Չափի միավորը | E7: Միավորի գինը | F7: Ցուցանիշների փոփոխությունը (ավելացումները նշված են դրական նշանով, իսկ նվազեցումները՝ փակագծերում)
F8: քանակը | G8: գումարը (հազ. դրամ)
A9: ԸՆԴԱՄԵՆԸ | G9: =G10 -> -319478
A10: ՀՀ տարածքային կառավարման և ենթակառուցվածքների նախարարության ջրային կոմիտե | G10: =G11 -> -319478
A11: Բաժին N 04 | B11: Խումբ N 02 | C11: Դաս N 04 | D11: Ոռոգում | G11: =G12 -> -319478
A12: 1004 31013 | B12: Փոքր և միջին ջրամբարների կառուցում | G12: =G13 -> -319478
B13: ՄԱՍ III. ԾԱՌԱՅՈՒԹՅՈՒՆՆԵՐ | G13: =G14 -> -319478
A14: 71241200/1 | B14: նախագծերի պատրաստում, ծախսերի գնահատում | C14: ԲՄ | D14: դրամ | G14: -319478
A16: ՀԱՅԱՍՏԱՆԻ ՀԱՆՐԱՊԵՏՈՒԹՅԱՆ
A17: ՎԱՐՉԱՊԵՏԻ ԱՇԽԱՏԱԿԱԶՄԻ
B18: ՂԵԿԱՎԱՐ ՝ Ա. ՀԱՐՈՒԹՅՈՒՆՅԱՆ
