Workbook

Sheet Հավելված 1
I1: Հավելված N 1
I2: ՀՀ կառավարության 2026 թվականի
I3: ___________ ___-ի N _______ որոշման
A4: «ՀԱՅԱՍՏԱՆԻ ՀԱՆՐԱՊԵՏՈՒԹՅԱՆ 2026 ԹՎԱԿԱՆԻ ՊԵՏԱԿԱՆ ԲՅՈՒՋԵԻ ՄԱՍԻՆ» ՀԱՅԱՍՏԱՆԻ ՀԱՆՐԱՊԵՏՈՒԹՅԱՆ ՕՐԵՆՔԻ N 1 ՀԱՎԵԼՎԱԾԻ N 2 ԱՂՅՈՒՍԱԿՈՒՄ ԿԱՏԱՐՎՈՂ ՎԵՐԱԲԱՇԽՈՒՄԸ, ՓՈՓՈԽՈՒԹՅՈՒՆՆԵՐԸ ԵՎ ՀԱՅԱՍՏԱՆԻ ՀԱՆՐԱՊԵՏՈՒԹՅԱՆ ԿԱՌԱՎԱՐՈՒԹՅԱՆ 2025 ԹՎԱԿԱՆԻ ԴԵԿՏԵՄԲԵՐԻ 25-Ի N 1910-Ն ՈՐՈՇՄԱՆ N 5 ՀԱՎԵԼՎԱԾԻ N 1 ԱՂՅՈՒՍԱԿՈՒՄ ԿԱՏԱՐՎՈՂ ՓՈՓՈԽՈՒԹՅՈՒՆՆԵՐԸ
I5: հազար դրամներով
A6: ԲԳԿ | B6: Ծրագրային դասիչը | D6: ԲԳԿ/Ծրագրի /միջոցառման անվանումը | E6: Ծրագրի նպատակը/Միջոցառման նկարագրությունը | F6: Վերջնական արդյունքի նկարագրությունը/Միջոցառման տեսակը | G6: Ցուցանիշների փոփոխությունը (ավելացումները նշված են դրական նշանով, իսկ նվազեցումները՝ փակագծերում)
B7: Ծրագիր | C7: Միջոցառում | G7: Առաջին կիսամյակ | H7: Ինն ամիս | I7: Տարի
A8: ԸՆԴԱՄԵՆԸ | G8: =G9+G18 -> 0 | H8: =H9+H18 -> 0 | I8: =I9+I18 -> 0
A9: ՀՀ պետական եկամուտների կոմիտե | G9: =G10 -> 0 | H9: =H10 -> 0 | I9: =I10 -> 0
B10: 1023 | D10: Հարկային և մաքսային ծառայություններ | E10: Հարկային և մաքսային միասնական պետական քաղաքականության իրականացում, հարկային և մաքսային օրենսդրության ամբողջական և համահավասար կիրառում | F10: Արդյունավետ հարկային և մաքսային հսկողության իրականացում, պետական բյուջեի եկամուտների ապահովում | G10: =SUM(G11:G16) -> 0 | H10: =SUM(H11:H16) -> 0 | I10: =SUM(I11:I16) -> 0
C11: 1023 - 11001 | D11: Հարկային և մաքսային ծառայություններ | E11: Հարկային և մաքսային քաղաքականության մշակման, պլանավորման, մոնիտորինգի, ծրագրերի համակարգման, գանձման, վերահսկողության և աջակցության ծառայություններ | F11: Ծառայությունների մատուցում | G11: =+'Հավելված 3'!G21 -> -55863.2 | H11: =+'Հավելված 3'!H21 -> -119904.8 | I11: =+'Հավելված 3'!I21 -> -151205.4
C12: 1023 - 11012 | D12: Հայաստանի Հանրապետության մաքսային կցորդների գործունեության ապահովում | E12: Օտարերկրյա պետություններում և միջազգային կազմակերպություններում Հայաստանի Հանրապետության դիվանագիտական ծառայության մարմիններին կից մաքսային կցորդների գործունեության ապահովման և պահպանման ծախսեր | F12: Ծառայությունների մատուցում | G12: =+'Հավելված 3'!G36 -> -19391.5 | H12: =+'Հավելված 3'!H36 -> -19391.5 | I12: =+'Հավելված 3'!I36 -> -19391.5
C13: 1023 - 11014 | D13: Տեղեկատվական տեխնոլոգիաների և դրանց հետ փոխկապակցված համակարգերի կառավարում | E13: Տեղեկատվական տեխնոլոգիաների և դրանց հետ փոխկապակցված համակարգերի կառավարում | F13: Ծառայությունների մատուցում | G13: =+'Հավելված 3'!G44 -> 14280 | H13: =+'Հավելված 3'!H44 -> 35700 | I13: =+'Հավելված 3'!I44 -> 48360
C14: 1023 - 11015 | D14: Հարկ վճարելու մշակույթի զարգացման ու ՊԵԿ գործունեության վերաբերյալ հանրային իրազեկման միջոցառումների իրականացում | E14: Հարկ վճարելու մշակույթի զարգացման ու ՊԵԿ գործունեության հանրային իրազեկման շրջանակում հեռուստահաղորդումների, պանելային քննարկումների կազմակերպում և երկխոսության հարթակի ստեղծում | F14: Ծառայությունների մատուցում | G14: =+'Հավելված 3'!G53 -> 0 | H14: =+'Հավելված 3'!H53 -> -5530 | I14: =+'Հավելված 3'!I53 -> -5530
C15: 1023 - 31001 | D15: ՀՀ պետական եկամուտների կոմիտեի տեխնիկական հագեցվածության բարելավում | E15: ՀՀ պետական եկամուտների կոմիտեի տեխնիկական հագեցվածության բարելավում | F15: Պետական մարմինների կողմից օգտագործվող ոչ ֆինանսական ակտիվների հետ գործառնություններ | G15: =+'Հավելված 3'!G62 -> 21836.3 | H15: =+'Հավելված 3'!H62 -> 68509.8 | I15: =+'Հավելված 3'!I62 -> 68509.8
C16: 1023 - 31003 | D16: ՀՀ պետական եկամուտների կոմիտեի շենքային ապահովվածության բարելավում | E16: ՀՀ պետական եկամուտների կոմիտեի նոր շենքերի և շինությունների շինարարություն, նախագծային աշխատանքների ձեռքբերում | F16: Պետական մարմինների կողմից օգտագործվող ոչ ֆինանսական ակտիվների հետ գործառնություններ | G16: =+'Հավելված 3'!G74 -> 39138.4 | H16: =+'Հավելված 3'!H74 -> 40616.5 | I16: =+'Հավելված 3'!I74 -> 59257.1
A17: ՀՀ կառավարություն
B18: 1139 | D18: ՀՀ կառավարության պահուստային ֆոնդ | E18: Պետական բյուջեում չկանխատեսված, ինչպես նաև բյուջետային երաշխիքների ապահովման ծախսերի ֆինանսավորման ապահովում | F18: Պահուստային ֆոնդի կառավարման արդյունավետության և թափանցիկության ապահովում | G18: =+G19+G20 -> 0 | H18: =+H19+H20 -> 0 | I18: =+I19+I20 -> 0
C19: 1139 - 11001 | D19: ՀՀ կառավարության պահուստային ֆոնդ | E19: ՀՀ պետական բյուջեում նախատեսված ելքերի լրացուցիչ ֆինանսավորման, պետական բյուջեում չկանխատեսված ելքերի, ինչպես նաև բյուջետային երաշխիքների ապահովման ելքերի ֆինանսավորման ապահովում | F19: Ծառայությունների մատուցում | G19: =+'Հավելված 3'!G95 -> 39138.4 | H19: =+'Հավելված 3'!H95 -> 40616.5 | I19: =+'Հավելված 3'!I95 -> 59257.1
C20: 1139 - 11001 | D20: ՀՀ կառավարության պահուստային ֆոնդ | E20: ՀՀ պետական բյուջեում նախատեսված ելքերի լրացուցիչ ֆինանսավորման, պետական բյուջեում չկանխատեսված ելքերի, ինչպես նաև բյուջետային երաշխիքների ապահովման ելքերի ֆինանսավորման ապահովում | F20: Ծառայությունների մատուցում | G20: =+'Հավելված 3'!G105 -> -39138.4 | H20: =+'Հավելված 3'!H105 -> -40616.5 | I20: =+'Հավելված 3'!I105 -> -59257.1

Sheet Հավելված 2
H1: Հավելված N 2
H2: ՀՀ կառավարության 2026 թվականի
H3: ___________ ___-ի N _______ որոշման
A4: «ՀԱՅԱՍՏԱՆԻ ՀԱՆՐԱՊԵՏՈՒԹՅԱՆ 2026 ԹՎԱԿԱՆԻ ՊԵՏԱԿԱՆ ԲՅՈՒՋԵԻ ՄԱՍԻՆ» ՀԱՅԱՍՏԱՆԻ ՀԱՆՐԱՊԵՏՈՒԹՅԱՆ ՕՐԵՆՔԻ N 1 ՀԱՎԵԼՎԱԾԻ N 3 ԱՂՅՈՒՍԱԿՈՒՄ ԿԱՏԱՐՎՈՂ ՓՈՓՈԽՈՒԹՅՈՒՆՆԵՐԸ ԵՎ ԼՐԱՑՈՒՄՆԵՐԸ
H5: հազար դրամներով
A6: Ծրագրային դասիչ | C6: Բյուջետային գլխավոր կարգադրիչների, ծրագրերի, միջոցառումների և ուղղությունների անվանումները | D6: Ցուցանիշների փոփոխությունը (ավելացումները նշված են դրական նշանով, իսկ նվազեցումները՝ փակագծերում)
D7: Ընդամենը | E7: այդ թվում՝
E8: Կառուցման աշխատանքներ | F8: Վերակառուցման, վերանորոգման և վերականգնման աշխատանքներ | G8: Նախագծահետազոտական, գեոդեզա-քարտեզագրական աշխատանքներ | H8: Ոչ ֆինանսական այլ ակտիվների ձեռքբերում
A9: Ծրագիր | B9: Միջոցառում
C10: ԸՆԴԱՄԵՆԸ | D10: =D11 -> 127766.9 | E10: =E11 -> 57191.9 | F10: =F11 -> 0 | G10: =G11 -> 2065.2 | H10: =H11 -> 68509.8
C11: ՀՀ պետական եկամուտների կոմիտե | D11: =D13+D14 -> 127766.9 | E11: =E13+E14 -> 57191.9 | F11: =F13+F14 -> 0 | G11: =G13+G14 -> 2065.2 | H11: =H13+H14 -> 68509.8
C12: այդ թվում`
A13: 1023 | B13: 31001 | C13: ՀՀ պետական եկամուտների կոմիտեի տեխնիկական հագեցվածության բարելավում | D13: =E13+F13+G13+H13 -> 68509.8 | E13: 0 | F13: 0 | G13: 0 | H13: ='Հավելված 3'!I62 -> 68509.8
A14: 1023 | B14: 31003 | C14: ՀՀ պետական եկամուտների կոմիտեի շենքային ապահովվածության բարելավում | D14: =SUM(D16:D23) -> 59257.1 | E14: =SUM(E16:E23) -> 57191.9 | F14: =SUM(F16:F23) -> 0 | G14: =SUM(G16:G23) -> 2065.2 | H14: =SUM(H16:H23) -> 0
C15: այդ թվում`
C16: «Մարգարա» մաքսային կետի արդիականացման շինարարական աշխատանքներ | D16: =E16+F16+G16+H16 -> 9940.6 | E16: 9940.6
C17: Երևան քաղաքի Արարատյան 90 հասցեում գտնվող ՀՀ ՊԵԿ շինության նոր ջրամատակարարման համակարգի կառուցման շինարարական աշխատանքներ | D17: =E17+F17+G17+H17 -> 6700 | E17: 6700
C18: Երևան քաղաքի Սասունցի Դավթի 87 ա հասցեում գտնվող վարչական շենքի գազամատակարարման համակարգի կառուցման շինարարական աշխատանքներ | D18: =E18+F18+G18+H18 -> 2000 | E18: 2000
C19: Մաքսային մոնիթորինգի կենտրոնի կառուցում | D19: =E19+F19+G19+H19 -> 38551.3 | E19: 38551.3
C20: «Մարգարա» մաքսային կետի արդիականացման նախագծանախահաշվային փաստաթղթերի ձեռքբերում | D20: =E20+F20+G20+H20 -> 778.1 | G20: 778.1
C21: Երևան քաղաքի Արարատյան 90 հասցեում գտնվող ՀՀ ՊԵԿ շինության նոր ջրամատակարարման համակարգի կառուցման նախագծանախահաշվային փաստաթղթերի ձեռքբերում | D21: =E21+F21+G21+H21 -> 540 | G21: 540
C22: Երևան քաղաքի Սասունցի Դավթի 87 ա հասցեում գտնվող վարչական շենքի գազամատակարարման համակարգի կառուցման նախագծանախահաշվային փաստաթղթերի ձեռքբերում | D22: =E22+F22+G22+H22 -> 160 | G22: 160
C23: Մաքսային մոնիթորինգի կենտրոնի կառուցում կառուցման նախագծանախահաշվային փաստաթղթերի ձեռքբերում | D23: =E23+F23+G23+H23 -> 587.1 | G23: 587.1

Sheet Հավելված 3
I1: Հավելված N 3
I2: ՀՀ կառավարության 2026 թվականի
I3: ___________ ___-ի N _______ որոշման
A4: ՀԱՅԱՍՏԱՆԻ ՀԱՆՐԱՊԵՏՈՒԹՅԱՆ ԿԱՌԱՎԱՐՈՒԹՅԱՆ 2025 ԹՎԱԿԱՆԻ ԴԵԿՏԵՄԲԵՐԻ 25-Ի N 1910-Ն ՈՐՈՇՄԱՆ NN 3 ԵՎ 4 ՀԱՎԵԼՎԱԾՆԵՐՈՒՄ ԿԱՏԱՐՎՈՂ ՓՈՓՈԽՈՒԹՅՈՒՆՆԵՐԸ ԵՎ ԼՐԱՑՈՒՄՆԵՐԸ
I6: հազար դրամներով
A7: Գործառնական դասիչը | D7: Ծրագրային դասիչը | F7: Բյուջետային ծախսերի գործառնական դասակարգման բաժինների, խմբերի և դասերի, բյուջետային ծրագրերի միջոցառումների, բյուջետային հատկացումների գլխավոր կարգադրիչների անվանումները | G7: Ցուցանիշների փոփոխությունը (ավելացումները նշված են դրական նշանով, իսկ նվազեցումները՝ փակագծերում)
A8: բաժին | B8: խումբ | C8: դաս | D8: ծրագիր | E8: միջոցառում | G8: Առաջին կիսամյակ | H8: Ինն ամիս | I8: Տարի
F9: ԸՆԴԱՄԵՆԸ ԾԱԽՍԵՐ | G9: =G11+G85 -> 0 | H9: =H11+H85 -> 0 | I9: =I11+I85 -> 0
F10: այդ թվում՝
A11: 01 | F11: ԸՆԴՀԱՆՈՒՐ ԲՆՈՒՅԹԻ ՀԱՆՐԱՅԻՆ ԾԱՌԱՅՈՒԹՅՈՒՆՆԵՐ | G11: =G13 -> 0 | H11: =H13 -> 0 | I11: =I13 -> 0
F12: այդ թվում՝
B13: 01 | F13: Օրենսդիր և գործադիր մարմիններ, պետական կառավարում, ֆինանսական և հարկաբյուջետային հարաբերություններ, արտաքին հարաբերություններ | G13: =G15 -> 0 | H13: =H15 -> 0 | I13: =I15 -> 0
F14: այդ թվում՝
C15: 02 | F15: Ֆինանսական և հարկաբյուջետային հարաբերություններ | G15: =G17 -> 0 | H15: =H17 -> 0 | I15: =I17 -> 0
F16: այդ թվում՝
F17: ՀՀ պետական եկամուտների կոմիտե | G17: =G19 -> 0 | H17: =H19 -> 0 | I17: =I19 -> 0
F18: այդ թվում`
D19: 1023 | F19: Հարկային և մաքսային ծառայություններ | G19: =+G21+G44+G53+G62+G36+G74 -> 0 | H19: =+H21+H44+H53+H62+H36+H74 -> 0 | I19: =+I21+I44+I53+I62+I36+I74 -> 0
F20: այդ թվում՝
E21: 11001 | F21: Հարկային և մաքսային ծառայություններ | G21: =G23 -> -55863.2 | H21: =H23 -> -119904.8 | I21: =I23 -> -151205.4
F22: այդ թվում` ըստ կատարողների
F23: ՀՀ պետական եկամուտների կոմիտե | G23: =G25 -> -55863.2 | H23: =H25 -> -119904.8 | I23: =I25 -> -151205.4
F24: այդ թվում` բյուջետային ծախսերի տնտեսագիտական դասակարգման հոդվածներ
F25: ԸՆԴԱՄԵՆԸ ԾԱԽՍԵՐ | G25: =G26 -> -55863.2 | H25: =H26 -> -119904.8 | I25: =I26 -> -151205.4
F26: ԸՆԹԱՑԻԿ ԾԱԽՍԵՐ | G26: =G27 -> -55863.2 | H26: =H27 -> -119904.8 | I26: =I27 -> -151205.4
F27: ԾԱՌԱՅՈՒԹՅՈՒՆՆԵՐԻ ԵՎ ԱՊՐԱՆՔՆԵՐԻ ՁԵՌՔԲԵՐՈՒՄ | G27: =+G28+G31+G33 -> -55863.2 | H27: =+H28+H31+H33 -> -119904.8 | I27: =+I28+I31+I33 -> -151205.4
F28: Պայմանագրային այլ ծառայությունների ձեռքբերում այդ թվում՛ | G28: =G29+G30 -> -14280 | H28: =H29+H30 -> -62321.6 | I28: =I29+I30 -> -74174.6
F29: - Համակարգչային ծառայություններ | G29: =+-G52 -> -14280 | H29: =+-H52-13300+11853 -> -37147 | I29: -49000
F30: - Ընդհանուր բնույթի այլ ծառայություններ | G30: 0 | H30: =+-751-11423.6-13000 -> -25174.6 | I30: =+-751-11423.6-13000 -> -25174.6
F31: Ընթացիկ նորոգում և պահպանում (ծառայություններ և նյութեր) | G31: =+G32 -> -25000 | H31: =+H32 -> -39138.3 | I31: =+I32 -> -39138.3
F32: - Շենքերի և կառույցների ընթացիկ նորոգում և պահպանում | G32: -25000 | H32: -39138.3 | I32: -39138.3
F33: Նյութեր (Ապրանքներ) | G33: =G34+G35 -> -16583.2 | H33: =H34+H35 -> -18444.9 | I33: =I34+I35 -> -37892.5
F34: - Գրասենյակային նյութեր և հագուստ | G34: -2444.9 | H34: -2444.9 | I34: -2444.9
F35: - Տրանսպորտային նյութեր | G35: -14138.3 | H35: -16000 | I35: -35447.6
E36: 11012 | F36: Հայաստանի Հանրապետության մաքսային կցորդների գործունեության ապահովում | G36: =G38 -> -19391.5 | H36: =H38 -> -19391.5 | I36: =I38 -> -19391.5
F37: այդ թվում` ըստ կատարողների
F38: ՀՀ պետական եկամուտների կոմիտե | G38: =G40 -> -19391.5 | H38: =H40 -> -19391.5 | I38: =I40 -> -19391.5
F39: այդ թվում` բյուջետային ծախսերի տնտեսագիտական դասակարգման հոդվածներ
F40: ԸՆԴԱՄԵՆԸ ԾԱԽՍԵՐ | G40: =G41 -> -19391.5 | H40: =H41 -> -19391.5 | I40: =I41 -> -19391.5
F41: ԸՆԹԱՑԻԿ ԾԱԽՍԵՐ | G41: =G42 -> -19391.5 | H41: =H42 -> -19391.5 | I41: =I42 -> -19391.5
F42: ԱՅԼ ԾԱԽՍԵՐ | G42: =G43 -> -19391.5 | H42: =H43 -> -19391.5 | I42: =I43 -> -19391.5
F43: Այլ ծախսեր | G43: -19391.5 | H43: -19391.5 | I43: -19391.5
E44: 11014 | F44: Տեղեկատվական տեխնոլոգիաների և դրանց հետ փոխկապակցված համակարգերի կառավարում | G44: =+G46 -> 14280 | H44: =+H46 -> 35700 | I44: =+I46 -> 48360
F45: այդ թվում` ըստ կատարողների
F46: ՀՀ պետական եկամուտների կոմիտե | G46: =+G48 -> 14280 | H46: =+H48 -> 35700 | I46: =+I48 -> 48360
F47: այդ թվում` բյուջետային ծախսերի տնտեսագիտական դասակարգման հոդվածներ
F48: ԸՆԴԱՄԵՆԸ ԾԱԽՍԵՐ | G48: =+G49 -> 14280 | H48: =+H49 -> 35700 | I48: =+I49 -> 48360
F49: ԸՆԹԱՑԻԿ ԾԱԽՍԵՐ | G49: =+G50 -> 14280 | H49: =+H50 -> 35700 | I49: =+I50 -> 48360
F50: ԴՐԱՄԱՇՆՈՐՀՆԵՐ | G50: =+G51 -> 14280 | H50: =+H51 -> 35700 | I50: =+I51 -> 48360
F51: Ընթացիկ դրամաշնորհներ պետական հատվածի այլ մակարդակներին | G51: =G52 -> 14280 | H51: =H52 -> 35700 | I51: =I52 -> 48360
F52: - Ընթացիկ դրամաշնորհներ պետական և համայնքների ոչ առևտրային կազմակերպություններին | G52: 14280 | H52: 35700 | I52: 48360
E53: 11015 | F53: Հարկ վճարելու մշակույթի զարգացման ու ՊԵԿ գործունեության վերաբերյալ հանրային իրազեկման միջոցառումների իրականացում | G53: =G55 -> 0 | H53: =H55 -> -5530 | I53: =I55 -> -5530
F54: այդ թվում` ըստ կատարողների
F55: ՀՀ պետական եկամուտների կոմիտե | G55: =G57 -> 0 | H55: =H57 -> -5530 | I55: =I57 -> -5530
F56: այդ թվում` բյուջետային ծախսերի տնտեսագիտական դասակարգման հոդվածներ
F57: ԸՆԴԱՄԵՆԸ ԾԱԽՍԵՐ | G57: =G58 -> 0 | H57: =H58 -> -5530 | I57: =I58 -> -5530
F58: ԸՆԹԱՑԻԿ ԾԱԽՍԵՐ | G58: =G59 -> 0 | H58: =H59 -> -5530 | I58: =I59 -> -5530
F59: ԾԱՌԱՅՈՒԹՅՈՒՆՆԵՐԻ ԵՎ ԱՊՐԱՆՔՆԵՐԻ ՁԵՌՔԲԵՐՈՒՄ | G59: =G60 -> 0 | H59: =H60 -> -5530 | I59: =I60 -> -5530
F60: Այլ մասնագիտական ծառայությունների ձեռքբերում | G60: =G61 -> 0 | H60: =H61 -> -5530 | I60: =I61 -> -5530
F61: - Մասնագիտական ծառայություններ | H61: -5530 | I61: -5530
E62: 31001 | F62: ՀՀ պետական եկամուտների կոմիտեի տեխնիկական հագեցվածության բարելավում | G62: =G64 -> 21836.3 | H62: =H64 -> 68509.8 | I62: =I64 -> 68509.8
F63: այդ թվում` ըստ կատարողների
F64: ՀՀ պետական եկամուտների կոմիտե | G64: =G66 -> 21836.3 | H64: =H66 -> 68509.8 | I64: =I66 -> 68509.8
F65: այդ թվում` բյուջետային ծախսերի տնտեսագիտական դասակարգման հոդվածներ
F66: ԸՆԴԱՄԵՆԸ ԾԱԽՍԵՐ | G66: =G67 -> 21836.3 | H66: =H67 -> 68509.8 | I66: =I67 -> 68509.8
F67: ՈՉ ՖԻՆԱՆՍԱԿԱՆ ԱԿՏԻՎՆԵՐԻ ԳԾՈՎ ԾԱԽՍԵՐ | G67: =G68 -> 21836.3 | H67: =H68 -> 68509.8 | I67: =I68 -> 68509.8
F68: ՀԻՄՆԱԿԱՆ ՄԻՋՈՑՆԵՐ | G68: =G69+G72 -> 21836.3 | H68: =H69+H72 -> 68509.8 | I68: =I69+I72 -> 68509.8
F69: ՄԵՔԵՆԱՆԵՐ ԵՎ ՍԱՐՔԱՎՈՐՈՒՄՆԵՐ | G69: =G70+G71 -> 17868.3 | H69: =H70+H71 -> 64541.8 | I69: =I70+I71 -> 64541.8
F70: - Վարչական սարքավորումներ | G70: =3456+1200+3378+10329.8 -> 18363.8 | H70: =3456+1200+2481+3378+10329.8+58500+3417-18400 -> 64361.8 | I70: =3456+1200+2481+3378+10329.8+58500+3417-18400 -> 64361.8
F71: - Այլ մեքենաներ և սարքավորումներ | G71: =-1500+1004.5 -> -495.5 | H71: =1680-1500 -> 180 | I71: =1680-1500 -> 180
F72: ԱՅԼ ՀԻՄՆԱԿԱՆ ՄԻՋՈՑՆԵՐ | G72: =G73 -> 3968 | H72: =H73 -> 3968 | I72: =I73 -> 3968
F73: - Ոչ նյութական հիմնական միջոցներ | G73: 3968 | H73: 3968 | I73: 3968
E74: 31003 | F74: ՀՀ պետական եկամուտների կոմիտեի շենքային ապահովվածության բարելավում | G74: =G76 -> 39138.4 | H74: =H76 -> 40616.5 | I74: =I76 -> 59257.1
F75: այդ թվում` ըստ կատարողների
F76: ՀՀ պետական եկամուտների կոմիտե | G76: =G78 -> 39138.4 | H76: =H78 -> 40616.5 | I76: =I78 -> 59257.1
F77: այդ թվում` բյուջետային ծախսերի տնտեսագիտական դասակարգման հոդվածներ
F78: ԸՆԴԱՄԵՆԸ ԾԱԽՍԵՐ | G78: =G79 -> 39138.4 | H78: =H79 -> 40616.5 | I78: =I79 -> 59257.1
F79: ՈՉ ՖԻՆԱՆՍԱԿԱՆ ԱԿՏԻՎՆԵՐԻ ԳԾՈՎ ԾԱԽՍԵՐ | G79: =G80 -> 39138.4 | H79: =H80 -> 40616.5 | I79: =I80 -> 59257.1
F80: ՀԻՄՆԱԿԱՆ ՄԻՋՈՑՆԵՐ | G80: =G83+G81 -> 39138.4 | H80: =H83+H81 -> 40616.5 | I80: =I83+I81 -> 59257.1
F81: ՇԵՆՔԵՐ ԵՎ ՇԻՆՈՒԹՅՈՒՆՆԵՐ | G81: =+G82 -> 38551.3 | H81: =+H82 -> 38551.3 | I81: =+I82 -> 57191.9
F82: - Շենքերի և շինությունների շինարարություն | G82: =+'Հավելված 4'!D19+'Հավելված 4'!D20+'Հավելված 4'!D21+'Հավելված 4'!D22 -> 38551.3 | H82: =+'Հավելված 4'!E19+'Հավելված 4'!E20+'Հավելված 4'!E21+'Հավելված 4'!E22 -> 38551.3 | I82: =+'Հավելված 2'!E14 -> 57191.9
F83: ԱՅԼ ՀԻՄՆԱԿԱՆ ՄԻՋՈՑՆԵՐ | G83: =+G84 -> 587.1 | H83: =+H84 -> 2065.2 | I83: =+I84 -> 2065.2
F84: - Նախագծահետազոտական ծախսեր | G84: =+'Հավելված 4'!D23+'Հավելված 4'!D24+'Հավելված 4'!D25+'Հավելված 4'!D26 -> 587.1 | H84: =+'Հավելված 4'!E23+'Հավելված 4'!E24+'Հավելված 4'!E25+'Հավելված 4'!E26 -> 2065.2 | I84: =+'Հավելված 2'!G14 -> 2065.2
A85: 11 | F85: ՀԻՄՆԱԿԱՆ ԲԱԺԻՆՆԵՐԻՆ ՉԴԱՍՎՈՂ ՊԱՀՈՒՍՏԱՅԻՆ ՖՈՆԴԵՐ | G85: =+G87 -> 0 | H85: =+H87 -> 0 | I85: =+I87 -> 0
F86: այդ թվում`
B87: 01 | F87: ՀՀ կառավարության և համայնքների պահուստային ֆոնդ | G87: =+G89 -> 0 | H87: =+H89 -> 0 | I87: =+I89 -> 0
F88: այդ թվում`
C89: 01 | F89: ՀՀ կառավարության պահուստային ֆոնդ | G89: =+G91 -> 0 | H89: =+H91 -> 0 | I89: =+I91 -> 0
F90: այդ թվում`
F91: ՀՀ կառավարություն | G91: =+G93 -> 0 | H91: =+H93 -> 0 | I91: =+I93 -> 0
F92: այդ թվում`
D93: 1139 | F93: ՀՀ կառավարության պահուստային ֆոնդ | G93: =+G95+G103 -> 0 | H93: =+H95+H103 -> 0 | I93: =+I95+I103 -> 0
F94: այդ թվում`
E95: 11001 | F95: ՀՀ կառավարության պահուստային ֆոնդ | G95: =+G97 -> 39138.4 | H95: =+H97 -> 40616.5 | I95: =+I97 -> 59257.1
F96: այդ թվում` ըստ կատարողների
F97: ՀՀ կառավարություն | G97: =+G99 -> 39138.4 | H97: =+H99 -> 40616.5 | I97: =+I99 -> 59257.1
F98: այդ թվում` բյուջետային ծախսերի տնտեսագիտական դասակարգման հոդվածներ
F99: ԸՆԴԱՄԵՆԸ ԾԱԽՍԵՐ | G99: =+G100 -> 39138.4 | H99: =+H100 -> 40616.5 | I99: =+I100 -> 59257.1
F100: ԸՆԹԱՑԻԿ ԾԱԽՍԵՐ | G100: =+G101 -> 39138.4 | H100: =+H101 -> 40616.5 | I100: =+I101 -> 59257.1
F101: ԱՅԼ ԾԱԽՍԵՐ | G101: =+G102 -> 39138.4 | H101: =+H102 -> 40616.5 | I101: =+I102 -> 59257.1
...

Sheet Հավելված 4
F1: Հավելված N 4
F2: ՀՀ կառավարության 2026 թվականի
F3: ___________ ___-ի N _______ որոշման
A4: ՀԱՅԱՍՏԱՆԻ ՀԱՆՐԱՊԵՏՈՒԹՅԱՆ ԿԱՌԱՎԱՐՈՒԹՅԱՆ 2025 ԹՎԱԿԱՆԻ ԴԵԿՏԵՄԲԵՐԻ 25-Ի N 1910-Ն ՈՐՈՇՄԱՆ N 5 ՀԱՎԵԼՎԱԾԻ N 2 ԱՂՅՈՒՍԱԿՈՒՄ ԿԱՏԱՐՎՈՂ ՓՈՓՈԽՈՒԹՅՈՒՆՆԵՐԸ ԵՎ ԼՐԱՑՈՒՄՆԵՐԸ
F5: հազար դրամներով
A6: Ծրագրային դասիչը | C6: Բյուջետային գլխավոր կարգադրիչների, ծրագրերի, միջոցառումների, միջոցառումները կատարող պետական մարմինների և ուղղությունների անվանումները | D6: Ցուցանիշների փոփոխությունը (ավելացումները նշված են դրական նշանով, իսկ նվազեցումները՝ փակագծերում)
A7: Ծրագիրը | B7: Միջոցառումը | D7: Առաջին կիսամյակ | E7: Ինն ամիս | F7: Տարի
C8: ԸՆԴԱՄԵՆԸ | D8: =D10 -> 60974.7 | E8: =E10 -> 109126.3 | F8: =F10 -> 127766.9
C9: այդ թվում՝
C10: ՀՀ պետական եկամուտների կոմիտե | D10: =D12+D15 -> 60974.7 | E10: =E12+E15 -> 109126.3 | F10: =F12+F15 -> 127766.9
C11: այդ թվում`
A12: 1023 | B12: 31001 | C12: ՀՀ պետական եկամուտների կոմիտեի տեխնիկական հագեցվածության բարելավում | D12: =D14 -> 21836.3 | E12: =E14 -> 68509.8 | F12: =F14 -> 68509.8
C13: այդ թվում` ըստ կատարողների
C14: ՀՀ պետական եկամուտների կոմիտե | D14: ='Հավելված 3'!G62 -> 21836.3 | E14: ='Հավելված 3'!H62 -> 68509.8 | F14: ='Հավելված 3'!I62 -> 68509.8
A15: 1023 | B15: 31003 | C15: ՀՀ պետական եկամուտների կոմիտեի շենքային ապահովվածության բարելավում | D15: =D17 -> 39138.4 | E15: =E17 -> 40616.5 | F15: =F17 -> 59257.1
C16: այդ թվում` ըստ կատարողների
C17: ՀՀ պետական եկամուտների կոմիտե | D17: =SUM(D19:D26) -> 39138.4 | E17: =SUM(E19:E26) -> 40616.5 | F17: =SUM(F19:F26) -> 59257.1
C18: այդ թվում՝ ըստ ուղղությունների
C19: «Մարգարա» մաքսային կետի արդիականացման շինարարական աշխատանքներ | D19: 0 | E19: 0 | F19: =+'Հավելված 2'!D16 -> 9940.6
C20: Երևան քաղաքի Արարատյան 90 հասցեում գտնվող ՀՀ ՊԵԿ շինության նոր ջրամատակարարման համակարգի կառուցման շինարարական աշխատանքներ | D20: 0 | E20: 0 | F20: =+'Հավելված 2'!D17 -> 6700
C21: Երևան քաղաքի Սասունցի Դավթի 87 ա հասցեում գտնվող վարչական շենքի գազամատակարարման համակարգի կառուցման շինարարական աշխատանքներ | D21: 0 | E21: 0 | F21: =+'Հավելված 2'!D18 -> 2000
C22: Մաքսային մոնիթորինգի կենտրոնի կառուցում | D22: 38551.3 | E22: 38551.3 | F22: =+'Հավելված 2'!D19 -> 38551.3
C23: «Մարգարա» մաքսային կետի արդիականացման նախագծանախահաշվային փաստաթղթերի ձեռքբերում | D23: 0 | E23: 778.1 | F23: 778.1
C24: Երևան քաղաքի Արարատյան 90 հասցեում գտնվող ՀՀ ՊԵԿ շինության նոր ջրամատակարարման համակարգի կառուցման նախագծանախահաշվային փաստաթղթերի ձեռքբերում | D24: 0 | E24: 540 | F24: 540
C25: Երևան քաղաքի Սասունցի Դավթի 87 ա հասցեում գտնվող վարչական շենքի գազամատակարարման համակարգի կառուցման նախագծանախահաշվային փաստաթղթերի ձեռքբերում | D25: 0 | E25: 160 | F25: 160
C26: Մաքսային մոնիթորինգի կենտրոնի կառուցում կառուցման նախագծանախահաշվային փաստաթղթերի ձեռքբերում | D26: 587.1 | E26: 587.1 | F26: 587.1

Sheet Հավելված 5
G1: Հավելված N 5
G2: ՀՀ կառավարության 2026 թվականի
G3: ___________ ___-ի N _______ որոշման
A4: ՀԱՅԱՍՏԱՆԻ ՀԱՆՐԱՊԵՏՈՒԹՅԱՆ ԿԱՌԱՎԱՐՈՒԹՅԱՆ 2025 ԹՎԱԿԱՆԻ ԴԵԿՏԵՄԲԵՐԻ 25-Ի N 1910-Ն ՈՐՈՇՄԱՆ N 5 ՀԱՎԵԼՎԱԾԻ N 7 ԱՂՅՈՒՍԱԿՈՒՄ ԿԱՏԱՐՎՈՂ ՓՈՓՈԽՈՒԹՅՈՒՆՆԵՐԸ
G5: հազար դրամներով
A6: Ծրագրային դասիչ | C6: Բյուջետային հատկացումների գլխավոր կարգադրիչների, ծրագրերի, միջոցառումների, ծախսային ուղղությունների անվանումները | F6: Միջոցառումները կատարող պետական մարմինների և դրամաշնորհ ստացող տնտեսվարող սուբյեկտների անվանումները | G6: Ցուցանիշների փոփոխությունը (ավելացումները նշված են դրական նշանով)
A7: Ծրագիր | B7: Միջոցառում | G7: Տարի
A8: 1 | B8: 2 | C8: 3 | F8: 4 | G8: 5
A9: ԸՆԴԱՄԵՆԸ | G9: =+G10 -> 48360
A10: ՀՀ պետական եկամուտների կոմիտե | G10: =G11 -> 48360
A11: 1023 | B11: Հարկային և մաքսային ծառայություններ | G11: =G12 -> 48360
B12: 11014 | C12: Տեղեկատվական տեխնոլոգիաների և դրանց հետ փոխկապակցված համակարգերի կառավարում | F12: ՀՀ պետական եկամուտների կոմիտե | G12: =G13 -> 48360
F13: «Ջի Սոլյուշնս» ՊՈԱԿ | G13: =+'Հավելված 3'!I44 -> 48360

Sheet Հավելված 6 
L1: Հավելված N 6
L2: ՀՀ կառավարության 2026 թվականի
L3: ___________ ___-ի N _______ որոշման
A4: ՀԱՅԱՍՏԱՆԻ ՀԱՆՐԱՊԵՏՈՒԹՅԱՆ ԿԱՌԱՎԱՐՈՒԹՅԱՆ 2025 ԹՎԱԿԱՆԻ ԴԵԿՏԵՄԲԵՐԻ 25-Ի N 1910-Ն ՈՐՈՇՄԱՆ N 9 ՀԱՎԵԼՎԱԾՈՒՄ ԿԱՏԱՐՎՈՂ ՓՈՓՈԽՈՒԹՅՈՒՆՆԵՐԸ ԵՎ ԼՐԱՑՈՒՄՆԵՐԸ
L5: հազար դրամներով
A6: ԲԳԿ | B6: Ծրագիր | D6: Միջոցառում | H6: Իրականացնողը/ ակտիվն օգտագործողը/ շահառուի ընտրության չափորոշիչը | I6: Արդյունքային չափորոշիչը | J6: Ցուցանիշների փոփոխությունը (ավելացումները նշված են դրական նշանով, իսկ նվազեցումները՝ փակագծերում)
B7: Դասիչը | C7: Անվանումը | D7: Դասիչը | E7: Անվա-նումը | F7: Նկարագրու-թյունը | G7: Տեսակը | J7: Առաջին կիսամյակ | K7: Ինն ամիս | L7: Տարի
A8: ԸՆԴԱՄԵՆԸ | J8: =J9+J51 -> 0 | K8: =K9+K51 -> 0 | L8: =L9+L51 -> 0
A9: ՀՀ պետական եկամուտների կոմիտե | J9: =J10 -> 0 | K9: =K10 -> 0 | L9: =L10 -> 0
B10: 1023 | C10: Հարկային և մաքսային ծառայություններ | J10: =+J11+J15+J19+J25+J35+J42 -> 0 | K10: =+K11+K15+K19+K25+K35+K42 -> 0 | L10: =+L11+L15+L19+L25+L35+L42 -> 0
D11: 1023 - 11001 | E11: Հարկային և մաքսային ծառայություններ | J11: ='Հավելված 3'!G21 -> -55863.2 | K11: ='Հավելված 3'!H21 -> -119904.8 | L11: ='Հավելված 3'!I21 -> -151205.4
F12: Հարկային և մաքսային քաղաքականության մշակման, պլանավորման, մոնիտորինգի, ծրագրերի համակարգման, գանձման, վերահսկողության և աջակցության ծառայություններ
G13: Ծառայությունների մատուցում
H14: Ծառայությունը մատուցողի անվանումը` ՀՀ պետական եկամուտների կոմիտե
D15: 1023 - 11012 | E15: Հայաստանի Հանրապետության մաքսային կցորդների գործունեության ապահովում | J15: =+'Հավելված 3'!G36 -> -19391.5 | K15: =+'Հավելված 3'!H36 -> -19391.5 | L15: =+'Հավելված 3'!I36 -> -19391.5
F16: Օտարերկրյա պետություններում և միջազգային կազմակերպություններում Հայաստանի Հանրապետության դիվանագիտական ծառայության մարմիններին կից մաքսային կցորդների գործունեության ապահովման և պահպանման ծախսեր
G17: Ծառայությունների մատուցում
H18: Ծառայությունը մատուցողի անվանումը` Օտարերկրյա պետություններում ՀՀ դիվանագիտական ծառայություն իրականացնող մաքսային կցորդներ
D19: 1023 - 11014 | E19: Տեղեկատվական տեխնոլոգիաների և դրանց հետ փոխկապակցված համակարգերի կառավարում | J19: =+'Հավելված 3'!G44 -> 14280 | K19: =+'Հավելված 3'!H44 -> 35700 | L19: =+'Հավելված 3'!I44 -> 48360
F20: Տեղեկատվական տեխնոլոգիաների և դրանց հետ փոխկապակցված համակարգերի կառավարում
G21: Ծառայությունների մատուցում
H22: Ծառայությունը մատուցողի անվանումը` Մասնագիտացված կազմակերպություն
I23: Ներդրված թվայնացման նախագծեր | J23: 0 | L23: 2
I24: Սպասարկվող էլեկտրոնային համակարգեր | J24: 0 | L24: 2
D25: 1023 - 11015 | E25: Հարկ վճարելու մշակույթի զարգացման ու ՊԵԿ գործունեության վերաբերյալ հանրային իրազեկման միջոցառումների իրականացում | J25: =+'Հավելված 3'!G53 -> 0 | K25: =+'Հավելված 3'!H53 -> -5530 | L25: =+'Հավելված 3'!I53 -> -5530
F26: Հարկ վճարելու մշակույթի զարգացման ու ՊԵԿ գործունեության հանրային իրազեկման շրջանակում հեռուստահաղորդումների, պանելային քննարկումների կազմակերպում և երկխոսության հարթակի ստեղծում
G27: Ծառայությունների մատուցում
H28: Ծառայությունը մատուցողի անվանումը` Մրցույթի արդյունքում ընտրված կազմակերպություն
I29: Տարվա ընթացքում հաղորդումների կազմակերպում (քանակը) | J29: -5 | L29: -12
I30: Շահագրգիր կողմերի հետ պանելային քննարկումների կազմակերպում (քանակ) | J30: -1 | L30: -2
I31: Երկխոսության հարթակի ստեղծում` ֆորումի ձևաչափով | J31: 0 | L31: -1
I32: Սոցիալական հոլովակների և թեմատիկ գրառումներով պաստառների պատրաստում (հատ) | J32: 8 | L32: 20
I33: Ֆորումի, պանելային քննարկումների և հանդիպումների կազմակերպում բիզնեսի և ոլորտային մասնագետների հետ (հատ) | J33: 1 | L33: 2
I34: Ֆորումի, պանելային քննարկումների, հանդիպումների և ասուլիսների ուղիղ հեռարձակման և հատուկ ձևաչափով նկարահանումների ապահովում (հատ) | J34: 1 | L34: 3
D35: 1023 - 31001 | E35: ՀՀ պետական եկամուտների կոմիտեի տեխնիկական հագեցվածության բարելավում | J35: ='Հավելված 3'!G62 -> 21836.3 | K35: ='Հավելված 3'!H62 -> 68509.8 | L35: ='Հավելված 3'!I62 -> 68509.8
F36: ՀՀ պետական եկամուտների կոմիտեի տեխնիկական հագեցվածության բարելավում
G37: Պետական մարմինների կողմից օգտագործվող ոչ ֆինանսական ակտիվների հետ գործառնություններ
H38: Ակտիվն օգտագործող կազմակերպության անվանումը` ՀՀ պետական եկամուտների կոմիտե
I39: Համակարգչային սարքավորումների քանակ, հատ | J39: =12+20+77+51 -> 160 | L39: =12+20+77+51+130+26-46 -> 270
I40: Գրասենյակային գույքի միավոր քանակ, հատ | J40: 100 | L40: 100
I41: Այլ սարքավորումների քանակ, հատ | J41: =-1 -> -1 | L41: =7+7+7-1 -> 20
D42: 1023 - 31003 | E42: ՀՀ պետական եկամուտների կոմիտեի շենքային ապահովվածության բարելավում | J42: =+'Հավելված 3'!G74 -> 39138.4 | K42: =+'Հավելված 3'!H74 -> 40616.5 | L42: =+'Հավելված 3'!I74 -> 59257.1
F43: ՀՀ պետական եկամուտների կոմիտեի նոր շենքերի և շինությունների շինարարություն, նախագծային աշխատանքների ձեռքբերում
G44: Պետական մարմինների կողմից օգտագործվող ոչ ֆինանսական ակտիվների հետ գործառնություններ
H45: Ակտիվն օգտագործող կազմակերպության անվանումը` ՀՀ պետական եկամուտների կոմիտե
I46: Շինարարական օբյեկտների թիվ, հատ | J46: 1 | L46: 4
I47: Նախագծանախահաշվային փաստաթղթերի թիվ, հատ | J47: 1 | L47: 4
I48: Շինարարական աշխատանքների ավարտվածության աստիճանը, տոկոս | J48: 100 | L48: 100
I49: Նախագծվող աշխատանքների ավարտվածության աստիճանը | J49: 100 | L49: 100
A50: ՀՀ կառավարություն
B51: 1139 | C51: ՀՀ կառավարության պահուստային ֆոնդ | J51: =+J52+J56 -> 0 | K51: =+K52+K56 -> 0 | L51: =+L52+L56 -> 0
D52: 1139 - 11001 | E52: ՀՀ կառավարության պահուստային ֆոնդ | J52: =+'Հավելված 3'!G95 -> 39138.4 | K52: ='Հավելված 3'!H95 -> 40616.5 | L52: ='Հավելված 3'!I95 -> 59257.1
F53: ՀՀ պետական բյուջեում նախատեսված ելքերի լրացուցիչ ֆինանսավորման, պետական բյուջեում չկանխատեսված ելքերի, ինչպես նաև բյուջետային երաշխիքների ապահովման ելքերի ֆինանսավորման ապահովում
G54: Ծառայությունների մատուցում
H55: Ծառայությունը մատուցողի անվանումը` ՀՀ կառավարություն
D56: 1139 - 11001 | E56: ՀՀ կառավարության պահուստային ֆոնդ | J56: ='Հավելված 3'!G103 -> -39138.4 | K56: ='Հավելված 3'!H103 -> -40616.5 | L56: ='Հավելված 3'!I103 -> -59257.1
F57: ՀՀ պետական բյուջեում նախատեսված ելքերի լրացուցիչ ֆինանսավորման, պետական բյուջեում չկանխատեսված ելքերի, ինչպես նաև բյուջետային երաշխիքների ապահովման ելքերի ֆինանսավորման ապահովում
G58: Ծառայությունների մատուցում
H59: Ծառայությունը մատուցողի անվանումը` ՀՀ կառավարություն

Sheet Հավելված 7
L1: Հավելված N 7
L2: ՀՀ կառավարության 2026 թվականի
L3: ___________ ___-ի N _______ որոշման
A4: ՀԱՅԱՍՏԱՆԻ ՀԱՆՐԱՊԵՏՈՒԹՅԱՆ ԿԱՌԱՎԱՐՈՒԹՅԱՆ 2025 ԹՎԱԿԱՆԻ ԴԵԿՏԵՄԲԵՐԻ 27-Ի N 1910-Ն ՈՐՈՇՄԱՆ N 9.1 ՀԱՎԵԼՎԱԾՈՒՄ ԿԱՏԱՐՎՈՂ ՓՈՓՈԽՈՒԹՅՈՒՆՆԵՐԸ ԵՎ ԼՐԱՑՈՒՄՆԵՐԸ
L5: հազար դրամներով
A6: ԲՍԿ | B6: Ծրագիր | D6: Միջոցառում | H6: Իրականացնողը/ ակտիվն օգտագործողը/ շահառուի ընտրության չափորոշիչը | I6: Արդյունքային չափորոշիչը | J6: Ցուցանիշների փոփոխությունը (ավելացումները նշված են դրական նշանով, իսկ նվազեցումները՝ փակագծերում)
B7: Դասիչը | C7: Անվանումը | D7: Դասիչը | E7: Անվա-նումը | F7: Նկարագրու-թյունը | G7: Տեսակը | J7: Առաջին կիսամյակ | K7: Ինն ամիս | L7: Տարի
A8: ԸՆԴԱՄԵՆԸ | J8: =J9+J51 -> 0 | K8: =K9+K51 -> 0 | L8: =L9+L51 -> 0
A9: ՀՀ պետական եկամուտների կոմիտե | J9: =J10 -> 0 | K9: =K10 -> 0 | L9: =L10 -> 0
B10: 1023 | C10: Հարկային և մաքսային ծառայություններ | J10: =J11+J15+J19+J25++J35+J42 -> 0 | K10: =K11+K15+K19+K25++K35+K42 -> 0 | L10: =L11+L15+L19+L25++L35+L42 -> 0
D11: 1023 - 11001 | E11: Հարկային և մաքսային ծառայություններ | J11: ='Հավելված 3'!G21 -> -55863.2 | K11: ='Հավելված 3'!H21 -> -119904.8 | L11: ='Հավելված 3'!I21 -> -151205.4
F12: Հարկային և մաքսային քաղաքականության մշակման, պլանավորման, մոնիտորինգի, ծրագրերի համակարգման, գանձման, վերահսկողության և աջակցության ծառայություններ
G13: Ծառայությունների մատուցում
H14: Ծառայությունը մատուցողի անվանումը` ՀՀ պետական եկամուտների կոմիտե
D15: 1023 - 11012 | E15: Հայաստանի Հանրապետության մաքսային կցորդների գործունեության ապահովում | J15: =+'Հավելված 6 '!J15 -> -19391.5 | K15: =+'Հավելված 6 '!K15 -> -19391.5 | L15: =+'Հավելված 6 '!L15 -> -19391.5
F16: Օտարերկրյա պետություններում և միջազգային կազմակերպություններում Հայաստանի Հանրապետության դիվանագիտական ծառայության մարմիններին կից մաքսային կցորդների գործունեության ապահովման և պահպանման ծախսեր
G17: Ծառայությունների մատուցում
H18: Ծառայությունը մատուցողի անվանումը` Օտարերկրյա պետություններում ՀՀ դիվանագիտական ծառայություն իրականացնող մաքսային կցորդներ
D19: 1023 - 11014 | E19: Տեղեկատվական տեխնոլոգիաների և դրանց հետ փոխկապակցված համակարգերի կառավարում | J19: =+'Հավելված 6 '!J19 -> 14280 | K19: =+'Հավելված 6 '!K19 -> 35700 | L19: =+'Հավելված 6 '!L19 -> 48360
F20: Տեղեկատվական տեխնոլոգիաների և դրանց հետ փոխկապակցված համակարգերի կառավարում
G21: Ծառայությունների մատուցում
H22: Ծառայությունը մատուցողի անվանումը` Մասնագիտացված կազմակերպություն
I23: Ներդրված թվայնացման նախագծեր | J23: =+'Հավելված 6 '!J23 -> 0 | L23: =+'Հավելված 6 '!L23 -> 2
I24: Սպասարկվող էլեկտրոնային համակարգեր | J24: =+'Հավելված 6 '!J24 -> 0 | L24: =+'Հավելված 6 '!L24 -> 2
D25: 1023 - 11015 | E25: Հարկ վճարելու մշակույթի զարգացման ու ՊԵԿ գործունեության վերաբերյալ հանրային իրազեկման միջոցառումների իրականացում | J25: ='Հավելված 6 '!J25 -> 0 | K25: ='Հավելված 6 '!K25 -> -5530 | L25: ='Հավելված 6 '!L25 -> -5530
F26: Հարկ վճարելու մշակույթի զարգացման ու ՊԵԿ գործունեության հանրային իրազեկման շրջանակում հեռուստահաղորդումների, պանելային քննարկումների կազմակերպում և երկխոսության հարթակի ստեղծում
G27: Ծառայությունների մատուցում
H28: Ծառայությունը մատուցողի անվանումը` Մրցույթի արդյունքում ընտրված կազմակերպություն
I29: Տարվա ընթացքում հաղորդումների կազմակերպում (քանակը) | J29: -5 | L29: -12
I30: Շահագրգիր կողմերի հետ պանելային քննարկումների կազմակերպում (քանակ) | J30: -1 | L30: -2
I31: Երկխոսության հարթակի ստեղծում` ֆորումի ձևաչափով | J31: 0 | L31: -1
I32: Սոցիալական հոլովակների և թեմատիկ գրառումներով պաստառների պատրաստում (հատ) | J32: 8 | L32: 20
I33: Ֆորումի, պանելային քննարկումների և հանդիպումների կազմակերպում բիզնեսի և ոլորտային մասնագետների հետ (հատ) | J33: 1 | L33: 2
I34: Ֆորումի, պանելային քննարկումների, հանդիպումների և ասուլիսների ուղիղ հեռարձակման և հատուկ ձևաչափով նկարահանումների ապահովում (հատ) | J34: 1 | L34: 3
D35: 1023 - 31001 | E35: ՀՀ պետական եկամուտների կոմիտեի տեխնիկական հագեցվածության բարելավում | J35: ='Հավելված 3'!G62 -> 21836.3 | K35: ='Հավելված 3'!H62 -> 68509.8 | L35: ='Հավելված 3'!I62 -> 68509.8
F36: ՀՀ պետական եկամուտների կոմիտեի տեխնիկական հագեցվածության բարելավում
G37: Պետական մարմինների կողմից օգտագործվող ոչ ֆինանսական ակտիվների հետ գործառնություններ
H38: Ակտիվն օգտագործող կազմակերպության անվանումը` ՀՀ պետական եկամուտների կոմիտե
I39: Համակարգչային սարքավորումների քանակ, հատ | J39: =+'Հավելված 6 '!J39 -> 160 | L39: =+'Հավելված 6 '!L39 -> 270
I40: Գրասենյակային գույքի միավոր քանակ, հատ | J40: =+'Հավելված 6 '!J40 -> 100 | L40: =+'Հավելված 6 '!L40 -> 100
I41: Այլ սարքավորումների քանակ, հատ | J41: =+'Հավելված 6 '!J41 -> -1 | L41: =+'Հավելված 6 '!L41 -> 20
D42: 1023 - 31003 | E42: ՀՀ պետական եկամուտների կոմիտեի շենքային ապահովվածության բարելավում | J42: =+'Հավելված 6 '!J42 -> 39138.4 | K42: =+'Հավելված 6 '!K42 -> 40616.5 | L42: =+'Հավելված 6 '!L42 -> 59257.1
F43: ՀՀ պետական եկամուտների կոմիտեի նոր շենքերի և շինությունների շինարարություն, նախագծային աշխատանքների ձեռքբերում
G44: Պետական մարմինների կողմից օգտագործվող ոչ ֆինանսական ակտիվների հետ գործառնություններ
H45: Ակտիվն օգտագործող կազմակերպության անվանումը` ՀՀ պետական եկամուտների կոմիտե
I46: Շինարարական օբյեկտների թիվ, հատ | J46: =+'Հավելված 6 '!J46 -> 1 | L46: =+'Հավելված 6 '!L46 -> 4
I47: Նախագծանախահաշվային փաստաթղթերի թիվ, հատ | J47: =+'Հավելված 6 '!J47 -> 1 | L47: =+'Հավելված 6 '!L47 -> 4
I48: Շինարարական աշխատանքների ավարտվածության աստիճանը, տոկոս | J48: =+'Հավելված 6 '!J48 -> 100 | L48: =+'Հավելված 6 '!L48 -> 100
I49: Նախագծվող աշխատանքների ավարտվածության աստիճանը | J49: =+'Հավելված 6 '!J49 -> 100 | L49: =+'Հավելված 6 '!L49 -> 100
A50: ՀՀ կառավարություն
B51: 1139 | C51: ՀՀ կառավարության պահուստային ֆոնդ | J51: =+J52+J56 -> 0 | K51: =+K52+K56 -> 0 | L51: =+L52+L56 -> 0
D52: 1139 - 11001 | E52: ՀՀ կառավարության պահուստային ֆոնդ | J52: =+'Հավելված 3'!G95 -> 39138.4 | K52: =+'Հավելված 3'!H95 -> 40616.5 | L52: =+'Հավելված 3'!I95 -> 59257.1
F53: ՀՀ պետական բյուջեում նախատեսված ելքերի լրացուցիչ ֆինանսավորման, պետական բյուջեում չկանխատեսված ելքերի, ինչպես նաև բյուջետային երաշխիքների ապահովման ելքերի ֆինանսավորման ապահովում
G54: Ծառայությունների մատուցում
H55: Ծառայությունը մատուցողի անվանումը` ՀՀ կառավարություն
D56: 1139 - 11001 | E56: ՀՀ կառավարության պահուստային ֆոնդ | J56: =+'Հավելված 3'!G103 -> -39138.4 | K56: =+'Հավելված 3'!H103 -> -40616.5 | L56: =+'Հավելված 3'!I103 -> -59257.1
F57: ՀՀ պետական բյուջեում նախատեսված ելքերի լրացուցիչ ֆինանսավորման, պետական բյուջեում չկանխատեսված ելքերի, ինչպես նաև բյուջետային երաշխիքների ապահովման ելքերի ֆինանսավորման ապահովում
G58: Ծառայությունների մատուցում
H59: Ծառայությունը մատուցողի անվանումը` ՀՀ կառավարություն

Sheet Հավելված 8
G1: Հավելված N 8
E2: ՀՀ կառավարության 2026 թվականի
E3: ___________ ___-ի N _______ որոշման
A5: ՀԱՅԱՍՏԱՆԻ ՀԱՆՐԱՊԵՏՈՒԹՅԱՆ ԿԱՌԱՎԱՐՈՒԹՅԱՆ 2025 ԹՎԱԿԱՆԻ ԴԵԿՏԵՄԲԵՐԻ 25-Ի N 1910-Ն ՈՐՈՇՄԱՆ N 10 ՀԱՎԵԼՎԱԾՈՒՄ ԿԱՏԱՐՎՈՂ ՓՈՓՈԽՈՒԹՅՈՒՆՆԵՐԸ ԵՎ ԼՐԱՑՈՒՄՆԵՐԸ
A7: Գնման առարկայի | E7: Ցուցանիշների փոփոխությունը (ավելացումները նշված են դրական նշանով, իսկ նվազեցումները՝ փակագծում)
A8: կոդը | B8: անվանումը | C8: գնման ձևը | D8: չափի միավորը | E8: միավորի գինը | F8: քանակը | G8: Գումարը (հազար դրամ)
A9: ՀՀ պետական եկամուտների կոմիտե | G9: =+G10 -> -28968.543
A10: Բաժին N 01 | B10: Խումբ N 01 | C10: Դաս N 02 | D10: Ֆինանսական և հարկաբյուջետային հարաբերություններ | G10: =+G11+G25+G28+G56-0.1 -> -28968.543
A11: 1023 11001 | B11: Հարկային և մաքսային ծառայություններ | G11: =+G12+G17+G19 -> -151205.42
B12: ՄԱՍ I. Ա Պ Ր Ա Ն Ք Ն Ե Ր | G12: =SUM(G13:G16) -> -37892.476
A13: 30197620-1 | B13: թուղթ, A4 ֆորմատի | C13: ԷԱՃ | D13: հատ | E13: 483 | F13: -5062 | G13: =+F13*E13/1000 -> -2444.946
A14: 09132100-1 | B14: բենզին, պրեմիում | C14: ԷԱՃ | D14: լիտր | E14: 490 | F14: -4081 | G14: =+F14*E14/1000 -> -1999.69
A15: 09132200-2 | B15: բենզին, ռեգուլյար | C15: ԷԱՃ | D15: լիտր | E15: 480 | F15: -40517 | G15: =+F15*E15/1000 -> -19448.16
A16: 09134200-1 | B16: դիզելային վառելիք, ամառային | C16: ԷԱՃ | D16: լիտր | E16: 480 | F16: -29166 | G16: =+F16*E16/1000 -> -13999.68
B17: ՄԱՍ II. ԱՇԽԱՏԱՆՔՆԵՐ | G17: =+G18 -> -39138.342
A18: 45461100-1 | B18: շենքերի, շինությունների ընթացիկ նորոգման աշխատանքներ | C18: ԳՀ | D18: դրամ | G18: =-39138342/1000 -> -39138.342
B19: ՄԱՍ III. ԾԱՌԱՅՈՒԹՅՈՒՆՆԵՐ | G19: =SUM(G20:G24) -> -74174.6
A20: 60131100-1 | B20: ուղևորափոխադրման մասնագիտացված ծառայություններ | C20: ԷԱՃ | D20: դրամ | G20: =-13000000/1000 -> -13000
A21: 90911100-2 | B21: բնակտարածությունների մաքրման ծառայություններ | C21: ԲՄ | D21: դրամ | G21: =(-8113600-3310000)/1000 -> -11423.6
A22: 71251100-2 | B22: ճարտարապետական ― շենքերի չափագրման ծառայություններ | C22: ԳՀ | D22: դրամ | G22: =-751000/1000 -> -751
A23: 72261160-4 | B23: ծրագրային ապահովման սպասարկման ծառայություններ | C23: ԷԱՃ | D23: դրամ | G23: =-20000000/1000 -> -20000
A24: 72261160-8 | B24: ծրագրային ապահովման սպասարկման ծառայություններ | C24: ԲՄ | D24: դրամ | G24: =-29000000/1000 -> -29000
A25: 1023 11015 | B25: Հարկ վճարելու մշակույթի զարգացման ու ՊԵԿ գործունեության վերաբերյալ հանրային իրազեկման միջոցառումների իրականացում | G25: =+G26 -> -5530
B26: ՄԱՍ III. ԾԱՌԱՅՈՒԹՅՈՒՆՆԵՐ | G26: =+G27 -> -5530
A27: 64235180-1 | B27: հեռուստահաղորդումների հեռարձակման ծառայություններ | C27: ԷԱՃ | D27: դրամ | G27: =-5530000/1000 -> -5530
A28: 1023 31001 | B28: ՀՀ պետական եկամուտների կոմիտեի տեխնիկական հագեցվածության բարելավում | G28: =G29+G54 -> 68509.835
B29: ՄԱՍ I. Ա Պ Ր Ա Ն Ք Ն Ե Ր | G29: =SUM(G30:G53) -> 64541.835
A30: 30239170-1 | B30: բազմաֆունկցիոնալ սարք` լազերային | C30: ԷԱՃ | D30: հատ | E30: 400000 | F30: -46 | G30: =+E30*F30/1000 -> -18400
A31: 42121150-1 | B31: պոմպեր | C31: ԷԱՃ | D31: հատ | E31: 1500000 | F31: -1 | G31: =+F31*E31/1000 -> -1500
A32: 30211220-503 | B32: սեղանի համակարգիչներ | C32: ԷԱՃ | D32: հատ | E32: 288000 | F32: 12 | G32: =E32*F32/1000 -> 3456
A33: 64211280-502 | B33: ip հեռախոսներ | C33: ԷԱՃ | D33: հատ | E33: 24600 | F33: 100 | G33: =E33*F33/1000 -> 2460
A34: 30239170-501 | B34: բազմաֆունկցիոնալ սարք` լազերային | C34: ԷԱՃ | D34: հատ | E34: 148800 | F34: 46 | G34: =E34*F34/1000 -> 6844.8
A35: 30232130-504 | B35: գունավոր տպիչներ | C35: ԷԱՃ | D35: հատ | E35: 204999 | F35: 5 | G35: =E35*F35/1000 -> 1024.995
A36: 30211290 | B36: համակարգչային պլանշետ | C36: ԷԱՃ | D36: հատ | E36: 450000 | F36: 130 | G36: =E36*F36/1000 -> 58500
A37: 34721490-503 | B37: անօդաչու թռչող սարքեր | C37: ԳՀ | D37: հատ | E37: 700000 | F37: 1 | G37: =+F37*E37/1000 -> 700
A38: 34721490-504 | B38: անօդաչու թռչող սարքեր | C38: ԳՀ | D38: հատ | E38: 1500000 | F38: 1 | G38: =+F38*E38/1000 -> 1500
A39: 32321120-502 | B39: տեսաձայնային սարքեր | C39: ԷԱՃ | D39: հատ | E39: 56200 | F39: 5 | G39: =+F39*E39/1000 -> 281
A40: 30232231-507 | B40: համակարգչի կոշտ սկավառակ | C40: ԷԱՃ | D40: հատ | E40: 60000 | F40: 20 | G40: =E40*F40/1000 -> 1200
A41: 30234500-501 | B41: ֆլեշ հիշողություն | C41: ԷԱՃ | D41: հատ | E41: 33000 | F41: 30 | G41: =E41*F41/1000 -> 990
A42: 30232231-501 | B42: համակարգչի կոշտ սկավառակ | C42: ԷԱՃ | D42: հատ | E42: 99000 | F42: 2 | G42: =E42*F42/1000 -> 198
A43: 30232231-502 | B43: համակարգչի կոշտ սկավառակ | C43: ԷԱՃ | D43: հատ | E43: 52000 | F43: 30 | G43: =E43*F43/1000 -> 1560
A44: 30232231-505 | B44: համակարգչի կոշտ սկավառակ | C44: ԷԱՃ | D44: հատ | E44: 42000 | F44: 15 | G44: =+E44*F44/1000 -> 630
A45: 32551160-502 | B45: հեռախոսային սարքեր | C45: ԷԱՃ | D45: հատ | E45: 80000 | F45: 20 | G45: =+E45*F45/1000 -> 1600
A46: 38651200-502 | B46: պրոյեկտորներ | C46: ԷԱՃ | D46: հատ | E46: 605000 | F46: 2 | G46: =+F46*E46/1000 -> 1210
A47: 38651200-501 | B47: պրոյեկտորներ | C47: ԷԱՃ | D47: հատ | E47: 85000 | F47: 1 | G47: =+F47*E47/1000 -> 85
A48: 32351120-502 | B48: էկրաններ | C48: ԷԱՃ | D48: հատ | E48: 74000 | F48: 2 | G48: =+E48*F48/1000 -> 148
A49: 32351120-501 | B49: էկրաններ | C49: ԷԱՃ | D49: հատ | E49: 33000 | F49: 1 | G49: =+E49*F49/1000 -> 33
A50: 30211300-501 | B50: համակարգչային սարքավորումներ | C50: ԷԱՃ | D50: հատ | E50: 41000 | F50: 6 | G50: =+F50*E50/1000 -> 246
A51: 39713432-501 | B51: փոշեկուլ | C51: ԷԱՃ | D51: հատ | E51: 95040 | F51: 1 | G51: =+F51*E51/1000 -> 95.04
A52: 42121150 | B52: պոմպեր | C52: ԷԱՃ | D52: հատ | E52: 500000 | F52: 3 | G52: =+F52*E52/1000 -> 1500
A53: 42121150 | B53: պոմպեր | C53: ԷԱՃ | D53: հատ | E53: 45000 | F53: 4 | G53: =+F53*E53/1000 -> 180
B54: ՄԱՍ III. ԾԱՌԱՅՈՒԹՅՈՒՆՆԵՐ | G54: =G55 -> 3968
A55: 72261110 | B55: ծրագրային ապահովման մշակման ծառայություններ | C55: ՄԱ | D55: դրամ | E55: 3968000 | F55: 1 | G55: =+E55/1000 -> 3968
A56: 1023 31003 | B56: ՀՀ պետական եկամուտների կոմիտեի շենքային ապահովվածության բարելավում | G56: =+G57+G62+0.1 -> 59257.14
B57: ՄԱՍ III. ԾԱՌԱՅՈՒԹՅՈՒՆՆԵՐ | G57: =SUM(G58:G61) -> 2065.173
A58: 71241200 | B58: նախագծերի պատրաստում, ծախսերի գնահատում | C58: ԳՀ | D58: դրամ | E58: 778098 | F58: 1 | G58: =E58*F58/1000 -> 778.098
A59: 71241200 | B59: նախագծերի պատրաստում, ծախսերի գնահատում | C59: ԳՀ | D59: դրամ | E59: 540000 | F59: 1 | G59: =E59*F59/1000 -> 540
A60: 71241200 | B60: նախագծերի պատրաստում, ծախսերի գնահատում | C60: ԳՀ | D60: դրամ | E60: 160000 | F60: 1 | G60: =E60*F60/1000 -> 160
A61: 71241200 | B61: նախագծերի պատրաստում, ծախսերի գնահատում | C61: ՀՄԱ | D61: դրամ | E61: 587075 | F61: 1 | G61: =E61*F61/1000 -> 587.075
B62: ՄԱՍ II. ԱՇԽԱՏԱՆՔՆԵՐ | G62: =SUM(G63:G66) -> 57191.867
A63: 45221142 | B63: ընդհանուր շինարարական աշխատանքներ | C63: ԳՀ | D63: դրամ | E63: 9940600 | F63: 1 | G63: =E63*F63/1000 -> 9940.6
A64: 45221142 | B64: ընդհանուր շինարարական աշխատանքներ | C64: ԳՀ | D64: դրամ | E64: 6700000 | F64: 1 | G64: =E64*F64/1000 -> 6700
A65: 45221142 | B65: ընդհանուր շինարարական աշխատանքներ | C65: ԳՀ | D65: դրամ | E65: 2000000 | F65: 1 | G65: =E65*F65/1000 -> 2000
A66: 45451700 | B66: վերակառուցման աշխատանքներ | C66: ՀՄԱ | D66: դրամ | E66: 38551267 | F66: 1 | G66: =E66*F66/1000 -> 38551.267
