Workbook

Sheet Հավելված 1
I1: Հավելված N 1
I2: ՀՀ կառավարության 2026 թվականի
I3: ___________ ___-ի N _______ որոշման
A4: «ՀԱՅԱՍՏԱՆԻ ՀԱՆՐԱՊԵՏՈՒԹՅԱՆ 2026 ԹՎԱԿԱՆԻ ՊԵՏԱԿԱՆ ԲՅՈՒՋԵԻ ՄԱՍԻՆ» ՀԱՅԱՍՏԱՆԻ ՀԱՆՐԱՊԵՏՈՒԹՅԱՆ ՕՐԵՆՔԻ N 1 ՀԱՎԵԼՎԱԾԻ N 2 ԱՂՅՈՒՍԱԿՈՒՄ ԿԱՏԱՐՎՈՂ ՎԵՐԱԲԱՇԽՈՒՄԸ, ՓՈՓՈԽՈՒԹՅՈՒՆՆԵՐԸ ԵՎ ՀԱՅԱՍՏԱՆԻ ՀԱՆՐԱՊԵՏՈՒԹՅԱՆ ԿԱՌԱՎԱՐՈՒԹՅԱՆ 2025 ԹՎԱԿԱՆԻ ԴԵԿՏԵՄԲԵՐԻ 25-Ի N 1910-Ն ՈՐՈՇՄԱՆ N 5 ՀԱՎԵԼՎԱԾԻ N 1 ԱՂՅՈՒՍԱԿՈՒՄ ԿԱՏԱՐՎՈՂ ՓՈՓՈԽՈՒԹՅՈՒՆՆԵՐԸ
I5: հազար դրամներով
A6: ԲԳԿ | B6: Ծրագրային դասիչը | D6: ԲԳԿ/Ծրագրի /միջոցառման անվանումը | E6: Ծրագրի նպատակը/Միջոցառման նկարագրությունը | F6: Վերջնական արդյունքի նկարագրությունը/Միջոցառման տեսակը | G6: Ցուցանիշների փոփոխությունը (ավելացումները նշված են դրական նշանով, իսկ նվազեցումները՝ փակագծերում)
B7: Ծրագիր | C7: Միջոցառում | G7: Առաջին կիսամյակ | H7: Ինն ամիս | I7: Տարի
A8: ԸՆԴԱՄԵՆԸ | G8: =G9+G18 -> 0 | H8: =H9+H18 -> 0 | I8: =I9+I18 -> 0
A9: ՀՀ պետական եկամուտների կոմիտե | G9: =G10 -> 0 | H9: =H10 -> 0 | I9: =I10 -> 0
B10: 1023 | D10: Հարկային և մաքսային ծառայություններ | E10: Հարկային և մաքսային միասնական պետական քաղաքականության իրականացում, հարկային և մաքսային օրենսդրության ամբողջական և համահավասար կիրառում | F10: Արդյունավետ հարկային և մաքսային հսկողության իրականացում, պետական բյուջեի եկամուտների ապահովում | G10: =SUM(G11:G16) -> 0 | H10: =SUM(H11:H16) -> 0 | I10: =SUM(I11:I16) -> 0
C11: 1023 - 11001 | D11: Հարկային և մաքսային ծառայություններ | E11: Հարկային և մաքսային քաղաքականության մշակման, պլանավորման, մոնիտորինգի, ծրագրերի համակարգման, գանձման, վերահսկողության և աջակցության ծառայություններ | F11: Ծառայությունների մատուցում | G11: =+'Հավելված 3'!G21 -> -55863.2 | H11: =+'Հավելված 3'!H21 -> -119904.8 | I11: =+'Հավելված 3'!I21 -> -151205.4
C12: 1023 - 11012 | D12: Հայաստանի Հանրապետության մաքսային կցորդների գործունեության ապահովում | E12: Օտարերկրյա պետություններում և միջազգային կազմակերպություններում Հայաստանի Հանրապետության դիվանագիտական ծառայության մարմիններին կից մաքսային կցորդների գործունեության ապահովման և պահպանման ծախսեր | F12: Ծառայությունների մատուցում | G12: =+'Հավելված 3'!G36 -> -19391.5 | H12: =+'Հավելված 3'!H36 -> -19391.5 | I12: =+'Հավելված 3'!I36 -> -19391.5
C13: 1023 - 11014 | D13: Տեղեկատվական տեխնոլոգիաների և դրանց հետ փոխկապակցված համակարգերի կառավարում | E13: Տեղեկատվական տեխնոլոգիաների և դրանց հետ փոխկապակցված համակարգերի կառավարում | F13: Ծառայությունների մատուցում | G13: =+'Հավելված 3'!G44 -> 14280 | H13: =+'Հավելված 3'!H44 -> 35700 | I13: =+'Հավելված 3'!I44 -> 48360
C14: 1023 - 11015 | D14: Հարկ վճարելու մշակույթի զարգացման ու ՊԵԿ գործունեության վերաբերյալ հանրային իրազեկման միջոցառումների իրականացում | E14: Հարկ վճարելու մշակույթի զարգացման ու ՊԵԿ գործունեության հանրային իրազեկման շրջանակում հեռուստահաղորդումների, պանելային քննարկումների կազմակերպում և երկխոսության հարթակի ստեղծում | F14: Ծառայությունների մատուցում | G14: =+'Հավելված 3'!G53 -> 0 | H14: =+'Հավելված 3'!H53 -> -5530 | I14: =+'Հավելված 3'!I53 -> -5530
C15: 1023 - 31001 | D15: ՀՀ պետական եկամուտների կոմիտեի տեխնիկական հագեցվածության բարելավում | E15: ՀՀ պետական եկամուտների կոմիտեի տեխնիկական հագեցվածության բարելավում | F15: Պետական մարմինների կողմից օգտագործվող ոչ ֆինանսական ակտիվների հետ գործառնություններ | G15: =+'Հավելված 3'!G62 -> 21836.3 | H15: =+'Հավելված 3'!H62 -> 68509.8 | I15: =+'Հավելված 3'!I62 -> 68509.8
C16: 1023 - 31003 | D16: ՀՀ պետական եկամուտների կոմիտեի շենքային ապահովվածության բարելավում | E16: ՀՀ պետական եկամուտների կոմիտեի նոր շենքերի և շինությունների շինարարություն, նախագծային աշխատանքների ձեռքբերում | F16: Պետական մարմինների կողմից օգտագործվող ոչ ֆինանսական ակտիվների հետ գործառնություններ | G16: =+'Հավելված 3'!G74 -> 39138.4 | H16: =+'Հավելված 3'!H74 -> 40616.5 | I16: =+'Հավելված 3'!I74 -> 59257.1
A17: ՀՀ կառավարություն
B18: 1139 | D18: ՀՀ կառավարության պահուստային ֆոնդ | E18: Պետական բյուջեում չկանխատեսված, ինչպես նաև բյուջետային երաշխիքների ապահովման ծախսերի ֆինանսավորման ապահովում | F18: Պահուստային ֆոնդի կառավարման արդյունավետության և թափանցիկության ապահովում | G18: =+G19+G20 -> 0 | H18: =+H19+H20 -> 0 | I18: =+I19+I20 -> 0
C19: 1139 - 11001 | D19: ՀՀ կառավարության պահուստային ֆոնդ | E19: ՀՀ պետական բյուջեում նախատեսված ելքերի լրացուցիչ ֆինանսավորման, պետական բյուջեում չկանխատեսված ելքերի, ինչպես նաև բյուջետային երաշխիքների ապահովման ելքերի ֆինանսավորման ապահովում | F19: Ծառայությունների մատուցում | G19: =+'Հավելված 3'!G95 -> 39138.4 | H19: =+'Հավելված 3'!H95 -> 40616.5 | I19: =+'Հավելված 3'!I95 -> 59257.1
C20: 1139 - 11001 | D20: ՀՀ կառավարության պահուստային ֆոնդ | E20: ՀՀ պետական բյուջեում նախատեսված ելքերի լրացուցիչ ֆինանսավորման, պետական բյուջեում չկանխատեսված ելքերի, ինչպես նաև բյուջետային երաշխիքների ապահովման ելքերի ֆինանսավորման ապահովում | F20: Ծառայությունների մատուցում | G20: =+'Հավելված 3'!G105 -> -39138.4 | H20: =+'Հավելված 3'!H105 -> -40616.5 | I20: =+'Հավելված 3'!I105 -> -59257.1

Sheet Հավելված 2
H1: Հավելված N 2
H2: ՀՀ կառավարության 2026 թվականի
H3: ___________ ___-ի N _______ որոշման
A4: «ՀԱՅԱՍՏԱՆԻ ՀԱՆՐԱՊԵՏՈՒԹՅԱՆ 2026 ԹՎԱԿԱՆԻ ՊԵՏԱԿԱՆ ԲՅՈՒՋԵԻ ՄԱՍԻՆ» ՀԱՅԱՍՏԱՆԻ ՀԱՆՐԱՊԵՏՈՒԹՅԱՆ ՕՐԵՆՔԻ N 1 ՀԱՎԵԼՎԱԾԻ N 3 ԱՂՅՈՒՍԱԿՈՒՄ ԿԱՏԱՐՎՈՂ ՓՈՓՈԽՈՒԹՅՈՒՆՆԵՐԸ ԵՎ ԼՐԱՑՈՒՄՆԵՐԸ
H5: հազար դրամներով
A6: Ծրագրային դասիչ | C6: Բյուջետային գլխավոր կարգադրիչների, ծրագրերի, միջոցառումների և ուղղությունների անվանումները | D6: Ցուցանիշների փոփոխությունը (ավելացումները նշված են դրական նշանով, իսկ նվազեցումները՝ փակագծերում)
D7: Ընդամենը | E7: այդ թվում՝
E8: Կառուցման աշխատանքներ | F8: Վերակառուցման, վերանորոգման և վերականգնման աշխատանքներ | G8: Նախագծահետազոտական, գեոդեզա-քարտեզագրական աշխատանքներ | H8: Ոչ ֆինանսական այլ ակտիվների ձեռքբերում
A9: Ծրագիր | B9: Միջոցառում
C10: ԸՆԴԱՄԵՆԸ | D10: =D11 -> 127766.9 | E10: =E11 -> 57191.9 | F10: =F11 -> 0 | G10: =G11 -> 2065.2 | H10: =H11 -> 68509.8
C11: ՀՀ պետական եկամուտների կոմիտե | D11: =D13+D14 -> 127766.9 | E11: =E13+E14 -> 57191.9 | F11: =F13+F14 -> 0 | G11: =G13+G14 -> 2065.2 | H11: =H13+H14 -> 68509.8
C12: այդ թվում`
A13: 1023 | B13: 31001 | C13: ՀՀ պետական եկամուտների կոմիտեի տեխնիկական հագեցվածության բարելավում | D13: =E13+F13+G13+H13 -> 68509.8 | E13: 0 | F13: 0 | G13: 0 | H13: ='Հավելված 3'!I62 -> 68509.8
A14: 1023 | B14: 31003 | C14: ՀՀ պետական եկամուտների կոմիտեի շենքային ապահովվածության բարելավում | D14: =SUM(D16:D23) -> 59257.1 | E14: =SUM(E16:E23) -> 57191.9 | F14: =SUM(F16:F23) -> 0 | G14: =SUM(G16:G23) -> 2065.2 | H14: =SUM(H16:H23) -> 0
C15: այդ թվում`
C16: «Մարգարա» մաքսային կետի արդիականացման շինարարական աշխատանքներ | D16: =E16+F16+G16+H16 -> 9940.6 | E16: 9940.6
C17: Երևան քաղաքի Արարատյան 90 հասցեում գտնվող ՀՀ ՊԵԿ շինության նոր ջրամատակարարման համակարգի կառուցման շինարարական աշխատանքներ | D17: =E17+F17+G17+H17 -> 6700 | E17: 6700
C18: Երևան քաղաքի Սասունցի Դավթի 87 ա հասցեում գտնվող վարչական շենքի գազամատակարարման համակարգի կառուցման շինարարական աշխատանքներ | D18: =E18+F18+G18+H18 -> 2000 | E18: 2000
C19: Մաքսային մոնիթորինգի կենտրոնի կառուցում | D19: =E19+F19+G19+H19 -> 38551.3 | E19: 38551.3
C20: «Մարգարա» մաքսային կետի արդիականացման նախագծանախահաշվային փաստաթղթերի ձեռքբերում | D20: =E20+F20+G20+H20 -> 778.1 | G20: 778.1
C21: Երևան քաղաքի Արարատյան 90 հասցեում գտնվող ՀՀ ՊԵԿ շինության նոր ջրամատակարարման համակարգի կառուցման նախագծանախահաշվային փաստաթղթերի ձեռքբերում | D21: =E21+F21+G21+H21 -> 540 | G21: 540
C22: Երևան քաղաքի Սասունցի Դավթի 87 ա հասցեում գտնվող վարչական շենքի գազամատակարարման համակարգի կառուցման նախագծանախահաշվային փաստաթղթերի ձեռքբերում | D22: =E22+F22+G22+H22 -> 160 | G22: 160
C23: Մաքսային մոնիթորինգի կենտրոնի կառուցում կառուցման նախագծանախահաշվային փաստաթղթերի ձեռքբերում | D23: =E23+F23+G23+H23 -> 587.1 | G23: 587.1

Sheet Հավելված 3
I1: Հավելված N 3
I2: ՀՀ կառավարության 2026 թվականի
I3: ___________ ___-ի N _______ որոշման
A4: ՀԱՅԱՍՏԱՆԻ ՀԱՆՐԱՊԵՏՈՒԹՅԱՆ ԿԱՌԱՎԱՐՈՒԹՅԱՆ 2025 ԹՎԱԿԱՆԻ ԴԵԿՏԵՄԲԵՐԻ 25-Ի N 1910-Ն ՈՐՈՇՄԱՆ NN 3 ԵՎ 4 ՀԱՎԵԼՎԱԾՆԵՐՈՒՄ ԿԱՏԱՐՎՈՂ ՓՈՓՈԽՈՒԹՅՈՒՆՆԵՐԸ ԵՎ ԼՐԱՑՈՒՄՆԵՐԸ
I6: հազար դրամներով
A7: Գործառնական դասիչը | D7: Ծրագրային դասիչը | F7: Բյուջետային ծախսերի գործառնական դասակարգման բաժինների, խմբերի և դասերի, բյուջետային ծրագրերի միջոցառումների, բյուջետային հատկացումների գլխավոր կարգադրիչների անվանումները | G7: Ցուցանիշների փոփոխությունը (ավելացումները նշված են դրական նշանով, իսկ նվազեցումները՝ փակագծերում)
A8: բաժին | B8: խումբ | C8: դաս | D8: ծրագիր | E8: միջոցառում | G8: Առաջին կիսամյակ | H8: Ինն ամիս | I8: Տարի
F9: ԸՆԴԱՄԵՆԸ ԾԱԽՍԵՐ | G9: =G11+G85 -> 0 | H9: =H11+H85 -> 0 | I9: =I11+I85 -> 0
F10: այդ թվում՝
A11: 01 | F11: ԸՆԴՀԱՆՈՒՐ ԲՆՈՒՅԹԻ ՀԱՆՐԱՅԻՆ ԾԱՌԱՅՈՒԹՅՈՒՆՆԵՐ | G11: =G13 -> 0 | H11: =H13 -> 0 | I11: =I13 -> 0
F12: այդ թվում՝
B13: 01 | F13: Օրենսդիր և գործադիր մարմիններ, պետական կառավարում, ֆինանսական և հարկաբյուջետային հարաբերություններ, արտաքին հարաբերություններ | G13: =G15 -> 0 | H13: =H15 -> 0 | I13: =I15 -> 0
F14: այդ թվում՝
C15: 02 | F15: Ֆինանսական և հարկաբյուջետային հարաբերություններ | G15: =G17 -> 0 | H15: =H17 -> 0 | I15: =I17 -> 0
F16: այդ թվում՝
F17: ՀՀ պետական եկամուտների կոմիտե | G17: =G19 -> 0 | H17: =H19 -> 0 | I17: =I19 -> 0
F18: այդ թվում`
D19: 1023 | F19: Հարկային և մաքսային ծառայություններ | G19: =+G21+G44+G53+G62+G36+G74 -> 0 | H19: =+H21+H44+H53+H62+H36+H74 -> 0 | I19: =+I21+I44+I53+I62+I36+I74 -> 0
F20: այդ թվում՝
E21: 11001 | F21: Հարկային և մաքսային ծառայություններ | G21: =G23 -> -55863.2 | H21: =H23 -> -119904.8 | I21: =I23 -> -151205.4
F22: այդ թվում` ըստ կատարողների
F23: ՀՀ պետական եկամուտների կոմիտե | G23: =G25 -> -55863.2 | H23: =H25 -> -119904.8 | I23: =I25 -> -151205.4
F24: այդ թվում` բյուջետային ծախսերի տնտեսագիտական դասակարգման հոդվածներ
F25: ԸՆԴԱՄԵՆԸ ԾԱԽՍԵՐ | G25: =G26 -> -55863.2 | H25: =H26 -> -119904.8 | I25: =I26 -> -151205.4
F26: ԸՆԹԱՑԻԿ ԾԱԽՍԵՐ | G26: =G27 -> -55863.2 | H26: =H27 -> -119904.8 | I26: =I27 -> -151205.4
F27: ԾԱՌԱՅՈՒԹՅՈՒՆՆԵՐԻ ԵՎ ԱՊՐԱՆՔՆԵՐԻ ՁԵՌՔԲԵՐՈՒՄ | G27: =+G28+G31+G33 -> -55863.2 | H27: =+H28+H31+H33 -> -119904.8 | I27: =+I28+I31+I33 -> -151205.4
F28: Պայմանագրային այլ ծառայությունների ձեռքբերում այդ թվում՛ | G28: =G29+G30 -> -14280 | H28: =H29+H30 -> -62321.6 | I28: =I29+I30 -> -74174.6
F29: - Համակարգչային ծառայություններ | G29: =+-G52 -> -14280 | H29: =+-H52-13300+11853 -> -37147 | I29: -49000
F30: - Ընդհանուր բնույթի այլ ծառայություններ | G30: 0 | H30: =+-751-11423.6-13000 -> -25174.6 | I30: =+-751-11423.6-13000 -> -25174.6
F31: Ընթացիկ նորոգում և պահպանում (ծառայություններ և նյութեր) | G31: =+G32 -> -25000 | H31: =+H32 -> -39138.3 | I31: =+I32 -> -39138.3
F32: - Շենքերի և կառույցների ընթացիկ նորոգում և պահպանում | G32: -25000 | H32: -39138.3 | I32: -39138.3
F33: Նյութեր (Ապրանքներ) | G33: =G34+G35 -> -16583.2 | H33: =H34+H35 -> -18444.9 | I33: =I34+I35 -> -37892.5
F34: - Գրասենյակային նյութեր և հագուստ | G34: -2444.9 | H34: -2444.9 | I34: -2444.9
F35: - Տրանսպորտային նյութեր | G35: -14138.3 | H35: -16000 | I35: -35447.6
E36: 11012 | F36: Հայաստանի Հանրապետության մաքսային կցորդների գործունեության ապահովում | G36: =G38 -> -19391.5 | H36: =H38 -> -19391.5 | I36: =I38 -> -19391.5
F37: այդ թվում` ըստ կատարողների
F38: ՀՀ պետական եկամուտների կոմիտե | G38: =G40 -> -19391.5 | H38: =H40 -> -19391.5 | I38: =I40 -> -19391.5
F39: այդ թվում` բյուջետային ծախսերի տնտեսագիտական դասակարգման հոդվածներ
F40: ԸՆԴԱՄԵՆԸ ԾԱԽՍԵՐ | G40: =G41 -> -19391.5 | H40: =H41 -> -19391.5 | I40: =I41 -> -19391.5
F41: ԸՆԹԱՑԻԿ ԾԱԽՍԵՐ | G41: =G42 -> -19391.5 | H41: =H42 -> -19391.5 | I41: =I42 -> -19391.5
...

Sheet Հավելված 4
F1: Հավելված N 4
F2: ՀՀ կառավարության 2026 թվականի
F3: ___________ ___-ի N _______ որոշման
A4: ՀԱՅԱՍՏԱՆԻ ՀԱՆՐԱՊԵՏՈՒԹՅԱՆ ԿԱՌԱՎԱՐՈՒԹՅԱՆ 2025 ԹՎԱԿԱՆԻ ԴԵԿՏԵՄԲԵՐԻ 25-Ի N 1910-Ն ՈՐՈՇՄԱՆ N 5 ՀԱՎԵԼՎԱԾԻ N 2 ԱՂՅՈՒՍԱԿՈՒՄ ԿԱՏԱՐՎՈՂ ՓՈՓՈԽՈՒԹՅՈՒՆՆԵՐԸ ԵՎ ԼՐԱՑՈՒՄՆԵՐԸ
F5: հազար դրամներով
A6: Ծրագրային դասիչը | C6: Բյուջետային գլխավոր կարգադրիչների, ծրագրերի, միջոցառումների, միջոցառումները կատարող պետական մարմինների և ուղղությունների անվանումները | D6: Ցուցանիշների փոփոխությունը (ավելացումները նշված են դրական նշանով, իսկ նվազեցումները՝ փակագծերում)
A7: Ծրագիրը | B7: Միջոցառումը | D7: Առաջին կիսամյակ | E7: Ինն ամիս | F7: Տարի
C8: ԸՆԴԱՄԵՆԸ | D8: =D10 -> 60974.7 | E8: =E10 -> 109126.3 | F8: =F10 -> 127766.9
C9: այդ թվում՝
C10: ՀՀ պետական եկամուտների կոմիտե | D10: =D12+D15 -> 60974.7 | E10: =E12+E15 -> 109126.3 | F10: =F12+F15 -> 127766.9
C11: այդ թվում`
A12: 1023 | B12: 31001 | C12: ՀՀ պետական եկամուտների կոմիտեի տեխնիկական հագեցվածության բարելավում | D12: =D14 -> 21836.3 | E12: =E14 -> 68509.8 | F12: =F14 -> 68509.8
C13: այդ թվում` ըստ կատարողների
C14: ՀՀ պետական եկամուտների կոմիտե | D14: ='Հավելված 3'!G62 -> 21836.3 | E14: ='Հավելված 3'!H62 -> 68509.8 | F14: ='Հավելված 3'!I62 -> 68509.8
A15: 1023 | B15: 31003 | C15: ՀՀ պետական եկամուտների կոմիտեի շենքային ապահովվածության բարելավում | D15: =D17 -> 39138.4 | E15: =E17 -> 40616.5 | F15: =F17 -> 59257.1
C16: այդ թվում` ըստ կատարողների
C17: ՀՀ պետական եկամուտների կոմիտե | D17: =SUM(D19:D26) -> 39138.4 | E17: =SUM(E19:E26) -> 40616.5 | F17: =SUM(F19:F26) -> 59257.1
C18: այդ թվում՝ ըստ ուղղությունների
C19: «Մարգարա» մաքսային կետի արդիականացման շինարարական աշխատանքներ | D19: 0 | E19: 0 | F19: =+'Հավելված 2'!D16 -> 9940.6
C20: Երևան քաղաքի Արարատյան 90 հասցեում գտնվող ՀՀ ՊԵԿ շինության նոր ջրամատակարարման համակարգի կառուցման շինարարական աշխատանքներ | D20: 0 | E20: 0 | F20: =+'Հավելված 2'!D17 -> 6700
C21: Երևան քաղաքի Սասունցի Դավթի 87 ա հասցեում գտնվող վարչական շենքի գազամատակարարման համակարգի կառուցման շինարարական աշխատանքներ | D21: 0 | E21: 0 | F21: =+'Հավելված 2'!D18 -> 2000
C22: Մաքսային մոնիթորինգի կենտրոնի կառուցում | D22: 38551.3 | E22: 38551.3 | F22: =+'Հավելված 2'!D19 -> 38551.3
C23: «Մարգարա» մաքսային կետի արդիականացման նախագծանախահաշվային փաստաթղթերի ձեռքբերում | D23: 0 | E23: 778.1 | F23: 778.1
C24: Երևան քաղաքի Արարատյան 90 հասցեում գտնվող ՀՀ ՊԵԿ շինության նոր ջրամատակարարման համակարգի կառուցման նախագծանախահաշվային փաստաթղթերի ձեռքբերում | D24: 0 | E24: 540 | F24: 540
C25: Երևան քաղաքի Սասունցի Դավթի 87 ա հասցեում գտնվող վարչական շենքի գազամատակարարման համակարգի կառուցման նախագծանախահաշվային փաստաթղթերի ձեռքբերում | D25: 0 | E25: 160 | F25: 160
C26: Մաքսային մոնիթորինգի կենտրոնի կառուցում կառուցման նախագծանախահաշվային փաստաթղթերի ձեռքբերում | D26: 587.1 | E26: 587.1 | F26: 587.1

Sheet Հավելված 5
G1: Հավելված N 5
G2: ՀՀ կառավարության 2026 թվականի
G3: ___________ ___-ի N _______ որոշման
A4: ՀԱՅԱՍՏԱՆԻ ՀԱՆՐԱՊԵՏՈՒԹՅԱՆ ԿԱՌԱՎԱՐՈՒԹՅԱՆ 2025 ԹՎԱԿԱՆԻ ԴԵԿՏԵՄԲԵՐԻ 25-Ի N 1910-Ն ՈՐՈՇՄԱՆ N 5 ՀԱՎԵԼՎԱԾԻ N 7 ԱՂՅՈՒՍԱԿՈՒՄ ԿԱՏԱՐՎՈՂ ՓՈՓՈԽՈՒԹՅՈՒՆՆԵՐԸ
G5: հազար դրամներով
A6: Ծրագրային դասիչ | C6: Բյուջետային հատկացումների գլխավոր կարգադրիչների, ծրագրերի, միջոցառումների, ծախսային ուղղությունների անվանումները | F6: Միջոցառումները կատարող պետական մարմինների և դրամաշնորհ ստացող տնտեսվարող սուբյեկտների անվանումները | G6: Ցուցանիշների փոփոխությունը (ավելացումները նշված են դրական նշանով)
A7: Ծրագիր | B7: Միջոցառում | G7: Տարի
A8: 1 | B8: 2 | C8: 3 | F8: 4 | G8: 5
A9: ԸՆԴԱՄԵՆԸ | G9: =+G10 -> 48360
A10: ՀՀ պետական եկամուտների կոմիտե | G10: =G11 -> 48360
A11: 1023 | B11: Հարկային և մաքսային ծառայություններ | G11: =G12 -> 48360
B12: 11014 | C12: Տեղեկատվական տեխնոլոգիաների և դրանց հետ փոխկապակցված համակարգերի կառավարում | F12: ՀՀ պետական եկամուտների կոմիտե | G12: =G13 -> 48360
F13: «Ջի Սոլյուշնս» ՊՈԱԿ | G13: =+'Հավելված 3'!I44 -> 48360

Sheet Հավելված 6 
L1: Հավելված N 6
L2: ՀՀ կառավարության 2026 թվականի
L3: ___________ ___-ի N _______ որոշման
A4: ՀԱՅԱՍՏԱՆԻ ՀԱՆՐԱՊԵՏՈՒԹՅԱՆ ԿԱՌԱՎԱՐՈՒԹՅԱՆ 2025 ԹՎԱԿԱՆԻ ԴԵԿՏԵՄԲԵՐԻ 25-Ի N 1910-Ն ՈՐՈՇՄԱՆ N 9 ՀԱՎԵԼՎԱԾՈՒՄ ԿԱՏԱՐՎՈՂ ՓՈՓՈԽՈՒԹՅՈՒՆՆԵՐԸ ԵՎ ԼՐԱՑՈՒՄՆԵՐԸ
L5: հազար դրամներով
A6: ԲԳԿ | B6: Ծրագիր | D6: Միջոցառում | H6: Իրականացնողը/ ակտիվն օգտագործողը/ շահառուի ընտրության չափորոշիչը | I6: Արդյունքային չափորոշիչը | J6: Ցուցանիշների փոփոխությունը (ավելացումները նշված են դրական նշանով, իսկ նվազեցումները՝ փակագծերում)
B7: Դասիչը | C7: Անվանումը | D7: Դասիչը | E7: Անվա-նումը | F7: Նկարագրու-թյունը | G7: Տեսակը | J7: Առաջին կիսամյակ | K7: Ինն ամիս | L7: Տարի
A8: ԸՆԴԱՄԵՆԸ | J8: =J9+J51 -> 0 | K8: =K9+K51 -> 0 | L8: =L9+L51 -> 0
A9: ՀՀ պետական եկամուտների կոմիտե | J9: =J10 -> 0 | K9: =K10 -> 0 | L9: =L10 -> 0
B10: 1023 | C10: Հարկային և մաքսային ծառայություններ | J10: =+J11+J15+J19+J25+J35+J42 -> 0 | K10: =+K11+K15+K19+K25+K35+K42 -> 0 | L10: =+L11+L15+L19+L25+L35+L42 -> 0
D11: 1023 - 11001 | E11: Հարկային և մաքսային ծառայություններ | J11: ='Հավելված 3'!G21 -> -55863.2 | K11: ='Հավելված 3'!H21 -> -119904.8 | L11: ='Հավելված 3'!I21 -> -151205.4
F12: Հարկային և մաքսային քաղաքականության մշակման, պլանավորման, մոնիտորինգի, ծրագրերի համակարգման, գանձման, վերահսկողության և աջակցության ծառայություններ
G13: Ծառայությունների մատուցում
H14: Ծառայությունը մատուցողի անվանումը` ՀՀ պետական եկամուտների կոմիտե
D15: 1023 - 11012 | E15: Հայաստանի Հանրապետության մաքսային կցորդների գործունեության ապահովում | J15: =+'Հավելված 3'!G36 -> -19391.5 | K15: =+'Հավելված 3'!H36 -> -19391.5 | L15: =+'Հավելված 3'!I36 -> -19391.5
F16: Օտարերկրյա պետություններում և միջազգային կազմակերպություններում Հայաստանի Հանրապետության դիվանագիտական ծառայության մարմիններին կից մաքսային կցորդների գործունեության ապահովման և պահպանման ծախսեր
G17: Ծառայությունների մատուցում
H18: Ծառայությունը մատուցողի անվանումը` Օտարերկրյա պետություններում ՀՀ դիվանագիտական ծառայություն իրականացնող մաքսային կցորդներ
D19: 1023 - 11014 | E19: Տեղեկատվական տեխնոլոգիաների և դրանց հետ փոխկապակցված համակարգերի կառավարում | J19: =+'Հավելված 3'!G44 -> 14280 | K19: =+'Հավելված 3'!H44 -> 35700 | L19: =+'Հավելված 3'!I44 -> 48360
F20: Տեղեկատվական տեխնոլոգիաների և դրանց հետ փոխկապակցված համակարգերի կառավարում
G21: Ծառայությունների մատուցում
H22: Ծառայությունը մատուցողի անվանումը` Մասնագիտացված կազմակերպություն
I23: Ներդրված թվայնացման նախագծեր | J23: 0 | L23: 2
I24: Սպասարկվող էլեկտրոնային համակարգեր | J24: 0 | L24: 2
D25: 1023 - 11015 | E25: Հարկ վճարելու մշակույթի զարգացման ու ՊԵԿ գործունեության վերաբերյալ հանրային իրազեկման միջոցառումների իրականացում | J25: =+'Հավելված 3'!G53 -> 0 | K25: =+'Հավելված 3'!H53 -> -5530 | L25: =+'Հավելված 3'!I53 -> -5530
F26: Հարկ վճարելու մշակույթի զարգացման ու ՊԵԿ գործունեության հանրային իրազեկման շրջանակում հեռուստահաղորդումների, պանելային քննարկումների կազմակերպում և երկխոսության հարթակի ստեղծում
G27: Ծառայությունների մատուցում
H28: Ծառայությունը մատուցողի անվանումը` Մրցույթի արդյունքում ընտրված կազմակերպություն
I29: Տարվա ընթացքում հաղորդումների կազմակերպում (քանակը) | J29: -5 | L29: -12
I30: Շահագրգիր կողմերի հետ պանելային քննարկումների կազմակերպում (քանակ) | J30: -1 | L30: -2
I31: Երկխոսության հարթակի ստեղծում` ֆորումի ձևաչափով | J31: 0 | L31: -1
I32: Սոցիալական հոլովակների և թեմատիկ գրառումներով պաստառների պատրաստում (հատ) | J32: 8 | L32: 20
I33: Ֆորումի, պանելային քննարկումների և հանդիպումների կազմակերպում բիզնեսի և ոլորտային մասնագետների հետ (հատ) | J33: 1 | L33: 2
I34: Ֆորումի, պանելային քննարկումների, հանդիպումների և ասուլիսների ուղիղ հեռարձակման և հատուկ ձևաչափով նկարահանումների ապահովում (հատ) | J34: 1 | L34: 3
D35: 1023 - 31001 | E35: ՀՀ պետական եկամուտների կոմիտեի տեխնիկական հագեցվածության բարելավում | J35: ='Հավելված 3'!G62 -> 21836.3 | K35: ='Հավելված 3'!H62 -> 68509.8 | L35: ='Հավելված 3'!I62 -> 68509.8
F36: ՀՀ պետական եկամուտների կոմիտեի տեխնիկական հագեցվածության բարելավում
G37: Պետական մարմինների կողմից օգտագործվող ոչ ֆինանսական ակտիվների հետ գործառնություններ
H38: Ակտիվն օգտագործող կազմակերպության անվանումը` ՀՀ պետական եկամուտների կոմիտե
I39: Համակարգչային սարքավորումների քանակ, հատ | J39: =12+20+77+51 -> 160 | L39: =12+20+77+51+130+26-46 -> 270
I40: Գրասենյակային գույքի միավոր քանակ, հատ | J40: 100 | L40: 100
...

Sheet Հավելված 7
L1: Հավելված N 7
L2: ՀՀ կառավարության 2026 թվականի
L3: ___________ ___-ի N _______ որոշման
A4: ՀԱՅԱՍՏԱՆԻ ՀԱՆՐԱՊԵՏՈՒԹՅԱՆ ԿԱՌԱՎԱՐՈՒԹՅԱՆ 2025 ԹՎԱԿԱՆԻ ԴԵԿՏԵՄԲԵՐԻ 27-Ի N 1910-Ն ՈՐՈՇՄԱՆ N 9.1 ՀԱՎԵԼՎԱԾՈՒՄ ԿԱՏԱՐՎՈՂ ՓՈՓՈԽՈՒԹՅՈՒՆՆԵՐԸ ԵՎ ԼՐԱՑՈՒՄՆԵՐԸ
L5: հազար դրամներով
A6: ԲՍԿ | B6: Ծրագիր | D6: Միջոցառում | H6: Իրականացնողը/ ակտիվն օգտագործողը/ շահառուի ընտրության չափորոշիչը | I6: Արդյունքային չափորոշիչը | J6: Ցուցանիշների փոփոխությունը (ավելացումները նշված են դրական նշանով, իսկ նվազեցումները՝ փակագծերում)
B7: Դասիչը | C7: Անվանումը | D7: Դասիչը | E7: Անվա-նումը | F7: Նկարագրու-թյունը | G7: Տեսակը | J7: Առաջին կիսամյակ | K7: Ինն ամիս | L7: Տարի
A8: ԸՆԴԱՄԵՆԸ | J8: =J9+J51 -> 0 | K8: =K9+K51 -> 0 | L8: =L9+L51 -> 0
A9: ՀՀ պետական եկամուտների կոմիտե | J9: =J10 -> 0 | K9: =K10 -> 0 | L9: =L10 -> 0
B10: 1023 | C10: Հարկային և մաքսային ծառայություններ | J10: =J11+J15+J19+J25++J35+J42 -> 0 | K10: =K11+K15+K19+K25++K35+K42 -> 0 | L10: =L11+L15+L19+L25++L35+L42 -> 0
D11: 1023 - 11001 | E11: Հարկային և մաքսային ծառայություններ | J11: ='Հավելված 3'!G21 -> -55863.2 | K11: ='Հավելված 3'!H21 -> -119904.8 | L11: ='Հավելված 3'!I21 -> -151205.4
F12: Հարկային և մաքսային քաղաքականության մշակման, պլանավորման, մոնիտորինգի, ծրագրերի համակարգման, գանձման, վերահսկողության և աջակցության ծառայություններ
G13: Ծառայությունների մատուցում
H14: Ծառայությունը մատուցողի անվանումը` ՀՀ պետական եկամուտների կոմիտե
D15: 1023 - 11012 | E15: Հայաստանի Հանրապետության մաքսային կցորդների գործունեության ապահովում | J15: =+'Հավելված 6 '!J15 -> -19391.5 | K15: =+'Հավելված 6 '!K15 -> -19391.5 | L15: =+'Հավելված 6 '!L15 -> -19391.5
F16: Օտարերկրյա պետություններում և միջազգային կազմակերպություններում Հայաստանի Հանրապետության դիվանագիտական ծառայության մարմիններին կից մաքսային կցորդների գործունեության ապահովման և պահպանման ծախսեր
G17: Ծառայությունների մատուցում
H18: Ծառայությունը մատուցողի անվանումը` Օտարերկրյա պետություններում ՀՀ դիվանագիտական ծառայություն իրականացնող մաքսային կցորդներ
D19: 1023 - 11014 | E19: Տեղեկատվական տեխնոլոգիաների և դրանց հետ փոխկապակցված համակարգերի կառավարում | J19: =+'Հավելված 6 '!J19 -> 14280 | K19: =+'Հավելված 6 '!K19 -> 35700 | L19: =+'Հավելված 6 '!L19 -> 48360
F20: Տեղեկատվական տեխնոլոգիաների և դրանց հետ փոխկապակցված համակարգերի կառավարում
G21: Ծառայությունների մատուցում
H22: Ծառայությունը մատուցողի անվանումը` Մասնագիտացված կազմակերպություն
I23: Ներդրված թվայնացման նախագծեր | J23: =+'Հավելված 6 '!J23 -> 0 | L23: =+'Հավելված 6 '!L23 -> 2
I24: Սպասարկվող էլեկտրոնային համակարգեր | J24: =+'Հավելված 6 '!J24 -> 0 | L24: =+'Հավելված 6 '!L24 -> 2
D25: 1023 - 11015 | E25: Հարկ վճարելու մշակույթի զարգացման ու ՊԵԿ գործունեության վերաբերյալ հանրային իրազեկման միջոցառումների իրականացում | J25: ='Հավելված 6 '!J25 -> 0 | K25: ='Հավելված 6 '!K25 -> -5530 | L25: ='Հավելված 6 '!L25 -> -5530
F26: Հարկ վճարելու մշակույթի զարգացման ու ՊԵԿ գործունեության հանրային իրազեկման շրջանակում հեռուստահաղորդումների, պանելային քննարկումների կազմակերպում և երկխոսության հարթակի ստեղծում
G27: Ծառայությունների մատուցում
H28: Ծառայությունը մատուցողի անվանումը` Մրցույթի արդյունքում ընտրված կազմակերպություն
I29: Տարվա ընթացքում հաղորդումների կազմակերպում (քանակը) | J29: -5 | L29: -12
I30: Շահագրգիր կողմերի հետ պանելային քննարկումների կազմակերպում (քանակ) | J30: -1 | L30: -2
I31: Երկխոսության հարթակի ստեղծում` ֆորումի ձևաչափով | J31: 0 | L31: -1
I32: Սոցիալական հոլովակների և թեմատիկ գրառումներով պաստառների պատրաստում (հատ) | J32: 8 | L32: 20
I33: Ֆորումի, պանելային քննարկումների և հանդիպումների կազմակերպում բիզնեսի և ոլորտային մասնագետների հետ (հատ) | J33: 1 | L33: 2
I34: Ֆորումի, պանելային քննարկումների, հանդիպումների և ասուլիսների ուղիղ հեռարձակման և հատուկ ձևաչափով նկարահանումների ապահովում (հատ) | J34: 1 | L34: 3
D35: 1023 - 31001 | E35: ՀՀ պետական եկամուտների կոմիտեի տեխնիկական հագեցվածության բարելավում | J35: ='Հավելված 3'!G62 -> 21836.3 | K35: ='Հավելված 3'!H62 -> 68509.8 | L35: ='Հավելված 3'!I62 -> 68509.8
F36: ՀՀ պետական եկամուտների կոմիտեի տեխնիկական հագեցվածության բարելավում
G37: Պետական մարմինների կողմից օգտագործվող ոչ ֆինանսական ակտիվների հետ գործառնություններ
H38: Ակտիվն օգտագործող կազմակերպության անվանումը` ՀՀ պետական եկամուտների կոմիտե
I39: Համակարգչային սարքավորումների քանակ, հատ | J39: =+'Հավելված 6 '!J39 -> 160 | L39: =+'Հավելված 6 '!L39 -> 270
I40: Գրասենյակային գույքի միավոր քանակ, հատ | J40: =+'Հավելված 6 '!J40 -> 100 | L40: =+'Հավելված 6 '!L40 -> 100
...

Sheet Հավելված 8
G1: Հավելված N 8
E2: ՀՀ կառավարության 2026 թվականի
E3: ___________ ___-ի N _______ որոշման
A5: ՀԱՅԱՍՏԱՆԻ ՀԱՆՐԱՊԵՏՈՒԹՅԱՆ ԿԱՌԱՎԱՐՈՒԹՅԱՆ 2025 ԹՎԱԿԱՆԻ ԴԵԿՏԵՄԲԵՐԻ 25-Ի N 1910-Ն ՈՐՈՇՄԱՆ N 10 ՀԱՎԵԼՎԱԾՈՒՄ ԿԱՏԱՐՎՈՂ ՓՈՓՈԽՈՒԹՅՈՒՆՆԵՐԸ ԵՎ ԼՐԱՑՈՒՄՆԵՐԸ
A7: Գնման առարկայի | E7: Ցուցանիշների փոփոխությունը (ավելացումները նշված են դրական նշանով, իսկ նվազեցումները՝ փակագծում)
A8: կոդը | B8: անվանումը | C8: գնման ձևը | D8: չափի միավորը | E8: միավորի գինը | F8: քանակը | G8: Գումարը (հազար դրամ)
A9: ՀՀ պետական եկամուտների կոմիտե | G9: =+G10 -> -28968.543
A10: Բաժին N 01 | B10: Խումբ N 01 | C10: Դաս N 02 | D10: Ֆինանսական և հարկաբյուջետային հարաբերություններ | G10: =+G11+G25+G28+G56-0.1 -> -28968.543
A11: 1023 11001 | B11: Հարկային և մաքսային ծառայություններ | G11: =+G12+G17+G19 -> -151205.42
B12: ՄԱՍ I. Ա Պ Ր Ա Ն Ք Ն Ե Ր | G12: =SUM(G13:G16) -> -37892.476
A13: 30197620-1 | B13: թուղթ, A4 ֆորմատի | C13: ԷԱՃ | D13: հատ | E13: 483 | F13: -5062 | G13: =+F13*E13/1000 -> -2444.946
A14: 09132100-1 | B14: բենզին, պրեմիում | C14: ԷԱՃ | D14: լիտր | E14: 490 | F14: -4081 | G14: =+F14*E14/1000 -> -1999.69
A15: 09132200-2 | B15: բենզին, ռեգուլյար | C15: ԷԱՃ | D15: լիտր | E15: 480 | F15: -40517 | G15: =+F15*E15/1000 -> -19448.16
A16: 09134200-1 | B16: դիզելային վառելիք, ամառային | C16: ԷԱՃ | D16: լիտր | E16: 480 | F16: -29166 | G16: =+F16*E16/1000 -> -13999.68
B17: ՄԱՍ II. ԱՇԽԱՏԱՆՔՆԵՐ | G17: =+G18 -> -39138.342
A18: 45461100-1 | B18: շենքերի, շինությունների ընթացիկ նորոգման աշխատանքներ | C18: ԳՀ | D18: դրամ | G18: =-39138342/1000 -> -39138.342
B19: ՄԱՍ III. ԾԱՌԱՅՈՒԹՅՈՒՆՆԵՐ | G19: =SUM(G20:G24) -> -74174.6
A20: 60131100-1 | B20: ուղևորափոխադրման մասնագիտացված ծառայություններ | C20: ԷԱՃ | D20: դրամ | G20: =-13000000/1000 -> -13000
A21: 90911100-2 | B21: բնակտարածությունների մաքրման ծառայություններ | C21: ԲՄ | D21: դրամ | G21: =(-8113600-3310000)/1000 -> -11423.6
A22: 71251100-2 | B22: ճարտարապետական ― շենքերի չափագրման ծառայություններ | C22: ԳՀ | D22: դրամ | G22: =-751000/1000 -> -751
A23: 72261160-4 | B23: ծրագրային ապահովման սպասարկման ծառայություններ | C23: ԷԱՃ | D23: դրամ | G23: =-20000000/1000 -> -20000
A24: 72261160-8 | B24: ծրագրային ապահովման սպասարկման ծառայություններ | C24: ԲՄ | D24: դրամ | G24: =-29000000/1000 -> -29000
A25: 1023 11015 | B25: Հարկ վճարելու մշակույթի զարգացման ու ՊԵԿ գործունեության վերաբերյալ հանրային իրազեկման միջոցառումների իրականացում | G25: =+G26 -> -5530
B26: ՄԱՍ III. ԾԱՌԱՅՈՒԹՅՈՒՆՆԵՐ | G26: =+G27 -> -5530
A27: 64235180-1 | B27: հեռուստահաղորդումների հեռարձակման ծառայություններ | C27: ԷԱՃ | D27: դրամ | G27: =-5530000/1000 -> -5530
A28: 1023 31001 | B28: ՀՀ պետական եկամուտների կոմիտեի տեխնիկական հագեցվածության բարելավում | G28: =G29+G54 -> 68509.835
B29: ՄԱՍ I. Ա Պ Ր Ա Ն Ք Ն Ե Ր | G29: =SUM(G30:G53) -> 64541.835
A30: 30239170-1 | B30: բազմաֆունկցիոնալ սարք` լազերային | C30: ԷԱՃ | D30: հատ | E30: 400000 | F30: -46 | G30: =+E30*F30/1000 -> -18400
A31: 42121150-1 | B31: պոմպեր | C31: ԷԱՃ | D31: հատ | E31: 1500000 | F31: -1 | G31: =+F31*E31/1000 -> -1500
A32: 30211220-503 | B32: սեղանի համակարգիչներ | C32: ԷԱՃ | D32: հատ | E32: 288000 | F32: 12 | G32: =E32*F32/1000 -> 3456
A33: 64211280-502 | B33: ip հեռախոսներ | C33: ԷԱՃ | D33: հատ | E33: 24600 | F33: 100 | G33: =E33*F33/1000 -> 2460
A34: 30239170-501 | B34: բազմաֆունկցիոնալ սարք` լազերային | C34: ԷԱՃ | D34: հատ | E34: 148800 | F34: 46 | G34: =E34*F34/1000 -> 6844.8
A35: 30232130-504 | B35: գունավոր տպիչներ | C35: ԷԱՃ | D35: հատ | E35: 204999 | F35: 5 | G35: =E35*F35/1000 -> 1024.995
A36: 30211290 | B36: համակարգչային պլանշետ | C36: ԷԱՃ | D36: հատ | E36: 450000 | F36: 130 | G36: =E36*F36/1000 -> 58500
A37: 34721490-503 | B37: անօդաչու թռչող սարքեր | C37: ԳՀ | D37: հատ | E37: 700000 | F37: 1 | G37: =+F37*E37/1000 -> 700
A38: 34721490-504 | B38: անօդաչու թռչող սարքեր | C38: ԳՀ | D38: հատ | E38: 1500000 | F38: 1 | G38: =+F38*E38/1000 -> 1500
A39: 32321120-502 | B39: տեսաձայնային սարքեր | C39: ԷԱՃ | D39: հատ | E39: 56200 | F39: 5 | G39: =+F39*E39/1000 -> 281
A40: 30232231-507 | B40: համակարգչի կոշտ սկավառակ | C40: ԷԱՃ | D40: հատ | E40: 60000 | F40: 20 | G40: =E40*F40/1000 -> 1200
A41: 30234500-501 | B41: ֆլեշ հիշողություն | C41: ԷԱՃ | D41: հատ | E41: 33000 | F41: 30 | G41: =E41*F41/1000 -> 990
A42: 30232231-501 | B42: համակարգչի կոշտ սկավառակ | C42: ԷԱՃ | D42: հատ | E42: 99000 | F42: 2 | G42: =E42*F42/1000 -> 198
...
