Workbook

Sheet 1
I1: Հավելված N 1
I2: ՀՀ կառավարության 2026 թվականի
I3: ___________ ___-ի N _______ -Ն որոշման
B6: «ՀԱՅԱՍՏԱՆԻ ՀԱՆՐԱՊԵՏՈՒԹՅԱՆ 2026 ԹՎԱԿԱՆԻ ՊԵՏԱԿԱՆ ԲՅՈՒՋԵԻ ՄԱՍԻՆ» ՀԱՅԱՍՏԱՆԻ ՀԱՆՐԱՊԵՏՈՒԹՅԱՆ ՕՐԵՆՔԻ N 1 ՀԱՎԵԼՎԱԾԻ N 2 ԱՂՅՈՒՍԱԿՈՒՄ ԿԱՏԱՐՎՈՂ ՎԵՐԱԲԱՇԽՈՒՄԸ , ԼՐԱՑՈՒՄԸ ԵՎ ՀԱՅԱՍՏԱՆԻ ՀԱՆՐԱՊԵՏՈՒԹՅԱՆ ԿԱՌԱՎԱՐՈՒԹՅԱՆ 2025 ԹՎԱԿԱՆԻ ԴԵԿՏԵՄԲԵՐԻ 25-Ի N1910-Ն ՈՐՈՇՄԱՆ N 5 ՀԱՎԵԼՎԱԾԻ N 1 ԱՂՅՈՒՍԱԿՈՒՄ ԿԱՏԱՐՎՈՂ ՓՈՓՈԽՈՒԹՅՈՒՆՆԵՐԸ ԵՎ ԼՐԱՑՈՒՄՆԵՐԸ | I6: հազար դրամներով
A7: ԲԳԿ | B7: Ծրագրային դասիչը | D7: ԲԳԿ/Ծրագրի /միջոցառման անվանումը | E7: Ծրագրի նպատակը/Միջոցառման նկարագրությունը | F7: Վերջնական արդյունքի նկարագրությունը/Միջոցառման տեսակը | G7: Ցուցանիշների փոփոխություն (ավելացումները նշված են դրական նշանով, իսկ նվազեցումները փակագծերում)
B8: Ծրագիր | C8: Միջոցառում | G8: Առաջին կիսամյակ | H8: Ինն ամիս | I8: Տարի
A9: ԸՆԴԱՄԵՆԸ | G9: 0 | H9: 0 | I9: 0
B10: ՀՀ արտաքին գործերի նախարարություն | G10: =+G11 -> 450000 | H10: =+H11 -> 450000 | I10: =+I11 -> 450000
B11: 1061 | D11: Արտաքին գործերի ոլորտում Կառավարության քաղաքականության մշակում և իրականացում | E11: Հայաստանի Հանրապետության ինքնիշխանության և պետական շահերի պաշտպանություն | F11: Տարածաշրջանային խաղաղության և կայունության հաստատում, գործընկերների հետ համագործակցության խթանում և հարաբերությունների կարգավորում, ԼՂ-ից բռնի տեղահանվածների կարիքների հասցեագրում | G11: =+G12 -> 450000 | H11: =+H12 -> 450000 | I11: =+I12 -> 450000
C12: 1061-11011 | D12: ՀՀ քաղաքացիների իրավունքների և շահերի պաշտպանություն | E12: Մերձավոր Արևելքում ռազմական գործողություններով և անվտանգային իրավիճակով պայմանավորված ՀՀ քաղաքացիների Հայաստանի Հանրապետություն վերադարձի համար ձեռք բերված ավիատոմսերի փոխհատուցում | F12: Ծառայությունների մատուցում | G12: =+-G15 -> 450000 | H12: =+-H15 -> 450000 | I12: 450000
B13: ՀՀ կառավարություն | G13: =+G14 -> -450000 | H13: =+H14 -> -450000 | I13: =+I14 -> -450000
B14: 1139 | D14: ՀՀ կառավարության պահուստային ֆոնդ | E14: Պետական բյուջեում չկանխատեսված, ինչպես նաեւ բյուջետային երաշխիքների ապահովման ծախսերի ֆինանսավորման ապահովում | F14: Պահուստային ֆոնդի կառավարման արդյունավետության և թափանցիկության ապահովում | G14: =+G15 -> -450000 | H14: =+H15 -> -450000 | I14: =+I15 -> -450000
C15: 1139 - 11001 | D15: ՀՀ կառավարության պահուստային ֆոնդ | E15: ՀՀ պետական բյուջեում նախատեսված ելքերի լրացուցիչ ֆինանսավորման, պետական բյուջեում չկանխատեսված ելքերի, ինչպես նաև բյուջետային երաշխիքների ապահովման ելքերի ֆինանսավորման ապահովում | F15: Ծառայությունների մատուցում | G15: -450000 | H15: -450000 | I15: -450000

Sheet 2
I1: Հավելված N 2
I2: ՀՀ կառավարության 2026 թվականի
I3: ___________ ___-ի N _______ -Ն որոշման
A5: ՀԱՅԱՍՏԱՆԻ ՀԱՆՐԱՊԵՏՈՒԹՅԱՆ ԿԱՌԱՎԱՐՈՒԹՅԱՆ 2025 ԹՎԱԿԱՆԻ ԴԵԿՏԵՄԲԵՐԻ 25-Ի N1910-Ն ՈՐՈՇՄԱՆ NN 3 և 4 ՀԱՎԵԼՎԱԾՆԵՐՈՒՄ ԿԱՏԱՐՎՈՂ ՓՈՓՈԽՈՒԹՅՈՒՆՆԵՐԸ ԵՎ ԼՐԱՑՈՒՄՆԵՐԸ
H6: հազար դրամներով
A8: Գործառական դասիչը | D8: Ծրագրային դասիչը | F8: Բյուջետային ծախսերի գործառական դասակարգման բաժինների, խմբերի և դասերի, բյուջետային ծրագրերի միջոցառումների, բյուջետային հատկացումների գլխավոր կարգադրիչների անվանումները | G8: Ցուցանիշների փոփոխություն (ավելացումները նշված են դրական նշանով, իսկ նվազեցումները փակագծերում)
A9: Բաժին | B9: Խումբ | C9: Դաս | D9: Ծրագիր | E9: Միջոցա ռում | G9: Առաջին կիսամյակ | H9: Ինն ամիս | I9: Տարի
F10: ԸՆԴԱՄԵՆԸ ԾԱԽՍԵՐ այդ թվում՝ | G10: =+H10 -> 0 | H10: 0 | I10: 0
A11: O1 | F11: ԸՆՀԴԱՆՈՒՐ ԲՆՈՒՅԹԻ ՀԱՆՐԱՅԻՆ ԾԱՌԱՅՈՒԹՅՈՒՆՆԵՐ | G11: =+G13 -> 450000 | H11: =+H13 -> 450000 | I11: =+I13 -> 450000
F12: այդ թվում`
B13: O1 | F13: Օրենսդիր և գործադիր մարմիններ, պետական կառավարում, ֆինանսական և հարկաբյուջետային հարաբերություններ, արտաքին հարաբերություններ | G13: =+G15 -> 450000 | H13: =+H15 -> 450000 | I13: =+I15 -> 450000
F14: այդ թվում`
C15: O3 | F15: Արտաքին հարաբերություններ | G15: =+G17 -> 450000 | H15: =+H17 -> 450000 | I15: =+I17 -> 450000
F16: այդ թվում`
F17: ՀՀ արտաքին գործերի նախարարություն | G17: =+G18 -> 450000 | H17: =+H18 -> 450000 | I17: =+I18 -> 450000
D18: 1061 | F18: Արտաքին գործերի ոլորտում Կառավարության քաղաքականության մշակում և իրականացում | G18: =+G20 -> 450000 | H18: =+H20 -> 450000 | I18: =+I20 -> 450000
F19: այդ թվում`
E20: 11011 | F20: ՀՀ քաղաքացիների իրավունքների և շահերի պաշտպանություն | G20: =+G22 -> 450000 | H20: =+H22 -> 450000 | I20: =+I22 -> 450000
F21: այդ թվում` ըստ կատարողների
F22: ՀՀ արտաքին գործերի նախարարություն | G22: =+G24 -> 450000 | H22: =+H24 -> 450000 | I22: =+I24 -> 450000
F23: այդ թվում` բյուջետային ծախսերի տնտեսագիտական դասակարգման հոդվածներ
F24: ԸՆԴԱՄԵՆԸ ԾԱԽՍԵՐ | G24: =+G25 -> 450000 | H24: =+H25 -> 450000 | I24: =+I25 -> 450000
F25: ԸՆԹԱՑԻԿ ԾԱԽՍԵՐ | G25: =+G26 -> 450000 | H25: =+H26 -> 450000 | I25: =+I26 -> 450000
F26: ՍՈՑԻԱԼԱԿԱՆ ՆՊԱՍՏՆԵՐ ԵՎ ԿԵՆՍԱԹՈՇԱԿՆԵՐ | G26: =+G28 -> 450000 | H26: =+H28 -> 450000 | I26: =+I28 -> 450000
F27: Սոցիալական օգնության դրամական արտահայտությամբ նպաստներ (բյուջեից) | G27: =+G28 -> 450000 | H27: =+H28 -> 450000 | I27: =+I28 -> 450000
F28: - Այլ նպաստներ բյուջեից | G28: =+'1'!G12 -> 450000 | H28: =+'1'!H12 -> 450000 | I28: =+'1'!I12 -> 450000
A29: 11 | F29: ՀԻՄՆԱԿԱՆ ԲԱԺԻՆՆԵՐԻՆ ՉԴԱՍՎՈՂ ՊԱՀՈՒՍՏԱՅԻՆ ՖՈՆԴԵՐ | G29: =+G31 -> -450000 | H29: =+H31 -> -450000 | I29: =+I31 -> -450000
F30: այդ թվում`
B31: 01 | F31: ՀՀ կառավարության և համայնքների պահուստային ֆոնդ | G31: =+G33 -> -450000 | H31: =+H33 -> -450000 | I31: =+I33 -> -450000
F32: այդ թվում`
C33: 01 | F33: ՀՀ կառավարության պահուստային ֆոնդ | G33: =+G35 -> -450000 | H33: =+H35 -> -450000 | I33: =+I35 -> -450000
F34: այդ թվում`
F35: ՀՀ կառավարություն | G35: =+G37 -> -450000 | H35: =+H37 -> -450000 | I35: =+I37 -> -450000
F36: այդ թվում`
D37: 1139 | E37: ՀՀ կառավարության պահուստային ֆոնդ | F37: ՀՀ կառավարության պահուստային ֆոնդ | G37: =+G39 -> -450000 | H37: =+H39 -> -450000 | I37: =+I39 -> -450000
F38: այդ թվում`
E39: 11001 | F39: ՀՀ կառավարության պահուստային ֆոնդ | G39: =+G41 -> -450000 | H39: =+H41 -> -450000 | I39: =+I41 -> -450000
F40: այդ թվում` ըստ կատարողների
F41: ՀՀ կառավարություն | G41: =+G43 -> -450000 | H41: =+H43 -> -450000 | I41: =+I43 -> -450000
F42: այդ թվում` բյուջետային ծախսերի տնտեսագիտական դասակարգման հոդվածներ
...

Sheet 3
L1: Հավելված 3
L2: ՀՀ կառավարության 2026 թվականի
L3: ______________ ի ___Ն որոշման
A5: ՀԱՅԱՍՏԱՆԻ ՀԱՆՐԱՊԵՏՈՒԹՅԱՆ ԿԱՌԱՎԱՐՈՒԹՅԱՆ 2025 ԹՎԱԿԱՆԻ ԴԵԿՏԵՄԲԵՐԻ 25-Ի N1910-Ն ՈՐՈՇՄԱՆ N 9 և 9.1 ՀԱՎԵԼՎԱԾՆԵՐՈՒՄ ԿԱՏԱՐՎՈՂ ՓՈՓՈԽՈՒԹՅՈՒՆՆԵՐԸ ԵՎ ԼՐԱՑՈՒՄՆԵՐԸ
L6: հազար դրամներով
A7: ԲԳԿ/ԲՍԿ | B7: Ծրագիր | D7: Միջոցառում | H7: Իրականացնողը/ ակտիվն օգտագործողը/ շահառուի ընտրության չափորոշիչը | I7: Արդյունքային չափորոշիչը | J7: Ցուցանիշների փոփոխություն (ավելացումները նշված են դրական նշանով, իսկ նվազեցումները փակագծերում)
B8: Դասիչը | C8: Անվանումը | D8: Դասիչը | E8: Անվանումը | F8: Նկարագրությունը | G8: Տեսակը | J8: Առաջին կիսամյակ | K8: Ինն ամիս | L8: Տարի
A9: ԸՆԴԱՄԵՆԸ | J9: 0 | K9: 0 | L9: =+L10+L17 -> 0
A10: ՀՀ արտաքին գործերի նախարարություն | J10: =+J11 -> 450000 | K10: =+K11 -> 450000 | L10: =+L11 -> 450000
B11: 1061 | C11: Արտաքին գործերի ոլորտում Կառավարության քաղաքականության մշակում և իրականացում | J11: =+J12 -> 450000 | K11: =+K12 -> 450000 | L11: =+L12 -> 450000
D12: 1061-11011 | E12: ՀՀ քաղաքացիների իրավունքների և շահերի պաշտպանություն | J12: =+K12 -> 450000 | K12: =+L12 -> 450000 | L12: =+-L19 -> 450000
F13: Մերձավոր Արևելքում ռազմական գործողություններով և անվտանգային իրավիճակով պայմանավորված ՀՀ քաղաքացիների Հայաստանի Հանրապետություն վերադարձի համար ձեռք բերված ավիատոմսերի փոխհատուցում
G14: Ծառայությունների մատուցում
H15: Ծառայությունը մատուցողի անվանումը` ՀՀ արտաքին գործերի նախարարություն
I16: Շահառուների թիվ, անձ | J16: 1800 | L16: 1800
A17: ՀՀ կառավարություն | J17: =+J18 -> -450000 | K17: =+K18 -> -450000 | L17: =+L18 -> -450000
B18: 1139 | C18: ՀՀ կառավարության պահուստային ֆոնդ | J18: =+J19 -> -450000 | K18: =+K19 -> -450000 | L18: =+L19 -> -450000
D19: 1139 - 11001 | E19: ՀՀ կառավարության պահուստային ֆոնդ | J19: =+K19 -> -450000 | K19: =+L19 -> -450000 | L19: =+'1'!I15 -> -450000
F20: ՀՀ պետական բյուջեում նախատեսված ելքերի լրացուցիչ ֆինանսավորման, պետական բյուջեում չկանխատեսված ելքերի, ինչպես նաև բյուջետային երաշխիքների ապահովման ելքերի ֆինանսավորման ապահովում
G21: Ծառայությունների մատուցում
H22: Ծառայությունը մատուցողի անվանումը` ՀՀ կառավարություն
