Workbook

Sheet 1
A1: Հավելված 1 ՀՀ կառավարության 2026 թվականի « » « »-ի N _____-Ն որոշման
A3: «ՀԱՅԱՍՏԱՆԻ ՀԱՆՐԱՊԵՏՈՒԹՅԱՆ 2026 ԹՎԱԿԱՆԻ ՊԵՏԱԿԱՆ ԲՅՈՒՋԵԻ ՄԱՍԻՆ» ՀԱՅԱՍՏԱՆԻ ՀԱՆՐԱՊԵՏՈՒԹՅԱՆ ՕՐԵՆՔԻ 2-ՐԴ ՀՈԴՎԱԾԻ ԱՂՅՈՒՍԱԿՈՒՄ ԿԱՏԱՐՎՈՂ ՓՈՓՈԽՈՒԹՅՈՒՆՆԵՐԸ
D4: (հազար դրամ)
D5: Ցուցանիշների փոփոխությունը (նվազեցումները նշված են փակագծերում)
A6: Եկամուտների գծով | D6: 0
A7: Ծախսերի գծով | D7: =D8 -> -1839350
A8: Դեֆիցիտը (պակասուրդը) | D8: ='2'!D15 -> -1839350

Sheet 2
A1: Հավելված 2 ՀՀ կառավարության 2026 թվականի « » « »-ի N _____-Ն որոշման
A3: «ՀԱՅԱՍՏԱՆԻ ՀԱՆՐԱՊԵՏՈՒԹՅԱՆ 2026 ԹՎԱԿԱՆԻ ՊԵՏԱԿԱՆ ԲՅՈՒՋԵԻ ՄԱՍԻՆ» ՀԱՅԱՍՏԱՆԻ ՀԱՆՐԱՊԵՏՈՒԹՅԱՆ ՕՐԵՆՔԻ 3-ՐԴ ՀՈԴՎԱԾԻ ԱՂՅՈՒՍԱԿՈՒՄ ԵՎ N 3 ՀԱՎԵԼՎԱԾԻ N 1 ԱՂՅՈՒՍԱԿՈՒՄ ՈՒ ՀԱՅԱՍՏԱՆԻ ՀԱՆՐԱՊԵՏՈՒԹՅԱՆ ԿԱՌԱՎԱՐՈՒԹՅԱՆ 2025 ԹՎԱԿԱՆԻ ԴԵԿՏԵՄԲԵՐԻ 25-Ի N 1910-Ն ՈՐՈՇՄԱՆ N 1 ՀԱՎԵԼՎԱԾԻ N 1 ԱՂՅՈՒՍԱԿՈՒՄ ԿԱՏԱՐՎՈՂ ՓՈՓՈԽՈՒԹՅՈՒՆՆԵՐԸ
D4: (հազար դրամ)
A5: Պետական բյուջեի դեֆիցիտի ֆինանսավորման աղբյուրներն ու դրանց տարրերի անվանումները | B5: Ցուցանիշների փոփոխությունը (նվազեցումները նշված են փակագծերում)
B6: Առաջին կիսամյակ | C6: Ինն ամիս | D6: Տարի
A7: ԸՆԴԱՄԵՆԸ | B7: =B11 -> -1839350 | C7: =C11 -> -1839350 | D7: =D11 -> -1839350
A8: այդ թվում՝
A9: Ա.Ներքին աղբյուրներ-ընդամենը | B9: =B11 -> -1839350 | C9: =C11 -> -1839350 | D9: =D11 -> -1839350
A10: այդ թվում՝
A11: 2. Ֆինանսական զուտ ակտիվներ | B11: =+B13 -> -1839350 | C11: =+C13 -> -1839350 | D11: =+D13 -> -1839350
A12: այդ թվում՝
A13: 2.4. Վարկերի և փոխատվությունների տրամադրում | B13: =C13 -> -1839350 | C13: =D13 -> -1839350 | D13: =+D15 -> -1839350
A14: այդ թվում
A15: Բյուջետային վարկերի տրամադրում տնտեսավարող սուբյեկտներին | B15: =C15 -> -1839350 | C15: =D15 -> -1839350 | D15: =-5000000*367.87/1000 -> -1839350

Sheet 3
F1: Հավելված 3 ՀՀ կառավարության 2026 թվականի « » « »-ի N _____-Ն որոշման
A3: «ՀԱՅԱՍՏԱՆԻ ՀԱՆՐԱՊԵՏՈՒԹՅԱՆ 2026 ԹՎԱԿԱՆԻ ՊԵՏԱԿԱՆ ԲՅՈՒՋԵԻ ՄԱՍԻՆ» ՀԱՅԱՍՏԱՆԻ ՀԱՆՐԱՊԵՏՈՒԹՅԱՆ ՕՐԵՆՔԻ N 3 ՀԱՎԵԼՎԱԾԻ N 1.1 ԱՂՅՈՒՍԱԿՈՒՄ ԵՎ ՀԱՅԱՍՏԱՆԻ ՀԱՆՐԱՊԵՏՈՒԹՅԱՆ ԿԱՌԱՎԱՐՈՒԹՅԱՆ ԴԵԿՏԵՄԲԵՐԻ 25-Ի N 1910-Ն N 1 ՀԱՎԵԼՎԱԾԻ N 2 ԱՂՅՈՒՍԱԿՈՒՄ ԿԱՏԱՐՎՈՂ ԼՐԱՑՈՒՄՆԵՐԸ
I5: (հազար դրամ)
A6: ԲԳԿ | B6: Ծրագրային դասիչը | D6: ԲԳԿ/Ծրագրի /միջոցառման անվանումը | E6: Ծրագրի նպատակը/Միջոցառման նկարագրությունը | F6: Վերջնական արդյունքի նկարագրությունը/Միջոցառման տեսակը | G6: Ցուցանիշների փոփոխությունը (ավելացումները նշված են դրական նշանով)
G7: Առաջին կիսամյակ | H7: Ինն ամիս | I7: Տարի
B8: Ծրագիր | C8: Միջոցառում
A9: ԸՆԴԱՄԵՆԸ | G9: =G11 -> 1839350 | H9: =H11 -> 1839350 | I9: =I11 -> 1839350
A10: ՀՀ շրջակա միջավայրի նախարարություն
B11: 1071 | D11: Շրջակա միջավայրի ոլորտում պետական քաղաքականության մշակում, ծրագրերի համակարգում և մոնիտորինգ | E11: Շրջակա միջավայրի պահպանությանն ուղղված պետական քաղաքականության մշակում և իրականացում | F11: Շրջակա միջավայրի պահպանությանն ուղղված օրենսդրական դաշտի բարելավում, իրականացվող ծրագրերի ազդեցության և արդյունավետության աճ | G11: =+G12 -> 1839350 | H11: =+H12 -> 1839350 | I11: =+I12 -> 1839350
C12: 1071-42001 | D12: Կենսաբանական բազմազանության մասին կոնվենցիայի կողմերի 17-րդ համաժողովի (COP 17) կազմակերպման նպատակով վարկային միջոցների տրամադրում | E12: «Կենսաբանական բազմազանության մասին» կոնվենցիայի կողմերի 17-րդ համաժողովի (COP 17) կազմակերպման նպատակով շենքի արդիականացման, ենթակառուցվածքների բարելավման և կառուցապատման աջակցության բյուջետային վարկի տրամադրում | F12: Համաժողովի պատշաճ և միջազգային չափորոշիչներին համապատասխան կազմակերպման նպատակով բյուջետային վարկի տրամադրում | G12: =-'2'!B15 -> 1839350 | H12: =-'2'!C15 -> 1839350 | I12: =-'2'!D15 -> 1839350

Sheet 4
A1: Հավելված 4 ՀՀ կառավարության 2026 թվականի « » « »-ի N _____-Ն որոշման
A3: «ՀԱՅԱՍՏԱՆԻ ՀԱՆՐԱՊԵՏՈՒԹՅԱՆ 2026 ԹՎԱԿԱՆԻ ՊԵՏԱԿԱՆ ԲՅՈՒՋԵԻ ՄԱՍԻՆ» ՀԱՅԱՍՏԱՆԻ ՀԱՆՐԱՊԵՏՈՒԹՅԱՆ ՕՐԵՆՔԻ N 3 ՀԱՎԵԼՎԱԾՈՒՄ N1.1.1.1 ԱՂՅՈՒՍԱԿՈՒՄ ԵՎ ՀԱՅԱՍՏԱՆԻ ՀԱՆՐԱՊԵՏՈՒԹՅԱՆ ԿԱՌԱՎԱՐՈՒԹՅԱՆ ԴԵԿՏԵՄԲԵՐԻ 25-Ի N 1910-Ն ՈՐՈՇՄԱՆ N 1 ՀԱՎԵԼՎԱԾԻ N 4 ԱՂՅՈՒՍԱԿՈՒՄ ԿԱՏԱՐՎՈՂ ԼՐԱՑՈՒՄՆԵՐԸ
F4: (հազար դրամ)
A5: Ծրագրային դասիչ | C5: Պետական բյուջեի դեֆիցիտի ֆինանսավորման աղբյուրներն ու դրանց տարրերի անվանումները | D5: Ցուցանիշների փոփոխությունը (ավելացումները նշված են դրական նշանով)
D6: Առաջին կիսամյակ | E6: Ինն ամիս | F6: Տարի
A7: Ծրագիր | B7: Միջոցառում | C7: ԸՆԴԱՄԵՆԸ | D7: =+D9 -> 1839350 | E7: =+E9 -> 1839350 | F7: =+F9 -> 1839350
C8: այդ թվում՝
C9: ՀՀ շրջակա միջավայրի նախարարություն | D9: =E9 -> 1839350 | E9: =F9 -> 1839350 | F9: =+F10 -> 1839350
A10: ='3'!B11 -> 1071 | C10: ='3'!D11 -> Շրջակա միջավայրի ոլորտում պետական քաղաքականության մշակում, ծրագրերի համակարգում և մոնիտորինգ | D10: =E10 -> 1839350 | E10: =F10 -> 1839350 | F10: =+F11 -> 1839350
B11: 42001 | C11: ='3'!D12 -> Կենսաբանական բազմազանության մասին կոնվենցիայի կողմերի 17-րդ համաժողովի (COP 17) կազմակերպման նպատակով վարկային միջոցների տրամադրում | D11: =E11 -> 1839350 | E11: =F11 -> 1839350 | F11: =+F15 -> 1839350
C12: այդ թվում՝ ըստ կատարողների
C13: ՀՀ ֆինանսների նախարարություն | D13: =E13 -> 1839350 | E13: =F13 -> 1839350 | F13: =+F11 -> 1839350
C14: այդ թվում՝ ըստ տնտեսագիտական դասակարգման հոդվածների՝
C15: ՀԻՄՆԱԿԱՆ ԳՈՒՄԱՐԻ ՄԱՐՄԱՆ ԵՎ ՖԻՆԱՆՍԱԿԱՆ ԱԿՏԻՎՆԵՐԻ ՁԵՌՔԲԵՐՄԱՆ ԳԾՈՎ ԾԱԽՍԵՐ, այդ թվում` | D15: =E15 -> 1839350 | E15: =F15 -> 1839350 | F15: =+F16 -> 1839350
C16: ՖԻՆԱՆՍԱԿԱՆ ԱԿՏԻՎՆԵՐԻ ՁԵՌՔԲԵՐՈՒՄ, այդ թվում | D16: =E16 -> 1839350 | E16: =F16 -> 1839350 | F16: =+F17 -> 1839350
C17: ՆԵՐՔԻՆ ՖԻՆԱՆՍԱԿԱՆ ԱԿՏԻՎՆԵՐԻ ՁԵՌՔԲԵՐՈՒՄ, այդ թվում` | D17: =E17 -> 1839350 | E17: =F17 -> 1839350 | F17: =+F18 -> 1839350
C18: - Ներքին վարկեր և փոխատվություններ | D18: ='3'!G12 -> 1839350 | E18: ='3'!H12 -> 1839350 | F18: ='3'!I12 -> 1839350

Sheet 5
I1: Հավելված 5 ՀՀ կառավարության 2026 թվականի « » « »-ի N _____-Ն որոշման
A3: ՀԱՅԱՍՏԱՆԻ ՀԱՆՐԱՊԵՏՈՒԹՅԱՆ ԿԱՌԱՎԱՐՈՒԹՅԱՆ 2025 ԹՎԱԿԱՆԻ ԴԵԿՏԵՄԲԵՐԻ 25-Ի N 1910-Ն ՈՐՈՇՄԱՆ N 1 ՀԱՎԵԼՎԱԾԻ N 5 ԱՂՅՈՒՍԱԿՈՒՄ ԿԱՏԱՐՎՈՂ ԼՐԱՑՈՒՄՆԵՐԸ
L4: հազար դրամներով
A5: Ծրագիր | D5: Միջոցառում | H5: Իրականացնողը/ ակտիվն օգտագործողը/ շահառուի ընտրության չափորոշիչը | I5: Արդյունքային չափորոշիչը | J5: Ցուցանիշների փոփոխությունը (ավելացումները նշված են դրական նշանով)
A6: Դասիչը | C6: Անվա-նումը | D6: Դասիչը | E6: Անվա-նումը | F6: Նկարագրու-թյունը | G6: Տեսակը | J6: Առաջին կիսամյակ | K6: Ինն ամիս | L6: Տարի
A7: ԸՆԴԱՄԵՆԸ | J7: =+J8 -> 1839350 | K7: =+K8 -> 1839350 | L7: =+L8 -> 1839350
A8: Շրջակա միջավայրի նախարարություն | J8: =J9 -> 1839350 | K8: =K9 -> 1839350 | L8: =L9 -> 1839350
B9: 1071 | C9: ='3'!D11 -> Շրջակա միջավայրի ոլորտում պետական քաղաքականության մշակում, ծրագրերի համակարգում և մոնիտորինգ | J9: =J10 -> 1839350 | K9: =K10 -> 1839350 | L9: =L10 -> 1839350
D10: 1071 - 42001 | E10: ='3'!D12 -> Կենսաբանական բազմազանության մասին կոնվենցիայի կողմերի 17-րդ համաժողովի (COP 17) կազմակերպման նպատակով վարկային միջոցների տրամադրում | J10: ='3'!G12 -> 1839350 | K10: ='3'!H12 -> 1839350 | L10: ='3'!I12 -> 1839350
F11: ='3'!E12 -> «Կենսաբանական բազմազանության մասին» կոնվենցիայի կողմերի 17-րդ համաժողովի (COP 17) կազմակերպման նպատակով շենքի արդիականացման, ենթակառուցվածքների բարելավման և կառուցապատման աջակցության բյուջետային վարկի տրամադրում
G12: ='3'!F12 -> Համաժողովի պատշաճ և միջազգային չափորոշիչներին համապատասխան կազմակերպման նպատակով բյուջետային վարկի տրամադրում
H13: Ծառայությունը մատուցողի անվանումը` Միջոցառման կազմակերպման վայրի տնտեսավարող սուբյեկտ
I14: Վարկավորվող տնտեսավարողների թիվը, հատ | J14: 1 | L14: 1

Sheet 6
F1: Հավելված 6 ՀՀ կառավարության 2026 թվականի « » « »-ի N _____-Ն որոշման
A3: «ՀԱՅԱՍՏԱՆԻ ՀԱՆՐԱՊԵՏՈՒԹՅԱՆ 2026 ԹՎԱԿԱՆԻ ՊԵՏԱԿԱՆ ԲՅՈՒՋԵԻ ՄԱՍԻՆ» ՀԱՅԱՍՏԱՆԻ ՀԱՆՐԱՊԵՏՈՒԹՅԱՆ ՕՐԵՆՔԻ N 1 ՀԱՎԵԼՎԱԾԻ N 2 ԱՂՅՈՒՍԱԿՈՒՄ ԵՎ ՀԱՅԱՍՏԱՆԻ ՀԱՆՐԱՊԵՏՈՒԹՅԱՆ ԿԱՌԱՎԱՐՈՒԹՅԱՆ 2025 ԹՎԱԿԱՆԻ ԴԵԿՏԵՄԲԵՐԻ 25-Ի N 1910-Ն ՈՐՈՇՄԱՆ N 5 ՀԱՎԵԼՎԱԾԻ N 1 ԱՂՅՈՒՍԱԿՈՒՄ ԿԱՏԱՐՎՈՂ ՓՈՓՈԽՈՒԹՅՈՒՆՆԵՐԸ
A5: ԲԳԿ | B5: Ծրագրային դասիչը | D5: ԲԳԿ/Ծրագրի /միջոցառման անվանումը | E5: Ծրագրի նպատակը/Միջոցառման նկարագրությունը | F5: Վերջնական արդյունքի նկարագրությունը/Միջոցառման տեսակը | G5: Ցուցանիշների փոփոխությունը (նվազեցումները նշված են փակագծերում)
G6: Առաջին կիսամյակ | H6: Ինն ամիս | I6: Տարի
B7: Ծրագիր | C7: Միջոցառում
A8: ԸՆԴԱՄԵՆԸ | G8: =+G9 -> -1839350 | H8: =+H9 -> -1839350 | I8: =+I9 -> -1839350
A9: ՀՀ կառավարություն | G9: =G10 -> -1839350 | H9: =H10 -> -1839350 | I9: =I10 -> -1839350
B10: 1139 | D10: ՀՀ կառավարության պահուստային ֆոնդ | E10: Պետական բյուջեում չկանխատեսված, ինչպես նաեւ բյուջետային երաշխիքների ապահովման ծախսերի ֆինանսավորման ապահովում | F10: Պահուստային ֆոնդի կառավարման արդյունավետության և թափանցիկության ապահովում | G10: =G11 -> -1839350 | H10: =H11 -> -1839350 | I10: =I11 -> -1839350
C11: 1139 - 11001 | D11: ՀՀ կառավարության պահուստային ֆոնդ | E11: ՀՀ պետական բյուջեում նախատեսված ելքերի լրացուցիչ ֆինանսավորման, պետական բյուջեում չկանխատեսված ելքերի, ինչպես նաև բյուջետային երաշխիքների ապահովման ելքերի ֆինանսավորման ապահովում | F11: Ծառայությունների մատուցում | G11: =+-'4'!D18 -> -1839350 | H11: =+-'4'!E18 -> -1839350 | I11: =+-'4'!F18 -> -1839350

Sheet 7
A1: Հավելված 7 ՀՀ կառավարության 2026 թվականի « » « »-ի N _____-Ն որոշման
A2: ՀԱՅԱՍՏԱՆԻ ՀԱՆՐԱՊԵՏՈՒԹՅԱՆ ԿԱՌԱՎԱՐՈՒԹՅԱՆ 2025 ԹՎԱԿԱՆԻ ԴԵԿՏԵՄԲԵՐԻ 25-Ի N 1910-Ն ՈՐՈՇՄԱՆ N 3 ԵՎ 4 ՀԱՎԵԼՎԱԾՆԵՐՈՒՄ ԿԱՏԱՐՎՈՂ ՓՈՓՈԽՈՒԹՅՈՒՆՆԵՐԸ
I3: (հազար դրամ)
A4: Գործառական դասիչը | D4: Ծրագրային դասիչը | F4: Բյուջետային ծախսերի գործառական դասակարգման բաժինների, խմբերի և դասերի, բյուջետային ծրագրերի միջոցառումների, բյուջետային հատկացումների գլխավոր կարգադրիչների անվանումները | G4: Ցուցանիշների փոփոխությունը (նվազեցումները նշված են փակագծերում)
A5: Բաժին | B5: Խումբ | C5: Դաս | D5: Ծրագիր | E5: Միջոցառում | G5: Առաջին կիսամյակ | H5: Ինն ամիս | I5: Տարի
F6: ԸՆԴԱՄԵՆԸ ԾԱԽՍԵՐ | G6: =+G7 -> -1839350 | H6: =+H7 -> -1839350 | I6: =+I7 -> -1839350
A7: 11 | F7: ՀԻՄՆԱԿԱՆ ԲԱԺԻՆՆԵՐԻՆ ՉԴԱՍՎՈՂ ՊԱՀՈՒՍՏԱՅԻՆ ՖՈՆԴԵՐ | G7: =SUM(G9) -> -1839350 | H7: =SUM(H9) -> -1839350 | I7: =SUM(I9) -> -1839350
F8: այդ թվում`
B9: 01 | F9: ՀՀ կառավարության և համայնքների պահուստային ֆոնդ | G9: =G11 -> -1839350 | H9: =H11 -> -1839350 | I9: =I11 -> -1839350
F10: այդ թվում`
C11: 01 | F11: ՀՀ կառավարության պահուստային ֆոնդ | G11: =G13 -> -1839350 | H11: =H13 -> -1839350 | I11: =I13 -> -1839350
F12: այդ թվում`
F13: ՀՀ կառավարություն | G13: =+G15 -> -1839350 | H13: =+H15 -> -1839350 | I13: =+I15 -> -1839350
F14: այդ թվում`
D15: 1139 | F15: ='6'!D10 -> ՀՀ կառավարության պահուստային ֆոնդ | G15: =+G17 -> -1839350 | H15: =+H17 -> -1839350 | I15: =+I17 -> -1839350
F16: այդ թվում`
E17: 11001 | F17: ='6'!D11 -> ՀՀ կառավարության պահուստային ֆոնդ | G17: =+G19 -> -1839350 | H17: =+H19 -> -1839350 | I17: =+I19 -> -1839350
F18: այդ թվում` ըստ կատարողների
F19: ՀՀ կառավարություն | G19: =+G21 -> -1839350 | H19: =+H21 -> -1839350 | I19: =+I21 -> -1839350
F20: այդ թվում` բյուջետային ծախսերի տնտեսագիտական դասակարգման հոդվածներ
F21: ԸՆԴԱՄԵՆԸ ԾԱԽՍԵՐ | G21: =+G22 -> -1839350 | H21: =+H22 -> -1839350 | I21: =+I22 -> -1839350
F22: ԸՆԹԱՑԻԿ ԾԱԽՍԵՐ | G22: =+G23 -> -1839350 | H22: =+H23 -> -1839350 | I22: =+I23 -> -1839350
F23: ԱՅԼ ԾԱԽՍԵՐ | G23: =+G24 -> -1839350 | H23: =+H24 -> -1839350 | I23: =+I24 -> -1839350
F24: Պահուստային միջոցներ | G24: =+'6'!G11 -> -1839350 | H24: =+'6'!H11 -> -1839350 | I24: =+'6'!I11 -> -1839350

Sheet 8
I1: Հավելված 8 ՀՀ կառավարության 2026 թվականի « » « »-ի N _____-Ն որոշման
A3: ՀԱՅԱՍՏԱՆԻ ՀԱՆՐԱՊԵՏՈՒԹՅԱՆ ԿԱՌԱՎԱՐՈՒԹՅԱՆ 2025 ԹՎԱԿԱՆԻ ԴԵԿՏԵՄԲԵՐԻ 25-Ի N 1910-Ն ՈՐՈՇՄԱՆ NN 9 ԵՎ 9.1 ՀԱՎԵԼՎԱԾՆԵՐՈՒՄ ԿԱՏԱՐՎՈՂ ՓՈՓՈԽՈՒԹՅՈՒՆՆԵՐԸ
L4: հազար դրամներով
A5: ԲԳԿ/ԲՍԿ | B5: Ծրագիր | D5: Միջոցառում | H5: Իրականացնողը/ ակտիվն օգտագործողը/ շահառուի ընտրության չափորոշիչը | I5: Արդյունքային չափորոշիչը | J5: Ցուցանիշների փոփոխությունը (նվազեցումները նշված են փակագծերում)
B6: Դասիչը | C6: Անվա-նումը | D6: Դասիչը | E6: Անվա-նումը | F6: Նկարագրու-թյունը | G6: Տեսակը | J6: Առաջին կիսամյակ | K6: Ինն ամիս | L6: Տարի
A7: ԸՆԴԱՄԵՆԸ | J7: =+J8 -> -1839350 | K7: =+K8 -> -1839350 | L7: =+L8 -> -1839350
A8: ՀՀ կառավարություն | J8: =J9 -> -1839350 | K8: =K9 -> -1839350 | L8: =L9 -> -1839350
B9: 1139 | C9: ՀՀ կառավարության պահուստային ֆոնդ | J9: =J10 -> -1839350 | K9: =K10 -> -1839350 | L9: =L10 -> -1839350
D10: 1139 - 11001 | E10: ՀՀ կառավարության պահուստային ֆոնդ | J10: =J13 -> -1839350 | K10: =K13 -> -1839350 | L10: =L13 -> -1839350
F11: ՀՀ պետական բյուջեում նախատեսված ելքերի լրացուցիչ ֆինանսավորման, պետական բյուջեում չկանխատեսված ելքերի, ինչպես նաև բյուջետային երաշխիքների ապահովման ելքերի ֆինանսավորման ապահովում
G12: Ծառայությունների մատուցում
H13: Ծառայությունը մատուցողի անվանումը` ՀՀ կառավարություն | J13: =+'7'!G24 -> -1839350 | K13: =+'7'!H24 -> -1839350 | L13: =+'7'!I24 -> -1839350
