Workbook
Name \A: #REF!
Name _tab10: #REF!
Name _tab11: #REF!
Name _tab12: #REF!
Name _tab13: #REF!
Name _tab14: #REF!
Name _tab15: #REF!
Name _tab16: #REF!
Name _tab17: #REF!
Name _tab18: #REF!
Name _tab19: #REF!
Name _tab20: #REF!
Name _tab21: #REF!
Name _tab22: #REF!
Name _tab23: #REF!
Name _tab24: #REF!
Name _tab5: #REF!
Name _tab6: #REF!
Name _tab7: #REF!
Name _tab8: #REF!
Name _tab9: #REF!
Name aaa: #REF!
Name aaaa: #REF!
Name aaaaa: #REF!
Name AgencyCode: #REF!
Name AgencyName: #REF!
Name alis: #REF!
Name alisa: #REF!
Name als: #REF!
Name ampop_krchat: #REF!
Name Armata: #REF!
Name asd: #REF!
Name åû: #REF!
Name BOP: #REF!
Name BOPfoot: #REF!
Name davit: #REF!
Name DebtCG: '[1]Fis-Debt'!#REF!
Name DebtGG: #REF!
Name fff: #REF!
Name Functional1: #REF!
Name ggg: #REF!
Name h: #REF!
Name Hav: #REF!,#REF!
Name havelvac: #REF!
Name mas: #REF!
Name mass: #REF!
Name MonExo: #REF!
Name MonGrow: [2]BM!#REF!
Name PANature: #REF!
Name par_count: #REF!,#REF!,#REF!,#REF!,#REF!,#REF!,#REF!,#REF!,#REF!,#REF!,#REF!,#REF!,#REF!,#REF!,#REF!
Name par_qual: #REF!,#REF!,#REF!,#REF!,#REF!
Name par_time: #REF!,#REF!,#REF!,#REF!
Name par2.12s: #REF!
Name par2.4s: #REF!,#REF!,#REF!,#REF!,#REF!,#REF!,#REF!,#REF!,#REF!,#REF!,#REF!,#REF!,#REF!,#REF!,#REF!,#REF!
Name par2.5s: #REF!,#REF!
Name par2.6s: #REF!,#REF!,#REF!,#REF!
Name par2.7s: #REF!,#REF!
Name par2.9s: #REF!,#REF!,#REF!,#REF!,#REF!,#REF!,#REF!,#REF!,#REF!,#REF!,#REF!,#REF!,#REF!,#REF!,#REF!,#REF!
Name par4.10s: #REF!,#REF!
Name par4.11d: #REF!,#REF!,#REF!,#REF!,#REF!

Sheet Հավելված 1
D1: Հավելված N 1
D2: ՀՀ կառավարության 2026 թվականի
D3: N որոշման
A5: ՀԱՅԱUՏԱՆԻ ՀԱՆՐԱՊԵՏՈՒԹՅԱՆ ԿԱՌԱՎԱՐՈՒԹՅԱՆ 2025 ԹՎԱԿԱՆԻ ԴԵԿՏԵՄԲԵՐԻ 25-Ի N 1910-Ն ՈՐՈՇՄԱՆ N 1 ՀԱՎԵԼՎԱԾԻ N 1 ԱՂՅՈՒՍԱԿՈՒՄ ԿԱՏԱՐՎՈՂ ՓՈՓՈԽՈՒԹՅՈՒՆՆԵՐԸ
C6: հազար դրամներով
A7: Պետական բյուջեի դեֆիցիտի ֆինանսավորման աղբյուրներն ու դրանց տարրերի անվանումները | B7: Ցուցանիշների փոփոխությունը (ավելացումները նշված են դրական նշանով)
B8: Առաջին կիսամյակ | C8: Ինն ամիս | D8: Տարի
A9: ԸՆԴԱՄԵՆԸ | B9: =B11 -> 1120640 | C9: =C11 -> 560320 | D9: 0
A10: այդ թվում՝
A11: Ա.Ներքին աղբյուրներ-ընդամենը | B11: =B13 -> 1120640 | C11: =C13 -> 560320 | D11: 0
A12: այդ թվում՝
A13: 2. Ֆինանսական զուտ ակտիվներ | B13: =B14 -> 1120640 | C13: =C14 -> 560320 | D13: 0
A14: 2.6.Այլ | B14: =B15 -> 1120640 | C14: =C15 -> 560320 | D14: 0
A15: ժամանակավորապես ազատ միջոցներ | B15: ='Հավելված 3'!G7 -> 1120640 | C15: ='Հավելված 3'!H7 -> 560320 | D15: 0

Sheet Հավելված 2 
F1: Հավելված 2 ՀՀ կառավարության 2026 թվականի ____________ի N _____-Ն որոշման
A3: ՀԱՅԱՍՏԱՆԻ ՀԱՆՐԱՊԵՏՈՒԹՅԱՆ ԿԱՌԱՎԱՐՈՒԹՅԱՆ 2025 ԹՎԱԿԱՆԻ ԴԵԿՏԵՄԲԵՐԻ 25-Ի N 1910-Ն ՈՐՈՇՄԱՆ NN 3 ԵՎ 4 ՀԱՎԵԼՎԱԾՆԵՐՈՒՄ ԿԱՏԱՐՎՈՂ ՓՈՓՈԽՈՒԹՅՈՒՆՆԵՐԸ
I4: հազար դրամներով
A5: Գործառնական դասիչ | D5: Ծրագրային դասիչը | F5: Բյուջետային ծախսերի գործառական դասակարգման բաժինների, խմբերի և դասերի, բյուջետային ծրագրերի միջոցառումների, բյուջետային հատկացումների գլխավոր կարգադրիչների անվանումները | G5: Ցուցանիշների փոփոխությունները (ավելացումներ նշված են դրական նշանով)
A6: Բաժին | B6: Խումբ | C6: Դաս | D6: Ծրագիր | E6: Միջոցառում | G6: Առաջին կիսամյակ | H6: Ինն ամիս | I6: Տարի
F7: ԸՆԴԱՄԵՆԸ ԾԱԽՍԵՐ | G7: =+G9 -> 1120640 | H7: =+H9 -> 560320 | I7: =+I9 -> 0
F8: այդ թվում`
F9: ՀՀ էկոնոմիկայի նախարարություն | G9: =+G11 -> 1120640 | H9: =+H11 -> 560320 | I9: =+I11 -> 0
F10: այդ թվում`
A11: 04 | F11: ՏՆՏԵՍԱԿԱՆ ՀԱՐԱԲԵՐՈՒԹՅՈՒՆՆԵՐ | G11: =+G12 -> 1120640 | H11: =+H12 -> 560320 | I11: =+I12 -> 0
B12: 02 | F12: Գյուղատնտեսություն, անտառային տնտեսություն, ձկնորսություն և որսորդություն | G12: =+G14 -> 1120640 | H12: =+H14 -> 560320 | I12: =+I14 -> 0
F13: այդ թվում`
C14: 01 | F14: Գյուղատնտեսություն | G14: =+G16 -> 1120640 | H14: =+H16 -> 560320 | I14: =+I16 -> 0
F15: այդ թվում`
F16: ՀՀ էկոնոմիկայի նախարարություն | G16: =+G18 -> 1120640 | H16: =+H18 -> 560320 | I16: =+I18 -> 0
F17: այդ թվում`
D18: 1059 | F18: Բուսաբուծության խթանում և բույսերի պաշտպանություն | G18: =+G20+G29 -> 1120640 | H18: =+H20+H29 -> 560320 | I18: =+I20+I29 -> 0
F19: այդ թվում`
E20: 11010 | F20: ՀՀ-ում գարնանացան, աշնանացան և կերային մշակաբույսերի ցանքատարածությունների մոնիթորինգի իրականացմանն աջակցություն | G20: =+G22 -> 32640 | H20: =+H22 -> 16320 | I20: =+I22 -> 0
F21: այդ թվում` ըստ կատարողների
F22: ՀՀ էկոնոմիկայի նախարարություն | G22: =+G24 -> 32640 | H22: =+H24 -> 16320 | I22: =+I24 -> 0
F23: այդ թվում` բյուջետային ծախսերի տնտեսագիտական դասակարգման հոդվածներ
F24: ԸՆԴԱՄԵՆԸ ԾԱԽՍԵՐ | G24: =+G25 -> 32640 | H24: =+H25 -> 16320 | I24: =+I25 -> 0
F25: ԸՆԹԱՑԻԿ ԾԱԽՍԵՐ | G25: =+G26 -> 32640 | H25: =+H26 -> 16320 | I25: =+I26 -> 0
F26: ԴՐԱՄԱՇՆՈՐՀՆԵՐ | G26: =+G27 -> 32640 | H26: =+H27 -> 16320 | I26: =+I27 -> 0
F27: Ընթացիկ դրամաշնորհներ պետական հատվածի այլ մակարդակներին | G27: =+G28 -> 32640 | H27: =+H28 -> 16320 | I27: =+I28 -> 0
F28: - Այլ ընթացիկ դրամաշնորհներ համայնքներին | G28: 32640 | H28: 16320 | I28: 0
E29: 12003 | F29: ՀՀ-ում գարնանացան, աշնանացան և կերային մշակաբույսերի մշակության հիմնական աշխատանքների համար կատարված ծախսերի մասնակի փոխհատուցման տրամադրում | G29: =+G31 -> 1088000 | H29: =+H31 -> 544000 | I29: =+I31 -> 0
F30: այդ թվում` ըստ կատարողների
F31: ՀՀ էկոնոմիկայի նախարարություն | G31: =+G33 -> 1088000 | H31: =+H33 -> 544000 | I31: =+I33 -> 0
F32: այդ թվում` բյուջետային ծախսերի տնտեսագիտական դասակարգման հոդվածներ
F33: ԸՆԴԱՄԵՆԸ ԾԱԽՍԵՐ | G33: =+G34 -> 1088000 | H33: =+H34 -> 544000 | I33: =+I34 -> 0
F34: ԸՆԹԱՑԻԿ ԾԱԽՍԵՐ | G34: =+G35 -> 1088000 | H34: =+H35 -> 544000 | I34: =+I35 -> 0
F35: ՍՈՑԻԱԼԱԿԱՆ ՆՊԱՍՏՆԵՐ ԵՎ ԿԵՆՍԱԹՈՇԱԿՆԵՐ | G35: =+G36 -> 1088000 | H35: =+H36 -> 544000 | I35: =+I36 -> 0
F36: Սոցիալական օգնության դրամական արտահայտությամբ նպաստներ (բյուջեից) | G36: =+G37 -> 1088000 | H36: =+H37 -> 544000 | I36: =+I37 -> 0
F37: - Այլ նպաստներ բյուջեից | G37: 1088000 | H37: 544000 | I37: 0

Sheet Հավելված 3
A1: Հավելված N 3 ՀՀ կառավարության 2026 թվականի ____________ի N _____-Ն որոշման
A3: ՀԱՅԱՍՏԱՆԻ ՀԱՆՐԱՊԵՏՈՒԹՅԱՆ ԿԱՌԱՎԱՐՈՒԹՅԱՆ 2025 ԹՎԱԿԱՆԻ ԴԵԿՏԵՄԲԵՐԻ 25-Ի N 1910-Ն ՈՐՈՇՄԱՆ N 5 ՀԱՎԵԼՎԱԾԻ N 1 ԱՂՅՈՒՍԱԿՈՒՄ ԿԱՏԱՐՎՈՂ ՓՈՓՈԽՈՒԹՅՈՒՆՆԵՐԸ
H4: հազար դրամներով
A5: ԲԳԿ | B5: Ծրագրային դասիչը | D5: ԲԳԿ/Ծրագրի /միջոցառման անվանումը | E5: Ծրագրի նպատակը/Միջոցառման նկարագրությունը | F5: Վերջնական արդյունքի նկարագրությունը/Միջոցառման տեսակը | G5: Ցուցանիշների փոփոխությունները (ավելացումները նշված են դրական նշանով)
B6: Ծրագիր | C6: Միջոցառում | G6: Առաջին կիսամյակ | H6: Ինն ամիս | I6: Տարի
A7: ԸՆԴԱՄԵՆԸ | G7: =+G8 -> 1120640 | H7: =+H8 -> 560320 | I7: =+I8 -> 0
A8: ՀՀ էկոնոմիկայի նախարարություն | G8: =+G9 -> 1120640 | H8: =+H9 -> 560320 | I8: =+I9 -> 0
B9: 1059 | D9: =+'Հավելված 2 '!F18 -> Բուսաբուծության խթանում և բույսերի պաշտպանություն | E9: Հողագործությունից ստացվող արդյունքի բարելավում | F9: Մշակաբույսերի միջին բերքատվության բարձրացում:ՀՀ գյուղատնտեսական նշանակության ողջ հողատարածքի համար կազմված ագրոքիմիական քարտեզներով ապահովվածություն: Հացահատիկի և հատիկաընդեղենի արտադրության ծավալների ավելացում: | G9: =+SUM(G10:G11) -> 1120640 | H9: =+SUM(H10:H11) -> 560320 | I9: =+SUM(I10:I11) -> 0
C10: =+B9&"-"&'Հավելված 2 '!E20 -> 1059-11010 | D10: =+'Հավելված 2 '!F20 -> ՀՀ-ում գարնանացան, աշնանացան և կերային մշակաբույսերի ցանքատարածությունների մոնիթորինգի իրականացմանն աջակցություն | E10: Համայնքների կողմից մշակաբույսերի և բազմամյա խոտաբույսերի մոնիթորինգի իրականացում, արդյունքների ամփոփում և համապատասխան տեղեկատվության ներկայացում | F10: Ծառայությունների մատուցում | G10: =+'Հավելված 2 '!G20 -> 32640 | H10: =+'Հավելված 2 '!H20 -> 16320 | I10: =+'Հավելված 2 '!I20 -> 0
C11: =+B9&"-"&'Հավելված 2 '!E29 -> 1059-12003 | D11: =+'Հավելված 2 '!F29 -> ՀՀ-ում գարնանացան, աշնանացան և կերային մշակաբույսերի մշակության հիմնական աշխատանքների համար կատարված ծախսերի մասնակի փոխհատուցման տրամադրում | E11: Մշակաբույսերի և բազմամյա խոտաբույսերի ցանքատարածությունների ընդլայնմանը նպաստելու նպատակով մշակության հիմնական աշխատանքների համար կատարված ծախսերի մասնակի փոխհատուցում | F11: Տրանսֆերտների տրամադրում | G11: =+'Հավելված 2 '!G29 -> 1088000 | H11: =+'Հավելված 2 '!H29 -> 544000 | I11: =+'Հավելված 2 '!I29 -> 0

Sheet Հավելված 4
A1: Հավելված 4 ՀՀ կառավարության 2026 թվականի ____________ի N _____-Ն որոշման
A2: ՀԱՅԱՍՏԱՆԻ ՀԱՆՐԱՊԵՏՈՒԹՅԱՆ ԿԱՌԱՎԱՐՈՒԹՅԱՆ 2025 ԹՎԱԿԱՆԻ ԴԵԿՏԵՄԲԵՐԻ 25-Ի N 1910-Ն ՈՐՈՇՄԱՆ NN 9 և 9.1 ՀԱՎԵԼՎԱԾՆԵՐՈՒՄ ԿԱՏԱՐՎՈՂ ՓՈՓՈԽՈՒԹՅՈՒՆՆԵՐԸ
L3: հազար դրամներով
A4: ԲԳԿ/ԲՍԿ | B4: Ծրագիր | D4: Միջոցառում | H4: Իրականացնողը/ ակտիվն օգտագործողը/ շահառուի ընտրության չափորոշիչը | I4: Արդյունքային չափորոշիչը | J4: Ցուցանիշների փոփոխությունները (ավելացումները նշված են դրական նշանով)
B5: Դասիչը | C5: Անվա-նումը | D5: Դասիչը | E5: Անվա-նումը | F5: Նկարագրու-թյունը | G5: Տեսակը | J5: Առաջին կիսամյակ | K5: Ինն ամիս | L5: Տարի
A6: ԸՆԴԱՄԵՆԸ | J6: =+J7 -> 1120640 | K6: =+K7 -> 560320 | L6: =+L7 -> 0
A7: ՀՀ էկոնոմիկայի նախարարություն | J7: =+J8 -> 1120640 | K7: =+K8 -> 560320 | L7: =+L8 -> 0
B8: 1059 | C8: Բուսաբուծության խթանում և բույսերի պաշտպանություն | J8: =+J9+J14 -> 1120640 | K8: =+K9+K14 -> 560320 | L8: =+L9+L14 -> 0
D9: 1059 - 11010 | E9: ՀՀ-ում գարնանացան, աշնանացան և կերային մշակաբույսերի ցանքատարածությունների մոնիթորինգի իրականացմանն աջակցություն | J9: =+'Հավելված 2 '!G20 -> 32640 | K9: =+'Հավելված 2 '!H20 -> 16320 | L9: =+'Հավելված 2 '!I20 -> 0
F10: Համայնքների կողմից մշակաբույսերի և բազմամյա խոտաբույսերի մոնիթորինգի իրականացում, արդյունքների ամփոփում և համապատասխան տեղեկատվության ներկայացում
G11: Ծառայությունների մատուցում
H12: Ծառայությունը մատուցողի անվանումը` ՀՀ համայնքներ՛ ընտրված համաձայն՛ ՀՀ կառավարության 2025թ. մարտի 27-ի 356-Լ որոշմամբ հաստատված ծրագրի
I13: Աշնանացան ցորենի մոնիթորինգի ենթարկված ցանքատարածություններ, հա | J13: 13600
D14: 1059 - 12003 | E14: ՀՀ-ում գարնանացան, աշնանացան և կերային մշակաբույսերի մշակության հիմնական աշխատանքների համար կատարված ծախսերի մասնակի փոխհատուցման տրամադրում | J14: =+'Հավելված 3'!G11 -> 1088000 | K14: =+'Հավելված 3'!H11 -> 544000 | L14: =+'Հավելված 3'!I11 -> 0
F15: Մշակաբույսերի և բազմամյա խոտաբույսերի ցանքատարածությունների ընդլայնմանը նպաստելու նպատակով մշակության հիմնական աշխատանքների համար կատարված ծախսերի մասնակի փոխհատուցում
G16: Տրանսֆերտների տրամադրում
H17: Շահառուների ընտրության չափորոշիչները` Գյուղատնտեսությունում տնտեսավարողներ՛ ընտրված համաձայն ՀՀ կառավարության 2025 թ. մարտի 27-ի N 356-Լ որոշմամբ հաստատված ծրագրի
I18: Աշնանացան ցորենի ցանքատարածությունների ավելացում, հա | J18: 13600
