Workbook

Sheet 1
F2: Հավելված N 1
F3: ՀՀ կառավարության 2026 թվականի
F4: -----------------ի N -----------Ն որոշման
A6: «ՀԱՅԱՍՏԱՆԻ ՀԱՆՐԱՊԵՏՈՒԹՅԱՆ 2026 ԹՎԱԿԱՆԻ ՊԵՏԱԿԱՆ ԲՅՈՒՋԵԻ ՄԱՍԻՆ» ՀՀ ՕՐԵՆՔԻ N 1 ՀԱՎԵԼՎԱԾԻ N 2 ԱՂՅՈՒՍԱԿՈՒՄ ԿԱՏԱՐՎՈՂ ՎԵՐԱԲԱՇԽՈՒՄ, ԼՐԱՑՈՒՄԸ ԵՎ ՀԱՅԱՍՏԱՆԻ ՀԱՆՐԱՊԵՏՈՒԹՅԱՆ ԿԱՌԱՎԱՐՈՒԹՅԱՆ 2025 ԹՎԱԿԱՆԻ ԴԵԿՏԵՄԲԵՐԻ 25-Ի N 1910-Ն ՈՐՈՇՄԱՆ N 5 ՀԱՎԵԼՎԱԾԻ N1 ԱՂՅՈՒՍԱԿՈՒՄ ԿԱՏԱՐՎՈՂ ՓՈՓՈԽՈՒԹՅՈՒՆՆԵՐԸ ԵՎ ԼՐԱՑՈՒՄՆԵՐԸ
H9: հազար դրամներով
A10: ԲԳԿ | B10: Ծրագրային դասիչը | D10: ԲԳԿ/Ծրագրի /միջոցառման անվանումը | E10: Ծրագրի նպատակը/Միջոցառման նկարագրությունը | F10: Վերջնական արդյունքի նկարագրությունը/Միջոցառման տեսակը | G10: Ցուցանիշների փոփոխությունը (ավելացումները նշված են դրական նշանով, իսկ նվազեցումները՝ փակագծերում)
B11: Ծրագիր | C11: Միջոցառում | G11: Առաջին կիսամյակ | H11: Ինն ամիս | I11: Տարի
A12: ԸՆԴԱՄԵՆԸ | G12: =+G13+G17 -> 0 | H12: =+H13+H17 -> 0 | I12: =+I13+I17 -> 0
A13: ՀՀ բարձր տեխնոլոգիական արդյունաբերության նախարարություն | G13: =+G14 -> 0 | H13: =+H14 -> 0 | I13: =+I14 -> 0
B14: 1235 | D14: Թվային փոխակերպման գործընթացի իրականացում | E14: Պետական մարմինների կողմից իրականացվող թվային փոխակերպման միջոցառումների ֆինանսավորում | F14: Թվային ծառայությունների և համակարգերի ներդրում | G14: =+G15+G16 -> 0 | H14: =+H15+H16 -> 0 | I14: =+I15+I16 -> 0
C15: 1235 - 31001 | D15: Միասնական թվային միջավայրի ձևավորում | E15: Թվային փոխակերպման գործընթացի շրջանակներում թվայնացման համակարգերի ներդրում և կայքերի արդիականացում | F15: Պետական մարմինների կողմից օգտագործվող ոչ ֆինանսական ակտիվների հետ գործառնություններ | G15: -500000 | H15: -500000 | I15: -500000
C16: 1235 - 11008 | D16: Թվային գործիքների ստեղծում | E16: Թվային փոխակերպման գործընթացի շրջանակներում թվայնացման համակարգերի ներդրում և կայքերի արդիականացում | F16: Ծառայությունների մատուցում | G16: 500000 | H16: 500000 | I16: 500000
A17: ՀՀ կառավարություն | G17: =G18 -> 0 | H17: =H18 -> 0 | I17: =I18 -> 0
B18: 1139 | D18: ՀՀ կառավարության պահուստային ֆոնդ | E18: Պետական բյուջեում չկանխատեսված, ինչպես նաեւ բյուջետային երաշխիքների ապահովման ծախսերի ֆինանսավորման ապահովում | F18: Պահուստային ֆոնդի կառավարման արդյունավետության և թափանցիկության ապահովում | G18: =G19+G20 -> 0 | H18: =H19+H20 -> 0 | I18: =I19+I20 -> 0
C19: 1139 - 11001 | D19: ՀՀ կառավարության պահուստային ֆոնդ | E19: ՀՀ պետական բյուջեում նախատեսված ելքերի լրացուցիչ ֆինանսավորման, պետական բյուջեում չկանխատեսված ելքերի, ինչպես նաև բյուջետային երաշխիքների ապահովման ելքերի ֆինանսավորման ապահովում | F19: Ծառայությունների մատուցում | G19: 500000 | H19: 500000 | I19: 500000
C20: 1139 - 11001 | D20: ՀՀ կառավարության պահուստային ֆոնդ | E20: ՀՀ պետական բյուջեում նախատեսված ելքերի լրացուցիչ ֆինանսավորման, պետական բյուջեում չկանխատեսված ելքերի, ինչպես նաև բյուջետային երաշխիքների ապահովման ելքերի ֆինանսավորման ապահովում | F20: Ծառայությունների մատուցում | G20: -500000 | H20: -500000 | I20: -500000

Sheet 2
G1: Հավելված N 2
H2: ՀՀ կառավարության 2026 թվականի
F3: -----------------ի N -----------Ն որոշման
A6: «ՀԱՅԱՍՏԱՆԻ ՀԱՆՐԱՊԵՏՈՒԹՅԱՆ 2026 ԹՎԱԿԱՆԻ ՊԵՏԱԿԱՆ ԲՅՈՒՋԵԻ ՄԱՍԻՆ» ՀՀ ՕՐԵՆՔԻ N 1 ՀԱՎԵԼՎԱԾԻ N 3 ԱՂՅՈՒՍԱԿՈՒՄ ԿԱՏԱՐՎՈՂ ՓՈՓՈԽՈՒԹՅՈՒՆԸ
G7: հազար դրամ
A8: Ծրագրային դասիչը | C8: Բյուջետային գլխավոր կարգադրիչների, ծրագրերի և միջոցառումների և ուղղությունների անվանումները | D8: Ընդամենը | E8: Ցուցանիշների փոփոխությունը ( նվազեցումները նշված են փակագծերում)
E9: այդ թվում
A10: Ծրագիր | B10: Միջոցառում | E10: Կառուցման աշխատանքներ | F10: Վերակառուցման, վերանորոգման և վերականգնման աշխատանքներ | G10: Նախագծահե- տազոտական, գեոդեզիա- քարտեզագրա- կան աշխա- տանքներ | H10: Ոչ ֆինանսական այլ ակտիվների ձեռքբերում
C11: Ընդամենը | D11: =+D13 -> -500000 | G11: =+G13 -> 0 | H11: =+H13 -> -500000
C12: այդ թվում`
C13: ՀՀ բարձր տեխնոլոգիական արդյունաբերության նախարարություն | D13: =+D15 -> -500000 | F13: =+F15 -> 0 | G13: =+G15 -> 0 | H13: =+H15 -> -500000
C14: այդ թվում՝
A15: 1235 | B15: 31001 | C15: Միասնական թվային միջավայրի ձևավորում | D15: =+E15+F15+G15+H15 -> -500000 | F15: 0 | G15: 0 | H15: -500000

Sheet 3
I1: Հավելված N 3
F2: ՀՀ կառավարության 2026 թվականի
F3: -----------------ի N -----------Ն որոշման
A5: ՀԱՅԱՍՏԱՆԻ ՀԱՆՐԱՊԵՏՈՒԹՅԱՆ ԿԱՌԱՎԱՐՈՒԹՅԱՆ 2025 ԹՎԱԿԱՆԻ ԴԵԿՏԵՄԲԵՐԻ 25-Ի N 1910-Ն ՈՐՈՇՄԱՆ N N 3 ԵՎ 4 ՀԱՎԵԼՎԱԾՆԵՐՈՒՄ ԿԱՏԱՐՎՈՂ ՓՈՓՈԽՈՒԹՅՈՒՆՆԵՐԸ ԵՎ ԼՐԱՑՈՒՄՆԵՐԸ
H6: հազար դրամներով
A7: Գործառական դասիչը | D7: Ծրագրային դասիչը | F7: Բյուջետային ծախսերի գործառական դասակարգման բաժինների, խմբերի և դասերի, բյուջետային ծրագրերի միջոցառումների, բյուջետային հատկացումների գլխավոր կարգադրիչների անվանումները | G7: Ցուցանիշների փոփոխությունները ավելացումները նշված են դրական նշանով, իսկ նվազեցումները՝ փակագծերում
A8: Բաժինը | B8: Խումբը | C8: Դասը | D8: Ծրագիր | E8: Միջոցառում | G8: Առաջին կիսամյակ | H8: Ինն ամիս | I8: Տարի
F9: ԸՆԴԱՄԵՆԸ ԾԱԽՍԵՐ | G9: =G11+G41 -> 0 | H9: =H11+H41 -> 0 | I9: =I11+I41 -> 0
F10: այդ թվում`
F11: ՀՀ բարձր տեխնոլոգիական արդյունաբերության նախարարություն | G11: =G13 -> 0 | H11: =H13 -> 0 | I11: =I13 -> 0
F12: այդ թվում՝
A13: 01 | F13: ԸՆԴՀԱՆՈՒՐ ԲՆՈՒՅԹԻ ՀԱՆՐԱՅԻՆ ԾԱՌԱՅՈՒԹՅՈՒՆՆԵՐ | G13: =G15 -> 0 | H13: =H15 -> 0 | I13: =I15 -> 0
F14: այդ թվում՝
B15: 03 | F15: Ընդհանուր բնույթի ծառայություններ | G15: =G17 -> 0 | H15: =H17 -> 0 | I15: =I17 -> 0
F16: այդ թվում՝
C17: 02 | F17: Ծրագրման և վիճակագրական ընդհանուր ծառայություններ | G17: =G19 -> 0 | H17: =H19 -> 0 | I17: =I19 -> 0
F18: այդ թվում՝
F19: ՀՀ բարձր տեխնոլոգիական արդյունաբերության նախարարություն | G19: =G21 -> 0 | H19: =H21 -> 0 | I19: =I21 -> 0
F20: այդ թվում՝
D21: 1235 | F21: Թվային փոխակերպման գործընթացի իրականացում | G21: =G23+G32 -> 0 | H21: =H23+H32 -> 0 | I21: =I23+I32 -> 0
F22: այդ թվում՝
E23: 31001 | F23: Միասնական թվային միջավայրի ձևավորում | G23: =G25 -> -500000 | H23: =H25 -> -500000 | I23: =I25 -> -500000
F24: այդ թվում` ըստ կատարողների
F25: ՀՀ կառավարություն | G25: =G27 -> -500000 | H25: =H27 -> -500000 | I25: =I27 -> -500000
F26: այդ թվում` բյուջետային ծախսերի տնտեսագիտական դասակարգման հոդվածներ
F27: ԸՆԴԱՄԵՆԸ ԾԱԽՍԵՐ | G27: =G28 -> -500000 | H27: =H28 -> -500000 | I27: =I28 -> -500000
F28: ՈՉ ՖԻՆԱՆՍԱԿԱՆ ԱԿՏԻՎՆԵՐԻ ԳԾՈՎ ԾԱԽՍԵՐ | G28: =G29 -> -500000 | H28: =H29 -> -500000 | I28: =I29 -> -500000
F29: ՀԻՄՆԱԿԱՆ ՄԻՋՈՑՆԵՐ | G29: =G30 -> -500000 | H29: =H30 -> -500000 | I29: =I30 -> -500000
F30: ԱՅԼ ՀԻՄՆԱԿԱՆ ՄԻՋՈՑՆԵՐ | G30: =G31 -> -500000 | H30: =H31 -> -500000 | I30: =I31 -> -500000
F31: - Ոչ նյութական հիմնական միջոցներ | G31: -500000 | H31: =G31 -> -500000 | I31: =H31 -> -500000
E32: 11008 | F32: ='1'!D16 -> Թվային գործիքների ստեղծում | G32: =G34 -> 500000 | H32: =H34 -> 500000 | I32: =I34 -> 500000
F33: այդ թվում` ըստ կատարողների
F34: ՀՀ աշխատանքի և սոցիալական հարցերի նախարարություն | G34: =G36 -> 500000 | H34: =H36 -> 500000 | I34: =I36 -> 500000
F35: այդ թվում` բյուջետային ծախսերի տնտեսագիտական դասակարգման հոդվածներ
F36: ԸՆԴԱՄԵՆԸ ԾԱԽՍԵՐ | G36: =G37 -> 500000 | H36: =H37 -> 500000 | I36: =I37 -> 500000
F37: ԸՆԹԱՑԻԿ ԾԱԽՍԵՐ | G37: =G38 -> 500000 | H37: =H38 -> 500000 | I37: =I38 -> 500000
F38: ԴՐԱՄԱՇՆՈՐՀՆԵՐ | G38: =G39 -> 500000 | H38: =H39 -> 500000 | I38: =I39 -> 500000
F39: ԿԱՊԻՏԱԼԴՐԱՄԱՇՆՈՐՀՆԵՐ ՊԵՏԱԿԱՆ ՀԱՏՎԱԾԻ ԱՅԼ ՄԱԿԱՐԴԱԿՆԵՐԻՆ | G39: =G40 -> 500000 | H39: =H40 -> 500000 | I39: =I40 -> 500000
F40: - Այլ կապիտալ դրամաշնորհներ | G40: 500000 | H40: 500000 | I40: 500000
F41: ՀՀ կառավարություն | G41: =G42 -> 0 | H41: =H42 -> 0 | I41: =I42 -> 0
A42: 11 | F42: ՀԻՄՆԱԿԱՆ ԲԱԺԻՆՆԵՐԻՆ ՉԴԱՍՎՈՂ ՊԱՀՈՒՍՏԱՅԻՆ ՖՈՆԴԵՐ | G42: =G44 -> 0 | H42: =H44 -> 0 | I42: =I44 -> 0
F43: այդ թվում`
B44: 01 | F44: ՀՀ կառավարության և համայնքների պահուստային ֆոնդ | G44: =G46 -> 0 | H44: =H46 -> 0 | I44: =I46 -> 0
F45: այդ թվում`
C46: 01 | F46: ՀՀ կառավարության պահուստային ֆոնդ | G46: =G48 -> 0 | H46: =H48 -> 0 | I46: =I48 -> 0
F47: այդ թվում`
F48: ՀՀ կառավարություն | G48: =G50 -> 0 | H48: =H50 -> 0 | I48: =I50 -> 0
F49: այդ թվում`
D50: 1139 | F50: ՀՀ կառավարության պահուստային ֆոնդ | G50: =G52+G60 -> 0 | H50: =H52+H60 -> 0 | I50: =I52+I60 -> 0
F51: այդ թվում՝
E52: 11001 | F52: ՀՀ կառավարության պահուստային ֆոնդ | G52: =G54 -> 500000 | H52: =H54 -> 500000 | I52: =I54 -> 500000
F53: այդ թվում՝ ըստ կատարողների
F54: ՀՀ կառավարություն | G54: =G56 -> 500000 | H54: =H56 -> 500000 | I54: =I56 -> 500000
F55: այդ թվում՝ բյուջետային ծախսերի տնտեսագիտական դասակարգման հոդվածներ
F56: ԸՆԴԱՄԵՆԸ ԾԱԽՍԵՐ | G56: =G57 -> 500000 | H56: =H57 -> 500000 | I56: =I57 -> 500000
F57: ԸՆԹԱՑԻԿ ԾԱԽՍԵՐ | G57: =G58 -> 500000 | H57: =H58 -> 500000 | I57: =I58 -> 500000
F58: ԱՅԼ ԾԱԽՍԵՐ | G58: =G59 -> 500000 | H58: =H59 -> 500000 | I58: =I59 -> 500000
F59: - Պահուստային միջոցներ | G59: ='1'!G19 -> 500000 | H59: ='1'!H19 -> 500000 | I59: ='1'!I19 -> 500000
E60: 11001 | F60: ՀՀ կառավարության պահուստային ֆոնդ | G60: =G62 -> -500000 | H60: =H62 -> -500000 | I60: =I62 -> -500000
F61: այդ թվում՝ ըստ կատարողների
F62: ՀՀ կառավարություն | G62: =G64 -> -500000 | H62: =H64 -> -500000 | I62: =I64 -> -500000
F63: այդ թվում՝ բյուջետային ծախսերի տնտեսագիտական դասակարգման հոդվածներ
F64: ԸՆԴԱՄԵՆԸ ԾԱԽՍԵՐ | G64: =G65 -> -500000 | H64: =H65 -> -500000 | I64: =I65 -> -500000
F65: ԸՆԹԱՑԻԿ ԾԱԽՍԵՐ | G65: =G66 -> -500000 | H65: =H66 -> -500000 | I65: =I66 -> -500000
F66: ԱՅԼ ԾԱԽՍԵՐ | G66: =G67 -> -500000 | H66: =H67 -> -500000 | I66: =I67 -> -500000
F67: - Պահուստային միջոցներ | G67: ='1'!G20 -> -500000 | H67: ='1'!H20 -> -500000 | I67: ='1'!I20 -> -500000

Sheet 4
C1: Հավելված N 4
C2: ՀՀ կառավարության 2026 թվականի
C3: -----------------ի N -----------Ն որոշման
A4: ՀԱՅԱՍՏԱՆԻ ՀԱՆՐԱՊԵՏՈՒԹՅԱՆ ԿԱՌԱՎԱՐՈՒԹՅԱՆ 2025 ԹՎԱԿԱՆԻ ԴԵԿՏԵՄԲԵՐԻ 25-Ի N 1910-Ն ՈՐՈՇՄԱՆ N 5 ՀԱՎԵԼՎԱԾԻ N2 ԱՂՅՈՒՍԱԿՈՒՄ ԿԱՏԱՐՎՈՂ ՓՈՓՈԽՈՒԹՅՈՒՆՆԵՐԸ
E5: հազար դրամներով
A6: Ծրագրային դասիչ | C6: Բյուջետային գլխավոր կարգադրիչների, ծրագրերի, միջոցառումների և ուղղությունների անվանումները | D6: Ցուցանիշների փոփոխությունը (ավելացումները նշված են դրական նշանով, իսկ նվազեցումները՝ փակագծերում)
A7: Ծրագիր | B7: Միջոց առում | D7: Առաջին կիսամյակ | E7: Ինն ամիս | F7: Տարի
C8: ՀՀ բարձր տեխնոլոգիական արդյունաբերության նախարարություն | D8: =+D10 -> -500000 | E8: =+E10 -> -500000 | F8: =+F10 -> -500000
C9: այդ թվում՛
A10: 1235 | B10: 31001 | C10: Միասնական թվային միջավայրի ձևավորում | D10: =D12 -> -500000 | E10: =E12 -> -500000 | F10: =F12 -> -500000
C11: այդ թվում` ըստ կատարողների
C12: ՀՀ կառավարություն | D12: -500000 | E12: -500000 | F12: -500000

Sheet 5
C1: Հավելված N 5
C2: ՀՀ կառավարության 2026 թվականի
D3: -----------------ի N -----------Ն որոշման
A4: ՀԱՅԱՍՏԱՆԻ ՀԱՆՐԱՊԵՏՈՒԹՅԱՆ ԿԱՌԱՎԱՐՈՒԹՅԱՆ 2025 ԹՎԱԿԱՆԻ ԴԵԿՏԵՄԲԵՐԻ 25-Ի N 1910-Ն ՈՐՈՇՄԱՆ N 5 ՀԱՎԵԼՎԱԾԻ N7 ԱՂՅՈՒՍԱԿՈՒՄ ԿԱՏԱՐՎՈՂ ԼՐԱՑՈՒՄՆԵՐԸ
E5: հազար դրամներով
A6: Ծրագրային դասիչ | C6: Բյուջետային գլխավոր կարգադրիչների, ծրագրերի, միջոցառումների և ուղղությունների անվանումները | D6: Միջոցառումները կատարող պետական մարմինների և դրամաշնորհ ստացող տնտեսվարող սուբյեկտների անվանումները | E6: Տարի
A7: Ծրագիր | B7: Միջոց առում
C9: ՀՀ բարձր տեխնոլոգիական արդյունաբերության նախարարություն | E9: =+E10 -> 500000
A10: 1235 | C10: ='3'!F21 -> Թվային փոխակերպման գործընթացի իրականացում | E10: =E11 -> 500000
B11: 11008 | C11: =+'1'!D16 -> Թվային գործիքների ստեղծում | D11: ՀՀ աշխատանքի և սոցիալական հարցերի նախարարություն | E11: =E12 -> 500000
D12: ««ՈՒԱՅԶ» Բարեկեցության տեղեկատվական համակարգերի ձեռնարկություն» հիմնադրամ | E12: 500000

Sheet 6
L1: Հավելված N6
L2: ՀՀ կառավարության 2026 թվականի
L3: -----------------ի N -----------Ն որոշման
A6: ՀԱՅԱՍՏԱՆԻ ՀԱՆՐԱՊԵՏՈՒԹՅԱՆ ԿԱՌԱՎԱՐՈՒԹՅԱՆ 2025 ԹՎԱԿԱՆԻ ԴԵԿՏԵՄԲԵՐԻ 25-Ի N 1910-Ն ՈՐՈՇՄԱՆ N 9 ՀԱՎԵԼՎԱԾՈՒՄ ԿԱՏԱՐՎՈՂ ՓՈՓՈԽՈՒԹՅՈՒՆՆԵՐԸ ԵՎ ԼՐԱՑՈՒՄՆԵՐԸ
K8: հազար դրամներով
A9: ԲԳԿ | B9: Ծրագիր | D9: Միջոցառում | H9: Իրականացնողը/ ակտիվն օգտագործողը/ շահառուի ընտրության չափորոշիչը | I9: Արդյունքային չափորոշիչը | J9: Ցուցանիշների փոփոխությունները ավելացումները նշված են դրական նշանով, իսկ նվազեցումները՝ փակագծերում
B10: Դասիչը | C10: Անվանումը | D10: Դասիչը | E10: Անվանումը | F10: Նկարագրությունը | G10: Տեսակը | J10: Առաջին կիսամյակ | K10: Ինն ամիս | L10: Տարի
A11: ԸՆԴԱՄԵՆԸ | J11: =J12+J23 -> 0 | K11: =K12+K23 -> 0 | L11: =L12+L23 -> 0
A12: ՀՀ բարձր տեխնոլոգիական արդյունաբերության նախարարություն | J12: =J13 -> 0 | K12: =K13 -> 0 | L12: =L13 -> 0
B13: 1235 | C13: Թվային փոխակերպման գործընթացի իրականացում | J13: =J14+J18 -> 0 | K13: =K14+K18 -> 0 | L13: =L14+L18 -> 0
D14: 1235 - 31001 | E14: Միասնական թվային միջավայրի ձևավորում | J14: ='3'!G31 -> -500000 | K14: ='3'!H31 -> -500000 | L14: ='3'!I31 -> -500000
F15: Թվային փոխակերպման գործընթացի շրջանակներում թվայնացման համակարգերի ներդրում և կայքերի արդիականացում
G16: Պետական մարմինների կողմից օգտագործվող ոչ ֆինանսական ակտիվների հետ գործառնություններ
H17: Ակտիվն օգտագործող կազմակերպության անվանումը` Հանրային իշխանության մարմիններ
D18: 1235 - 11008 | E18: ='1'!D16 -> Թվային գործիքների ստեղծում | J18: ='3'!G38 -> 500000 | K18: ='3'!H38 -> 500000 | L18: ='3'!I38 -> 500000
F19: Թվային փոխակերպման գործընթացի շրջանակներում թվայնացման համակարգերի ներդրում և կայքերի արդիականացում
G20: ='1'!F14 -> Թվային ծառայությունների և համակարգերի ներդրում
H21: Ակտիվն օգտագործող կազմակերպության անվանումը` Մասնագիտացված կազմակերպություն
I22: Թվայնացվող ծրագրերի քանակ, հատ | J22: 5 | L22: 5
A23: ՀՀ կառավարություն | J23: =J24 -> 0 | K23: =K24 -> 0 | L23: =L24 -> 0
B24: 1139 | C24: ՀՀ կառավարության պահուստային ֆոնդ | J24: =J25+J29 -> 0 | K24: =K25+K29 -> 0 | L24: =L25+L29 -> 0
D25: 1139 - 11001 | E25: ՀՀ կառավարության պահուստային ֆոնդ | J25: ='1'!G19 -> 500000 | K25: ='1'!H19 -> 500000 | L25: ='1'!I19 -> 500000
F26: ՀՀ պետական բյուջեում նախատեսված ելքերի լրացուցիչ ֆինանսավորման, պետական բյուջեում չկանխատեսված ելքերի, ինչպես նաև բյուջետային երաշխիքների ապահովման ելքերի ֆինանսավորման ապահովում
G27: Ծառայությունների մատուցում
H28: Ծառայությունը մատուցողի անվանումը` ՀՀ կառավարություն
D29: 1139 - 11001 | E29: ՀՀ կառավարության պահուստային ֆոնդ | J29: ='1'!G20 -> -500000 | K29: ='1'!H20 -> -500000 | L29: ='1'!I20 -> -500000
F30: ՀՀ պետական բյուջեում նախատեսված ելքերի լրացուցիչ ֆինանսավորման, պետական բյուջեում չկանխատեսված ելքերի, ինչպես նաև բյուջետային երաշխիքների ապահովման ելքերի ֆինանսավորման ապահովում
G31: Ծառայությունների մատուցում
H32: Ծառայությունը մատուցողի անվանումը` ՀՀ կառավարություն

Sheet 7
L1: Հավելված N7
L2: ՀՀ կառավարության 2026 թվականի
L3: -----------------ի N -----------Ն որոշման
A6: ՀԱՅԱՍՏԱՆԻ ՀԱՆՐԱՊԵՏՈՒԹՅԱՆ ԿԱՌԱՎԱՐՈՒԹՅԱՆ 2025 ԹՎԱԿԱՆԻ ԴԵԿՏԵՄԲԵՐԻ 25-Ի N 1910-Ն ՈՐՈՇՄԱՆ N 9.1 ՀԱՎԵԼՎԱԾՈՒՄ ԿԱՏԱՐՎՈՂ ՓՈՓՈԽՈՒԹՅՈՒՆՆԵՐԸ ԵՎ ԼՐԱՑՈՒՄՆԵՐԸ
K8: հազար դրամներով
A9: ԲՍԿ | B9: Ծրագիր | D9: Միջոցառում | H9: Իրականացնողը/ ակտիվն օգտագործողը/ շահառուի ընտրության չափորոշիչը | I9: Արդյունքային չափորոշիչը | J9: Ցուցանիշների փոփոխությունները ավելացումները նշված են դրական նշանով, իսկ նվազեցումները՝ փակագծերում
B10: Դասիչը | C10: Անվանումը | D10: Դասիչը | E10: Անվանումը | F10: Նկարագրությունը | G10: Տեսակը | J10: Առաջին կիսամյակ | K10: Ինն ամիս | L10: Տարի
A11: ԸՆԴԱՄԵՆԸ | J11: =J12+J19 -> 0 | K11: =K12+K19 -> 0 | L11: =L12+L19 -> 0
A12: ՀՀ բարձր տեխնոլոգիական արդյունաբերության նախարարություն | J12: =J13 -> -500000 | K12: =K13 -> -500000 | L12: =L13 -> -500000
B13: 1235 | C13: Թվային փոխակերպման գործընթացի իրականացում | J13: =J14 -> -500000 | K13: =K14 -> -500000 | L13: =L14 -> -500000
D14: 1235 - 31001 | E14: Միասնական թվային միջավայրի ձևավորում | J14: ='3'!G31 -> -500000 | K14: ='3'!H31 -> -500000 | L14: ='3'!I31 -> -500000
F15: Թվային փոխակերպման գործընթացի շրջանակներում թվայնացման համակարգերի ներդրում և կայքերի արդիականացում
G16: Պետական մարմինների կողմից օգտագործվող ոչ ֆինանսական ակտիվների հետ գործառնություններ
H17: Ակտիվն օգտագործող կազմակերպության անվանումը` Հանրային իշխանության մարմիններ
A19: ՀՀ աշխատանքի և սոցիալական հարցերի նախարարություն | J19: =J20 -> 500000 | K19: =K20 -> 500000 | L19: =L20 -> 500000
B20: 1235 | C20: Թվային փոխակերպման գործընթացի իրականացում | J20: =J21 -> 500000 | K20: =K21 -> 500000 | L20: =L21 -> 500000
D21: ='1'!C16 -> 1235 - 11008 | E21: ='1'!D16 -> Թվային գործիքների ստեղծում | J21: ='3'!G40 -> 500000 | K21: =J21 -> 500000 | L21: =K21 -> 500000
F22: Թվային փոխակերպման գործընթացի շրջանակներում թվայնացման համակարգերի ներդրում և կայքերի արդիականացում
G23: ='1'!F16 -> Ծառայությունների մատուցում
H24: Ակտիվն օգտագործող կազմակերպության անվանումը` Մասնագիտացված կազմակերպություն
I25: Թվայնացվող ծրագրերի քանակ, հատ | J25: 5 | L25: 5
A26: ՀՀ կառավարություն | J26: ='6'!J23 -> 0 | K26: ='6'!K23 -> 0 | L26: ='6'!L23 -> 0
B27: 1139 | C27: ՀՀ կառավարության պահուստային ֆոնդ | J27: ='6'!J24 -> 0 | K27: ='6'!K24 -> 0 | L27: ='6'!L24 -> 0
D28: 1139 - 11001 | E28: ՀՀ կառավարության պահուստային ֆոնդ | J28: ='6'!J25 -> 500000 | K28: ='6'!K25 -> 500000 | L28: ='6'!L25 -> 500000
F29: ՀՀ պետական բյուջեում նախատեսված ելքերի լրացուցիչ ֆինանսավորման, պետական բյուջեում չկանխատեսված ելքերի, ինչպես նաև բյուջետային երաշխիքների ապահովման ելքերի ֆինանսավորման ապահովում
G30: Ծառայությունների մատուցում
H31: Ծառայությունը մատուցողի անվանումը` ՀՀ կառավարություն
D32: 1139 - 11001 | E32: ՀՀ կառավարության պահուստային ֆոնդ | J32: ='6'!J29 -> -500000 | K32: ='6'!K29 -> -500000 | L32: ='6'!L29 -> -500000
F33: ՀՀ պետական բյուջեում նախատեսված ելքերի լրացուցիչ ֆինանսավորման, պետական բյուջեում չկանխատեսված ելքերի, ինչպես նաև բյուջետային երաշխիքների ապահովման ելքերի ֆինանսավորման ապահովում
G34: Ծառայությունների մատուցում
H35: Ծառայությունը մատուցողի անվանումը` ՀՀ կառավարություն
