Workbook
Name \A: #REF!
Name _tab10: #REF!
Name _tab10: #REF!
Name _tab11: #REF!
Name _tab12: #REF!
Name _tab13: #REF!
Name _tab14: #REF!
Name _tab15: #REF!
Name _tab16: #REF!
Name _tab17: #REF!
Name _tab18: #REF!
Name _tab19: #REF!
Name _tab20: #REF!
Name _tab21: #REF!
Name _tab22: #REF!
Name _tab23: #REF!
Name _tab24: #REF!
Name _tab5: #REF!
Name _tab6: #REF!
Name _tab7: #REF!
Name _tab8: #REF!
Name _tab9: #REF!
Name aaa: #REF!
Name aaaa: #REF!
Name aaaaa: #REF!
Name AgencyCode: #REF!
Name AgencyCode: #REF!
Name AgencyName: #REF!
Name alis: #REF!
Name alisa: #REF!
Name als: #REF!
Name ampop_krchat: #REF!
Name Armata: #REF!
Name asd: #REF!
Name åû: #REF!
Name BOP: #REF!
Name BOPfoot: #REF!
Name davit: #REF!
Name DebtCG: '[1]Fis-Debt'!#REF!
Name DebtGG: #REF!
Name fff: #REF!
Name Functional1: #REF!
Name ggg: #REF!
Name h: #REF!
Name Hav: #REF!,#REF!
Name havelvac: #REF!
Name mas: #REF!
Name mass: #REF!
Name MonExo: #REF!
Name MonGrow: [2]BM!#REF!
Name PANature: #REF!
Name PANature: #REF!
Name par_count: #REF!,#REF!,#REF!,#REF!,#REF!,#REF!,#REF!,#REF!,#REF!,#REF!,#REF!,#REF!,#REF!,#REF!,#REF!
Name par_count: #REF!,#REF!,#REF!,#REF!,#REF!,#REF!,#REF!,#REF!,#REF!,#REF!,#REF!,#REF!,#REF!,#REF!,#REF!
Name par_qual: #REF!,#REF!,#REF!,#REF!,#REF!
Name par_qual: #REF!,#REF!,#REF!,#REF!,#REF!
Name par_time: #REF!,#REF!,#REF!,#REF!
Name par_time: #REF!,#REF!,#REF!,#REF!
Name par2.12s: #REF!
Name par2.12s: #REF!

Sheet Հավելված 1
A1: Հավելված N 1 ՀՀ կառավարության 2026 թվականի ––-------------------–––––––– N –––––– որոշման
A3: ՀԱՅԱUՏԱՆԻ ՀԱՆՐԱՊԵՏՈՒԹՅԱՆ ԿԱՌԱՎԱՐՈՒԹՅԱՆ 2025 ԹՎԱԿԱՆԻ ԴԵԿՏԵՄԲԵՐԻ 25-Ի N 1910-Ն ՈՐՈՇՄԱՆ N 1 ՀԱՎԵԼՎԱԾԻ N 1 ԱՂՅՈՒՍԱԿՈՒՄ ԿԱՏԱՐՎՈՂ ՓՈՓՈԽՈՒԹՅՈՒՆՆԵՐԸ
C4: հազար դրամներով
A5: Պետական բյուջեի դեֆիցիտի ֆինանսավորման աղբյուրներն ու դրանց տարրերի անվանումները | B5: Ցուցանիշների փոփոխությունը (ավելացումները նշված են դրական նշանով)
B6: Առաջին կիսամյակ | C6: Ինն ամիս | D6: Տարի
A7: ԸՆԴԱՄԵՆԸ | B7: =+B9 -> 100757.5 | C7: =+C9 -> 0 | D7: =+D9 -> 0
A8: այդ թվում՝
A9: Ա.Ներքին աղբյուրներ-ընդամենը | B9: =+B11 -> 100757.5 | C9: =+C11 -> 0 | D9: =+D11 -> 0
A10: այդ թվում՝
A11: 2. Ֆինանսական զուտ ակտիվներ | B11: =+B12 -> 100757.5 | C11: =+C12 -> 0 | D11: =+D12 -> 0
A12: 2.6.Այլ | B12: =+B13 -> 100757.5 | C12: =+C13 -> 0 | D12: =+D13 -> 0
A13: ժամանակավորապես ազատ միջոցներ | B13: =+'Հավելված 2'!G7 -> 100757.5 | C13: =+'Հավելված 2'!H7 -> 0 | D13: =+'Հավելված 2'!I7 -> 0

Sheet Հավելված 2
A1: Հավելված N 2 ՀՀ կառավարության 2026 թվականի ____________ի N _____-Ն որոշման
A3: «ՀԱՅԱՍՏԱՆԻ ՀԱՆՐԱՊԵՏՈՒԹՅԱՆ 2026 ԹՎԱԿԱՆԻ ՊԵՏԱԿԱՆ ԲՅՈՒՋԵԻ ՄԱՍԻՆ» ՕՐԵՆՔԻ N 1 ՀԱՎԵԼՎԱԾԻ N 2 ԱՂՅՈՒՍԱԿՈՒՄ ԿԱՏԱՐՎՈՂ ՎԵՐԱԲԱՇԽՈՒՄԸ ԵՎ ԼՐԱՑՈՒՄԸ, ՀԱՅԱՍՏԱՆԻ ՀԱՆՐԱՊԵՏՈՒԹՅԱՆ ԿԱՌԱՎԱՐՈՒԹՅԱՆ 2025 ԹՎԱԿԱՆԻ ԴԵԿՏԵՄԲԵՐԻ 25-Ի N 1910-Ն ՈՐՈՇՄԱՆ N 5 ՀԱՎԵԼՎԱԾԻ N 1 ԱՂՅՈՒՍԱԿՈՒՄ ԿԱՏԱՐՎՈՂ ՓՈՓՈԽՈՒԹՅՈՒՆՆԵՐԸ ԵՎ ԼՐԱՑՈՒՄԸ
H4: հազար դրամներով
A5: ԲԳԿ | B5: Ծրագրային դասիչը | D5: ԲԳԿ/Ծրագրի /միջոցառման անվանումը | E5: Ծրագրի նպատակը/Միջոցառման նկարագրությունը | F5: Վերջնական արդյունքի նկարագրությունը/Միջոցառման տեսակը | G5: Ցուցանիշների փոփոխությունները (ավելացումները նշված են դրական նշանով, նվազեցումները՝ փակագծերում)
B6: Ծրագիր | C6: Միջոցառում | G6: Առաջին կիսամյակ | H6: Ինն ամիս | I6: Տարի
A7: ԸՆԴԱՄԵՆԸ | G7: =+G8+G12 -> 100757.5 | H7: =+H8+H12 -> 0 | I7: =+I8+I12 -> 0
A8: ՀՀ էկոնոմիկայի նախարարություն | G8: =+G9 -> 100757.5 | H8: =+H9 -> 0 | I8: =+I9 -> 0
B9: 1022 | D9: Գյուղատնտեսության խթանման ծրագիր | E9: Գյուղատնտեսական մթերքի և դրանց վերամշակումից ստացվող սննդամթերքի ծավալների ավելացում | F9: Գյուղատնտեսական մթերքների ծավալների ավելացում: Օգտագործվող վարելահողերի ավելացում: Պտուղբանջարեղենի և խաղողի վերամշակումից ստացված արտադրանքի ծավալների աճ | G9: =+G10+G11 -> 100757.5 | H9: =+H10+H11 -> 0 | I9: =+I10+I11 -> 0
C10: 1022-12010 | D10: Անասնաբուծության ճյուղում իրականացվող ներդրումային ծրագրերին աջակցություն | E10: Անասնաբուծության ճյուղում իրականացվող առնվազն 1 մլրդ դրամի ներդրումներից կապիտալ ներդրումների մասնակի փոխհատուցում | F10: Տրանսֆերտների տրամադրում | G10: =+'Հավելված 3'!G28 -> 0 | H10: =+H11*-1 -> -100757.5 | I10: =+I11*-1 -> -100757.5
C11: 1022-12015 | D11: Կոնյակի սպիրտի արտահանման աջակցության ծրագրի շրջանակներում տրամադրվող աջակցություն | E11: Կոնյակի և բրենդիի սպիրտ արտադրողի կողմից 100000 (100 % սպիրտի հաշվարկով) լիտրից հետո այլ խմբաքանակի իրացման իրավունքի ձեռքբերման համար վճարված լրացուցիչ 100 դրամ պետական տուրքի շրջանակում արտահանված կոնյակի սպիրտին համարժեք տուրքի չափով աջակցություն | F11: Տրանսֆերտների տրամադրում | G11: =+'Հավելված 3'!G29 -> 100757.5 | H11: =+'Հավելված 3'!H29 -> 100757.5 | I11: =+'Հավելված 3'!I29 -> 100757.5
A12: ՀՀ կառավարություն | G12: =+G13 -> 0 | H12: =+H13 -> 0 | I12: =+I13 -> 0
B13: 1139 | D13: ՀՀ կառավարության պահուստային ֆոնդ | E13: Պետական բյուջեում չկանխատեսված, ինչպես նաեւ բյուջետային երաշխիքների ապահովման ծախսերի ֆինանսավորման ապահովում | F13: Պահուստային ֆոնդի կառավարման արդյունավետության և թափանցիկության ապահովում | G13: =+G14+G15 -> 0 | H13: =+H14+H15 -> 0 | I13: =+I14+I15 -> 0
C14: 1139 - 11001 | D14: ՀՀ կառավարության պահուստային ֆոնդ | E14: ՀՀ պետական բյուջեում նախատեսված ելքերի լրացուցիչ ֆինանսավորման, պետական բյուջեում չկանխատեսված ելքերի, ինչպես նաև բյուջետային երաշխիքների ապահովման ելքերի ֆինանսավորման ապահովում | F14: Ծառայությունների մատուցում | G14: =+G10 -> 0 | H14: =+H10 -> -100757.5 | I14: =+I10 -> -100757.5
C15: 1139 - 11001 | D15: ՀՀ կառավարության պահուստային ֆոնդ | E15: ՀՀ պետական բյուջեում նախատեսված ելքերի լրացուցիչ ֆինանսավորման, պետական բյուջեում չկանխատեսված ելքերի, ինչպես նաև բյուջետային երաշխիքների ապահովման ելքերի ֆինանսավորման ապահովում | F15: Ծառայությունների մատուցում | G15: =+G14*-1 -> 0 | H15: =+H14*-1 -> 100757.5 | I15: =+I14*-1 -> 100757.5

Sheet Հավելված 3
F1: Հավելված 3 ՀՀ կառավարության 2026 թվականի ____________ի N _____-Ն որոշման
A3: ՀԱՅԱՍՏԱՆԻ ՀԱՆՐԱՊԵՏՈՒԹՅԱՆ ԿԱՌԱՎԱՐՈՒԹՅԱՆ 2025 ԹՎԱԿԱՆԻ ԴԵԿՏԵՄԲԵՐԻ 25-Ի N 1910-Ն ՈՐՈՇՄԱՆ NN 3 ԵՎ 4 ՀԱՎԵԼՎԱԾՆԵՐՈՒՄ ԿԱՏԱՐՎՈՂ ՓՈՓՈԽՈՒԹՅՈՒՆՆԵՐԸ ԵՎ ԼՐԱՑՈՒՄԸ
I4: հազար դրամներով
A5: Գործառնական դասիչ | D5: Ծրագրային դասիչը | F5: Բյուջետային ծախսերի գործառական դասակարգման բաժինների, խմբերի և դասերի, բյուջետային ծրագրերի միջոցառումների, բյուջետային հատկացումների գլխավոր կարգադրիչների անվանումները | G5: Ցուցանիշների փոփոխությունները (ավելացումներ նշված են դրական նշանով, նվազեցումները՝ փակագծերում)
A6: Բաժին | B6: Խումբ | C6: Դաս | D6: Ծրագիր | E6: Միջոցառում | G6: Առաջին կիսամյակ | H6: Ինն ամիս | I6: Տարի
F7: ԸՆԴԱՄԵՆԸ ԾԱԽՍԵՐ | G7: =+G9+G38 -> 100757.5 | H7: =+H9+H38 -> 0 | I7: =+I9+I38 -> 0
F8: այդ թվում`
F9: ՀՀ էկոնոմիկայի նախարարություն | G9: =+G11 -> 100757.5 | H9: =+H11 -> 0 | I9: =+I11 -> 0
F10: այդ թվում`
A11: 04 | F11: ՏՆՏԵՍԱԿԱՆ ՀԱՐԱԲԵՐՈՒԹՅՈՒՆՆԵՐ | G11: =+G12 -> 100757.5 | H11: =+H12 -> 0 | I11: =+I12 -> 0
B12: 02 | F12: Գյուղատնտեսություն, անտառային տնտեսություն, ձկնորսություն և որսորդություն | G12: =+G14 -> 100757.5 | H12: =+H14 -> 0 | I12: =+I14 -> 0
F13: այդ թվում`
C14: 01 | F14: Գյուղատնտեսություն | G14: =+G16 -> 100757.5 | H14: =+H16 -> 0 | I14: =+I16 -> 0
F15: այդ թվում`
F16: ՀՀ էկոնոմիկայի նախարարություն | G16: =+G18 -> 100757.5 | H16: =+H18 -> 0 | I16: =+I18 -> 0
F17: այդ թվում`
D18: 1022 | F18: =+'Հավելված 2'!D9 -> Գյուղատնտեսության խթանման ծրագիր | G18: =+G20+G29 -> 100757.5 | H18: =+H20+H29 -> 0 | I18: =+I20+I29 -> 0
F19: այդ թվում`
E20: 12010 | F20: Անասնաբուծության ճյուղում իրականացվող ներդրումային ծրագրերին աջակցություն | G20: =+G22 -> 0 | H20: =+H22 -> -100757.5 | I20: =+I22 -> -100757.5
F21: այդ թվում` ըստ կատարողների
F22: ՀՀ էկոնոմիկայի նախարարություն | G22: =+G24 -> 0 | H22: =+H24 -> -100757.5 | I22: =+I24 -> -100757.5
F23: այդ թվում` բյուջետային ծախսերի տնտեսագիտական դասակարգման հոդվածներ
F24: ԸՆԴԱՄԵՆԸ ԾԱԽՍԵՐ | G24: =+G25 -> 0 | H24: =+H25 -> -100757.5 | I24: =+I25 -> -100757.5
F25: ԸՆԹԱՑԻԿ ԾԱԽՍԵՐ | G25: =+G26 -> 0 | H25: =+H26 -> -100757.5 | I25: =+I26 -> -100757.5
F26: ՍՈՒԲՍԻԴԻԱՆԵՐ | G26: =G27 -> 0 | H26: =H27 -> -100757.5 | I26: =I27 -> -100757.5
F27: Սուբսիդիաներ ոչ պետական կազմակերպություններին | G27: =G28 -> 0 | H27: =H28 -> -100757.5 | I27: =I28 -> -100757.5
F28: - Սուբսիդիաներ ոչ պետական ոչ ֆինանսական կազմակերպություններին | G28: 0 | H28: =+H29*-1 -> -100757.5 | I28: =+I29*-1 -> -100757.5
E29: 12015 | F29: Կոնյակի սպիրտի արտահանման աջակցության ծրագրի շրջանակներում տրամադրվող աջակցություն | G29: =+G31 -> 100757.5 | H29: =+H31 -> 100757.5 | I29: =+I31 -> 100757.5
F30: այդ թվում` ըստ կատարողների
F31: ՀՀ էկոնոմիկայի նախարարություն | G31: =+G33 -> 100757.5 | H31: =+H33 -> 100757.5 | I31: =+I33 -> 100757.5
F32: այդ թվում` բյուջետային ծախսերի տնտեսագիտական դասակարգման հոդվածներ
F33: ԸՆԴԱՄԵՆԸ ԾԱԽՍԵՐ | G33: =+G34 -> 100757.5 | H33: =+H34 -> 100757.5 | I33: =+I34 -> 100757.5
F34: ԸՆԹԱՑԻԿ ԾԱԽՍԵՐ | G34: =+G35 -> 100757.5 | H34: =+H35 -> 100757.5 | I34: =+I35 -> 100757.5
F35: ԴՐԱՄԱՇՆՈՐՀՆԵՐ | G35: =G36 -> 100757.5 | H35: =H36 -> 100757.5 | I35: =I36 -> 100757.5
F36: Ընթացիկ դրամաշնորհներ պետական հատվածի այլ մակարդակներին | G36: =G37 -> 100757.5 | H36: =H37 -> 100757.5 | I36: =I37 -> 100757.5
F37: - Այլ ընթացիկ դրամաշնորհներ | G37: 100757.5 | H37: 100757.5 | I37: 100757.5
F38: ՀՀ կառավարություն | G38: =+G40 -> 0 | H38: =+H40 -> 0 | I38: =+I40 -> 0
F39: այդ թվում`
A40: 11 | F40: ՀԻՄՆԱԿԱՆ ԲԱԺԻՆՆԵՐԻՆ ՉԴԱՍՎՈՂ ՊԱՀՈՒՍՏԱՅԻՆ ՖՈՆԴԵՐ | G40: =G42 -> 0 | H40: =H42 -> 0 | I40: =I42 -> 0
F41: այդ թվում`
B42: 01 | F42: ՀՀ կառավարության և համայնքների պահուստային ֆոնդ | G42: =G44 -> 0 | H42: =H44 -> 0 | I42: =I44 -> 0
F43: այդ թվում`
C44: 01 | F44: ՀՀ կառավարության պահուստային ֆոնդ | G44: =G46 -> 0 | H44: =H46 -> 0 | I44: =I46 -> 0
F45: այդ թվում`
F46: ՀՀ կառավարություն | G46: =G48 -> 0 | H46: =H48 -> 0 | I46: =I48 -> 0
F47: այդ թվում`
D48: 1139 | F48: ՀՀ կառավարության պահուստային ֆոնդ | G48: =+G50+G58 -> 0 | H48: =+H50+H58 -> 0 | I48: =+I50+I58 -> 0
F49: այդ թվում`
E50: 11001 | F50: ՀՀ կառավարության պահուստային ֆոնդ | G50: =G52 -> 0 | H50: =H52 -> 100757.5 | I50: =I52 -> 100757.5
F51: այդ թվում` ըստ կատարողների
F52: ՀՀ կառավարություն | G52: =G54 -> 0 | H52: =H54 -> 100757.5 | I52: =I54 -> 100757.5
F53: այդ թվում` բյուջետային ծախսերի տնտեսագիտական դասակարգման հոդվածներ
F54: ԸՆԴԱՄԵՆԸ ԾԱԽՍԵՐ | G54: =G55 -> 0 | H54: =H55 -> 100757.5 | I54: =I55 -> 100757.5
F55: ԸՆԹԱՑԻԿ ԾԱԽՍԵՐ | G55: =G56 -> 0 | H55: =H56 -> 100757.5 | I55: =I56 -> 100757.5
F56: ԱՅԼ ԾԱԽՍԵՐ | G56: =G57 -> 0 | H56: =H57 -> 100757.5 | I56: =I57 -> 100757.5
F57: Պահուստային միջոցներ | G57: 0 | H57: =+H37 -> 100757.5 | I57: =+I37 -> 100757.5
E58: 11001 | F58: ՀՀ կառավարության պահուստային ֆոնդ | G58: =G60 -> 0 | H58: =H60 -> -100757.5 | I58: =I60 -> -100757.5
F59: այդ թվում` ըստ կատարողների
F60: ՀՀ կառավարություն | G60: =G62 -> 0 | H60: =H62 -> -100757.5 | I60: =I62 -> -100757.5
F61: այդ թվում` բյուջետային ծախսերի տնտեսագիտական դասակարգման հոդվածներ
F62: ԸՆԴԱՄԵՆԸ ԾԱԽՍԵՐ | G62: =G63 -> 0 | H62: =H63 -> -100757.5 | I62: =I63 -> -100757.5
F63: ԸՆԹԱՑԻԿ ԾԱԽՍԵՐ | G63: =G64 -> 0 | H63: =H64 -> -100757.5 | I63: =I64 -> -100757.5
F64: ԱՅԼ ԾԱԽՍԵՐ | G64: =G65 -> 0 | H64: =H65 -> -100757.5 | I64: =I65 -> -100757.5
F65: Պահուստային միջոցներ | G65: 0 | H65: =+H57*-1 -> -100757.5 | I65: =+I57*-1 -> -100757.5

Sheet Հավելված 4
D1: Հավելված 4
C2: ՀՀ կառավարության 2026 թվականի
C3: ___________ ___-ի N _______ -Ն որոշման
A6: ՀԱՅԱՍՏԱՆԻ ՀԱՆՐԱՊԵՏՈՒԹՅԱՆ ԿԱՌԱՎԱՐՈՒԹՅԱՆ 2025 ԹՎԱԿԱՆԻ ԴԵԿՏԵՄԲԵՐԻ25-Ի N 1910-Ն ՈՐՈՇՄԱՆ N 5 ՀԱՎԵԼՎԱԾԻ 7 ԱՂՅՈՒՍԱԿՈՒՄ ԿԱՏԱՐՎՈՂ ԼՐԱՑՈՒՄԸ
G7: հազար դրամներով
A8: Ծրագրային դասիչ | C8: Բյուջետային հատկացումների գլխավոր կարգադրիչների, ծրագրերի, միջոցառումների, ծախսային ուղղությունների անվանումները | F8: Միջոցառումները կատարող պետական մարմինների և դրամաշնորհ ստացող տնտեսվարող սուբյեկտների անվանումները | G8: Ցուցանիշների փոփոխությունները (ավելացումները նշված են դրական նշանով)
A9: Ծրագիր | B9: Միջոցառում | G9: Տարի
A10: 1 | B10: 2 | C10: 3 | F10: 4 | G10: 5
A11: Ընդամենը | G11: =+G12 -> 100757.5
A12: ՀՀ էկոնոմիկայի նախարարություն | G12: =+G13 -> 100757.5
A13: 1022 | B13: =+'Հավելված 2'!D9 -> Գյուղատնտեսության խթանման ծրագիր | G13: =G14 -> 100757.5
B14: 12015 | C14: Կոնյակի սպիրտի արտահանման աջակցության ծրագրի շրջանակներում տրամադրվող աջակցություն | F14: ՀՀ էկոնոմիկայի նախարարություն | G14: =+G15 -> 100757.5
F15: ՀՀ կառավարության կողմից հաստատված համապատասխան ծրագրի չափանիշները բավարարող շահառուներ | G15: =+'Հավելված 3'!I29 -> 100757.5

Sheet Հավելված 5
A1: Հավելված 5 ՀՀ կառավարության 2026 թվականի ____________ի N _____-Ն որոշման
A2: ՀԱՅԱՍՏԱՆԻ ՀԱՆՐԱՊԵՏՈՒԹՅԱՆ ԿԱՌԱՎԱՐՈՒԹՅԱՆ 2025 ԹՎԱԿԱՆԻ ԴԵԿՏԵՄԲԵՐԻ 25-Ի N 1910-Ն ՈՐՈՇՄԱՆ N N 9 ԵՎ 9.1 ՀԱՎԵԼՎԱԾՆԵՐՈՒՄ ԿԱՏԱՐՎՈՂ ՓՈՓՈԽՈՒԹՅՈՒՆՆԵՐԸ ԵՎ ԼՐԱՑՈՒՄՆԵՐԸ
L3: հազար դրամներով
A4: ԲԳԿ/ԲՍԿ | B4: Ծրագիր | D4: Միջոցառում | H4: Իրականացնողը/ ակտիվն օգտագործողը/ շահառուի ընտրության չափորոշիչը | I4: Արդյունքային չափորոշիչը | J4: Ցուցանիշների փոփոխությունը (ավելացումները նշված են դրական նշանով, իսկ նվազեցումները՝ փակագծերում)
B5: Դասիչը | C5: Անվա-նումը | D5: Դասիչը | E5: Անվա-նումը | F5: Նկարագրու-թյունը | G5: Տեսակը | J5: Առաջին կիսամյակ | K5: Ինն ամիս | L5: Տարի
A6: ԸՆԴԱՄԵՆԸ | J6: =+J7+J19 -> 100757.5 | K6: =+K7+K19 -> 0 | L6: =+L7+L19 -> 0
A7: ՀՀ էկոնոմիկայի նախարարություն | J7: =+J8 -> 100757.5 | K7: =+K8 -> 0 | L7: =+L8 -> 0 | M7: =+J7-'Հավելված 3'!G9 -> 0 | N7: =+K7-'Հավելված 3'!H9 -> 0 | O7: =+L7-'Հավելված 3'!I9 -> 0
B8: 1022 | C8: Գյուղատնտեսության խթանման ծրագիր | J8: =+J9+J13 -> 100757.5 | K8: =+K9+K13 -> 0 | L8: =+L9+L13 -> 0
D9: 1022 - 12010 | E9: Անասնաբուծության ճյուղում իրականացվող ներդրումային ծրագրերին աջակցություն | J9: =+'Հավելված 3'!G20 -> 0 | K9: =+'Հավելված 3'!H20 -> -100757.5 | L9: =+'Հավելված 3'!I20 -> -100757.5
F10: Անասնաբուծության ճյուղում իրականացվող առնվազն 1 մլրդ դրամի ներդրումներից կապիտալ ներդրումների մասնակի փոխհատուցում
G11: Տրանսֆերտների տրամադրում
H12: Շահառուների ընտրության չափորոշիչները` ՀՀ գյուղատնտեսական տնտեսավարողներ՛ ընտրված ՀՀ կառավարության 03.03.2022թ. թիվ 276-Լ որոշմամբ հաստատված ծրագրի չափանիշներին համապատասխան
D13: 1022 - 12015 | E13: Կոնյակի սպիրտի արտահանման աջակցության ծրագրի շրջանակներում տրամադրվող աջակցություն | J13: =+'Հավելված 2'!G11 -> 100757.5 | K13: =+'Հավելված 2'!H11 -> 100757.5 | L13: =+'Հավելված 2'!I11 -> 100757.5
F14: Կոնյակի և բրենդիի սպիրտ արտադրողի կողմից 100000 (100 % սպիրտի հաշվարկով) լիտրից հետո այլ խմբաքանակի իրացման իրավունքի ձեռքբերման համար վճարված լրացուցիչ 100 դրամ պետական տուրքի շրջանակում արտահանված կոնյակի սպիրտին համարժեք տուրքի չափով աջակցություն
G15: Տրանսֆերտների տրամադրում
H16: ՀՀ կառավարության 2024 թվականի հունիսի 27-ի N 971-Լ որոշմամբ հաստատված ծրագրի չափանիշները բավարարող շահառուներ
I17: 100 հազար լիտրը գերազանցող չափով արտահանված կոնյակի սպիրտ, հազար բացարձակ լիտր | J17: 1007.5 | L17: 1007.5
I18: Աջակցություն ստացող տնտեսավարողներ | J18: 2 | L18: 2
A19: ՀՀ կառավարություն | J19: =+J20 -> 0 | K19: =+K20 -> 0 | L19: =+L20 -> 0
B20: 1139 | C20: ՀՀ կառավարության պահուստային ֆոնդ | J20: =+J21+J25 -> 0 | K20: =+K21+K25 -> 0 | L20: =+L21+L25 -> 0
D21: 1139 - 11001 | E21: ՀՀ կառավարության պահուստային ֆոնդ | J21: =+'Հավելված 3'!G50 -> 0 | K21: =+'Հավելված 3'!H50 -> 100757.5 | L21: =+'Հավելված 3'!I50 -> 100757.5
F22: ՀՀ պետական բյուջեում նախատեսված ելքերի լրացուցիչ ֆինանսավորման, պետական բյուջեում չկանխատեսված ելքերի, ինչպես նաև բյուջետային երաշխիքների ապահովման ելքերի ֆինանսավորման ապահովում
G23: Ծառայությունների մատուցում
H24: Ծառայությունը մատուցողի անվանումը` ՀՀ կառավարություն
D25: 1139 - 11001 | E25: ՀՀ կառավարության պահուստային ֆոնդ | J25: =+'Հավելված 3'!G58 -> 0 | K25: =+'Հավելված 3'!H58 -> -100757.5 | L25: =+'Հավելված 3'!I58 -> -100757.5
F26: ՀՀ պետական բյուջեում նախատեսված ելքերի լրացուցիչ ֆինանսավորման, պետական բյուջեում չկանխատեսված ելքերի, ինչպես նաև բյուջետային երաշխիքների ապահովման ելքերի ֆինանսավորման ապահովում
G27: Ծառայությունների մատուցում
H28: Ծառայությունը մատուցողի անվանումը` ՀՀ կառավարություն

Sheet Հավելված 6
F1: Հավելված 6 ՀՀ կառավարության 2026 թվականի ____________ի N _____-Ն որոշման
A3: ՀԱՅԱՍՏԱՆԻ ՀԱՆՐԱՊԵՏՈՒԹՅԱՆ 2026 ԹՎԱԿԱՆԻ ՊԵՏԱԿԱՆ ԲՅՈՒՋԵՈՎ ՆԱԽԱՏԵՍՎԱԾ՝ ՀԱՅԱՍՏԱՆԻ ՀԱՆՐԱՊԵՏՈՒԹՅԱՆ ԿԱՌԱՎԱՐՈՒԹՅԱՆ ՊԱՀՈՒՍՏԱՅԻՆ ՖՈՆԴԻՑ ՀԱՏԿԱՑՈՒՄՆԵՐ ԿԱՏԱՐԵԼՈՒ ՎԵՐԱԲԵՐՅԱԼ
I4: հազար դրամներով
A5: Գործառնական դասիչ | D5: Ծրագրային դասիչը | F5: Բյուջետային ծախսերի գործառական դասակարգման բաժինների, խմբերի և դասերի, բյուջետային ծրագրերի միջոցառումների, բյուջետային հատկացումների գլխավոր կարգադրիչների անվանումները | G5: Ցուցանիշների փոփոխությունները (ավելացումներ նշված են դրական նշանով, նվազեցումները՝ փակագծերում)
A6: Բաժին | B6: Խումբ | C6: Դաս | D6: Ծրագիր | E6: Միջոցառում | G6: Առաջին կիսամյակ | H6: Ինն ամիս | I6: Տարի
F7: ԸՆԴԱՄԵՆԸ ԾԱԽՍԵՐ | G7: =+G9+G29 -> 0 | H7: =+H9+H29 -> 0 | I7: =+I9+I29 -> 0
F8: այդ թվում`
F9: ՀՀ էկոնոմիկայի նախարարություն | G9: =+G11 -> 0 | H9: =+H11 -> 100757.5 | I9: =+I11 -> 100757.5
F10: այդ թվում`
A11: 04 | F11: ՏՆՏԵՍԱԿԱՆ ՀԱՐԱԲԵՐՈՒԹՅՈՒՆՆԵՐ | G11: =+G12 -> 0 | H11: =+H12 -> 100757.5 | I11: =+I12 -> 100757.5
B12: 02 | F12: Գյուղատնտեսություն, անտառային տնտեսություն, ձկնորսություն և որսորդություն | G12: =+G14 -> 0 | H12: =+H14 -> 100757.5 | I12: =+I14 -> 100757.5
F13: այդ թվում`
C14: 01 | F14: Գյուղատնտեսություն | G14: =+G16 -> 0 | H14: =+H16 -> 100757.5 | I14: =+I16 -> 100757.5
F15: այդ թվում`
F16: ՀՀ էկոնոմիկայի նախարարություն | G16: =+G18 -> 0 | H16: =+H18 -> 100757.5 | I16: =+I18 -> 100757.5
F17: այդ թվում`
D18: 1022 | F18: =+'Հավելված 2'!D9 -> Գյուղատնտեսության խթանման ծրագիր | G18: =+G20 -> 0 | H18: =+H20 -> 100757.5 | I18: =+I20 -> 100757.5
F19: այդ թվում`
E20: 12015 | F20: Կոնյակի սպիրտի արտահանման աջակցության ծրագրի շրջանակներում տրամադրվող աջակցություն | G20: =+G22 -> 0 | H20: =+H22 -> 100757.5 | I20: =+I22 -> 100757.5
F21: այդ թվում` ըստ կատարողների
F22: ՀՀ էկոնոմիկայի նախարարություն | G22: =+G24 -> 0 | H22: =+H24 -> 100757.5 | I22: =+I24 -> 100757.5
F23: այդ թվում` բյուջետային ծախսերի տնտեսագիտական դասակարգման հոդվածներ
F24: ԸՆԴԱՄԵՆԸ ԾԱԽՍԵՐ | G24: =+G25 -> 0 | H24: =+H25 -> 100757.5 | I24: =+I25 -> 100757.5
F25: ԸՆԹԱՑԻԿ ԾԱԽՍԵՐ | G25: =+G26 -> 0 | H25: =+H26 -> 100757.5 | I25: =+I26 -> 100757.5
F26: ԴՐԱՄԱՇՆՈՐՀՆԵՐ | G26: =G27 -> 0 | H26: =H27 -> 100757.5 | I26: =I27 -> 100757.5
F27: Ընթացիկ դրամաշնորհներ պետական հատվածի այլ մակարդակներին | G27: =G28 -> 0 | H27: =H28 -> 100757.5 | I27: =I28 -> 100757.5
F28: - Այլ ընթացիկ դրամաշնորհներ | G28: 0 | H28: 100757.5 | I28: 100757.5
F29: ՀՀ կառավարություն | G29: =+G31 -> 0 | H29: =+H31 -> -100757.5 | I29: =+I31 -> -100757.5
F30: այդ թվում`
A31: 11 | F31: ՀԻՄՆԱԿԱՆ ԲԱԺԻՆՆԵՐԻՆ ՉԴԱՍՎՈՂ ՊԱՀՈՒՍՏԱՅԻՆ ՖՈՆԴԵՐ | G31: =G33 -> 0 | H31: =H33 -> -100757.5 | I31: =I33 -> -100757.5
F32: այդ թվում`
B33: 01 | F33: ՀՀ կառավարության և համայնքների պահուստային ֆոնդ | G33: =G35 -> 0 | H33: =H35 -> -100757.5 | I33: =I35 -> -100757.5
F34: այդ թվում`
C35: 01 | F35: ՀՀ կառավարության պահուստային ֆոնդ | G35: =G37 -> 0 | H35: =H37 -> -100757.5 | I35: =I37 -> -100757.5
F36: այդ թվում`
F37: ՀՀ կառավարություն | G37: =G39 -> 0 | H37: =H39 -> -100757.5 | I37: =I39 -> -100757.5
F38: այդ թվում`
D39: 1139 | F39: ՀՀ կառավարության պահուստային ֆոնդ | G39: =+G41 -> 0 | H39: =+H41 -> -100757.5 | I39: =+I41 -> -100757.5
F40: այդ թվում`
E41: 11001 | F41: ՀՀ կառավարության պահուստային ֆոնդ | G41: =G43 -> 0 | H41: =H43 -> -100757.5 | I41: =I43 -> -100757.5
F42: այդ թվում` ըստ կատարողների
F43: ՀՀ կառավարություն | G43: =G45 -> 0 | H43: =H45 -> -100757.5 | I43: =I45 -> -100757.5
F44: այդ թվում` բյուջետային ծախսերի տնտեսագիտական դասակարգման հոդվածներ
F45: ԸՆԴԱՄԵՆԸ ԾԱԽՍԵՐ | G45: =G46 -> 0 | H45: =H46 -> -100757.5 | I45: =I46 -> -100757.5
F46: ԸՆԹԱՑԻԿ ԾԱԽՍԵՐ | G46: =G47 -> 0 | H46: =H47 -> -100757.5 | I46: =I47 -> -100757.5
F47: ԱՅԼ ԾԱԽՍԵՐ | G47: =G48 -> 0 | H47: =H48 -> -100757.5 | I47: =I48 -> -100757.5
F48: Պահուստային միջոցներ | G48: =+'Հավելված 3'!G65 -> 0 | H48: =+'Հավելված 3'!H65 -> -100757.5 | I48: =+'Հավելված 3'!I65 -> -100757.5
