Workbook
Name _tab10: #REF!
Name _tab11: #REF!
Name _tab12: #REF!
Name _tab13: #REF!
Name _tab14: #REF!
Name _tab15: #REF!
Name _tab16: #REF!
Name _tab17: #REF!
Name _tab18: #REF!
Name _tab19: #REF!
Name _tab20: #REF!
Name _tab21: #REF!
Name _tab22: #REF!
Name _tab23: #REF!
Name _tab24: #REF!
Name _tab5: #REF!
Name _tab6: #REF!
Name _tab7: #REF!
Name _tab8: #REF!
Name _tab9: #REF!
Name a: #REF!
Name a: #REF!
Name a: #REF!
Name AgencyCode: #REF!
Name AgencyCode: #REF!
Name AgencyCode: #REF!
Name AgencyName: #REF!
Name AgencyName: #REF!
Name AgencyName: #REF!
Name åû: #REF!
Name åû: #REF!
Name davit: #REF!
Name davit: #REF!
Name Functional1: #REF!
Name Functional1: #REF!
Name Functional1: #REF!
Name ggg: #REF!
Name ggg: #REF!
Name hav: #REF!
Name havelvac: #REF!
Name HAVELVAC10: #REF!
Name HAVELVAC10: #REF!
Name mas: #REF!
Name mas: #REF!
Name mass: #REF!
Name mass: #REF!
Name PANature: #REF!
Name PANature: #REF!
Name PANature: #REF!
Name par_count: #REF!,#REF!,#REF!,#REF!,#REF!,#REF!,#REF!,#REF!,#REF!,#REF!,#REF!,#REF!,#REF!,#REF!,#REF!
Name par_qual: #REF!,#REF!,#REF!,#REF!,#REF!
Name par_time: #REF!,#REF!,#REF!,#REF!
Name par2.12s: #REF!
Name par2.4s: #REF!,#REF!,#REF!,#REF!,#REF!,#REF!,#REF!,#REF!,#REF!,#REF!,#REF!,#REF!,#REF!,#REF!,#REF!,#REF!
Name par2.5s: #REF!,#REF!
Name par2.6s: #REF!,#REF!,#REF!,#REF!
Name par2.7s: #REF!,#REF!
Name par2.9s: #REF!,#REF!,#REF!,#REF!,#REF!,#REF!,#REF!,#REF!,#REF!,#REF!,#REF!,#REF!,#REF!,#REF!,#REF!,#REF!
Name par4.10s: #REF!,#REF!
Name par4.11d: #REF!,#REF!,#REF!,#REF!,#REF!

Sheet Հավելված N 1
G1: Հավելված N 1
G2: ՀՀ կառավարության 2026 թվականի
G3: ______________ ի ___Ն որոշման
B6: «ՀԱՅԱUՏԱՆԻ ՀԱՆՐԱՊԵՏՈՒԹՅԱՆ 2026 ԹՎԱԿԱՆԻ ՊԵՏԱԿԱՆ ԲՅՈՒՋԵԻ ՄԱUԻՆ» OՐԵՆՔԻ N 1 ՀԱՎԵԼՎԱԾԻ N 2 ԱՂՅՈՒՍԱԿՈՒՄ ԿԱՏԱՐՎՈՂ ՎԵՐԱԲԱՇԽՈՒՄԸ ԵՎ ՀԱՅԱՍՏԱՆԻ ՀԱՆՐԱՊԵՏՈՒԹՅԱՆ ԿԱՌԱՎԱՐՈՒԹՅԱՆ 2025 ԹՎԱԿԱՆԻ ԴԵԿՏԵՄԲԵՐԻ 25-Ի N 1910-Ն ՈՐՈՇՄԱՆ N 5 ՀԱՎԵԼՎԱԾԻ N 1 ԱՂՅՈՒՍԱԿՈՒՄ ԿԱՏԱՐՎՈՂ ՓՈՓՈԽՈՒԹՅՈՒՆՆԵՐԸ
I7: հազար դրամներով
B8: ԲԳԿ | C8: Ծրագրային դասիչը | E8: ԲԳԿ/Ծրագրի /միջոցառման անվանումը | F8: Ծրագրի նպատակը/Միջոցառման նկարագրությունը | G8: Վերջնական արդյունքի նկարագրությունը/Միջոցառման տեսակը | H8: Ցուցանիշների փոփոխությունը (ավելացումները նշված են դրական նշանով, իսկ նվազեցումները փակագծերում)
C9: Ծրագիր | D9: Միջոցառում | H9: Առաջին կիսամյակ | I9: Ինն ամիս | J9: Տարի
B10: ԸՆԴԱՄԵՆԸ | H10: =H12+H15 -> 0 | I10: =I12+I15 -> 0 | J10: =J12+J15 -> 0
B11: այդ թվում՝
B12: ՀՀ ԿՐԹՈՒԹՅԱՆ, ԳԻՏՈՒԹՅԱՆ, ՄՇԱԿՈՒՅԹԻ ԵՎ ՍՊՈՐՏԻ ՆԱԽԱՐԱՐՈՒԹՅՈՒՆ | H12: =H13 -> 951635.2 | I12: =I13 -> 951635.2 | J12: =J13 -> 951635.2
C13: 1162 | E13: Գիտական և գիտատեխնիկական հետազոտությունների ծրագիր | F13: Գիտական և գիտատեխնիկական գործունեության հիմնարար, կիրառական և թեմատիկ հետազոտությունների իրականացում, ենթակառուցվածքի և ազգային արժեք ներկայացնող գիտական օբյեկտների պահպանում և զարգացում, գիտական ներուժի վերարտադրության ապահովում | G13: Գիտության և տեխնիկայի զարգացման գերակա ուղղությունների հետազոտությունների իրականացում, գիտական ներուժի զարգացում, ազգային արժեք ներկայացնող գիտական օբյեկտների պահպանում | H13: =H14 -> 951635.2 | I13: =I14 -> 951635.2 | J13: =J14 -> 951635.2
D14: 1162 - 11002 | E14: Գիտական ենթակառուցվածքի արդիականացում | F14: Գիտական կազմակերպությունների և բուհերի գիտական ստորաբաժանումների զարգացում, ծրագրերի իրականացում, գիտական սարքավորումների արդիականացում, միջազգային համագործակցության աջակցություն | G14: Ծառայությունների մատուցում | H14: 951635.2 | I14: 951635.2 | J14: 951635.2
B15: ՀՀ ԲԱՐՁՐ ՏԵԽՆՈԼՈԳԻԱԿԱՆ ԱՐԴՅՈՒՆԱԲԵՐՈՒԹՅԱՆ ՆԱԽԱՐԱՐՈՒԹՅՈՒՆ | H15: =H16 -> -951635.2 | I15: =I16 -> -951635.2 | J15: =J16 -> -951635.2
C16: 1043 | E16: Բարձր տեխնոլոգիական արդյունաբերության էկոհամակարգի և շուկայի զարգացման ծրագիր | F16: Բարձր տեխնոլոգիաների ենթակառուցվածքների բարելավում | G16: Բարձր տեխնոլոգիաների ոլորտի աճ | H16: =H17 -> -951635.2 | I16: =I17 -> -951635.2 | J16: =J17 -> -951635.2
D17: 1043 - 11018 | E17: Պետական աջակցություն տեղեկատվական տեխնոլոգիաների ոլորտում գործունեություն իրականացնող առևտրային կազմակերպություններին և անհատ ձեռնարկատերերին | F17: Տեղեկատվական տեխնոլոգիաների ոլորտում գործունեություն իրականացնող առևտրային կազմակերպություններին և անհատ ձեռնարկատերերին պետական աջակցության տրամադրում | G17: Ծառայությունների մատուցում | H17: -951635.2 | I17: -951635.2 | J17: -951635.2

Sheet Հավելված N 2
H1: Հավելված N 2
H2: ՀՀ կառավարության 2026 թվականի
H3: ______________ ի N ___Ն որոշման
A7: ՀԱՅԱՍՏԱՆԻ ՀԱՆՐԱՊԵՏՈՒԹՅԱՆ ԿԱՌԱՎԱՐՈՒԹՅԱՆ 2025 ԹՎԱԿԱՆԻ ԴԵԿՏԵՄԲԵՐԻ 25-Ի N 1910-Ն ՈՐՈՇՄԱՆ N 3 ԵՎ N 4 ՀԱՎԵԼՎԱԾՆԵՐՈՒՄ ԿԱՏԱՐՎՈՂ ՓՈՓՈԽՈՒԹՅՈՒՆՆԵՐԸ
I8: հազար դրամներով
A9: Գործառական դասիչը | D9: Ծրագրային դասիչը | F9: Բյուջետային հատկացումների գլխավոր կարգադրիչների, ծրագրերի, միջոցառումների և միջոցառումները կատարող պետական մարմինների անվանումները | G9: Ցուցանիշների փոփոխությունը (ավելացումները նշված են դրական նշանով, իսկ նվազեցումները փակագծերում)
A10: Բաժին | B10: Խումբ | C10: Դաս | D10: Ծրագիր | E10: Միջոցառում | G10: Առաջին կիսամյակ | H10: Ինն ամիս | I10: Տարի
F11: ԸՆԴԱՄԵՆԸ | G11: =G13+G33 -> 0 | H11: =H13+H33 -> 0 | I11: =I13+I33 -> 0
F12: այդ թվում՝
F13: ՀՀ ԿՐԹՈՒԹՅԱՆ, ԳԻՏՈՒԹՅԱՆ, ՄՇԱԿՈՒՅԹԻ ԵՎ ՍՊՈՐՏԻ ՆԱԽԱՐԱՐՈՒԹՅՈՒՆ | G13: =G14 -> 951635.2 | H13: =H14 -> 951635.2 | I13: =I14 -> 951635.2
A14: 01 | F14: ԸՆԴՀԱՆՈՒՐ ԲՆՈՒՅԹԻ ՀԱՆՐԱՅԻՆ ԾԱՌԱՅՈՒԹՅՈՒՆՆԵՐ | G14: =G16 -> 951635.2 | H14: =H16 -> 951635.2 | I14: =I16 -> 951635.2
F15: այդ թվում`
B16: 04 | F16: Ընդհանուր բնույթի հետազոտական աշխատանք | G16: =G18 -> 951635.2 | H16: =H18 -> 951635.2 | I16: =I18 -> 951635.2
F17: այդ թվում`
C18: 01 | F18: Ընդհանուր բնույթի հետազոտական աշխատանք | G18: =G20 -> 951635.2 | H18: =H20 -> 951635.2 | I18: =I20 -> 951635.2
F19: այդ թվում`
F20: ՀՀ կրթության, գիտության, մշակույթի և սպորտի նախարարություն | G20: =G22 -> 951635.2 | H20: =H22 -> 951635.2 | I20: =I22 -> 951635.2
F21: այդ թվում`
D22: 1162 | E22: Գիտական և գիտատեխնիկական հետազոտությունների ծրագիր | G22: =G24 -> 951635.2 | H22: =H24 -> 951635.2 | I22: =I24 -> 951635.2
F23: այդ թվում`
E24: 11002 | F24: Գիտական ենթակառուցվածքի արդիականացում | G24: =G26 -> 951635.2 | H24: =H26 -> 951635.2 | I24: =I26 -> 951635.2
F25: այդ թվում` ըստ կատարողների
F26: ՀՀ կրթության, գիտության, մշակույթի և սպորտի նախարարության բարձրագույն կրթության և գիտության կոմիտե | G26: =G28 -> 951635.2 | H26: =H28 -> 951635.2 | I26: =I28 -> 951635.2
F27: այդ թվում` բյուջետային ծախսերի տնտեսագիտական դասակարգման հոդվածներ
F28: ԸՆԴԱՄԵՆԸ ԾԱԽՍԵՐ | G28: =G29 -> 951635.2 | H28: =H29 -> 951635.2 | I28: =I29 -> 951635.2
F29: ԸՆԹԱՑԻԿ ԾԱԽՍԵՐ | G29: =G30 -> 951635.2 | H29: =H30 -> 951635.2 | I29: =I30 -> 951635.2
F30: ԴՐԱՄԱՇՆՈՐՀՆԵՐ | G30: =G31 -> 951635.2 | H30: =H31 -> 951635.2 | I30: =I31 -> 951635.2
F31: Դրամաշնորհներ միջազգային կազմակերպություններին | G31: =G32 -> 951635.2 | H31: =H32 -> 951635.2 | I31: =I32 -> 951635.2
F32: - Ընթացիկ դրամաշնորհներ միջազգային կազմակերպություններին | G32: ='Հավելված N 1'!H14 -> 951635.2 | H32: ='Հավելված N 1'!I14 -> 951635.2 | I32: ='Հավելված N 1'!J14 -> 951635.2
F33: ՀՀ ԲԱՐՁՐ ՏԵԽՆՈԼՈԳԻԱԿԱՆ ԱՐԴՅՈՒՆԱԲԵՐՈՒԹՅԱՆ ՆԱԽԱՐԱՐՈՒԹՅՈՒՆ | G33: =G34 -> -951635.2 | H33: =H34 -> -951635.2 | I33: =I34 -> -951635.2
A34: 01 | F34: ԸՆԴՀԱՆՈՒՐ ԲՆՈՒՅԹԻ ՀԱՆՐԱՅԻՆ ԾԱՌԱՅՈՒԹՅՈՒՆՆԵՐ | G34: =G36 -> -951635.2 | H34: =H36 -> -951635.2 | I34: =I36 -> -951635.2
F35: այդ թվում`
B36: 03 | F36: Ընդհանուր բնույթի ծառայություններ | G36: =G38 -> -951635.2 | H36: =H38 -> -951635.2 | I36: =I38 -> -951635.2
F37: այդ թվում`
C38: 02 | F38: Ծրագրման և վիճակագրական ընդհանուր ծառայություններ | G38: =G40 -> -951635.2 | H38: =H40 -> -951635.2 | I38: =I40 -> -951635.2
F39: այդ թվում`
F40: ՀՀ բարձր տեխնոլոգիական արդյունաբերության նախարարություն | G40: =G42 -> -951635.2 | H40: =H42 -> -951635.2 | I40: =I42 -> -951635.2
F41: այդ թվում`
D42: 1043 | E42: Բարձր տեխնոլոգիական արդյունաբերության էկոհամակարգի և շուկայի զարգացման ծրագիր | G42: =G44 -> -951635.2 | H42: =H44 -> -951635.2 | I42: =I44 -> -951635.2
F43: այդ թվում`
E44: 11018 | F44: Պետական աջակցություն տեղեկատվական տեխնոլոգիաների ոլորտում գործունեություն իրականացնող առևտրային կազմակերպություններին և անհատ ձեռնարկատերերին | G44: =G46 -> -951635.2 | H44: =H46 -> -951635.2 | I44: =I46 -> -951635.2
F45: այդ թվում` ըստ կատարողների
F46: ՀՀ բարձր տեխնոլոգիական արդյունաբերության նախարարություն | G46: =G48 -> -951635.2 | H46: =H48 -> -951635.2 | I46: =I48 -> -951635.2
F47: այդ թվում՝ բյուջետային ծախսերի տնտեսագիտական դասակարգման հոդվածներ
F48: ԸՆԴԱՄԵՆԸ ԾԱԽՍԵՐ | G48: =G49 -> -951635.2 | H48: =H49 -> -951635.2 | I48: =I49 -> -951635.2
F49: ԸՆԹԱՑԻԿ ԾԱԽՍԵՐ | G49: =G50 -> -951635.2 | H49: =H50 -> -951635.2 | I49: =I50 -> -951635.2
F50: ՍՈՑԻԱԼԱԿԱՆ ՆՊԱՍՏՆԵՐ ԵՎ ԿԵՆՍԱԹՈՇԱԿՆԵՐ | G50: =G52 -> -951635.2 | H50: =H52 -> -951635.2 | I50: =I52 -> -951635.2
F51: Սոցիալական օգնության դրամական արտահայտությամբ նպաստներ (բյուջեից)
F52: - Այլ նպաստներ բյուջեից | G52: ='Հավելված N 1'!H17 -> -951635.2 | H52: ='Հավելված N 1'!I17 -> -951635.2 | I52: ='Հավելված N 1'!J17 -> -951635.2

Sheet Հավելված N 3
F2: Հավելված N 3
F3: ՀՀ կառավարության 2026 թվականի
F4: ______________ ի N ___Ն որոշման
B6: ՀԱՅԱՍՏԱՆԻ ՀԱՆՐԱՊԵՏՈՒԹՅԱՆ ԿԱՌԱՎԱՐՈՒԹՅԱՆ 2025 ԹՎԱԿԱՆԻ ԴԵԿՏԵՄԲԵՐԻ 25-Ի N 1910-Ն ՈՐՈՇՄԱՆ N 5 ՀԱՎԵԼՎԱԾԻ N 7.1 ԱՂՅՈՒՍԱԿՈՒՄ ԿԱՏԱՐՎՈՂ ՓՈՓՈԽՈՒԹՅՈՒՆԸ
G7: հազար դրամներով
B8: Ծրագրային դասիչը | D8: Բյուջետային հատկացումների գլխավոր կարգադրիչների, ծրագրերի, միջոցառումների, ծախսային ուղղությունների անվանումները | E8: Միջոցառումները կատարող պետական մարմինների և դրամաշնորհ ստացող տնտեսվարող սուբյեկտների անվանումները | F8: Գերատեսչական պատկանելություն | G8: Ցուցանիշների փոփոխությունը (ավելացումները նշված են դրական նշանով)
G9: Տարի
B10: Ծրագիր | C10: Միջոցառում | G10: 2026թ․
D11: ՀՀ կրթության, գիտության, մշակույթի և սպորտի նախարարություն | G11: =G12 -> 951635.2
B12: 1162 | D12: Գիտական և գիտատեխնիկական հետազոտությունների ծրագիր | G12: =G13 -> 951635.2
C13: 11002 | D13: Գիտական ենթակառուցվածքի արդիականացում | E13: ՀՀ կրթության, գիտության, մշակույթի և սպորտի նախարարության բարձրագույն կրթության և գիտության կոմիտե-ընդամենը | G13: =G16 -> 951635.2
D14: այդ թվում՝ ըստ ուղղությունների
D15: Միջազգային գիտական ծրագրերի, կառույցների անդամակցություն և գիտատեղեկատվական շտեմարանի ռեսուրսների օգտագործում («Հորիզոն Եվրոպա» շրջանակային (9-րդ) ծրագրի մասնակցություն, Միջուկային հետազոտությունների միացյալ ինստիտուտ, Բարձր էներգիաների ստերեոսկոպիկ համակարգ, Տեսական ֆիզիկայի միջազգային կենտրոն, Քլարիվեյթ Անալիտիքս, Էլսեվիեր (Elzevier) հրատարակչական ընկերություն) | E15: «Հորիզոն Եվրոպա», Միջուկային հետազոտությունների միացյալ ինստիտուտ, Բարձր էներգիաների ստերեոսկոպիկ համակարգ, Տեսական ֆիզիկայի միջազգային կենտրոն, Քլարիվեյթ Անալիտիքս, Էլսեվիեր (Elzevier) հրատարակչական ընկերություն | G15: ='Հավելված N 1'!J14 -> 951635.2
F16: ԸՆԴԱՄԵՆԸ- ՀՀ կրթության, գիտության, մշակույթի և սպորտի նախարարության բարձրագույն կրթության և գիտության կոմիտե | G16: =G15 -> 951635.2

Sheet Հավելված N 4
E2: Հավելված N 4
E3: ՀՀ կառավարության 2026 թվականի
E4: ______________ ի ___Ն որոշման
B6: ՀԱՅԱՍՏԱՆԻ ՀԱՆՐԱՊԵՏՈՒԹՅԱՆ ԿԱՌԱՎԱՐՈՒԹՅԱՆ 2025 ԹՎԱԿԱՆԻ ԴԵԿՏԵՄԲԵՐԻ 25-Ի N 1910-Ն ՈՐՈՇՄԱՆ N 5 ՀԱՎԵԼՎԱԾԻ N 7.2 ԱՂՅՈՒՍԱԿՈՒՄ ԿԱՏԱՐՎՈՂ ՓՈՓՈԽՈՒԹՅՈՒՆԸ
F7: հազար դրամներով
B8: Ծրագրային դասիչը | D8: Բյուջետային հատկացումների գլխավոր կարգադրիչների, ծրագրերի, միջոցառումների անվանումները | E8: Միջոցառումները կատարող պետական մարմինների անվանումները | F8: Ցուցանիշների փոփոխությունը (ավելացումները նշված են դրական նշանով)
F9: Տարի
B10: Ծրագիր | C10: Միջոցառում | F10: 2026թ․
D11: ԸՆԴԱՄԵՆԸ | F11: =F12 -> 951635.2
D12: ՀՀ կրթության, գիտության, մշակույթի և սպորտի նախարարություն | F12: =F13 -> 951635.2
B13: 1162 | D13: Գիտական և գիտատեխնիկական հետազոտությունների ծրագիր | F13: =F14 -> 951635.2
C14: 11002 | D14: Գիտական ենթակառուցվածքի արդիականացում | E14: ՀՀ կրթության, գիտության, մշակույթի և սպորտի նախարարության բարձրագույն կրթության և գիտության կոմիտե | F14: ='Հավելված N 1'!J14 -> 951635.2

Sheet Հավելված N 5
K1: Հավելված N 5
K2: ՀՀ կառավարության 2026 թվականի
K3: ______________ ի ___Ն որոշման
B6: ՀԱՅԱՍՏԱՆԻ ՀԱՆՐԱՊԵՏՈՒԹՅԱՆ ԿԱՌԱՎԱՐՈՒԹՅԱՆ 2025 ԹՎԱԿԱՆԻ ԴԵԿՏԵՄԲԵՐԻ 25-Ի N 1910-Ն ՈՐՈՇՄԱՆ N 9 ՀԱՎԵԼՎԱԾՈՒՄ ԿԱՏԱՐՎՈՂ ՓՈՓՈԽՈՒԹՅՈՒՆՆԵՐԸ
B8: ԲԳԿ | C8: Ծրագիր | E8: Միջոցառում | I8: Իրականացնողը/ ակտիվն օգտագործողը/ շահառուի ընտրության չափորոշիչը | J8: Արդյունքային չափորոշիչը | K8: Ցուցանիշների փոփոխությունը (ավելացումները նշված են դրական նշանով, իսկ նվազեցումները՝ փակագծերում)
C9: Դասիչը | D9: Անվանումը | E9: Դասիչը | F9: Անվանումը | G9: Նկարագրությունը | H9: Տեսակը | K9: Առաջին կիսամյակ | L9: Ինն ամիս | M9: Տարի
B10: ԸՆԴԱՄԵՆԸ | K10: =K12+K18 -> 0 | L10: =L12+L18 -> 0 | M10: =M12+M18 -> 0
B11: այդ թվում՝
B12: ՀՀ կրթության, գիտության, մշակույթի և սպորտի նախարարություն | K12: =K13 -> 951635.2 | L12: =L13 -> 951635.2 | M12: =M13 -> 951635.2
C13: 1162 | D13: Գիտական և գիտատեխնիկական հետազոտությունների ծրագիր | K13: =K14 -> 951635.2 | L13: =L14 -> 951635.2 | M13: =M14 -> 951635.2
E14: 1162 - 11002 | F14: Գիտական ենթակառուցվածքի արդիականացում | K14: ='Հավելված N 1'!H14 -> 951635.2 | L14: ='Հավելված N 1'!I14 -> 951635.2 | M14: ='Հավելված N 1'!J14 -> 951635.2
G15: Գիտական կազմակերպությունների և բուհերի գիտական ստորաբաժանումների զարգացում, ծրագրերի իրականացում, գիտական սարքավորումների արդիականացում, միջազգային համագործակցության աջակցություն
H16: Ծառայությունների մատուցում
I17: Ծառայությունը մատուցողի անվանումը` ՀՀ կառավարության 2025թ. փետրվարի 13-ի N 156-Ն որոշմամբ հաստատված N 1 հավելվածի համաձայն ընտրված կազմակերպություններ
B18: ՀՀ բարձր տեխնոլոգիական արդյունաբերության նախարարություն | K18: =K19 -> -951635.2 | L18: =L19 -> -951635.2 | M18: =M19 -> -951635.2
C19: 1043 | D19: Բարձր տեխնոլոգիական արդյունաբերության էկոհամակարգի և շուկայի զարգացման ծրագիր | K19: =K20 -> -951635.2 | L19: =L20 -> -951635.2 | M19: =M20 -> -951635.2
E20: 1043 - 11018 | F20: Պետական աջակցություն տեղեկատվական տեխնոլոգիաների ոլորտում գործունեություն իրականացնող առևտրային կազմակերպություններին և անհատ ձեռնարկատերերին | K20: ='Հավելված N 1'!H16 -> -951635.2 | L20: ='Հավելված N 1'!I16 -> -951635.2 | M20: ='Հավելված N 1'!J16 -> -951635.2
G21: Տեղեկատվական տեխնոլոգիաների ոլորտում գործունեություն իրականացնող առևտրային կազմակերպություններին և անհատ ձեռնարկատերերին պետական աջակցության տրամադրում
H22: Ծառայությունների մատուցում
I23: Ծառայությունը մատուցողի անվանումը` ՀՀ բարձր տեխնոլոգիական արդյունաբերության նախարարություն

Sheet Հավելված N 6
K1: Հավելված N 6
K2: ՀՀ կառավարության 2026 թվականի
K3: ______________ ի ___Ն որոշման
B6: ՀԱՅԱՍՏԱՆԻ ՀԱՆՐԱՊԵՏՈՒԹՅԱՆ ԿԱՌԱՎԱՐՈՒԹՅԱՆ 2025 ԹՎԱԿԱՆԻ ԴԵԿՏԵՄԲԵՐԻ 25-Ի N 1910-Ն ՈՐՈՇՄԱՆ N 9.1 ՀԱՎԵԼՎԱԾՈՒՄ ԿԱՏԱՐՎՈՂ ՓՈՓՈԽՈՒԹՅՈՒՆՆԵՐԸ
B9: ԲՍԿ | C9: Ծրագիր | E9: Միջոցառում | I9: Իրականացնողը/ ակտիվն օգտագործողը/ շահառուի ընտրության չափորոշիչը | J9: Արդյունքային չափորոշիչը | K9: Ցուցանիշների փոփոխությունը (ավելացումները նշված են դրական նշանով, իսկ նվազեցումները՝ փակագծերում)
C10: Դասիչը | D10: Անվանումը | E10: Դասիչը | F10: Անվանումը | G10: Նկարագրությունը | H10: Տեսակը | K10: Առաջին կիսամյակ | L10: Ինն ամիս | M10: Տարի
B11: ԸՆԴԱՄԵՆԸ | K11: =K13+K19 -> 0 | L11: =L13+L19 -> 0 | M11: =M13+M19 -> 0
B12: այդ թվում՝
B13: ՀՀ կրթության, գիտության, մշակույթի և սպորտի նախարարության բարձրագույն կրթության և գիտության կոմիտե | K13: =K14 -> 951635.2 | L13: =L14 -> 951635.2 | M13: =M14 -> 951635.2
C14: 1162 | D14: Գիտական և գիտատեխնիկական հետազոտությունների ծրագիր | K14: =K15 -> 951635.2 | L14: =L15 -> 951635.2 | M14: =M15 -> 951635.2
E15: 1162 - 11002 | F15: Գիտական ենթակառուցվածքի արդիականացում | K15: ='Հավելված N 1'!H14 -> 951635.2 | L15: ='Հավելված N 1'!I13 -> 951635.2 | M15: ='Հավելված N 1'!J13 -> 951635.2
G16: Գիտական կազմակերպությունների և բուհերի գիտական ստորաբաժանումների զարգացում, ծրագրերի իրականացում, գիտական սարքավորումների արդիականացում, միջազգային համագործակցության աջակցություն
H17: Ծառայությունների մատուցում
I18: Ծառայությունը մատուցողի անվանումը` ՀՀ կառավարության 2025թ. փետրվարի 13-ի N 156-Ն որոշմամբ հաստատված N 1 հավելվածի համաձայն ընտրված կազմակերպություններ
B19: ՀՀ բարձր տեխնոլոգիական արդյունաբերության նախարարություն | K19: =K20 -> -951635.2 | L19: =L20 -> -951635.2 | M19: =M20 -> -951635.2
C20: 1043 | D20: Բարձր տեխնոլոգիական արդյունաբերության էկոհամակարգի և շուկայի զարգացման ծրագիր | K20: =K21 -> -951635.2 | L20: =L21 -> -951635.2 | M20: =M21 -> -951635.2
E21: 1043 - 11018 | F21: Պետական աջակցություն տեղեկատվական տեխնոլոգիաների ոլորտում գործունեություն իրականացնող առևտրային կազմակերպություններին և անհատ ձեռնարկատերերին | K21: ='Հավելված N 1'!H17 -> -951635.2 | L21: ='Հավելված N 1'!I17 -> -951635.2 | M21: ='Հավելված N 1'!J17 -> -951635.2
G22: Տեղեկատվական տեխնոլոգիաների ոլորտում գործունեություն իրականացնող առևտրային կազմակերպություններին և անհատ ձեռնարկատերերին պետական աջակցության տրամադրում
H23: Ծառայությունների մատուցում
I24: Ծառայությունը մատուցողի անվանումը` ՀՀ բարձր տեխնոլոգիական արդյունաբերության նախարարություն
