Workbook

Sheet 1
I1: Հավելված N 1
E2: ՀՀ կառավարության 2026 թվականի
E3: -----------------ի N -----------Ն որոշման
A5: «ՀԱՅԱՍՏԱՆԻ ՀԱՆՐԱՊԵՏՈՒԹՅԱՆ 2026 ԹՎԱԿԱՆԻ ՊԵՏԱԿԱՆ ԲՅՈՒՋԵԻ ՄԱՍԻՆ» ՕՐԵՆՔԻ N 1 ՀԱՎԵԼՎԱԾԻ N 2 ԱՂՅՈՒՍԱԿՈՒՄ ԿԱՏԱՐՎՈՂ ՎԵՐԱԲԱՇԽՈՒՄԸ ԵՎ ԼՐԱՑՈՒՄԸ, ՀԱՅԱՍՏԱՆԻ ՀԱՆՐԱՊԵՏՈՒԹՅԱՆ ԿԱՌԱՎԱՐՈՒԹՅԱՆ 2025 ԹՎԱԿԱՆԻ ԴԵԿՏԵՄԲԵՐԻ 25-Ի N 1910-Ն ՈՐՈՇՄԱՆ N 5 ՀԱՎԵԼՎԱԾԻ N 1 ԱՂՅՈՒՍԱԿՈՒՄ ԿԱՏԱՐՎՈՂ ՓՈՓՈԽՈՒԹՅՈՒՆՆԵՐԸ ԵՎ ԼՐԱՑՈՒՄՆԵՐԸ
I6: հազար դրամներով
A7: ԲԳԿ | B7: Ծրագրային դասիչը | D7: ԲԳԿ/Ծրագրի /միջոցառման անվանումը | E7: Ծրագրի նպատակը/Միջոցառման նկարագրույունը | F7: Վերջնական արդյունքի նկարագրությունը/Միջոցառման տեսակը | G7: Ցուցանիշների փոփոխությունները ավելացումները նշված են դրական նշանով, իսկ նվազեցումները՝ փակագծերում
B8: Ծրագիր | C8: Միջոցառում | G8: Առաջին կիսամյակ | H8: Ինն ամիս | I8: Տարի
A9: ԸՆԴԱՄԵՆԸ | G9: =G10+G14 -> 0 | H9: =H10+H14 -> 0 | I9: =I10+I14 -> 0
A10: ՀՀ աշխատանքի և սոցիալական հարցերի նախարարություն | G10: =G11 -> 0 | H10: =H11 -> 0 | I10: =I11 -> 0
B11: 1225 | D11: Ճգնաժամերի հակազդման և արտակարգ իրավիճակների հետևանքների նվազեցման և վերացման նպատակով՛ առանձին սոցիալական խմբերին տրվող սոցիալական աջակցություն | E11: Օժանդակել ճգնաժամերի հակազդման և արտակարգ իրավիճակների հետևանքով ընտանիքների առջև ծառացած սոցիալական խնդիրների բացասական հետևանքների մեղմմանը | F11: Ճգնաժամերի հակազդման և արտակարգ իրավիճակների առաջացրած սոցիալական խնդիրների բացասական հետևանքները մեղմելու նպատակով ընտանիքներին դրամական աջակցության տրամադրում | G11: =G12+G13 -> 0 | H11: =H12+H13 -> 0 | I11: =I12+I13 -> 0
C12: 1225 - 12018 | D12: Ղարաբաղից տեղահանվածներին օժանդակելու համար աջակցություն | E12: Ղարաբաղից տեղահանվածներին սոցիալական աջակցության տրամադրում և բնակարանային ապահովության խնդրի լուծում | F12: Տրանսֆերտների տրամադրում | G12: =G13*-1 -> -24762 | H12: =H13*-1 -> -52405 | I12: =I13*-1 -> -80048
C13: 1225- 11001 | D13: Ղարաբաղից տեղահանվածներին աջակցելու բարեփոխումներին ուղղված խորհրդատվական և այլ ծառայությունների ձեռքբերում | E13: Ղարաբաղից տեղահանվածներին աջակցելու բարեփոխումներին ուղղված խորհրդատվական և այլ ծառայությունների ձեռքբերում | F13: Ծառայությունների մատուցում | G13: ='2'!G32 -> 24762 | H13: ='2'!H32 -> 52405 | I13: ='2'!I32 -> 80048
A14: ՀՀ կառավարություն | G14: =G15 -> 0 | H14: =H15 -> 0 | I14: =I15 -> 0
B15: 1139 | D15: ՀՀ կառավարության պահուստային ֆոնդ | E15: Պետական բյուջեում չկանխատեսված, ինչպես նաեւ բյուջետային երաշխիքների ապահովման ծախսերի ֆինանսավորման ապահովում | F15: Պահուստային ֆոնդի կառավարման արդյունավետության և թափանցիկության ապահովում | G15: =G16+G17 -> 0 | H15: =H16+H17 -> 0 | I15: =I16+I17 -> 0
C16: 1139 - 11001 | D16: ՀՀ կառավարության պահուստային ֆոնդ | E16: ՀՀ պետական բյուջեում նախատեսված ելքերի լրացուցիչ ֆինանսավորման, պետական բյուջեում չկանխատեսված ելքերի, ինչպես նաև բյուջետային երաշխիքների ապահովման ելքերի ֆինանսավորման ապահովում | F16: Ծառայությունների մատուցում | G16: =G13 -> 24762 | H16: =H13 -> 52405 | I16: =I13 -> 80048
C17: 1139 - 11001 | D17: ՀՀ կառավարության պահուստային ֆոնդ | E17: ՀՀ պետական բյուջեում նախատեսված ելքերի լրացուցիչ ֆինանսավորման, պետական բյուջեում չկանխատեսված ելքերի, ինչպես նաև բյուջետային երաշխիքների ապահովման ելքերի ֆինանսավորման ապահովում | F17: Ծառայությունների մատուցում | G17: =G12 -> -24762 | H17: =H12 -> -52405 | I17: =I12 -> -80048

Sheet 2
I1: Հավելված N 2
F2: ՀՀ կառավարության 2026 թվականի
F3: -----------------ի N -----------Ն որոշման
A5: ՀԱՅԱՍՏԱՆԻ ՀԱՆՐԱՊԵՏՈՒԹՅԱՆ ԿԱՌԱՎԱՐՈՒԹՅԱՆ 2025 ԹՎԱԿԱՆԻ ԴԵԿՏԵՄԲԵՐԻ 25-Ի N 1910-Ն ՈՐՈՇՄԱՆ N N 3 ԵՎ 4 ՀԱՎԵԼՎԱԾՆԵՐՈՒՄ ԿԱՏԱՐՎՈՂ ՓՈՓՈԽՈՒԹՅՈՒՆՆԵՐԸ ԵՎ ԼՐԱՑՈՒՄՆԵՐԸ
H6: հազար դրամներով
A7: Գործառական դասիչը | D7: Ծրագրային դասիչը | F7: Բյուջետային ծախսերի գործառական դասակարգման բաժինների, խմբերի և դասերի, բյուջետային ծրագրերի միջոցառումների, բյուջետային հատկացումների գլխավոր կարգադրիչների անվանումները | G7: Ցուցանիշների փոփոխությունները ավելացումները նշված են դրական նշանով, իսկ նվազեցումները՝ փակագծերում
A8: Բաժինը | B8: Խումբը | C8: Դասը | D8: Ծրագիր | E8: Միջոցառում | G8: Առաջին կիսամյակ | H8: Ինն ամիս | I8: Տարի
F9: ԸՆԴԱՄԵՆԸ ԾԱԽՍԵՐ | G9: =G11+G47 -> 0 | H9: =H11+H47 -> 0 | I9: =I11+I47 -> 0
F10: այդ թվում`
F11: ՀՀ աշխատանքի և սոցիալական հարցերի նախարարություն | G11: =G13 -> 0 | H11: =H13 -> 0 | I11: =I13 -> 0
F12: այդ թվում՝
A13: 10 | F13: ՍՈՑԻԱԼԱԿԱՆ ՊԱՇՏՊԱՆՈՒԹՅՈՒՆ | G13: =G15 -> 0 | H13: =H15 -> 0 | I13: =I15 -> 0
F14: այդ թվում՝
B15: 09 | F15: Սոցիալական պաշտպանություն (այլ դասերին չպատկանող) | G15: =G17 -> 0 | H15: =H17 -> 0 | I15: =I17 -> 0
F16: այդ թվում՝
C17: 02 | F17: Սոցիալական պաշտպանությանը տրամադրվող օժանդակ ծառայություններ (այլ դասերին չպատկանող) | G17: =G19 -> 0 | H17: =H19 -> 0 | I17: =I19 -> 0
F18: այդ թվում՝
F19: ՀՀ աշխատանքի և սոցիալական հարցերի նախարարություն | G19: =G21 -> 0 | H19: =H21 -> 0 | I19: =I21 -> 0
F20: այդ թվում՝
D21: 1225 | F21: ='1'!D11 -> Ճգնաժամերի հակազդման և արտակարգ իրավիճակների հետևանքների նվազեցման և վերացման նպատակով՛ առանձին սոցիալական խմբերին տրվող սոցիալական աջակցություն | G21: =G23+G32 -> 0 | H21: =H23+H32 -> 0 | I21: =I23+I32 -> 0
F22: այդ թվում`
E23: 12018 | F23: ='1'!D12 -> Ղարաբաղից տեղահանվածներին օժանդակելու համար աջակցություն | G23: =G25 -> -24762 | H23: =H25 -> -52405 | I23: =I25 -> -80048
F24: այդ թվում` ըստ կատարողների
F25: ՀՀ աշխատանքի և սոցիալական հարցերի նախարարության միասնական սոցիալական ծառայություն | G25: =G27 -> -24762 | H25: =H27 -> -52405 | I25: =I27 -> -80048
F26: այդ թվում` բյուջետային ծախսերի տնտեսագիտական դասակարգման հոդվածներ
F27: ԸՆԴԱՄԵՆԸ ԾԱԽՍԵՐ | G27: =G28 -> -24762 | H27: =H28 -> -52405 | I27: =I28 -> -80048
F28: ԸՆԹԱՑԻԿ ԾԱԽՍԵՐ | G28: =G29 -> -24762 | H28: =H29 -> -52405 | I28: =I29 -> -80048
F29: ՍՈՑԻԱԼԱԿԱՆ ՆՊԱՍՏՆԵՐ ԵՎ ԿԵՆՍԱԹՈՇԱԿՆԵՐ | G29: =G30 -> -24762 | H29: =H30 -> -52405 | I29: =I30 -> -80048
F30: Սոցիալական օգնության դրամական արտահայտությամբ նպաստներ (բյուջեից) | G30: =G31 -> -24762 | H30: =H31 -> -52405 | I30: =I31 -> -80048
F31: - Այլ նպաստներ բյուջեից | G31: =G32*-1 -> -24762 | H31: =H32*-1 -> -52405 | I31: ='1'!I12 -> -80048
E32: 11001 | F32: ='1'!D13 -> Ղարաբաղից տեղահանվածներին աջակցելու բարեփոխումներին ուղղված խորհրդատվական և այլ ծառայությունների ձեռքբերում | G32: =G34 -> 24762 | H32: =H34 -> 52405 | I32: =I34 -> 80048
F33: այդ թվում` ըստ կատարողների
F34: ՀՀ աշխատանքի և սոցիալական հարցերի նախարարություն | G34: =G36 -> 24762 | H34: =H36 -> 52405 | I34: =I36 -> 80048
F35: այդ թվում` բյուջետային ծախսերի տնտեսագիտական դասակարգման հոդվածներ
F36: ԸՆԴԱՄԵՆԸ ԾԱԽՍԵՐ | G36: =G37 -> 24762 | H36: =H37 -> 52405 | I36: =I37 -> 80048
F37: ԸՆԹԱՑԻԿ ԾԱԽՍԵՐ | G37: =G38+G41 -> 24762 | H37: =H38+H41 -> 52405 | I37: =I38+I41 -> 80048
F38: ԱՇԽԱՏԱՆՔԻ ՎԱՐՁԱՏՐՈՒԹՅՈՒՆ | G38: =G39 -> 17762 | H38: =H39 -> 44405 | I38: =I39 -> 71048
F39: Դրամով վճարվող աշխատավարձեր և հավելավճարներ | G39: =G40 -> 17762 | H39: =H40 -> 44405 | I39: =I40 -> 71048
F40: - Աշխատողների աշխատավարձեր և հավելավճարներ | G40: =I40/8*2 -> 17762 | H40: =I40/8*5 -> 44405 | I40: 71048
F41: ԾԱՌԱՅՈՒԹՅՈՒՆՆԵՐԻ ԵՎ ԱՊՐԱՆՔՆԵՐԻ ՁԵՌՔԲԵՐՈՒՄ | G41: =G42+G45 -> 7000 | H41: =H42+H45 -> 8000 | I41: =I42+I45 -> 9000
...

Sheet 3
L1: Հավելված N 3
L2: ՀՀ կառավարության 2026 թվականի
L3: -----------------ի N -----------Ն որոշման
A6: ՀԱՅԱՍՏԱՆԻ ՀԱՆՐԱՊԵՏՈՒԹՅԱՆ ԿԱՌԱՎԱՐՈՒԹՅԱՆ 2025 ԹՎԱԿԱՆԻ ԴԵԿՏԵՄԲԵՐԻ 25-Ի N 1910-Ն ՈՐՈՇՄԱՆ N 9 ՀԱՎԵԼՎԱԾՈՒՄ ԿԱՏԱՐՎՈՂ ՓՈՓՈԽՈՒԹՅՈՒՆՆԵՐԸ ԵՎ ԼՐԱՑՈՒՄՆԵՐԸ
K7: հազար դրամներով
A8: ԲԳԿ | B8: Ծրագիր | D8: Միջոցառում | H8: Իրականացնողը/ ակտիվն օգտագործողը/ շահառուի ընտրության չափորոշիչը | I8: Արդյունքային չափորոշիչը | J8: Ցուցանիշների փոփոխությունները ավելացումները նշված են դրական նշանով, իսկ նվազեցումները՝ փակագծերում
B9: Դասիչը | C9: Անվանումը | D9: Դասիչը | E9: Անվանումը | F9: Նկարագրությունը | G9: Տեսակը | J9: Առաջին կիսամյակ | K9: Ինն ամիս | L9: Տարի
A10: ԸՆԴԱՄԵՆԸ | J10: =J11+J40 -> 0 | K10: =K11+K40 -> 0 | L10: =L11+L40 -> 0
A11: ՀՀ աշխատանքի և սոցիալական հարցերի նախարարություն | J11: =J12 -> 0 | K11: =K12 -> 0 | L11: =L12 -> 0
B12: ='1'!B11 -> 1225 | C12: ='1'!D11 -> Ճգնաժամերի հակազդման և արտակարգ իրավիճակների հետևանքների նվազեցման և վերացման նպատակով՛ առանձին սոցիալական խմբերին տրվող սոցիալական աջակցություն | J12: =J13+J33 -> 0 | K12: =K13+K33 -> 0 | L12: =L13+L33 -> 0
D13: ='1'!C12 -> 1225 - 12018 | E13: ='1'!D12 -> Ղարաբաղից տեղահանվածներին օժանդակելու համար աջակցություն | J13: ='1'!G12 -> -24762 | K13: ='1'!H12 -> -52405 | L13: ='1'!I12 -> -80048
F14: ='1'!E12 -> Ղարաբաղից տեղահանվածներին սոցիալական աջակցության տրամադրում և բնակարանային ապահովության խնդրի լուծում
G15: Տրանսֆերտների տրամադրում
H16: Շահառուների ընտրության չափորոշիչները` ՀՀ կառավարության որոշմամբ սոցիալապես անապահով ընտանիքներ և խոցելի այլ խմբեր
I17: Աջակցություն ստացող շահառուների թվաքանակ, այդ թվում | J17: -66543 | L17: -71331
I18: Սոցիալական աջակցություն ստացող շահառուների թվաքանակ | J18: -53880 | L18: -53880
I19: Բնակարանային ապահովման համար շահառու ընտանիքներ | J19: -4748 | L19: -9496
I20: Ղարաբաղից տեղահանված սոցիալապես անապահով ընտանիքներին հրատապ սոցիալական աջակցություն, շահառու ընտանիքներ | J20: -7874 | L20: -7874
I21: Ղարաբաղից տեղահանված առանձին ընտանիքների բնակարանային ապահովման պետական աջակցություն | J21: -81 | L21: -81
I22: Հիփոթեքային վարկի մայր գումարի գծով աջակցություն ստացող ընտանիքների թվաքանակ | J22: 4748 | L22: 9496
I23: Հիփոթեքային վարկի տոկոսավճարի գծով աջակցություն ստացող ընտանիքների թվաքանակ | J23: 4748 | L23: 9496
I24: Հիփոթեքային վարկի կանխավճար ստացող ընտանիքների թվաքանակ | L24: 3000
I25: Գործող հիփոթեկային վարկի մարման աջակցություն՝ 3-րդ բաղադրիչի ստացող ընտանիքների թվաքանակ | J25: 56 | L25: 56
I26: Բնակարանային ապահովման նպատակով ԱՄԻՕ բանկից զոհվածների առանձին ընտանիքներին տրամադրված հիփոթեքային վարկերի գծով պետական աջակցություն, շահառուների թվաքանակ | J26: 81 | L26: 81
I27: Մինչև 18 տարեկան երեխաների, հաշմանդամություն կամ ֆունկցիոնալության սահմանափակում ունեցող, 63 և ավել տարեկան, կերակրողին կորցնելու դեպքում՝ նպաստ ստացող անձանց սոցիալական աջակցություն, շահառուների թվաքանակ | J27: 53880 | L27: 53880
I28: Սոցիալապես անապահով ընտանիքներին հրատապ սոցիալական աջակցություն, ընտանիքների թվաքանակ | J28: 7874 | L28: 7874
I29: Հրատապ սոցիալական աջակցություն ստացող անապահով ընտանիքի երկրորդ անդամների թվաքանակ | J29: 25872 | L29: 25872
I30: Բնակարանի վարձակալության վարձավճարներ ստացող (1-3 անդամ ունեցող) ընտանիքների թվաքանակ | L30: 200
I31: ամիսների թիվ | J31: 6 | L31: 12
D33: ='1'!C13 -> 1225- 11001 | E33: ='1'!D13 -> Ղարաբաղից տեղահանվածներին աջակցելու բարեփոխումներին ուղղված խորհրդատվական և այլ ծառայությունների ձեռքբերում | J33: ='1'!G13 -> 24762 | K33: ='1'!H13 -> 52405 | L33: ='1'!I13 -> 80048
F34: ='1'!E13 -> Ղարաբաղից տեղահանվածներին աջակցելու բարեփոխումներին ուղղված խորհրդատվական և այլ ծառայությունների ձեռքբերում
G35: ='1'!F13 -> Ծառայությունների մատուցում
H36: Մասնագիտացված միավոր
I37: Գործառնական ձեռնարկի ստեղծում | J37: 1 | L37: 1
I38: սոցիալական բնապահպանական պլանի ստեղծում | J38: 1 | L38: 1
A40: ՀՀ կառավարություն | J40: =J41 -> 0 | K40: =K41 -> 0 | L40: =L41 -> 0
B41: 1139 | C41: ՀՀ կառավարության պահուստային ֆոնդ | J41: =J42+J46 -> 0 | K41: =K42+K46 -> 0 | L41: =L42+L46 -> 0
D42: 1139 - 11001 | E42: ՀՀ կառավարության պահուստային ֆոնդ | J42: ='1'!G16 -> 24762 | K42: ='1'!H16 -> 52405 | L42: ='1'!I16 -> 80048
F43: ՀՀ պետական բյուջեում նախատեսված ելքերի լրացուցիչ ֆինանսավորման, պետական բյուջեում չկանխատեսված ելքերի, ինչպես նաև բյուջետային երաշխիքների ապահովման ելքերի ֆինանսավորման ապահովում
G44: Ծառայությունների մատուցում
...

Sheet 4
L1: Հավելված N 4
L2: ՀՀ կառավարության 2026 թվականի
L3: -----------------ի N -----------Ն որոշման
A6: ՀԱՅԱՍՏԱՆԻ ՀԱՆՐԱՊԵՏՈՒԹՅԱՆ ԿԱՌԱՎԱՐՈՒԹՅԱՆ 2025 ԹՎԱԿԱՆԻ ԴԵԿՏԵՄԲԵՐԻ 25-Ի N 1910-Ն ՈՐՈՇՄԱՆ N 9.1 ՀԱՎԵԼՎԱԾՈՒՄ ԿԱՏԱՐՎՈՂ ՓՈՓՈԽՈՒԹՅՈՒՆՆԵՐԸ ԵՎ ԼՐԱՑՈՒՄՆԵՐԸ
K7: հազար դրամներով
A8: ԲՍԿ | B8: Ծրագիր | D8: Միջոցառում | H8: Իրականացնողը/ ակտիվն օգտագործողը/ շահառուի ընտրության չափորոշիչը | I8: Արդյունքային չափորոշիչը | J8: Ցուցանիշների փոփոխությունները ավելացումները նշված են դրական նշանով, իսկ նվազեցումները՝ փակագծերում
B9: Դասիչը | C9: Անվանումը | D9: Դասիչը | E9: Անվանումը | F9: Նկարագրությունը | G9: Տեսակը | J9: Առաջին կիսամյակ | K9: Ինն ամիս | L9: Տարի
A10: ԸՆԴԱՄԵՆԸ | J10: =J11+J33 -> 0 | K10: =K11+K33 -> 0 | L10: =L11+L33 -> 0
A11: ՀՀ աշխատանքի և սոցիալական հարցերի նախարարության միասնական սոցիալական ծառայություն | J11: =J12 -> -24762 | K11: =K12 -> -52405 | L11: =L12 -> -80048
B12: ='1'!B11 -> 1225 | C12: ='1'!D11 -> Ճգնաժամերի հակազդման և արտակարգ իրավիճակների հետևանքների նվազեցման և վերացման նպատակով՛ առանձին սոցիալական խմբերին տրվող սոցիալական աջակցություն | J12: =J13 -> -24762 | K12: =K13 -> -52405 | L12: =L13 -> -80048
D13: ='1'!C12 -> 1225 - 12018 | E13: ='1'!D12 -> Ղարաբաղից տեղահանվածներին օժանդակելու համար աջակցություն | J13: ='1'!G12 -> -24762 | K13: ='1'!H12 -> -52405 | L13: ='1'!I12 -> -80048
F14: ='1'!E12 -> Ղարաբաղից տեղահանվածներին սոցիալական աջակցության տրամադրում և բնակարանային ապահովության խնդրի լուծում
G15: Տրանսֆերտների տրամադրում
H16: Շահառուների ընտրության չափորոշիչները` ՀՀ կառավարության որոշմամբ սոցիալապես անապահով ընտանիքներ և խոցելի այլ խմբեր
I17: ='3'!I17 -> Աջակցություն ստացող շահառուների թվաքանակ, այդ թվում | J17: ='3'!J17 -> -66543 | K17: ='3'!K17 | L17: ='3'!L17 -> -71331
I18: ='3'!I18 -> Սոցիալական աջակցություն ստացող շահառուների թվաքանակ | J18: ='3'!J18 -> -53880 | K18: ='3'!K18 | L18: ='3'!L18 -> -53880
I19: ='3'!I19 -> Բնակարանային ապահովման համար շահառու ընտանիքներ | J19: ='3'!J19 -> -4748 | K19: ='3'!K19 | L19: ='3'!L19 -> -9496
I20: ='3'!I20 -> Ղարաբաղից տեղահանված սոցիալապես անապահով ընտանիքներին հրատապ սոցիալական աջակցություն, շահառու ընտանիքներ | J20: ='3'!J20 -> -7874 | K20: ='3'!K20 | L20: ='3'!L20 -> -7874
I21: ='3'!I21 -> Ղարաբաղից տեղահանված առանձին ընտանիքների բնակարանային ապահովման պետական աջակցություն | J21: ='3'!J21 -> -81 | K21: ='3'!K21 | L21: ='3'!L21 -> -81
I22: ='3'!I22 -> Հիփոթեքային վարկի մայր գումարի գծով աջակցություն ստացող ընտանիքների թվաքանակ | J22: ='3'!J22 -> 4748 | L22: ='3'!L22 -> 9496
I23: ='3'!I23 -> Հիփոթեքային վարկի տոկոսավճարի գծով աջակցություն ստացող ընտանիքների թվաքանակ | J23: ='3'!J23 -> 4748 | L23: ='3'!L23 -> 9496
I24: ='3'!I24 -> Հիփոթեքային վարկի կանխավճար ստացող ընտանիքների թվաքանակ | J24: ='3'!J24 -> 0 | L24: ='3'!L24 -> 3000
I25: ='3'!I25 -> Գործող հիփոթեկային վարկի մարման աջակցություն՝ 3-րդ բաղադրիչի ստացող ընտանիքների թվաքանակ | J25: ='3'!J25 -> 56 | L25: ='3'!L25 -> 56
I26: ='3'!I26 -> Բնակարանային ապահովման նպատակով ԱՄԻՕ բանկից զոհվածների առանձին ընտանիքներին տրամադրված հիփոթեքային վարկերի գծով պետական աջակցություն, շահառուների թվաքանակ | J26: ='3'!J26 -> 81 | L26: ='3'!L26 -> 81
I27: ='3'!I27 -> Մինչև 18 տարեկան երեխաների, հաշմանդամություն կամ ֆունկցիոնալության սահմանափակում ունեցող, 63 և ավել տարեկան, կերակրողին կորցնելու դեպքում՝ նպաստ ստացող անձանց սոցիալական աջակցություն, շահառուների թվաքանակ | J27: ='3'!J27 -> 53880 | L27: ='3'!L27 -> 53880
I28: ='3'!I28 -> Սոցիալապես անապահով ընտանիքներին հրատապ սոցիալական աջակցություն, ընտանիքների թվաքանակ | J28: ='3'!J28 -> 7874 | L28: ='3'!L28 -> 7874
I29: ='3'!I29 -> Հրատապ սոցիալական աջակցություն ստացող անապահով ընտանիքի երկրորդ անդամների թվաքանակ | J29: ='3'!J29 -> 25872 | L29: ='3'!L29 -> 25872
I30: ='3'!I30 -> Բնակարանի վարձակալության վարձավճարներ ստացող (1-3 անդամ ունեցող) ընտանիքների թվաքանակ | J30: ='3'!J30 -> 0 | L30: ='3'!L30 -> 200
I31: ='3'!I31 -> ամիսների թիվ | J31: ='3'!J31 -> 6 | L31: ='3'!L31 -> 12
A33: ՀՀ աշխատանքի և սոցիալական հարցերի նախարարություն | J33: =J34 -> 24762 | K33: =K34 -> 52405 | L33: =L34 -> 80048
B34: ='4'!B12 -> 1225 | C34: ='4'!C12 -> Ճգնաժամերի հակազդման և արտակարգ իրավիճակների հետևանքների նվազեցման և վերացման նպատակով՛ առանձին սոցիալական խմբերին տրվող սոցիալական աջակցություն | J34: =J35 -> 24762 | K34: =K35 -> 52405 | L34: =L35 -> 80048
D35: ='1'!C13 -> 1225- 11001 | E35: ='1'!D13 -> Ղարաբաղից տեղահանվածներին աջակցելու բարեփոխումներին ուղղված խորհրդատվական և այլ ծառայությունների ձեռքբերում | J35: ='1'!G13 -> 24762 | K35: ='1'!H13 -> 52405 | L35: ='1'!I13 -> 80048
F36: ='1'!E13 -> Ղարաբաղից տեղահանվածներին աջակցելու բարեփոխումներին ուղղված խորհրդատվական և այլ ծառայությունների ձեռքբերում
G37: ='1'!F13 -> Ծառայությունների մատուցում
H38: Մասնագիտացված միավոր
I39: ='3'!I37 -> Գործառնական ձեռնարկի ստեղծում | J39: ='3'!J37 -> 1 | L39: ='3'!L37 -> 1
I40: ='3'!I38 -> սոցիալական բնապահպանական պլանի ստեղծում | J40: ='3'!J38 -> 1 | L40: ='3'!L38 -> 1
A42: ՀՀ կառավարություն | J42: =J43 -> 0 | K42: =K43 -> 0 | L42: =L43 -> 0
B43: 1139 | C43: ՀՀ կառավարության պահուստային ֆոնդ | J43: =J44+J48 -> 0 | K43: =K44+K48 -> 0 | L43: =L44+L48 -> 0
D44: 1139 - 11001 | E44: ՀՀ կառավարության պահուստային ֆոնդ | J44: ='1'!G16 -> 24762 | K44: ='1'!H16 -> 52405 | L44: ='1'!I16 -> 80048
...
