Workbook
Name \A: #REF!
Name _tab10: #REF!
Name _tab10: #REF!
Name _tab11: #REF!
Name _tab12: #REF!
Name _tab13: #REF!
Name _tab14: #REF!
Name _tab15: #REF!
Name _tab16: #REF!
Name _tab17: #REF!
Name _tab18: #REF!
Name _tab19: #REF!
Name _tab20: #REF!
Name _tab21: #REF!
Name _tab22: #REF!
Name _tab23: #REF!
Name _tab24: #REF!
Name _tab5: #REF!
Name _tab6: #REF!
Name _tab7: #REF!
Name _tab8: #REF!
Name _tab9: #REF!
Name aaa: #REF!
Name aaaa: #REF!
Name aaaaa: #REF!
Name AgencyCode: #REF!
Name AgencyCode: #REF!
Name AgencyName: #REF!
Name alis: #REF!
Name alisa: #REF!
Name als: #REF!
Name ampop_krchat: #REF!
Name Armata: #REF!
Name asd: #REF!
Name åû: #REF!
Name BOP: #REF!
Name BOPfoot: #REF!
Name davit: #REF!
Name DebtCG: '[1]Fis-Debt'!#REF!
Name DebtGG: #REF!
Name fff: #REF!
Name Functional1: #REF!
Name ggg: #REF!
Name h: #REF!
Name Hav: #REF!,#REF!
Name havelvac: #REF!
Name mas: #REF!
Name mass: #REF!
Name MonExo: #REF!
Name MonGrow: [2]BM!#REF!
Name PANature: #REF!
Name PANature: #REF!
Name par_count: #REF!,#REF!,#REF!,#REF!,#REF!,#REF!,#REF!,#REF!,#REF!,#REF!,#REF!,#REF!,#REF!,#REF!,#REF!
Name par_count: #REF!,#REF!,#REF!,#REF!,#REF!,#REF!,#REF!,#REF!,#REF!,#REF!,#REF!,#REF!,#REF!,#REF!,#REF!
Name par_qual: #REF!,#REF!,#REF!,#REF!,#REF!
Name par_qual: #REF!,#REF!,#REF!,#REF!,#REF!
Name par_time: #REF!,#REF!,#REF!,#REF!
Name par_time: #REF!,#REF!,#REF!,#REF!
Name par2.12s: #REF!
Name par2.12s: #REF!

Sheet Հավելված 1
A1: Հավելված N 1
A2: ՀՀ կառավարության 2026 թվականի
A3: ______________ ի ___Ն որոշման
A6: «ՀԱՅԱՍՏԱՆԻ ՀԱՆՐԱՊԵՏՈՒԹՅԱՆ 2026 ԹՎԱԿԱՆԻ ՊԵՏԱԿԱՆ ԲՅՈՒՋԵԻ ՄԱՍԻՆ» ՀԱՅԱՍՏԱՆԻ ՀԱՆՐԱՊԵՏՈՒԹՅԱՆ ՕՐԵՆՔԻ 2-ՐԴ ՀՈԴՎԱԾԻ ԱՂՅՈՒՍԱԿՈՒՄ ԿԱՏԱՐՎՈՂ ՓՈՓՈԽՈՒԹՅՈՒՆՆԵՐԸ
B7: հազար դրամներով
B8: Ցուցանիշների փոփոխությունը (նվազեցումները նշված են փակագծերում)
A9: Եկամուտների գծով | B9: =+'Հավելված 4'!I7 -> -420000.03
A10: Ծախսերի գծով | B10: =+'Հավելված 2 '!D11 -> -420000
A11: Դեֆիցիտը (պակասուրդը) | B11: =B10-B9 -> 0.0306

Sheet Հավելված 2 
A1: Հավելված N 2
A2: ՀՀ կառավարության 2026 թվականի
A3: ______________ ի ___Ն որոշման
A5: «ՀԱՅԱՍՏԱՆԻ ՀԱՆՐԱՊԵՏՈՒԹՅԱՆ 2026 ԹՎԱԿԱՆԻ ՊԵՏԱԿԱՆ ԲՅՈՒՋԵԻ ՄԱՍԻՆ» ՕՐԵՆՔԻ 6-ՐԴ ՀՈԴՎԱԾԻ ԱՂՅՈՒՍԱԿՈՒՄ ԵՎ ՀԱՅԱՍՏԱՆԻ ՀԱՆՐԱՊԵՏՈՒԹՅԱՆ ԿԱՌԱՎԱՐՈՒԹՅԱՆ 2025 ԹՎԱԿԱՆԻ ԴԵԿՏԵՄԲԵՐԻ 25-Ի N 1910-Ն ՈՐՈՇՄԱՆ N 2 ՀԱՎԵԼՎԱԾՈՒՄ ԿԱՏԱՐՎՈՂ ՓՈՓՈԽՈՒԹՅՈՒՆՆԵՐԸ
D6: հազար դրամներով
A7: Պետական բյուջեի եկամուտները | B7: Ցուցանիշների փոփոխությունը (նվազեցումները նշված են փակագծերում)
B8: Առաջին կիսամյակ | C8: Ինն ամիս | D8: Տարի
A9: Ընդամենը | B9: =+B11 -> -243879.9 | C9: =+C11 -> -420000 | D9: =+D11 -> -420000
A10: այդ թվում
A11: Պաշտոնական դրամաշնորհներ | B11: =+'Հավելված 7'!F11 -> -243879.9 | C11: =+'Հավելված 7'!I11 -> -420000 | D11: =+'Հավելված 7'!L11 -> -420000

Sheet Հավելված 3
A1: Հավելված N 3 ՀՀ կառավարության 2026 թվականի ––-------------------–––––––– N –––––– որոշման
A3: ՀԱՅԱUՏԱՆԻ ՀԱՆՐԱՊԵՏՈՒԹՅԱՆ ԿԱՌԱՎԱՐՈՒԹՅԱՆ 2025 ԹՎԱԿԱՆԻ ԴԵԿՏԵՄԲԵՐԻ 25-Ի N 1910-Ն ՈՐՈՇՄԱՆ N 1 ՀԱՎԵԼՎԱԾԻ N 1 ԱՂՅՈՒՍԱԿՈՒՄ ԿԱՏԱՐՎՈՂ ՓՈՓՈԽՈՒԹՅՈՒՆՆԵՐԸ
C4: հազար դրամներով
A5: Պետական բյուջեի դեֆիցիտի ֆինանսավորման աղբյուրներն ու դրանց տարրերի անվանումները | B5: Ցուցանիշների փոփոխությունը (ավելացումները նշված են դրական նշանով)
B6: Առաջին կիսամյակ | C6: Ինն ամիս | D6: Տարի
A7: ԸՆԴԱՄԵՆԸ | B7: =+B9 -> 746648 | C7: =+C9 -> 373121.9 | D7: =+D9 -> 0
A8: այդ թվում՝
A9: Ա.Ներքին աղբյուրներ-ընդամենը | B9: =+B11 -> 746648 | C9: =+C11 -> 373121.9 | D9: =+D11 -> 0
A10: այդ թվում՝
A11: 2. Ֆինանսական զուտ ակտիվներ | B11: =+B12 -> 746648 | C11: =+C12 -> 373121.9 | D11: =+D12 -> 0
A12: 2.6.Այլ | B12: =+B13 -> 746648 | C12: =+C13 -> 373121.9 | D12: =+D13 -> 0
A13: ժամանակավորապես ազատ միջոցներ | B13: 746648 | C13: 373121.9 | D13: =+'[4]Հավելված 3'!J7*-1 -> 0

Sheet Հավելված 4
A1: Հավելված N 4 ՀՀ կառավարության 2026 թվականի ____________ի N _____-Ն որոշման
A3: «ՀԱՅԱՍՏԱՆԻ ՀԱՆՐԱՊԵՏՈՒԹՅԱՆ 2026 ԹՎԱԿԱՆԻ ՊԵՏԱԿԱՆ ԲՅՈՒՋԵԻ ՄԱՍԻՆ» ՕՐԵՆՔԻ N 1 ՀԱՎԵԼՎԱԾԻ N 2 ԱՂՅՈՒՍԱԿՈՒՄ ԿԱՏԱՐՎՈՂ ՎԵՐԱԲԱՇԽՈՒՄԸ ԵՎ ԼՐԱՑՈՒՄՆԵՐԸ, ՀԱՅԱՍՏԱՆԻ ՀԱՆՐԱՊԵՏՈՒԹՅԱՆ ԿԱՌԱՎԱՐՈՒԹՅԱՆ 2025 ԹՎԱԿԱՆԻ ԴԵԿՏԵՄԲԵՐԻ 25-Ի N 1910-Ն ՈՐՈՇՄԱՆ N 5 ՀԱՎԵԼՎԱԾԻ N 1 ԱՂՅՈՒՍԱԿՈՒՄ ԿԱՏԱՐՎՈՂ ՓՈՓՈԽՈՒԹՅՈՒՆՆԵՐԸ ԵՎ ԼՐԱՑՈՒՄՆԵՐԸ
H4: հազար դրամներով
A5: ԲԳԿ | B5: Ծրագրային դասիչը | D5: ԲԳԿ/Ծրագրի /միջոցառման անվանումը | E5: Ծրագրի նպատակը/Միջոցառման նկարագրությունը | F5: Վերջնական արդյունքի նկարագրությունը/Միջոցառման տեսակը | G5: Ցուցանիշների փոփոխությունները (ավելացումները նշված են դրական նշանով, նվազեցումները՝ փակագծերում)
B6: Ծրագիր | C6: Միջոցառում | G6: Առաջին կիսամյակ | H6: Ինն ամիս | I6: Տարի
A7: ԸՆԴԱՄԵՆԸ | G7: =+G8+G43 -> 502768.15 | H7: =+H8+H43 -> -46878.084 | I7: =+I8+I43 -> -420000.03
A8: ՀՀ էկոնոմիկայի նախարարություն | G8: =+G9+G20+G24+G28+G37+G18 -> 454242.65 | H8: =+H9+H20+H24+H28+H37+H18 -> -130878.08 | I8: =+I9+I20+I24+I28+I37+I18 -> -504000.03
B9: 1022 | D9: Գյուղատնտեսության խթանման ծրագիր | E9: Գյուղատնտեսական մթերքի և դրանց վերամշակումից ստացվող սննդամթերքի ծավալների ավելացում | F9: Գյուղատնտեսական մթերքների ծավալների ավելացում: Օգտագործվող վարելահողերի ավելացում: Պտուղբանջարեղենի և խաղողի վերամշակումից ստացված արտադրանքի ծավալների աճ | G9: =+G10+G11+G12+G13+G14+G15+G16+G17 -> 249813.4 | H9: =+H10+H11+H12+H13+H14+H15+H16+H17 -> -308284.9 | I9: =+I10+I11+I12+I13+I14+I15+I16+I17 -> 25805.5
C10: 1022-11006 | D10: Սպանդանոցների կողմից մատուցվող խոշոր եղջերավոր կենդանիների սպանդի ծառայության վճարի մասնակի փոխհատուցման ծրագրի շրջանակներում ստացված դիմումների ուսումնասիրություն և մոնիթորինգի իրականացմանն աջակցություն | E10: Սպանդանոցների տեղակայման վայրի համայնքների կողմից խոշոր եղջերավոր կենդանիների սպանդի ծառայության վճարի մասնակի փոխհատուցման ծրագրի շրջանակներում ստացված դիմումների ուսումնասիրություն և մոնիթորինգի իրականացում | F10: Ծառայությունների մատուցում | G10: =+'Հավելված 5'!G100 -> 878 | H10: =+'Հավելված 5'!H100 -> 878 | I10: =+'Հավելված 5'!I100 -> 878
C11: 1022-12001 | D11: Գյուղատնտեսական վարկերի տոկոսադրույքների սուբսիդավորում | E11: Գյուղատնտեսության ոլորտում տրամադրվող վարկերի տոկոսադրույքների սուբսիդավորում | F11: Տրանսֆերտների տրամադրում | G11: =+'Հավելված 5'!G109 -> 0 | H11: =+'Հավելված 5'!H109 -> -100000 | I11: =+'Հավելված 5'!I109 -> 1667000
C12: 1022-12005 | D12: Գերմանիայի զարգացման վարկերի բանկի (KFW) հետ համատեղ գյուղատնտեսության ոլորտում ապահովագրական համակարգի ներդրման փորձնական ծրագրի իրականացման համար պետական աջակցություն | E12: Ապահովագրավճարների մասնակի սուբսիդավորում մարզերի կամ մարզերի որոշ տարածաշրջանների գյուղատնտեսությունում տնտեսավարողներին | F12: Տրանսֆերտների տրամադրում | G12: =+'Հավելված 5'!G118 -> 199242.5 | H12: =+'Հավելված 5'!H118 -> 199242.5 | I12: =+'Հավելված 5'!I118 -> 199242.5
C13: 1022-12010 | D13: Անասնաբուծության ճյուղում իրականացվող ներդրումային ծրագրերին աջակցություն | E13: Անասնաբուծության ճյուղում իրականացվող առնվազն 1 մլրդ դրամի ներդրումներից կապիտալ ներդրումների մասնակի փոխհատուցում | F13: Տրանսֆերտների տրամադրում | G13: =+'Հավելված 5'!G127 -> 0 | H13: =+'Հավելված 5'!H127 -> -456576.8 | I13: =+'Հավելված 5'!I127 -> -2075633
C14: 1022 - 12011 | D14: Հայաստանի Հանրապետությունում գյուղատնտեսական նշանակության հողերի միավորմանը (կոնսոլիդացիային) աջակցություն | E14: Գյուղատնտեսական նշանակության հողերի առանձին գույքային միավորների ձեռքբերման և միավորման միջոցով առնվազն 5 հա հանրագումարային մակերեսով հողամասերի ստեղծում և ձեռքբերված առանձին գույքային միավոր հանդիսացող հողամասերի կադաստրային արժեքի 30%-ի փոխհատուցում | F14: Տրանսֆերտների տրամադրում | G14: =+'Հավելված 5'!G136 -> 24742.9 | H14: =+'Հավելված 5'!H136 -> 24742.9 | I14: =+'Հավելված 5'!I136 -> 0
C15: 1022-12013 | D15: Հայաստանի Հանրապետությունում արդյունաբերական խեցգետնաբուծության զարգացման ծրագիր | E15: Բնական պաշարների խնայողաբար օգտագործման, արտադրական գործընթացների արդյունավետության բարձրացման և շահառուների եկամուտների ավելացման նպատակով ՀՀ-ում խեցգետինների արհեստական բուծման և աճեցման տնտեսությունների հիմնման գործընթացի խթանում պետական աջակցությամբ | F15: Տրանսֆերտների տրամադրում | G15: =+'Հավելված 5'!G145 -> 0 | H15: =+'Հավելված 5'!H145 -> -77138 | I15: =+'Հավելված 5'!I145 -> 33477.5
C16: 1022-12018 | D16: Սպանդանոցների կողմից մատուցվող խոշոր եղջերավոր կենդանիների սպանդի ծառայության վճարի մասնակի փոխհատուցման տրամադրում | E16: Սպանդանոցների կողմից մատուցվող խոշոր եղջերավոր կենդանիների սպանդի ծառայության վճարի մասնակի փոխհատուցում | F16: Տրանսֆերտների տրամադրում | G16: =+'Հավելված 5'!G154 -> 24950 | H16: =+'Հավելված 5'!H154 -> 24950 | I16: =+'Հավելված 5'!I154 -> 24950
C17: 1022-12021 | D17: =+'Հավելված 5'!F163 -> Խաղող վերամշակող տնտեսավարողներին տրամադրվող վարկերի տոկոսադրույքների սուբսիդավորում | E17: Խաղող վերամշակող տնտեսավարողներին աշխատակիցներին աշխատավարձի և դրան հավասարեցված վճարումների, պետական կամ համայնքի բյուջե հարկերի և պարտադիր վճարումների նպատակով տրամադրվող վարկերի տոկոսադրույքների սուբսիդավորում | F17: Տրանսֆերտների տրամադրում | G17: =+'Հավելված 5'!G171 -> 0 | H17: =+'Հավելված 5'!H171 -> 75616.5 | I17: =+'Հավելված 5'!I171 -> 175890.5
B18: 1059 | D18: Բուսաբուծության խթանում և բույսերի պաշտպանություն | E18: Հողագործությունից ստացվող արդյունքի բարելավում | F18: Մշակաբույսերի միջին բերքատվության բարձրացում:ՀՀ գյուղատնտեսական նշանակության ողջ հողատարածքի համար կազմված ագրոքիմիական քարտեզներով ապահովվածություն: Հացահատիկի և հատիկաընդեղենի արտադրության ծավալների ավելացում: | G18: =+G19 -> 7375.3 | H18: =+H19 -> 7375.3 | I18: =+I19 -> 7375.3
C19: 1059-12004 | D19: ՀՀ տարբեր մարզերում 2024 և 2025 թթ. տեղացած կարկուտի հետևանքով հողօգտագործողներին պատճառված վնասների մասնակի փոխհատուցում | E19: 2024 և 2025 թվականներին ՀՀ Արագածոտնի, Արարատի, Արմավիրի, Գեղարքունիքի, Լոռու, Շիրակի, Տավուշի և Սյունիքի մարզերում տեղացած կարկուտի հետևանքով հողօգտագործողներին պատճառված վնասների մասնակի փոխհատուցման տրամադրում | F19: Տրանսֆերտների տրամադրում | G19: =+'Հավելված 5'!G174 -> 7375.3 | H19: =+'Հավելված 5'!H174 -> 7375.3 | I19: =+'Հավելված 5'!I174 -> 7375.3
B20: 1086 | D20: Գյուղական ենթակառուցվածքների վերականգնում և զարգացում | E20: Գյուղատնտեսության ոլորտի արդյունավետության աճ | F20: Գյուղատնտեսական արտադրանքի ծավալների ավելացում | G20: =G21+G23+G22 -> -292405.4 | H20: =H21+H23+H22 -> -504000 | I20: =I21+I23+I22 -> -504000
C21: 1086 - 11005 | D21: Ասիական զարգացման բանկի աջակցությամբ իրականացվող «Կլիմայական փոփոխություններին հարմարեցվող պարենային անվտանգության բարձրացման» դրամաշնորհային ծրագրի համակարգում և ղեկավարում | E21: Ներդրումներ կլիմադիմակայուն գյուղատնտեսության և պարենային անվտանգության բարձրացման նպատակով, ինչն ուղղվելու է երկու մարզերին Շիրակի և Տավուշի, որտեղ փոքր ֆերմերները բախվում են բարձր աղքատության, պարենային անապահովության և կլիմայական ռիսկերի | F21: Ծառայությունների մատուցում | G21: =+'Հավելված 5'!G185 -> 5109.3 | H21: =+'Հավելված 5'!H185 -> 7781.1 | I21: =+'Հավելված 5'!I185 -> 19283.5
C22: 1086 - 12003 | D22: Զարգացման ֆրանսիական գործակալության աջակցությամբ ՀՀ Արարատի և Արմավիրի մարզերում ժամանակակաից պահանջներին համապատասխան ոռոգման համակարգերի ներդրման և զարգացմանն աջակցություն | E22: Արարատի և Արմավիրի մարզերում ժամանակակից պահանջներին համապատասխան ոռոգման համակարգերի ներդրմանը աջակցություն | F22: Տրանսֆերտների տրամադրում | G22: =+'Հավելված 5'!G197 -> -304858.8 | H22: =+'Հավելված 5'!H197 -> -519125.2 | I22: =+'Հավելված 5'!I197 -> -530627.6
C23: 1086 - 31003 | D23: =+'Հավելված 8'!E72 -> Ասիական զարգացման բանկի աջակցությամբ իրականացվող «Կլիմայական փոփոխություններին հարմարեցվող պարենային անվտանգության բարձրացման» դրամաշնորհային ծրագրի իրականացման համար տեխնիկական հագեցվածության ապահովում | E23: =+'Հավելված 9'!F67 -> Ծրագրի իրականացման համար աշխատանքային պայմանների ապահովման նպատակով վարչական սարքավորումների ձեռք բերում | F23: =+'Հավելված 8'!G74 -> Պետական մարմինների կողմից օգտագործվող ոչ ֆինանսական ակտիվների հետ գործառնություններ | G23: =+'Հավելված 5'!G214 -> 7344.1 | H23: =+'Հավելված 5'!H214 -> 7344.1 | I23: =+'Հավելված 5'!I214 -> 7344.1
B24: 1116 | D24: Անասնաբուժական ծառայություններ | E24: Անասնահամաճարակային կայուն ֆոնի ապահովում | F24: Գյուղատնտեսական կենդանիների վարակամերժության ապահովում | G24: =G25+G26+G27 -> -87787.214 | H24: =H25+H26+H27 -> -65387.214 | I24: =I25+I26+I27 -> -47387.214
C25: 1116 - 11001 | D25: Գյուղատնտեսական կենդանիների պատվաստում | E25: Անասնաբուժական ծառայության հակահամաճարակային միջոցառումների, կենդանիների հիվանդությունների կանխարգելման աշխատանքների կազմակերպում և համակարգում, անհրաժեշտ նյութերի ձեռքբերում | F25: Ծառայությունների մատուցում | G25: =+'Հավելված 5'!G221 -> 2575.82 | H25: =+'Հավելված 5'!H221 -> 2575.82 | I25: =+'Հավելված 5'!I221 -> 2575.82
C26: 1116 - 11005 | D26: Հայաստանի Հանրապետությունում խոշոր և մանր եղջերավոր կենդանիների համարակալում և հաշվառում | E26: Հայաստանի Հանրապետությունում խոշոր և մանր եղջերավոր կենդանիների համարակալման և հաշվառման միջոցառումների իրականացում | F26: Ծառայությունների մատուցում | G26: =+'Հավելված 5'!G230 -> -49963.034 | H26: =+'Հավելված 5'!H230 -> -49963.034 | I26: =+'Հավելված 5'!I230 -> -49963.034
C27: 1116 - 12001 | D27: Մթերատվության բարձրացման փորձնական ծրագրի շրջանակներում կովերի արհեստական սերմնավորման միջոցառումների իրականացում | E27: Արհեստական սերմնավորման միջոցով հանրապետությունում անասնագլխաքանակի ավելացում և տոհմային հատկանիշների բարելավում | F27: Տրանսֆերտների տրամադրում | G27: =+'Հավելված 5'!G239 -> -40400 | H27: =+'Հավելված 5'!H239 -> -18000 | I27: =+'Հավելված 5'!I239 -> 0
B28: 1165 | D28: Ներդրումների և արտահանման խթանման ծրագիր | E28: Ներդրումների ներգրավման և արտահանման խթանում | F28: Նախորդ տարվա համեմատ ներդրումների և արտահանման ծավալների աճ | G28: =+G30+G32+G33++G34++G35+G36+G29+G31 -> 621071 | H28: =+H30+H32+H33++H34++H35+H36+H29+H31 -> 793426.6 | I28: =+I30+I32+I33++I34++I35+I36+I29+I31 -> 63656.5
C29: 1165 - 11014 | D29: Տեղական արտադրության դեղերի ներկայացման հեռուստահաղորդաշարի պատրաստում և հեռարձակման ապահովում | E29: Ընկերությունների մասին պատմող ճանաչողական հաղորդաշարերի հեռարձակում | F29: Ծառայությունների մատուցում | G29: =+'Հավելված 5'!G20 -> 0 | H29: =+'Հավելված 5'!H20 -> 0 | I29: =+'Հավելված 5'!I20 -> -5000
C30: 1165 - 12002 | D30: Տեքստիլ ոլորտի կազմակերպությունների համար մատակարարման շղթաների դիվերսիֆիկացիայի ապահովմանն ուղղված պետական աջակցություն | E30: Տեքստիլ ընկերությունների կողմից ներգրավված առևտրի ֆինանսավորման վարկային գործիքների տոկոսադրույքների սուբսիդավորում և էլեկտրոնային հարթակներում վաճառքների խթանում | F30: Տրանսֆերտների տրամադրում | G30: =+'Հավելված 5'!G29 -> -28148 | H30: =+'Հավելված 5'!H29 -> -52148 | I30: =+'Հավելված 5'!I29 -> -92500
C31: 1165 - 12004 | D31: Կլինիկական փորձարկումների, կենսահամարժեքության հետազոտությունների սուբսիդավորում | E31: Հայաստանի Հանրապետությունում արտադրվող դեղերի կլինիկական փորձարկումների և (կամ) կենսահամարժեքության հետազոտությունների ծախսերի մասնակի սուբսիդավորում | F31: Տրանսֆերտների տրամադրում | G31: =+'Հավելված 5'!G46 -> 0 | H31: =+'Հավելված 5'!H46 -> 0 | I31: =+'Հավելված 5'!I46 -> -50000
C32: 1165 - 12005 | D32: Դեղերի գրանցման փորձաքննությունների ծախսերի սուբսիդավորում | E32: ՀՀ կառավարության 2023 թվականի մայիսի 25-ի «Դեղագործական արդյունաբերության զարգացման հնգամյա ծրագիրը և դրա իրականացումն ապահովող միջոցառումների ծրագիրը հաստատելու մասին» N 811-Լ որոշում, ՀՀ կառավարության 4.07.2024 թ. N 1034-Ն որոշում | F32: Տրանսֆերտների տրամադրում | G32: =+'Հավելված 5'!G47 -> 0 | H32: =+'Հավելված 5'!H47 -> -15000 | I32: =+'Հավելված 5'!I47 -> -20000
C33: 1165 - 12007 | D33: Մշակող արդյունաբերության ոլորտում աշխատողների ներգրավմանը պետական աջակցության տրամադրում | E33: Աշխատողների որակավորման կամ վերապատրաստման ծախսերի մասնակի փոխհատուցման միջոցով խրախուսել մշակող արդյունաբերության ճյուղի գործատուներին ներգրավել առավել մեծ թվով պոտենցիալ աշխատողներ և կանխել ոլորտում աշխատողների հոսունությունը | F33: Տրանսֆերտների տրամադրում | G33: =+'Հավելված 5'!G56 -> 64000 | H33: =+'Հավելված 5'!H56 -> 64000 | I33: =+'Հավելված 5'!I56 -> 140000
C34: 1165 - 12009 | D34: Արտահանման խթանման նպատակով օժանդակության տրամադրում | E34: Արտահանման խթանման նպատակով արտահանողին ապրանքի արտահանումից հետո ներմուծվող երկրի օրենսդրությամբ այդ ապրանքի համար սահմանված մաքսատուրքի դրույքաչափին համապատասխան հաշվարկված գումարի չափով օժանդակության տրամադրում | F34: Տրանսֆերտների տրամադրում | G34: =+'Հավելված 5'!G65 -> 633719 | H34: =+'Հավելված 5'!H65 -> 849574.6 | I34: =+'Հավելված 5'!I65 -> 213156.5
C35: 1165 - 12012 | D35: Կառավարման համակարգերի և արտադրանքի համապատասխանության սերտիֆիկատների ստացմանն աջակցություն | E35: Կազմակերպությունում ներդրված կառավարման համակարգերի սերտիֆիկացման համար կատարված ծախսերի և արտահանման նպատակով արտադրված արտադրանքի համար տրամադրված սերտիֆիկատի ծախսերի փոխհատուցում | F35: Տրանսֆերտների տրամադրում | G35: =+'Հավելված 5'!G74 -> -19500 | H35: =+'Հավելված 5'!H74 -> -19500 | I35: =+'Հավելված 5'!I74 -> -55000
C36: 1165 - 12013 | D36: Արտադրանքի սերտիֆիկացման և լաբորատոր փորձարկումների վճարների փոխհատուցում | E36: Երրորդ երկրի շուկայում տեղադրված արտադրանքի սերտիֆիկատի, լաբորատոր փորձարկման համար կատարված ծախսերի մասնակի փոխհատուցում | F36: Տրանսֆերտների տրամադրում | G36: =+'Հավելված 5'!G83 -> -29000 | H36: =+'Հավելված 5'!H83 -> -33500 | I36: =+'Հավելված 5'!I83 -> -67000
B37: 1187 | D37: Գյուղատնտեսության արդիականացման ծրագիր | E37: Գյուղատնտեսական տեխնիկական համակարգերի արդիականացում, ինտենսիվ այգիների ներդրման և տոհմաբուծության մեջ նոր ցեղատեսակների բուծման աջակցություն | F37: Ոռոգման արդիական համակարգեր ներդրված հողատարածքների և տոհմային կենդանիների տեսակարար կշռի ավելացում | G37: =+G38+G39+G40+G42+G41 -> -43824.44 | H37: =+H38+H39+H40+H42+H41 -> -54007.87 | I37: =+I38+I39+I40+I42+I41 -> -49450.117
C38: 1187 - 12006 | D38: Հայաստանի Հանրապետության գյուղատնտեսությունում կարկտապաշտպան ցանցերի ներդրման համար տրամադրվող վարկերի տոկոսադրույքների սուբսիդավորում | E38: Գյուղատնտեսության ոլորտում կարկտապաշտպան ցանցերի ներդրման համար տրամադրվող վարկերի տոկոսադրույքների սուբսիդավորում | F38: Տրանսֆերտների տրամադրում | G38: =+'Հավելված 5'!G285 -> -605 | H38: =+'Հավելված 5'!H285 -> -1039 | I38: =+'Հավելված 5'!I285 -> -1570.1
C39: 1187 - 12008 | D39: Հայաստանի Հանրապետությունում 2019-2024 թվականների տավարաբուծության զարգացման ծրագիր | E39: Հանրապետությունում խոշոր եղջերավոր տոհմային կենդանիների ձեռքբերման համար տրմադրվող նպատակային վարկերի տոկոսադրույքների սուբսիդավորում | F39: Տրանսֆերտների տրամադրում | G39: =+'Հավելված 5'!G294 -> -12370.64 | H39: =+'Հավելված 5'!H294 -> -17383.32 | I39: =+'Հավելված 5'!I294 -> -22997.2
C40: 1187 - 12012 | D40: ՀՀ-ում ոչխարաբուծության և այծաբուծության զարգացման նպատակով տրամադրվող նպատակային վարկերի տոկոսադրույքների սուբսիդավորում | E40: Հանրապետությունում մանր եղջերավոր տոհմային կենդանիների ձեռքբերման համար տրամադրվող նպատակային վարկերի տոկոսադրույքների սուբսիդավորում | F40: Տրանսֆերտների տրամադրում | G40: =+'Հավելված 5'!G303 -> -499.5 | H40: =+'Հավելված 5'!H303 -> -749.25 | I40: =+'Հավելված 5'!I303 -> -999.6
C41: 1187 - 12015 | D41: Հայաստանի Հանրապետությունում ինտենսիվ այգեգործության զարգացման նպատակով ծախսերի փոխհատուցում | E41: Հայաստանի Հանրապետությունում այգեհիմնման նպատակով կատարված ծախսերի մասնակի փոխհատուցում | F41: Տրանսֆերտների տրամադրում | G41: =+'Հավելված 5'!G312 -> -7375.3 | H41: =+'Հավելված 5'!H312 -> -7375.3 | I41: =+'Հավելված 5'!I312 -> -7375.3
C42: 1187 - 12021 | D42: Հայաստանի Հանրապետությունում 2025-2029 թվականների տավարաբուծության զարգացման ծրագրի շրջանակներում սուբսիդավորում | E42: Խոշոր եղջերավոր տոհմային կենդանիների ձեռքբերման համար տրամադրվող նպատակային վարկերի տոկոսադրույքների մասնակի սուբսիդավորում | F42: Տրանսֆերտների տրամադրում | G42: =+'Հավելված 5'!G321 -> -22974 | H42: =+'Հավելված 5'!H321 -> -27461 | I42: =+'Հավելված 5'!I321 -> -16507.917
A43: ՀՀ կառավարություն | G43: =+G44 -> 48525.5 | H43: =+H44 -> 84000 | I43: =+I44 -> 84000
B44: 1139 | D44: ՀՀ կառավարության պահուստային ֆոնդ | E44: Պետական բյուջեում չկանխատեսված, ինչպես նաեւ բյուջետային երաշխիքների ապահովման ծախսերի ֆինանսավորման ապահովում | F44: Պահուստային ֆոնդի կառավարման արդյունավետության և թափանցիկության ապահովում | G44: =+G45+G46 -> 48525.5 | H44: =+H45+H46 -> 84000 | I44: =+I45+I46 -> 84000
C45: 1139 - 11001 | D45: ՀՀ կառավարության պահուստային ֆոնդ | E45: ՀՀ պետական բյուջեում նախատեսված ելքերի լրացուցիչ ֆինանսավորման, պետական բյուջեում չկանխատեսված ելքերի, ինչպես նաև բյուջետային երաշխիքների ապահովման ելքերի ֆինանսավորման ապահովում | F45: Ծառայությունների մատուցում | G45: =+'Հավելված 5'!G342 -> 49749.5 | H45: =+'Հավելված 5'!H342 -> 160840.5 | I45: =+'Հավելված 5'!I342 -> 261114.5
C46: 1139 - 11001 | D46: ՀՀ կառավարության պահուստային ֆոնդ | E46: ՀՀ պետական բյուջեում նախատեսված ելքերի լրացուցիչ ֆինանսավորման, պետական բյուջեում չկանխատեսված ելքերի, ինչպես նաև բյուջետային երաշխիքների ապահովման ելքերի ֆինանսավորման ապահովում | F46: Ծառայությունների մատուցում | G46: =+'Հավելված 5'!G350 -> -1224 | H46: =+'Հավելված 5'!H350 -> -76840.5 | I46: =+'Հավելված 5'!I350 -> -177114.5

Sheet Հավելված 5
F1: Հավելված 5 ՀՀ կառավարության 2026 թվականի ____________ի N _____-Ն որոշման
A3: ՀԱՅԱՍՏԱՆԻ ՀԱՆՐԱՊԵՏՈՒԹՅԱՆ ԿԱՌԱՎԱՐՈՒԹՅԱՆ 2025 ԹՎԱԿԱՆԻ ԴԵԿՏԵՄԲԵՐԻ 25-Ի N 1910-Ն ՈՐՈՇՄԱՆ NN 3 ԵՎ 4 ՀԱՎԵԼՎԱԾՆԵՐՈՒՄ ԿԱՏԱՐՎՈՂ ՓՈՓՈԽՈՒԹՅՈՒՆՆԵՐԸ ԵՎ ԼՐԱՑՈՒՄՆԵՐԸ
I4: հազար դրամներով
A5: Գործառնական դասիչ | D5: Ծրագրային դասիչը | F5: Բյուջետային ծախսերի գործառական դասակարգման բաժինների, խմբերի և դասերի, բյուջետային ծրագրերի միջոցառումների, բյուջետային հատկացումների գլխավոր կարգադրիչների անվանումները | G5: Ցուցանիշների փոփոխությունները (ավելացումներ նշված են դրական նշանով, նվազեցումները՝ փակագծերում)
A6: Բաժին | B6: Խումբ | C6: Դաս | D6: Ծրագիր | E6: Միջոցառում | G6: Առաջին կիսամյակ | H6: Ինն ամիս | I6: Տարի
F7: ԸՆԴԱՄԵՆԸ ԾԱԽՍԵՐ | G7: =+G9+G330 -> 502768.15 | H7: =+H9+H330 -> -46878.084 | I7: =+I9+I330 -> -420000.03
F8: այդ թվում`
F9: ՀՀ էկոնոմիկայի նախարարություն | G9: =+G11 -> 454242.65 | H9: =+H11 -> -130878.08 | I9: =+I11 -> -504000.03
F10: այդ թվում`
A11: 04 | F11: ՏՆՏԵՍԱԿԱՆ ՀԱՐԱԲԵՐՈՒԹՅՈՒՆՆԵՐ | G11: =+G12+G92 -> 454242.65 | H11: =+H12+H92 -> -130878.08 | I11: =+I12+I92 -> -504000.03
B12: 01 | F12: Ընդհանուր բնույթի տնտեսական, առևտրային և աշխատանքի գծով հարաբերություններ | G12: =+G14 -> 621071 | H12: =+H14 -> 793426.6 | I12: =+I14 -> 63656.5
F13: այդ թվում`
C14: 01 | F14: Ընդհանուր բնույթի տնտեսական և առևտրային հարաբերություններ | G14: =+G16 -> 621071 | H14: =+H16 -> 793426.6 | I14: =+I16 -> 63656.5
F15: այդ թվում`
F16: ՀՀ էկոնոմիկայի նախարարություն | G16: =+G18 -> 621071 | H16: =+H18 -> 793426.6 | I16: =+I18 -> 63656.5
F17: այդ թվում`
D18: 1165 | F18: Ներդրումների և արտահանման խթանման ծրագիր | G18: =+G20+G29+G38+G47+G56+G65+G74+G83 -> 621071 | H18: =+H20+H29+H38+H47+H56+H65+H74+H83 -> 793426.6 | I18: =+I20+I29+I38+I47+I56+I65+I74+I83 -> 63656.5
F19: այդ թվում`
E20: 11014 | F20: Տեղական արտադրության դեղերի ներկայացման հեռուստահաղորդաշարի պատրաստում և հեռարձակման ապահովում | G20: 0 | H20: 0 | I20: =+I22 -> -5000
F21: այդ թվում` ըստ կատարողների
F22: ՀՀ էկոնոմիկայի նախարարություն | G22: 0 | H22: 0 | I22: =+I24 -> -5000
F23: այդ թվում` բյուջետային ծախսերի տնտեսագիտական դասակարգման հոդվածներ
F24: ԸՆԴԱՄԵՆԸ ԾԱԽՍԵՐ | G24: 0 | H24: 0 | I24: =+I25 -> -5000
F25: ԸՆԹԱՑԻԿ ԾԱԽՍԵՐ | G25: 0 | H25: 0 | I25: =+I26 -> -5000
F26: ԾԱՌԱՅՈՒԹՅՈՒՆՆԵՐԻ ԵՎ ԱՊՐԱՆՔՆԵՐԻ ՁԵՌՔԲԵՐՈՒՄ | G26: 0 | H26: 0 | I26: =+I27 -> -5000
F27: Պայմանագրային այլ ծառայությունների ձեռքբերում | G27: 0 | H27: 0 | I27: =+I28 -> -5000
F28: - Տեղեկատվական ծառայություններ | G28: 0 | H28: 0 | I28: -5000
E29: 12002 | F29: Տեքստիլ ոլորտի կազմակերպությունների համար մատակարարման շղթաների դիվերսիֆիկացիայի ապահովմանն ուղղված պետական աջակցություն | G29: =+G31 -> -28148 | H29: =+H31 -> -52148 | I29: =+I31 -> -92500
F30: այդ թվում` ըստ կատարողների
F31: ՀՀ էկոնոմիկայի նախարարություն | G31: =+G33 -> -28148 | H31: =+H33 -> -52148 | I31: =+I33 -> -92500
F32: այդ թվում` բյուջետային ծախսերի տնտեսագիտական դասակարգման հոդվածներ
F33: ԸՆԴԱՄԵՆԸ ԾԱԽՍԵՐ | G33: =+G34 -> -28148 | H33: =+H34 -> -52148 | I33: =+I34 -> -92500
F34: ԸՆԹԱՑԻԿ ԾԱԽՍԵՐ | G34: =+G35 -> -28148 | H34: =+H35 -> -52148 | I34: =+I35 -> -92500
F35: ՍՈՒԲՍԻԴԻԱՆԵՐ | G35: =G36 -> -28148 | H35: =H36 -> -52148 | I35: =I36 -> -92500
F36: Սուբսիդիաներ ոչ պետական կազմակերպություններին | G36: =G37 -> -28148 | H36: =H37 -> -52148 | I36: =I37 -> -92500
F37: - Սուբսիդիաներ ոչ պետական ֆինանսական կազմակերպություններին | G37: -28148 | H37: -52148 | I37: -92500
E38: 12004 | F38: Կլինիկական փորձարկումների, կենսահամարժեքության հետազոտությունների սուբսիդավորում | G38: =+G40 -> 0 | H38: =+H40 -> 0 | I38: =+I40 -> -50000
F39: այդ թվում` ըստ կատարողների
F40: ՀՀ էկոնոմիկայի նախարարություն | G40: =+G42 -> 0 | H40: =+H42 -> 0 | I40: =+I42 -> -50000
F41: այդ թվում` բյուջետային ծախսերի տնտեսագիտական դասակարգման հոդվածներ
F42: ԸՆԴԱՄԵՆԸ ԾԱԽՍԵՐ | G42: =+G43 -> 0 | H42: =+H43 -> 0 | I42: =+I43 -> -50000
F43: ԸՆԹԱՑԻԿ ԾԱԽՍԵՐ | G43: =+G44 -> 0 | H43: =+H44 -> 0 | I43: =+I44 -> -50000
F44: ՍՈՒԲՍԻԴԻԱՆԵՐ | G44: =G45 -> 0 | H44: =H45 -> 0 | I44: =I45 -> -50000
F45: Սուբսիդիաներ ոչ պետական կազմակերպություններին | G45: =G46 -> 0 | H45: =H46 -> 0 | I45: =I46 -> -50000
F46: - Սուբսիդիաներ ոչ պետական ոչ ֆինանսական կազմակերպություններին | G46: 0 | H46: 0 | I46: -50000
E47: 12005 | F47: Դեղերի գրանցման փորձաքննությունների ծախսերի սուբսիդավորում | G47: =+G49 -> 0 | H47: =+H49 -> -15000 | I47: =+I49 -> -20000
F48: այդ թվում` ըստ կատարողների
F49: ՀՀ էկոնոմիկայի նախարարություն | G49: =+G51 -> 0 | H49: =+H51 -> -15000 | I49: =+I51 -> -20000
F50: այդ թվում` բյուջետային ծախսերի տնտեսագիտական դասակարգման հոդվածներ
F51: ԸՆԴԱՄԵՆԸ ԾԱԽՍԵՐ | G51: =+G52 -> 0 | H51: =+H52 -> -15000 | I51: =+I52 -> -20000
F52: ԸՆԹԱՑԻԿ ԾԱԽՍԵՐ | G52: =+G53 -> 0 | H52: =+H53 -> -15000 | I52: =+I53 -> -20000
F53: ՍՈՒԲՍԻԴԻԱՆԵՐ | G53: =G54 -> 0 | H53: =H54 -> -15000 | I53: =I54 -> -20000
F54: Սուբսիդիաներ ոչ պետական կազմակերպություններին | G54: =G55 -> 0 | H54: =H55 -> -15000 | I54: =I55 -> -20000
F55: - Սուբսիդիաներ ոչ պետական ոչ ֆինանսական կազմակերպություններին | G55: 0 | H55: -15000 | I55: -20000
E56: 12007 | F56: Մշակող արդյունաբերության ոլորտում աշխատողների ներգրավմանը պետական աջակցության տրամադրում | G56: =+G58 -> 64000 | H56: =+H58 -> 64000 | I56: =+I58 -> 140000
F57: այդ թվում` ըստ կատարողների
F58: ՀՀ էկոնոմիկայի նախարարություն | G58: =+G60 -> 64000 | H58: =+H60 -> 64000 | I58: =+I60 -> 140000
F59: այդ թվում` բյուջետային ծախսերի տնտեսագիտական դասակարգման հոդվածներ
F60: ԸՆԴԱՄԵՆԸ ԾԱԽՍԵՐ | G60: =+G61 -> 64000 | H60: =+H61 -> 64000 | I60: =+I61 -> 140000
F61: ԸՆԹԱՑԻԿ ԾԱԽՍԵՐ | G61: =+G62 -> 64000 | H61: =+H62 -> 64000 | I61: =+I62 -> 140000
F62: ՍՈՒԲՍԻԴԻԱՆԵՐ | G62: =G63 -> 64000 | H62: =H63 -> 64000 | I62: =I63 -> 140000
F63: Սուբսիդիաներ ոչ պետական կազմակերպություններին | G63: =G64 -> 64000 | H63: =H64 -> 64000 | I63: =I64 -> 140000
F64: - Սուբսիդիաներ ոչ պետական ոչ ֆինանսական կազմակերպություններին | G64: 64000 | H64: 64000 | I64: 140000
E65: 12009 | F65: Արտահանման խթանման նպատակով օժանդակության տրամադրում | G65: =+G67 -> 633719 | H65: =+H67 -> 849574.6 | I65: =+I67 -> 213156.5
F66: այդ թվում` ըստ կատարողների
F67: ՀՀ էկոնոմիկայի նախարարություն | G67: =+G69 -> 633719 | H67: =+H69 -> 849574.6 | I67: =+I69 -> 213156.5
F68: այդ թվում` բյուջետային ծախսերի տնտեսագիտական դասակարգման հոդվածներ
F69: ԸՆԴԱՄԵՆԸ ԾԱԽՍԵՐ | G69: =+G70 -> 633719 | H69: =+H70 -> 849574.6 | I69: =+I70 -> 213156.5
F70: ԸՆԹԱՑԻԿ ԾԱԽՍԵՐ | G70: =+G71 -> 633719 | H70: =+H71 -> 849574.6 | I70: =+I71 -> 213156.5
F71: ՍՈՒԲՍԻԴԻԱՆԵՐ | G71: =G72 -> 633719 | H71: =H72 -> 849574.6 | I71: =I72 -> 213156.5
F72: Սուբսիդիաներ ոչ պետական կազմակերպություններին | G72: =G73 -> 633719 | H72: =H73 -> 849574.6 | I72: =I73 -> 213156.5
F73: - Սուբսիդիաներ ոչ պետական ոչ ֆինանսական կազմակերպություններին | G73: =633719 -> 633719 | H73: =849574.6 -> 849574.6 | I73: =212804.5+352 -> 213156.5
E74: 12012 | F74: Կառավարման համակարգերի և արտադրանքի համապատասխանության սերտիֆիկատների ստացմանն աջակցություն | G74: =+G76 -> -19500 | H74: =+H76 -> -19500 | I74: =+I76 -> -55000
F75: այդ թվում` ըստ կատարողների
F76: ՀՀ էկոնոմիկայի նախարարություն | G76: =+G78 -> -19500 | H76: =+H78 -> -19500 | I76: =+I78 -> -55000
F77: այդ թվում` բյուջետային ծախսերի տնտեսագիտական դասակարգման հոդվածներ
F78: ԸՆԴԱՄԵՆԸ ԾԱԽՍԵՐ | G78: =+G79 -> -19500 | H78: =+H79 -> -19500 | I78: =+I79 -> -55000
F79: ԸՆԹԱՑԻԿ ԾԱԽՍԵՐ | G79: =+G80 -> -19500 | H79: =+H80 -> -19500 | I79: =+I80 -> -55000
F80: ՍՈՒԲՍԻԴԻԱՆԵՐ | G80: =G81 -> -19500 | H80: =H81 -> -19500 | I80: =I81 -> -55000
F81: Սուբսիդիաներ ոչ պետական կազմակերպություններին | G81: =G82 -> -19500 | H81: =H82 -> -19500 | I81: =I82 -> -55000
F82: - Սուբսիդիաներ ոչ պետական ոչ ֆինանսական կազմակերպություններին | G82: -19500 | H82: -19500 | I82: -55000
E83: 12013 | F83: Արտադրանքի սերտիֆիկացման և լաբորատոր փորձարկումների վճարների փոխհատուցում | G83: =+G85 -> -29000 | H83: =+H85 -> -33500 | I83: =+I85 -> -67000
F84: այդ թվում` ըստ կատարողների
F85: ՀՀ էկոնոմիկայի նախարարություն | G85: =+G87 -> -29000 | H85: =+H87 -> -33500 | I85: =+I87 -> -67000
F86: այդ թվում` բյուջետային ծախսերի տնտեսագիտական դասակարգման հոդվածներ
F87: ԸՆԴԱՄԵՆԸ ԾԱԽՍԵՐ | G87: =+G88 -> -29000 | H87: =+H88 -> -33500 | I87: =+I88 -> -67000
F88: ԸՆԹԱՑԻԿ ԾԱԽՍԵՐ | G88: =+G89 -> -29000 | H88: =+H89 -> -33500 | I88: =+I89 -> -67000
F89: ՍՈՒԲՍԻԴԻԱՆԵՐ | G89: =G90 -> -29000 | H89: =H90 -> -33500 | I89: =I90 -> -67000
F90: Սուբսիդիաներ ոչ պետական կազմակերպություններին | G90: =G91 -> -29000 | H90: =H91 -> -33500 | I90: =I91 -> -67000
F91: - Սուբսիդիաներ ոչ պետական ոչ ֆինանսական կազմակերպություններին | G91: -29000 | H91: -33500 | I91: -67000
B92: 02 | F92: Գյուղատնտեսություն, անտառային տնտեսություն, ձկնորսություն և որսորդություն | G92: =+G94 -> -166828.35 | H92: =+H94 -> -924304.68 | I92: =+I94 -> -567656.53
F93: այդ թվում`
C94: 01 | F94: Գյուղատնտեսություն | G94: =+G96 -> -166828.35 | H94: =+H96 -> -924304.68 | I94: =+I96 -> -567656.53
F95: այդ թվում`
F96: ՀՀ էկոնոմիկայի նախարարություն | G96: =+G98+G183+G219+G283+G172 -> -166828.35 | H96: =+H98+H183+H219+H283+H172 -> -924304.68 | I96: =+I98+I183+I219+I283+I172 -> -567656.53
F97: այդ թվում`
D98: 1022 | F98: =+'Հավելված 4'!D9 -> Գյուղատնտեսության խթանման ծրագիր | G98: =+G100+G109+G118+G127+G145+G154+G163+G136 -> 249813.4 | H98: =+H100+H109+H118+H127+H145+H154+H163+H136 -> -308284.9 | I98: =+I100+I109+I118+I127+I145+I154+I163+I136 -> 25805.5
F99: այդ թվում`
E100: 11006 | F100: Սպանդանոցների կողմից մատուցվող խոշոր եղջերավոր կենդանիների սպանդի ծառայության վճարի մասնակի փոխհատուցման ծրագրի շրջանակներում ստացված դիմումների ուսումնասիրություն և մոնիթորինգի իրականացմանն աջակցություն | G100: =+G102 -> 878 | H100: =+H102 -> 878 | I100: =+I102 -> 878
F101: այդ թվում` ըստ կատարողների
...

Sheet Հավելված 6
D1: Հավելված 6
C2: ՀՀ կառավարության 2026 թվականի
C3: ___________ ___-ի N _______ -Ն որոշման
A6: ՀԱՅԱՍՏԱՆԻ ՀԱՆՐԱՊԵՏՈՒԹՅԱՆ ԿԱՌԱՎԱՐՈՒԹՅԱՆ 2025 ԹՎԱԿԱՆԻ ԴԵԿՏԵՄԲԵՐԻ25-Ի N 1910-Ն ՈՐՈՇՄԱՆ N 5 ՀԱՎԵԼՎԱԾԻ 7 ԱՂՅՈՒՍԱԿՈՒՄ ԿԱՏԱՐՎՈՂ ՓՈՓՈԽՈՒԹՅՈՒՆԸ
G7: հազար դրամներով
A8: Ծրագրային դասիչ | C8: Բյուջետային հատկացումների գլխավոր կարգադրիչների, ծրագրերի, միջոցառումների, ծախսային ուղղությունների անվանումները | F8: Միջոցառումները կատարող պետական մարմինների և դրամաշնորհ ստացող տնտեսվարող սուբյեկտների անվանումները | G8: Ցուցանիշների փոփոխությունները (ավելացումները նշված են դրական նշանով)
A9: Ծրագիր | B9: Միջոցառում | G9: Տարի
A10: 1 | B10: 2 | C10: 3 | F10: 4 | G10: 5
A11: Ընդամենը | G11: =+G12 -> 878
A12: ՀՀ էկոնոմիկայի նախարարություն | G12: =+G13 -> 878
A13: 1022 | B13: =+'Հավելված 4'!D9 -> Գյուղատնտեսության խթանման ծրագիր | G13: =+G14 -> 878
B14: 11006 | C14: Սպանդանոցների կողմից մատուցվող խոշոր եղջերավոր կենդանիների սպանդի ծառայության վճարի մասնակի փոխհատուցման ծրագրի շրջանակներում ստացված դիմումների ուսումնասիրություն և մոնիթորինգի իրականացմանն աջակցություն | F14: ՀՀ էկոնոմիկայի նախարարություն | G14: =G15 -> 878
F15: ՀՀ կառավարության կողմից հաստատված համապատասխան ծրագրի չափանիշները բավարարող համայնքներ | G15: =+'Հավելված 5'!I100 -> 878

Sheet Հավելված 7
M1: Հավելված N7
M2: ՀՀ կառավարության 2026 թվականի
M3: ______________ ի ___Ն որոշման
B5: «ՀԱՅԱUՏԱՆԻ ՀԱՆՐԱՊԵՏՈՒԹՅԱՆ 2026 ԹՎԱԿԱՆԻ ՊԵՏԱԿԱՆ ԲՅՈՒՋԵԻ ՄԱUԻՆ» OՐԵՆՔԻ N 1 ՀԱՎԵԼՎԱԾԻ N 4 ԱՂՅՈՒՍԱԿՈՒՄ ԿԱՏԱՐՎՈՂ ՓՈՓՈԽՈՒԹՅՈՒՆՆԵՐԸ ԵՎ ԼՐԱՑՈՒՄՆԵՐԸ, ՀԱՅԱՍՏԱՆԻ ՀԱՆՐԱՊԵՏՈՒԹՅԱՆ ԿԱՌԱՎԱՐՈՒԹՅԱՆ 2025 ԹՎԱԿԱՆԻ ԴԵԿՏԵՄԲԵՐԻ 25-Ի N 1910-Ն ՈՐՈՇՄԱՆ N 5 ՀԱՎԵԼՎԱԾԻ N 4 ԱՂՅՈՒՍԱԿՈՒՄ ԿԱՏԱՐՎՈՂ ՓՈՓՈԽՈՒԹՅՈՒՆՆԵՐԸ ԵՎ ԼՐԱՑՈՒՄՆԵՐԸ
L6: հազար դրամներով
B7: Ծրագրային դասիչը | D7: Բյուջետային գլխավոր կարգադրիչների, ծրագրերի և միջոցառումների անվանումները | E7: Ցուցանիշների փոփոխությունը (ավելացումները նշված են դրական նշանով, նվազեցումները՝ փակագծերում)
E8: Առաջին կիսամյակ | H8: Ինն ամիս | K8: Տարի
E9: Ընդամենը | F9: այդ թվում` | H9: Ընդամենը | I9: այդ թվում` | K9: Ընդամենը | L9: այդ թվում`
B10: Ծրագիր | C10: Միջոց առում | F10: Դրամաշնորհային միջոցներ | G10: Համաֆինանսավորում | I10: Դրամաշնորհային միջոցներ | J10: Համաֆինանսավորում | L10: Դրամաշնորհային միջոցներ | M10: Համաֆինանսավորում
D11: ԸՆԴԱՄԵՆԸ | E11: =+E13+E14 -> -292405.4 | F11: =+F13+F14 -> -243879.9 | G11: =+G13+G14 -> -48525.5 | H11: =+I11+J11 -> -504000 | I11: -420000 | J11: -84000 | K11: =+L11+M11 -> -504000 | L11: -420000 | M11: -84000
D12: այդ թվում`
D13: ԸՆԹԱՑԻԿ ԾԱԽՍԵՐ | E13: =+F13+G13 -> -299749.5 | F13: =+F19+F31 -> -250000 | G13: =+G19+G31 -> -49749.5 | H13: =+I13+J13 -> -511344.1 | I13: =+I19+I31 -> -426120.1 | J13: =+J19+J31 -> -85224 | K13: =+L13+M13 -> -511344.1 | L13: =+L19+L31 -> -426120.1 | M13: =+M19+M31 -> -85224
D14: ՈՉ ՖԻՆԱՆՍԱԿԱՆ ԱԿՏԻՎՆԵՐԻ ԳԾՈՎ ԾԱԽՍԵՐ | E14: =+F14+G14 -> 7344.1 | F14: =+F42 -> 6120.1 | G14: =+G42 -> 1224 | H14: =+I14+J14 -> 7344.1 | I14: =+I42 -> 6120.1 | J14: =+J42 -> 1224 | K14: =+L14+M14 -> 7344.1 | L14: =+L42 -> 6120.1 | M14: =+M42 -> 1224
D15: ՀՀ էկոնոմիկայի նախարարություն
D16: այդ թվում`
B17: 1086 | D17: Գյուղական ենթակառուցվածքների վերականգնում և զարգացում | E17: =+F17+G17 -> -292405.4 | F17: =+F19+F31+F42 -> -243879.9 | G17: =+G19+G31+G42 -> -48525.5 | H17: =+I17+J17 -> -504000 | I17: =+I19+I31+I42 -> -420000 | J17: =+J19+J31+J42 -> -84000 | K17: =+L17+M17 -> -504000 | L17: =+L19+L31+L42 -> -420000 | M17: =+M19+M31+M42 -> -84000
D18: այդ թվում`
C19: 11005 | D19: Ասիական զարգացման բանկի աջակցությամբ իրականացվող «Կլիմայական փոփոխություններին հարմարեցվող պարենային անվտանգության բարձրացման» դրամաշնորհային ծրագրի համակարգում և ղեկավարում | E19: =+F19+G19 -> 5109.3 | F19: =+F21 -> 4049 | G19: =+G21 -> 1060.3 | H19: =+H21 -> 7781.1 | I19: =+I21 -> 6026 | J19: =+J21 -> 1755.1 | K19: =+L19+M19 -> 19283.5 | L19: =+L21 -> 13397.8 | M19: =+M21 -> 5885.7
D20: այդ թվում` ըստ կատարողների | E20: =+F20+G20 -> 0
D21: ՀՀ էկոնոմիկայի նախարարություն | E21: =+F21+G21 -> 5109.3 | F21: =+F23 -> 4049 | G21: =+G23 -> 1060.3 | H21: =+I21+J21 -> 7781.1 | I21: =+I23 -> 6026 | J21: =+J23 -> 1755.1 | K21: =+L21+M21 -> 19283.5 | L21: =+L23 -> 13397.8 | M21: =+M23 -> 5885.7
D22: այդ թվում` բյուջետային ծախսերի տնտեսագիտական դասակարգման հոդվածներ
D23: ԸՆԴԱՄԵՆԸ ԾԱԽՍԵՐ | E23: =+F23+G23 -> 5109.3 | F23: =+F24 -> 4049 | G23: =+G24 -> 1060.3 | H23: =+I23+J23 -> 7781.1 | I23: =+I24 -> 6026 | J23: =+J24 -> 1755.1 | K23: =+L23+M23 -> 19283.5 | L23: =+L24 -> 13397.8 | M23: =+M24 -> 5885.7
D24: ԸՆԹԱՑԻԿ ԾԱԽՍԵՐ | E24: =+F24+G24 -> 5109.3 | F24: =+F25 -> 4049 | G24: =+G25 -> 1060.3 | H24: =+I24+J24 -> 7781.1 | I24: =+I25 -> 6026 | J24: =+J25 -> 1755.1 | K24: =+L24+M24 -> 19283.5 | L24: =+L25 -> 13397.8 | M24: =+M25 -> 5885.7
D25: ԾԱՌԱՅՈՒԹՅՈՒՆՆԵՐԻ ԵՎ ԱՊՐԱՆՔՆԵՐԻ ՁԵՌՔԲԵՐՈՒՄ | E25: =+F25+G25 -> 5109.3 | F25: =+F26+F29 -> 4049 | G25: =+G26+G29 -> 1060.3 | H25: =+I25+J25 -> 7781.1 | I25: =+I26+I29 -> 6026 | J25: =+J26+J29 -> 1755.1 | K25: =+L25+M25 -> 19283.5 | L25: =+L26+L29 -> 13397.8 | M25: =+M26+M29 -> 5885.7
D26: Պայմանագրային այլ ծառայությունների ձեռքբերում | E26: =+F26+G26 -> 5686.9 | F26: =+F27+F28 -> 4511.1 | G26: =+G27+G28 -> 1175.8 | H26: =+I26+J26 -> 8358.7 | I26: =+I27+I28 -> 6488.1 | J26: =+J27+J28 -> 1870.6 | K26: =+L26+M26 -> 20438.7 | L26: =+L27+L28 -> 14360.4 | M26: =+M27+M28 -> 6078.3
D27: - Համակարգչային ծառայություններ | E27: =+F27+G27 -> 1735.5 | F27: 1446.2 | G27: 289.3 | H27: =+I27+J27 -> 2136.5 | I27: 1780.4 | J27: 356.1 | K27: =+L27+M27 -> 2671.1 | L27: 2225.9 | M27: 445.2
D28: - Կառավարչական ծառայություններ | E28: =+F28+G28 -> 3951.4 | F28: 3064.9 | G28: 886.5 | H28: =+I28+J28 -> 6222.2 | I28: 4707.7 | J28: 1514.5 | K28: =+L28+M28 -> 17767.6 | L28: 12134.5 | M28: 5633.1
D29: Այլ մասնագիտական ծառայությունների ձեռքբերում | E29: =+F29+G29 -> -577.6 | F29: =+F30 -> -462.1 | G29: =+G30 -> -115.5 | H29: =+I29+J29 -> -577.6 | I29: =+I30 -> -462.1 | J29: =+J30 -> -115.5 | K29: =+L29+M29 -> -1155.2 | L29: =+L30 -> -962.6 | M29: =+M30 -> -192.6
D30: - Մասնագիտական ծառայություններ | E30: =+F30+G30 -> -577.6 | F30: -462.1 | G30: -115.5 | H30: =+I30+J30 -> -577.6 | I30: -462.1 | J30: -115.5 | K30: =+L30+M30 -> -1155.2 | L30: -962.6 | M30: -192.6
C31: 12003 | D31: Զարգացման ֆրանսիական գործակալության աջակցությամբ ՀՀ Արարատի և Արմավիրի մարզերում ժամանակակից պահանջներին համապատասխան ոռոգման համակարգերի ներդրման և զարգացմանն աջակցություն | E31: =+F31+G31 -> -304858.8 | F31: -254049 | G31: -50809.8 | H31: =+I31+J31 -> -519125.2 | I31: =+I33 -> -432146.1 | J31: =+J33 -> -86979.1 | K31: =+L31+M31 -> -530627.6 | L31: =+L33 -> -439517.9 | M31: =+M33 -> -91109.7
D32: այդ թվում` ըստ կատարողների | H32: =+I32+J32 -> 0
D33: ՀՀ էկոնոմիկայի նախարարություն | E33: =+F33+G33 -> -304858.8 | F33: =+F35 -> -254049 | G33: =+G35 -> -50809.8 | H33: =+I33+J33 -> -519125.2 | I33: =+I35 -> -432146.1 | J33: =+J35 -> -86979.1 | K33: =+L33+M33 -> -530627.6 | L33: =+L35 -> -439517.9 | M33: =+M35 -> -91109.7
D34: այդ թվում` բյուջետային ծախսերի տնտեսագիտական դասակարգման հոդվածներ | E34: =+F34+G34 -> 0 | H34: =+I34+J34 -> 0 | K34: =+L34+M34 -> 0
D35: ԸՆԴԱՄԵՆԸ ԾԱԽՍԵՐ | E35: =+F35+G35 -> -304858.8 | F35: =+F36 -> -254049 | G35: =+G36 -> -50809.8 | H35: =+I35+J35 -> -519125.2 | I35: =+I36 -> -432146.1 | J35: =+J36 -> -86979.1 | K35: =+L35+M35 -> -530627.6 | L35: =+L36 -> -439517.9 | M35: =+M36 -> -91109.7
D36: ԸՆԹԱՑԻԿ ԾԱԽՍԵՐ | E36: =+F36+G36 -> -304858.8 | F36: =+F37 -> -254049 | G36: =+G37 -> -50809.8 | H36: =+I36+J36 -> -519125.2 | I36: =+I37 -> -432146.1 | J36: =+J37 -> -86979.1 | K36: =+L36+M36 -> -530627.6 | L36: =+L37 -> -439517.9 | M36: =+M37 -> -91109.7
D37: ԴՐԱՄԱՇՆՈՐՀՆԵՐ | E37: =+F37+G37 -> -304858.8 | F37: =+F38+F40 -> -254049 | G37: =+G38+G40 -> -50809.8 | H37: =+I37+J37 -> -519125.2 | I37: =+I38+I40 -> -432146.1 | J37: =+J38+J40 -> -86979.1 | K37: =+L37+M37 -> -530627.6 | L37: =+L38+L40 -> -439517.9 | M37: =+M38+M40 -> -91109.7
D38: Ընթացիկ դրամաշնորհներ պետական հատվածի այլ մակարդակներին | E38: =+F38+G38 -> -4858.8 | F38: =+F39 -> -4049 | G38: =+G39 -> -809.8 | H38: =+I38+J38 -> -15625.2 | I38: =+I39 -> -12146.1 | J38: =+J39 -> -3479.1 | K38: =+L38+M38 -> -26627.6 | L38: =+L39 -> -19517.9 | M38: =+M39 -> -7109.7
D39: - Այլ ընթացիկ դրամաշնորհներ | E39: =+F39+G39 -> -4858.8 | F39: -4049 | G39: -809.8 | H39: =+I39+J39 -> -15625.2 | I39: -12146.1 | J39: -3479.1 | K39: =+L39+M39 -> -26627.6 | L39: -19517.9 | M39: -7109.7
D40: Կապիտալ դրամաշնորհներ պետական հատվածի այլ մակարդակներին | E40: =+F40+G40 -> -300000 | F40: =+F41 -> -250000 | G40: =+G41 -> -50000 | H40: =+I40+J40 -> -503500 | I40: =+I41 -> -420000 | J40: =+J41 -> -83500 | K40: =+L40+M40 -> -504000 | L40: =+L41 -> -420000 | M40: =+M41 -> -84000
D41: - Այլ կապիտալ դրամաշնորհներ | E41: =+F41+G41 -> -300000 | F41: -250000 | G41: -50000 | H41: =+I41+J41 -> -503500 | I41: -420000 | J41: -83500 | K41: =+L41+M41 -> -504000 | L41: -420000 | M41: -84000
C42: 31003 | D42: Ասիական զարգացման բանկի աջակցությամբ իրականացվող «Կլիմայական փոփոխություններին հարմարեցվող պարենային անվտանգության բարձրացման» դրամաշնորհային ծրագրի իրականացման համար տեխնիկական հագեցվածության ապահովում | E42: 7344.1 | F42: =+F44 -> 6120.1 | G42: =+G44 -> 1224 | H42: 7344.1 | I42: =+I44 -> 6120.1 | J42: =+J44 -> 1224 | K42: =+L42+M42 -> 7344.1 | L42: =+L44 -> 6120.1 | M42: =+M44 -> 1224
D43: այդ թվում` ըստ կատարողների
D44: ՀՀ էկոնոմիկայի նախարարություն | E44: =+F44+G44 -> 7344.1 | F44: =+F46 -> 6120.1 | G44: =+G46 -> 1224 | H44: =+I44+J44 -> 7344.1 | I44: =+I46 -> 6120.1 | J44: =+J46 -> 1224 | K44: =+L44+M44 -> 7344.1 | L44: =+L46 -> 6120.1 | M44: =+M46 -> 1224
D45: այդ թվում` բյուջետային ծախսերի տնտեսագիտական դասակարգման հոդվածներ | E45: =+F45+G45 -> 0 | H45: =+I45+J45 -> 0 | K45: =+L45+M45 -> 0
D46: ԸՆԴԱՄԵՆԸ ԾԱԽՍԵՐ | E46: =+F46+G46 -> 7344.1 | F46: =+F47 -> 6120.1 | G46: =+G47 -> 1224 | H46: =+I46+J46 -> 7344.1 | I46: =+I47 -> 6120.1 | J46: =+J47 -> 1224 | K46: =+L46+M46 -> 7344.1 | L46: =+L47 -> 6120.1 | M46: =+M47 -> 1224
D47: ՈՉ ՖԻՆԱՆՍԱԿԱՆ ԱԿՏԻՎՆԵՐԻ ԳԾՈՎ ԾԱԽՍԵՐ | E47: =+F47+G47 -> 7344.1 | F47: =+F48 -> 6120.1 | G47: =+G48 -> 1224 | H47: =+I47+J47 -> 7344.1 | I47: =+I48 -> 6120.1 | J47: =+J48 -> 1224 | K47: =+L47+M47 -> 7344.1 | L47: =+L48 -> 6120.1 | M47: =+M48 -> 1224
D48: ՀԻՄՆԱԿԱՆ ՄԻՋՈՑՆԵՐ | E48: =+F48+G48 -> 7344.1 | F48: =+F49+F51 -> 6120.1 | G48: =+G49+G51 -> 1224 | H48: =+I48+J48 -> 7344.1 | I48: =+I49+I51 -> 6120.1 | J48: =+J49+J51 -> 1224 | K48: =+L48+M48 -> 7344.1 | L48: =+L49+L51 -> 6120.1 | M48: =+M49+M51 -> 1224
D49: ՄԵՔԵՆԱՆԵՐ ԵՎ ՍԱՐՔԱՎՈՐՈՒՄՆԵՐ | E49: =+F49+G49 -> 6910.1 | F49: =+F50 -> 5758.4 | G49: =+G50 -> 1151.7 | H49: =+I49+J49 -> 6910.1 | I49: =+I50 -> 5758.4 | J49: =+J50 -> 1151.7 | K49: =+L49+M49 -> 6910.1 | L49: =+L50 -> 5758.4 | M49: =+M50 -> 1151.7
D50: - Վարչական սարքավորումներ | E50: =+F50+G50 -> 6910.1 | F50: 5758.4 | G50: 1151.7 | H50: =+I50+J50 -> 6910.1 | I50: 5758.4 | J50: 1151.7 | K50: =+L50+M50 -> 6910.1 | L50: 5758.4 | M50: 1151.7
D51: ԱՅԼ ՀԻՄՆԱԿԱՆ ՄԻՋՈՑՆԵՐ | E51: =+F51+G51 -> 434 | F51: =+F52 -> 361.7 | G51: =+G52 -> 72.3 | H51: =+I51+J51 -> 434 | I51: =+I52 -> 361.7 | J51: =+J52 -> 72.3 | K51: =+L51+M51 -> 434 | L51: =+L52 -> 361.7 | M51: =+M52 -> 72.3
D52: - Ոչ նյութական հիմնական միջոցներ | E52: =+F52+G52 -> 434 | F52: 361.7 | G52: 72.3 | H52: =+I52+J52 -> 434 | I52: 361.7 | J52: 72.3 | K52: =+L52+M52 -> 434 | L52: 361.7 | M52: 72.3

Sheet Հավելված 8
A1: Հավելված 8 ՀՀ կառավարության 2026 թվականի ____________ի N _____-Ն որոշման
A2: ՀԱՅԱՍՏԱՆԻ ՀԱՆՐԱՊԵՏՈՒԹՅԱՆ ԿԱՌԱՎԱՐՈՒԹՅԱՆ 2025 ԹՎԱԿԱՆԻ ԴԵԿՏԵՄԲԵՐԻ 25-Ի N 1910-Ն ՈՐՈՇՄԱՆ N 9 ՀԱՎԵԼՎԱԾՈՒՄ ԿԱՏԱՐՎՈՂ ՓՈՓՈԽՈՒԹՅՈՒՆՆԵՐԸ ԵՎ ԼՐԱՑՈՒՄՆԵՐԸ
L3: հազար դրամներով
A4: ԲԳԿ | B4: Ծրագիր | D4: Միջոցառում | H4: Իրականացնողը/ ակտիվն օգտագործողը/ շահառուի ընտրության չափորոշիչը | I4: Արդյունքային չափորոշիչը | J4: Ցուցանիշների փոփոխությունը (ավելացումները նշված են դրական նշանով, իսկ նվազեցումները՝ փակագծերում)
B5: Դասիչը | C5: Անվա-նումը | D5: Դասիչը | E5: Անվա-նումը | F5: Նկարագրու-թյունը | G5: Տեսակը | J5: Առաջին կիսամյակ | K5: Ինն ամիս | L5: Տարի
A6: ԸՆԴԱՄԵՆԸ | J6: =+J7+J172 -> 502768.15 | K6: =+K7+K172 -> -46878.084 | L6: =+L7+L172 -> -420000.03
A7: ՀՀ էկոնոմիկայի նախարարություն | J7: =+J8+J56+J79+J96+J148+J50 -> 454242.65 | K7: =+K8+K56+K79+K96+K148+K50 -> -130878.08 | L7: =+L8+L56+L79+L96+L148+L50 -> -504000.03 | M7: =+J7-'Հավելված 5'!G9 -> 0 | N7: =+K7-'Հավելված 5'!H9 -> 0 | O7: =+L7-'Հավելված 5'!I9 -> 0
B8: 1022 | C8: Գյուղատնտեսության խթանման ծրագիր | J8: =+J9+J14+J19+J24+J29+J34+J45+J40 -> 249813.4 | K8: =+K9+K14+K19+K24+K29+K34+K45+K40 -> -308284.9 | L8: =+L9+L14+L19+L24+L29+L34+L45+L40 -> 25805.5
D9: 1022 - 11006 | E9: Սպանդանոցների կողմից մատուցվող խոշոր եղջերավոր կենդանիների սպանդի ծառայության վճարի մասնակի փոխհատուցման ծրագրի շրջանակներում ստացված դիմումների ուսումնասիրություն և մոնիթորինգի իրականացմանն աջակցություն | J9: =+'Հավելված 5'!G100 -> 878 | K9: =+'Հավելված 5'!H100 -> 878 | L9: =+'Հավելված 5'!I100 -> 878
F10: Սպանդանոցների տեղակայման վայրի համայնքների կողմից խոշոր եղջերավոր կենդանիների սպանդի ծառայության վճարի մասնակի փոխհատուցման ծրագրի շրջանակներում ստացված դիմումների ուսումնասիրություն և մոնիթորինգի իրականացում
G11: Ծառայությունների մատուցում
H12: Ծառայությունը մատուցողի անվանումը` Համայնքներ՛ ընտրված ՀՀ կառավարության կողմից հաստատվածհամապատասխան ծրագրի չափանիշներին
I13: Սպանդանոցների տեղակայման վայրի համայնքներ, հատ մինչև | J13: -23 | L13: -23
D14: 1022 - 12001 | E14: Գյուղատնտեսական վարկերի տոկոսադրույքների սուբսիդավորում | J14: =+'Հավելված 5'!G109 -> 0 | K14: =+'Հավելված 5'!H109 -> -100000 | L14: =+'Հավելված 5'!I109 -> 1667000
F15: Գյուղատնտեսության ոլորտում տրամադրվող վարկերի տոկոսադրույքների սուբսիդավորում
G16: Տրանսֆերտների տրամադրում
H17: Շահառուների ընտրության չափորոշիչները` ՀՀ գյուղատնտեսությամբ զբաղվող տնտեսավարող սուբյեկտներ ընտրված համաձայն` ՀՀ կառավարության 07.03.2019թ. թիվ 184-Լ և 09.04.2026թ. N 468-Լ որոշումներով հաստատված ծրագրերի և ֆինանսական կառույցների կողմից հաստատված համապատասխան չափանիշների
I18: Ագրոպարենային ոլորտին 0% տոկոսադրույքով տրամադրվող վարկերի սուբսիդավորվող տնտեսավարող սուբյեկտներ, վարկառու | L18: 20000
D19: 1022 - 12005 | E19: Գերմանիայի զարգացման վարկերի բանկի (KFW) հետ համատեղ գյուղատնտեսության ոլորտում ապահովագրական համակարգի ներդրման փորձնական ծրագրի իրականացման համար պետական աջակցություն | J19: =+'Հավելված 5'!G118 -> 199242.5 | K19: =+'Հավելված 5'!H118 -> 199242.5 | L19: =+'Հավելված 5'!I118 -> 199242.5
F20: Ապահովագրավճարների մասնակի սուբսիդավորում մարզերի կամ մարզերի որոշ տարածաշրջանների գյուղատնտեսությունում տնտեսավարողներին
G21: Տրանսֆերտների տրամադրում
H22: Շահառուների ընտրության չափորոշիչները` ՀՀ գյուղատնտեսությամբ զբաղվող տնտեսավարողներ՛ ընտրված ՀՀ կառավարության 2019 թվականի հոկտեմբերի 24-ի թիվ 1485-Լ որոշմամբ և ապահովագրական կառույցի կողմից հաստատված չափանիշների համաձայն
I23: Ապահովագրվող տարածքներ, հա | J23: 4000 | L23: 2500
D24: 1022 - 12010 | E24: Անասնաբուծության ճյուղում իրականացվող ներդրումային ծրագրերին աջակցություն | J24: =+'Հավելված 5'!G127 -> 0 | K24: =+'Հավելված 5'!H127 -> -456576.8 | L24: =+'Հավելված 5'!I127 -> -2075633
F25: Անասնաբուծության ճյուղում իրականացվող առնվազն 1 մլրդ դրամի ներդրումներից կապիտալ ներդրումների մասնակի փոխհատուցում
G26: Տրանսֆերտների տրամադրում
H27: Շահառուների ընտրության չափորոշիչները` ՀՀ գյուղատնտեսական տնտեսավարողներ՛ ընտրված ՀՀ կառավարության 03.03.2022թ. թիվ 276-Լ որոշմամբ հաստատված ծրագրի չափանիշներին համապատասխան
I28: Նախորդ տարներից իրականացվող ներդրումային ծրագրեր, հատ | L28: -2
D29: 1022 - 12011 | E29: Հայաստանի Հանրապետությունում գյուղատնտեսական նշանակության հողերի միավորմանը (կոնսոլիդացիային) աջակցություն | J29: =+'Հավելված 5'!G136 -> 24742.9 | K29: =+'Հավելված 5'!H136 -> 24742.9 | L29: =+'Հավելված 5'!I136 -> 0
F30: Գյուղատնտեսական նշանակության հողերի առանձին գույքային միավորների ձեռքբերման և միավորման միջոցով առնվազն 5 հա հանրագումարային մակերեսով հողամասերի ստեղծում և ձեռքբերված առանձին գույքային միավոր հանդիսացող հողամասերի կադաստրային արժեքի 30%-ի փոխհատուցում
G31: Տրանսֆերտների տրամադրում
H32: Շահառուների ընտրության չափորոշիչները` ՀՀ տնտեսավարողներ՛ ՀՀ կառավարության 04.08.2022թ. թիվ 1220-Լ որոշմամբ հաստատված ծրագրի չափանիշներին համապատասխան
I33: Ծրագրի շրջանակում միավորված հողեր, հեկտար | J33: 0.21
D34: 1022 - 12013 | E34: Հայաստանի Հանրապետությունում արդյունաբերական խեցգետնաբուծության զարգացման ծրագիր | J34: =+'Հավելված 5'!G145 -> 0 | K34: =+'Հավելված 5'!H145 -> -77138 | L34: =+'Հավելված 5'!I145 -> 33477.5
F35: Բնական պաշարների խնայողաբար օգտագործման, արտադրական գործընթացների արդյունավետության բարձրացման և շահառուների եկամուտների ավելացման նպատակով ՀՀ-ում խեցգետինների արհեստական բուծման և աճեցման տնտեսությունների հիմնման գործընթացի խթանում պետական աջակցությամբ
G36: Տրանսֆերտների տրամադրում
H37: Շահառուների ընտրության չափորոշիչները` ՀՀ տնտեսավարողներ՛ ընտրված ՀՀ կառավարության 13.04.2023թ. թիվ 532-Լ որոշմամբ հաստատված ծրագրի չափանիշներին համապատասխան
I38: Ծրագրի շրջանակներում հիմնվող խոշոր խեցգետնաբուծական համալիրներ, հատ | L38: -1
I39: Ծրագրի շրջանակներում հիմնվող միջին խեցգետնաբուծական համալիրներ, հատ | L39: 2
D40: 1022 - 12018 | E40: Սպանդանոցների կողմից մատուցվող խոշոր եղջերավոր կենդանիների սպանդի ծառայության վճարի մասնակի փոխհատուցման տրամադրում | J40: =+'Հավելված 5'!G154 -> 24950 | K40: =+'Հավելված 5'!H154 -> 24950 | L40: =+'Հավելված 5'!I154 -> 24950
F41: Սպանդանոցների կողմից մատուցվող խոշոր եղջերավոր կենդանիների սպանդի ծառայության վճարի մասնակի փոխհատուցում
G42: Տրանսֆերտների տրամադրում
H43: Շահառուների ընտրության չափորոշիչները` Շահառուների ընտրության չափորոշիչները` ՀՀ կառավարության 2024 թվականի օգոստոսի 1-ի N 1176-Լ որոշմամբ հաստատված ծրագրի չափանիշները բավարարող շահառուներ
I44: Սպանդանոցային սպանդի ծառայության մատուցմամբ սպանդի ենթարկված խոշոր եղջերավոր կենդանիների գլխաքանակ, հատ | J44: 2495 | L44: 2495
D45: 1022 - 12021 | E45: =+'Հավելված 4'!D17 -> Խաղող վերամշակող տնտեսավարողներին տրամադրվող վարկերի տոկոսադրույքների սուբսիդավորում | J45: =+'Հավելված 4'!G17 -> 0 | K45: =+'Հավելված 4'!H17 -> 75616.5 | L45: =+'Հավելված 4'!I17 -> 175890.5
F46: =+'Հավելված 4'!E17 -> Խաղող վերամշակող տնտեսավարողներին աշխատակիցներին աշխատավարձի և դրան հավասարեցված վճարումների, պետական կամ համայնքի բյուջե հարկերի և պարտադիր վճարումների նպատակով տրամադրվող վարկերի տոկոսադրույքների սուբսիդավորում
G47: Տրանսֆերտների տրամադրում
H48: Շահառուների ընտրության չափորոշիչները` ՀՀ ընկերություններ՝ ընտրված համաձայն՝ ՀՀ կառավարության 26.03.2026թ. թիվ 387-Լ որոշմամբ հաստատված ծրագրի և ֆինանսական կառույցների կողմից հաստատված համապատասխան չափանիշների
I49: Սուբսիդավորվող տնտեսավարող սուբյեկտներ, վարկառու | L49: 3
B50: 1059 | C50: =+'Հավելված 4'!D18 -> Բուսաբուծության խթանում և բույսերի պաշտպանություն | J50: =+J51 -> 7375.3 | K50: =+K51 -> 7375.3 | L50: =+L51 -> 7375.3
D51: 1059-12004 | E51: =+'Հավելված 4'!D19 -> ՀՀ տարբեր մարզերում 2024 և 2025 թթ. տեղացած կարկուտի հետևանքով հողօգտագործողներին պատճառված վնասների մասնակի փոխհատուցում | J51: =+'Հավելված 4'!G19 -> 7375.3 | K51: =+'Հավելված 4'!H19 -> 7375.3 | L51: =+'Հավելված 4'!I19 -> 7375.3
F52: =+'Հավելված 4'!E19 -> 2024 և 2025 թվականներին ՀՀ Արագածոտնի, Արարատի, Արմավիրի, Գեղարքունիքի, Լոռու, Շիրակի, Տավուշի և Սյունիքի մարզերում տեղացած կարկուտի հետևանքով հողօգտագործողներին պատճառված վնասների մասնակի փոխհատուցման տրամադրում
G53: =+'Հավելված 4'!F19 -> Տրանսֆերտների տրամադրում
G54: Շահառուների ընտրության չափորոշիչները` ՀՀ գյուղատնտեսությամբ զբաղվող տնտեսավարող սուբյեկտներ ընտրված համաձայն` ՀՀ կառավարության 09. 10.2025թ. թիվ 1441 -Լ որոշմամբ հաստատված ծրագրի և ֆինանսական կառույցների կողմից հաստատված համապատասխան չափանիշների
H55: Վնասված ցանքատարածությունների և այգետարածքների մակերես, հա | J55: 48.34 | L55: =+J55 -> 48.34
B56: 1086 | C56: Գյուղական ենթակառուցվածքների վերականգնում և զարգացում | J56: =+J57+J63+J72 -> -292405.4 | K56: =+K57+K63+K72 -> -504000 | L56: =+L57+L63+L72 -> -504000 | M56: =+J56-'Հավելված 5'!G183 -> 0 | N56: =+K56-'Հավելված 5'!H183 -> 0 | O56: =+L56-'Հավելված 5'!I183 -> 0
D57: 1086 - 11005 | E57: Ասիական զարգացման բանկի աջակցությամբ իրականացվող «Կլիմայական փոփոխություններին հարմարեցվող պարենային անվտանգության բարձրացման» դրամաշնորհային ծրագրի համակարգում և ղեկավարում | J57: =+'Հավելված 7'!E19 -> 5109.3 | K57: =+'Հավելված 7'!H19 -> 7781.1 | L57: =+'Հավելված 7'!K19 -> 19283.5
F58: Ներդրումներ կլիմադիմակայուն գյուղատնտեսության և պարենային անվտանգության բարձրացման նպատակով, ինչն ուղղվելու է երկու մարզերին Շիրակի և Տավուշի, որտեղ փոքր ֆերմերները բախվում են բարձր աղքատության, պարենային անապահովության և կլիմայական ռիսկերի
G59: Ծառայությունների մատուցում
H60: Ծառայությունը մատուցողի անվանումը` Մասնագիտացված միավոր
I61: Վերապատրաստման և կարողությունների զարգացման դասընթացների քանակ, հատ | L61: 2
I62: Աջակցություն ստացած համայնքների (գյուղերի) քանակ, հատ | L62: 2
D63: 1086 - 12003 | E63: Զարգացման ֆրանսիական գործակալության աջակցությամբ ՀՀ Արարատի և Արմավիրի մարզերում ժամանակակաից պահանջներին համապատասխան ոռոգման համակարգերի ներդրման և զարգացմանն աջակցություն | J63: =+'Հավելված 7'!E31 -> -304858.8 | K63: =+'Հավելված 7'!H31 -> -519125.2 | L63: =+'Հավելված 7'!K31 -> -530627.6
F64: Արարատի և Արմավիրի մարզերում ժամանակակից պահանջներին համապատասխան ոռոգման համակարգերի ներդրմանը աջակցություն
G65: Տրանսֆերտների տրամադրում
H66: Շահառուների ընտրության չափորոշիչները` Մասնագիտացված միավոր
I67: Նոր տեխնոլոգիաներով ոռոգման ենթակա հողատարածքներ, հա | J67: -450 | L67: -800
I68: Հողերի խոշորացման գործարքներ, հատ | J68: -2 | L68: -4
I69: Կոոպերատիվների ստեղծում, միավոր | J69: -2 | L69: -11
I70: Ցուցադրական գյուղացիական տնտեսությունների հիմնման աջակցություն | J70: - | L70: 5
I71: Գյուղատնտեսության աջակցության երաշխիքային ֆոնդի ստեղծում, միավոր | J71: - | L71: 1
D72: 1086 - 31003 | E72: =+'Հավելված 7'!D42 -> Ասիական զարգացման բանկի աջակցությամբ իրականացվող «Կլիմայական փոփոխություններին հարմարեցվող պարենային անվտանգության բարձրացման» դրամաշնորհային ծրագրի իրականացման համար տեխնիկական հագեցվածության ապահովում | J72: =+'Հավելված 7'!E42 -> 7344.1 | K72: =+'Հավելված 7'!H42 -> 7344.1 | L72: =+'Հավելված 7'!K42 -> 7344.1
F73: Ծրագրի իրականացման համար աշխատանքային պայմանների ապահովման նպատակով վարչական սարքավորումների ձեռք բերում
G74: Պետական մարմինների կողմից օգտագործվող ոչ ֆինանսական ակտիվների հետ գործառնություններ
H75: Ակտիվն օգտագործող կազմակերպության անվանումը` Մասնագիտացված միավոր
I76: Համակարգչային սարքավորումներ, հատ | J76: 10 | L76: 10
I77: Վարչական սարքավորումներ, հատ | J77: 2 | L77: 2
I78: Գրասենյակային գույքի միավորի քանակ, հատ | J78: 18 | L78: 18
B79: 1116 | C79: Անասնաբուժական ծառայություններ | J79: =+J80+J84+J91 -> -87787.214 | K79: =+K80+K84+K91 -> -65387.214 | L79: =+L80+L84+L91 -> -47387.214 | M79: =+J79-'Հավելված 5'!G219 -> 0 | N79: =+K79-'Հավելված 5'!H219 -> 0 | O79: =+L79-'Հավելված 5'!I219 -> 0
D80: 1116 - 11001 | E80: Գյուղատնտեսական կենդանիների պատվաստում | J80: =+'Հավելված 5'!G221 -> 2575.82 | K80: =+'Հավելված 5'!H221 -> 2575.82 | L80: =+'Հավելված 5'!I221 -> 2575.82
F81: Անասնաբուժական ծառայության հակահամաճարակային միջոցառումների, կենդանիների հիվանդությունների կանխարգելման աշխատանքների կազմակերպում և համակարգում, անհրաժեշտ նյութերի ձեռքբերում
G82: Ծառայությունների մատուցում
H83: Ծառայությունը մատուցողի անվանումը` Մասնագիտացված կազմակերպություններ
D84: 1116 - 11005 | E84: Հայաստանի Հանրապետությունում խոշոր և մանր եղջերավոր կենդանիների համարակալում և հաշվառում | J84: =+'Հավելված 5'!G230 -> -49963.034 | K84: =+'Հավելված 5'!H230 -> -49963.034 | L84: =+'Հավելված 5'!I230 -> -49963.034
F85: Հայաստանի Հանրապետությունում խոշոր և մանր եղջերավոր կենդանիների համարակալման և հաշվառման միջոցառումների իրականացում
G86: Ծառայությունների մատուցում
H87: Ծառայությունը մատուցողի անվանումը` Մասնագիտացված կազմակերպություններ
I88: Համարակալման միջոցառումների քանակը հատ, այդ թվում | L88: =+L89+L90 -> 50000
I89: խոշոր եղջերավոր կենդանիներ | L89: 34000
I90: ընթացիկ տարվա հորթեր | L90: 16000
D91: 1116 - 12001 | E91: Մթերատվության բարձրացման փորձնական ծրագրի շրջանակներում կովերի արհեստական սերմնավորման միջոցառումների իրականացում | J91: =+'Հավելված 9'!J170+'Հավելված 9'!J177+'Հավելված 9'!J184+'Հավելված 9'!J191+'Հավելված 9'!J198+'Հավելված 9'!J205 -> -40400 | K91: =+'Հավելված 9'!K170+'Հավելված 9'!K177+'Հավելված 9'!K184+'Հավելված 9'!K191+'Հավելված 9'!K198+'Հավելված 9'!K205 -> -18000 | L91: =+'Հավելված 9'!L170+'Հավելված 9'!L177+'Հավելված 9'!L184+'Հավելված 9'!L191+'Հավելված 9'!L198+'Հավելված 9'!L205 -> 0
F92: Արհեստական սերմնավորման միջոցով հանրապետությունում անասնագլխաքանակի ավելացում և տոհմային հատկանիշների բարելավում
G93: Տրանսֆերտների տրամադրում
H94: Շահառուների ընտրության չափորոշիչները` ՀՀ կառավարության 2024 թվականի օգոստոսի 22-ի N 1392-Լ որոշմամբ հաստատված ծրագրի չափանիշները բավարարող շահառուներ
I95: Սերմնավորված կովեր, գլուխ | J95: =+'Հավելված 9'!J174+'Հավելված 9'!J181+'Հավելված 9'!J188+'Հավելված 9'!J195+'Հավելված 9'!J202+'Հավելված 9'!J209 -> -4040 | L95: =+'Հավելված 9'!L174+'Հավելված 9'!L181+'Հավելված 9'!L188+'Հավելված 9'!L195+'Հավելված 9'!L202+'Հավելված 9'!L209 -> 0
B96: 1165 | C96: Ներդրումների և արտահանման խթանման ծրագիր | J96: =+J97+J102+J107+J112+J116+J121+J128+J142 -> 621071 | K96: =+K97+K102+K107+K112+K116+K121+K128+K142 -> 793426.6 | L96: =+L97+L102+L107+L112+L116+L121+L128+L142 -> 63656.5 | M96: =+J96-'Հավելված 5'!G18 -> 0 | N96: =+K96-'Հավելված 5'!H18 -> 0 | O96: =+L96-'Հավելված 5'!I18 -> 0
D97: 1165 - 11014 | E97: Տեղական արտադրության դեղերի ներկայացման հեռուստահաղորդաշարի պատրաստում և հեռարձակման ապահովում | J97: 0 | K97: 0 | L97: -5000
F98: Ընկերությունների մասին պատմող ճանաչողական հաղորդաշարերի հեռարձակում
G99: Ծառայությունների մատուցում
H100: Ծառայությունը մատուցողի անվանումը` Մասնագիտացված կազմակերպություններ
...

Sheet Հավելված 9
A1: Հավելված 9 ՀՀ կառավարության 2026 թվականի ____________ի N _____-Ն որոշման
A2: ՀԱՅԱՍՏԱՆԻ ՀԱՆՐԱՊԵՏՈՒԹՅԱՆ ԿԱՌԱՎԱՐՈՒԹՅԱՆ 2025 ԹՎԱԿԱՆԻ ԴԵԿՏԵՄԲԵՐԻ 25-Ի N 1910-Ն ՈՐՈՇՄԱՆ N 9.1 ՀԱՎԵԼՎԱԾՈՒՄ ԿԱՏԱՐՎՈՂ ՓՈՓՈԽՈՒԹՅՈՒՆՆԵՐԸ ԵՎ ԼՐԱՑՈՒՄՆԵՐԸ
L3: հազար դրամներով
A4: ԲՍԿ | B4: Ծրագիր | D4: Միջոցառում | H4: Իրականացնողը/ ակտիվն օգտագործողը/ շահառուի ընտրության չափորոշիչը | I4: Արդյունքային չափորոշիչը | J4: Ցուցանիշների փոփոխությունը (ավելացումները նշված են դրական նշանով, իսկ նվազեցումները՝ փակագծերում)
B5: Դասիչը | C5: Անվա-նումը | D5: Դասիչը | E5: Անվա-նումը | F5: Նկարագրու-թյունը | G5: Տեսակը | J5: Առաջին կիսամյակ | K5: Ինն ամիս | L5: Տարի
A6: ԸՆԴԱՄԵՆԸ | J6: =+J7+J168+J175+J182+J210+J189+J196+J203+J161 -> 502768.15 | K6: =+K7+K168+K175+K182+K210+K189+K196+K203+K161 -> -46878.084 | L6: =+L7+L168+L175+L182+L210+L189+L196+L203+L161 -> -420000.03
A7: ՀՀ էկոնոմիկայի նախարարություն | J7: =+J8+J50+J85+J137+J73 -> 487267.35 | K7: =+K8+K50+K85+K137+K73 -> -120253.38 | L7: =+L8+L50+L85+L137+L73 -> -511375.33
B8: 1022 | C8: =+'[5]Havelvats 3'!D9 -> Գյուղատնտեսության խթանման ծրագիր | J8: =+J9+J14+J19+J24+J29+J34+J40+J45 -> 249813.4 | K8: =+K9+K14+K19+K24+K29+K34+K40+K45 -> -308284.9 | L8: =+L9+L14+L19+L24+L29+L34+L40+L45 -> 25805.5
D9: 1022 - 11006 | E9: Սպանդանոցների կողմից մատուցվող խոշոր եղջերավոր կենդանիների սպանդի ծառայության վճարի մասնակի փոխհատուցման ծրագրի շրջանակներում ստացված դիմումների ուսումնասիրություն և մոնիթորինգի իրականացմանն աջակցություն | J9: =+'Հավելված 5'!G100 -> 878 | K9: =+'Հավելված 5'!H100 -> 878 | L9: =+'Հավելված 5'!I100 -> 878
F10: Սպանդանոցների տեղակայման վայրի համայնքների կողմից խոշոր եղջերավոր կենդանիների սպանդի ծառայության վճարի մասնակի փոխհատուցման ծրագրի շրջանակներում ստացված դիմումների ուսումնասիրություն և մոնիթորինգի իրականացում
G11: Ծառայությունների մատուցում
H12: Ծառայությունը մատուցողի անվանումը` Համայնքներ՛ ընտրված ՀՀ կառավարության կողմից հաստատվածհամապատասխան ծրագրի չափանիշներին
I13: Սպանդանոցների տեղակայման վայրի համայնքներ, հատ մինչև | J13: -23 | L13: -23
D14: 1022 - 12001 | E14: =+'Հավելված 8'!E14:I14 -> Գյուղատնտեսական վարկերի տոկոսադրույքների սուբսիդավորում | J14: =+'Հավելված 8'!J14 -> 0 | K14: =+'Հավելված 8'!K14 -> -100000 | L14: =+'Հավելված 8'!L14 -> 1667000
F15: =+'Հավելված 8'!F15:L15 -> Գյուղատնտեսության ոլորտում տրամադրվող վարկերի տոկոսադրույքների սուբսիդավորում
G16: =+'Հավելված 8'!G16:L16 -> Տրանսֆերտների տրամադրում
H17: =+'Հավելված 8'!H17:L17 -> Շահառուների ընտրության չափորոշիչները` ՀՀ գյուղատնտեսությամբ զբաղվող տնտեսավարող սուբյեկտներ ընտրված համաձայն` ՀՀ կառավարության 07.03.2019թ. թիվ 184-Լ և 09.04.2026թ. N 468-Լ որոշումներով հաստատված ծրագրերի և ֆինանսական կառույցների կողմից հաստատված համապատասխան չափանիշների
I18: =+'Հավելված 8'!I18 -> Ագրոպարենային ոլորտին 0% տոկոսադրույքով տրամադրվող վարկերի սուբսիդավորվող տնտեսավարող սուբյեկտներ, վարկառու | L18: =+'Հավելված 8'!L18 -> 20000
D19: 1022 - 12005 | E19: Գերմանիայի զարգացման վարկերի բանկի (KFW) հետ համատեղ գյուղատնտեսության ոլորտում ապահովագրական համակարգի ներդրման փորձնական ծրագրի իրականացման համար պետական աջակցություն | J19: =+'Հավելված 8'!J19 -> 199242.5 | K19: =+'Հավելված 8'!K19 -> 199242.5 | L19: =+'Հավելված 8'!L19 -> 199242.5
F20: Ապահովագրավճարների մասնակի սուբսիդավորում մարզերի կամ մարզերի որոշ տարածաշրջանների գյուղատնտեսությունում տնտեսավարողներին
G21: Տրանսֆերտների տրամադրում
H22: Շահառուների ընտրության չափորոշիչները` ՀՀ գյուղատնտեսությամբ զբաղվող տնտեսավարողներ՛ ընտրված ՀՀ կառավարության 2019 թվականի հոկտեմբերի 24-ի թիվ 1485-Լ որոշմամբ և ապահովագրական կառույցի կողմից հաստատված չափանիշների համաձայն
I23: Ապահովագրվող տարածքներ, հա | J23: 4000 | L23: 2500
D24: 1022 - 12010 | E24: Անասնաբուծության ճյուղում իրականացվող ներդրումային ծրագրերին աջակցություն | J24: =+'Հավելված 8'!J24 -> 0 | K24: =+'Հավելված 8'!K24 -> -456576.8 | L24: =+'Հավելված 8'!L24 -> -2075633
F25: Անասնաբուծության ճյուղում իրականացվող առնվազն 1 մլրդ դրամի ներդրումներից կապիտալ ներդրումների մասնակի փոխհատուցում
G26: Տրանսֆերտների տրամադրում
H27: Շահառուների ընտրության չափորոշիչները` ՀՀ գյուղատնտեսական տնտեսավարողներ՛ ընտրված ՀՀ կառավարության 03.03.2022թ. թիվ 276-Լ որոշմամբ հաստատված ծրագրի չափանիշներին համապատասխան
I28: Նախորդ տարիներից իրականացվող ներդրումային ծրագրեր, հատ | L28: -2
D29: 1022 - 12011 | E29: Հայաստանի Հանրապետությունում գյուղատնտեսական նշանակության հողերի միավորմանը (կոնսոլիդացիային) աջակցություն | J29: =+'Հավելված 8'!J29 -> 24742.9 | K29: =+'Հավելված 8'!K29 -> 24742.9 | L29: =+'Հավելված 8'!L29 -> 0
F30: Գյուղատնտեսական նշանակության հողերի առանձին գույքային միավորների ձեռքբերման և միավորման միջոցով առնվազն 5 հա հանրագումարային մակերեսով հողամասերի ստեղծում և ձեռքբերված առանձին գույքային միավոր հանդիսացող հողամասերի կադաստրային արժեքի 30%-ի փոխհատուցում
G31: Տրանսֆերտների տրամադրում
H32: Շահառուների ընտրության չափորոշիչները` ՀՀ տնտեսավարողներ՛ ՀՀ կառավարության 04.08.2022թ. թիվ 1220-Լ որոշմամբ հաստատված ծրագրի չափանիշներին համապատասխան
I33: Ծրագրի շրջանակում միավորված հողեր, հեկտար | J33: 0.21
D34: 1022 - 12013 | E34: Հայաստանի Հանրապետությունում արդյունաբերական խեցգետնաբուծության զարգացման ծրագիր | J34: =+'Հավելված 5'!G145 -> 0 | K34: =+'Հավելված 5'!H145 -> -77138 | L34: =+'Հավելված 5'!I145 -> 33477.5
F35: Բնական պաշարների խնայողաբար օգտագործման, արտադրական գործընթացների արդյունավետության բարձրացման և շահառուների եկամուտների ավելացման նպատակով ՀՀ-ում խեցգետինների արհեստական բուծման և աճեցման տնտեսությունների հիմնման գործընթացի խթանում պետական աջակցությամբ
G36: Տրանսֆերտների տրամադրում
H37: Շահառուների ընտրության չափորոշիչները` ՀՀ տնտեսավարողներ՛ ընտրված ՀՀ կառավարության 13.04.2023թ. թիվ 532-Լ որոշմամբ հաստատված ծրագրի չափանիշներին համապատասխան
I38: Ծրագրի շրջանակներում հիմնվող խոշոր խեցգետնաբուծական համալիրներ, հատ | L38: -1
I39: Ծրագրի շրջանակներում հիմնվող միջին խեցգետնաբուծական համալիրներ, հատ | L39: 2
D40: 1022 - 12018 | E40: Սպանդանոցների կողմից մատուցվող խոշոր եղջերավոր կենդանիների սպանդի ծառայության վճարի մասնակի փոխհատուցման տրամադրում | J40: =+'Հավելված 8'!J40 -> 24950 | K40: =+'Հավելված 8'!K40 -> 24950 | L40: =+'Հավելված 8'!L40 -> 24950
F41: Սպանդանոցների կողմից մատուցվող խոշոր եղջերավոր կենդանիների սպանդի ծառայության վճարի մասնակի փոխհատուցում
G42: Տրանսֆերտների տրամադրում
H43: Շահառուների ընտրության չափորոշիչները` Շահառուների ընտրության չափորոշիչները` ՀՀ կառավարության 2024 թվականի օգոստոսի 1-ի N 1176-Լ որոշմամբ հաստատված ծրագրի չափանիշները բավարարող շահառուներ
I44: Սպանդանոցային սպանդի ծառայության մատուցմամբ սպանդի ենթարկված խոշոր եղջերավոր կենդանիների գլխաքանակ, հատ | J44: 2495 | L44: 2495
D45: 1022 - 12021 | E45: =+'Հավելված 8'!E45:I45 -> Խաղող վերամշակող տնտեսավարողներին տրամադրվող վարկերի տոկոսադրույքների սուբսիդավորում | J45: =+'Հավելված 8'!J45 -> 0 | K45: =+'Հավելված 8'!K45 -> 75616.5 | L45: =+'Հավելված 8'!L45 -> 175890.5
F46: =+'Հավելված 8'!F46:L46 -> Խաղող վերամշակող տնտեսավարողներին աշխատակիցներին աշխատավարձի և դրան հավասարեցված վճարումների, պետական կամ համայնքի բյուջե հարկերի և պարտադիր վճարումների նպատակով տրամադրվող վարկերի տոկոսադրույքների սուբսիդավորում
G47: Տրանսֆերտների տրամադրում
H48: =+'Հավելված 8'!H48:L48 -> Շահառուների ընտրության չափորոշիչները` ՀՀ ընկերություններ՝ ընտրված համաձայն՝ ՀՀ կառավարության 26.03.2026թ. թիվ 387-Լ որոշմամբ հաստատված ծրագրի և ֆինանսական կառույցների կողմից հաստատված համապատասխան չափանիշների
I49: Սուբսիդավորվող տնտեսավարող սուբյեկտներ, վարկառու | L49: 3
B50: 1086 | C50: Գյուղական ենթակառուցվածքների վերականգնում և զարգացում | J50: =+J51+J57+J66 -> -292405.4 | K50: =+K51+K57+K66 -> -504000 | L50: =+L51+L57+L66 -> -504000
D51: 1086 - 11005 | E51: Ասիական զարգացման բանկի աջակցությամբ իրականացվող «Կլիմայական փոփոխություններին հարմարեցվող պարենային անվտանգության բարձրացման» դրամաշնորհային ծրագրի համակարգում և ղեկավարում | J51: =+'Հավելված 8'!J57 -> 5109.3 | K51: =+'Հավելված 8'!K57 -> 7781.1 | L51: =+'Հավելված 8'!L57 -> 19283.5
F52: Ներդրումներ կլիմադիմակայուն գյուղատնտեսության և պարենային անվտանգության բարձրացման նպատակով, ինչն ուղղվելու է երկու մարզերին Շիրակի և Տավուշի, որտեղ փոքր ֆերմերները բախվում են բարձր աղքատության, պարենային անապահովության և կլիմայական ռիսկերի
G53: Ծառայությունների մատուցում
H54: Ծառայությունը մատուցողի անվանումը` Մասնագիտացված միավոր
I55: Վերապատրաստման և կարողությունների զարգացման դասընթացների քանակ, հատ | L55: 2
I56: Աջակցություն ստացած համայնքների (գյուղերի) քանակ, հատ | L56: 2
D57: 1086 - 12003 | E57: Զարգացման ֆրանսիական գործակալության աջակցությամբ ՀՀ Արարատի և Արմավիրի մարզերում ժամանակակաից պահանջներին համապատասխան ոռոգման համակարգերի ներդրման և զարգացմանն աջակցություն | J57: =+'Հավելված 8'!J63 -> -304858.8 | K57: =+'Հավելված 8'!K63 -> -519125.2 | L57: =+'Հավելված 8'!L63 -> -530627.6
F58: Արարատի և Արմավիրի մարզերում ժամանակակից պահանջներին համապատասխան ոռոգման համակարգերի ներդրմանը աջակցություն
G59: Տրանսֆերտների տրամադրում
H60: Շահառուների ընտրության չափորոշիչները` Մասնագիտացված միավոր
I61: Նոր տեխնոլոգիաներով ոռոգման ենթակա հողատարածքներ, հա | J61: -450 | L61: -800
I62: Հողերի խոշորացման գործարքներ, հատ | J62: -2 | L62: -4
I63: Կոոպերատիվների ստեղծում, միավոր | J63: -2 | L63: -11
I64: Ցուցադրական գյուղացիական տնտեսությունների հիմնման աջակցություն | J64: - | L64: 5
I65: Գյուղատնտեսության աջակցության երաշխիքային ֆոնդի ստեղծում, միավոր | J65: - | L65: 1
D66: =+'Հավելված 8'!D72 -> 1086 - 31003 | E66: =+'Հավելված 8'!E72:I72 -> Ասիական զարգացման բանկի աջակցությամբ իրականացվող «Կլիմայական փոփոխություններին հարմարեցվող պարենային անվտանգության բարձրացման» դրամաշնորհային ծրագրի իրականացման համար տեխնիկական հագեցվածության ապահովում | J66: =+'Հավելված 8'!J72 -> 7344.1 | K66: =+'Հավելված 8'!K72 -> 7344.1 | L66: =+'Հավելված 8'!L72 -> 7344.1
F67: Ծրագրի իրականացման համար աշխատանքային պայմանների ապահովման նպատակով վարչական սարքավորումների ձեռք բերում
G68: Պետական մարմինների կողմից օգտագործվող ոչ ֆինանսական ակտիվների հետ գործառնություններ
H69: Ակտիվն օգտագործող կազմակերպության անվանումը` Մասնագիտացված միավոր
I70: Համակարգչային սարքավորումներ, հատ | J70: 10 | L70: 10
I71: Վարչական սարքավորումներ, հատ | J71: 2 | L71: 2
I72: Գրասենյակային գույքի միավորի քանակ, հատ | J72: 18 | L72: 18
B73: 1116 | C73: Անասնաբուժական ծառայություններ | J73: =+J74+J78 -> -47387.214 | K73: =+K74+K78 -> -47387.214 | L73: =+L74+L78 -> -47387.214
D74: 1116 - 11001 | E74: Գյուղատնտեսական կենդանիների պատվաստում | J74: =+'Հավելված 5'!G221 -> 2575.82 | K74: =+'Հավելված 5'!H221 -> 2575.82 | L74: =+'Հավելված 5'!I221 -> 2575.82
F75: Անասնաբուժական ծառայության հակահամաճարակային միջոցառումների, կենդանիների հիվանդությունների կանխարգելման աշխատանքների կազմակերպում և համակարգում, անհրաժեշտ նյութերի ձեռքբերում
G76: Ծառայությունների մատուցում
H77: Ծառայությունը մատուցողի անվանումը` Մասնագիտացված կազմակերպություններ
D78: 1116 - 11005 | E78: Հայաստանի Հանրապետությունում խոշոր և մանր եղջերավոր կենդանիների համարակալում և հաշվառում | J78: =+'Հավելված 5'!G230 -> -49963.034 | K78: =+'Հավելված 5'!H230 -> -49963.034 | L78: =+'Հավելված 5'!I230 -> -49963.034
F79: Հայաստանի Հանրապետությունում խոշոր և մանր եղջերավոր կենդանիների համարակալման և հաշվառման միջոցառումների իրականացում
G80: Ծառայությունների մատուցում
H81: Ծառայությունը մատուցողի անվանումը` Մասնագիտացված կազմակերպություններ
I82: Համարակալման միջոցառումների քանակը հատ, այդ թվում | L82: =+L83+L84 -> 50000
I83: խոշոր եղջերավոր կենդանիներ | L83: 34000
I84: ընթացիկ տարվա հորթեր | L84: 16000
B85: 1165 | C85: Ներդրումների և արտահանման խթանման ծրագիր | J85: =+J86+J96+J101+J105+J91+J110+J117+J131 -> 621071 | K85: =+K86+K96+K101+K105+K91+K110+K117+K131 -> 793426.6 | L85: =+L86+L96+L101+L105+L91+L110+L117+L131 -> 63656.5
D86: 1165 - 11014 | E86: Տեղական արտադրության դեղերի ներկայացման հեռուստահաղորդաշարի պատրաստում և հեռարձակման ապահովում | J86: =+'Հավելված 8'!J97 -> 0 | K86: =+'Հավելված 8'!K97 -> 0 | L86: =+'Հավելված 8'!L97 -> -5000
F87: Ընկերությունների մասին պատմող ճանաչողական հաղորդաշարերի հեռարձակում
G88: Ծառայությունների մատուցում
H89: Ծառայությունը մատուցողի անվանումը` Մասնագիտացված կազմակերպություններ
I90: Տեղական ընկերությունների մասին պատմող ճանաչողական հաղորդաշարի հեռարձակման քանակը, հաղորդաշար | L90: =+'Հավելված 8'!L101 -> -1
D91: 1165 - 12002 | E91: Տեքստիլ ոլորտի կազմակերպությունների համար մատակարարման շղթաների դիվերսիֆիկացիայի ապահովմանն ուղղված պետական աջակցություն | J91: =+'Հավելված 8'!J102 -> -28148 | K91: =+'Հավելված 8'!K102 -> -52148 | L91: =+'Հավելված 8'!L102 -> -92500
F92: Տեքստիլ ընկերությունների կողմից ներգրավված առևտրի ֆինանսավորման վարկային գործիքների տոկոսադրույքների սուբսիդավորում և էլեկտրոնային հարթակներում վաճառքների խթանում
G93: Տրանսֆերտների տրամադրում
H94: Շահառուների ընտրության չափորոշիչները` ՀՀ կառավարության 2025 թվականի օգոստոսի 7-ի N 1099-Լ որոշմամբ հաստատված չափանիշներին համապատասխանող տնտեսավարողներ
I95: Առևտրի ֆինանսավորման սուբսիդավորվող վարկերի ծավալ, հատ | J95: =+'Հավելված 8'!J106 -> -1 | K95: =+'Հավելված 8'!K106 | L95: =+'Հավելված 8'!L106 -> -4
D96: 1165 - 12004 | E96: Կլինիկական փորձարկումների, կենսահամարժեքության հետազոտությունների սուբսիդավորում | J96: =+'Հավելված 8'!J107 -> 0 | K96: =+'Հավելված 8'!K107 -> 0 | L96: =+'Հավելված 8'!L107 -> -50000
F97: Հայաստանի Հանրապետությունում արտադրվող դեղերի կլինիկական փորձարկումների և (կամ) կենսահամարժեքության հետազոտությունների ծախսերի մասնակի սուբսիդավորում
G98: Տրանսֆերտների տրամադրում
H99: Շահառուների ընտրության չափորոշիչները` ՀՀ կառավարության 2023 թվականի մայիսի 25-ի N 811-Լ որոշմամբ հաստատված չափանիշներին համապատասխանող տնտեսավարողներ
I100: Իրականացված կլինիկական հետազոտությունների քանակը, հետազոտություն | L100: =+'Հավելված 8'!L111 -> -2
...

Sheet Հավելված 10
F1: Հավելված 10 ՀՀ կառավարության 2026 թվականի ____________ի N _____-Ն որոշման
A3: ՀԱՅԱՍՏԱՆԻ ՀԱՆՐԱՊԵՏՈՒԹՅԱՆ ԿԱՌԱՎԱՐՈՒԹՅԱՆ 2025 ԹՎԱԿԱՆԻ ԴԵԿՏԵՄԲԵՐԻ 25-Ի N 1910-Ն ՈՐՈՇՄԱՆ N 10 ՀԱՎԵԼՎԱԾՈՒՄ ԿԱՏԱՐՎՈՂ ՓՈՓՈԽՈՒԹՅՈՒՆՆԵՐԸ ԵՎ ԼՐԱՑՈՒՄՆԵՐԸ
A4: ՀՀ էկոնոմիկայի նախարարություն
A5: Գնման առարկայի | E5: Գնման ձևը (ընթացակարգը) | F5: Չափի միավորը | G5: Ցուցանիշների փոփոխությունները (ավելացումներ նշված են դրական նշանով, նվազեցումները՝ փակագծերում)
A6: Միջանցիկ կոդը` ըստ CPV դասակարգման | B6: անվանումը | G6: Միավորի գինը (ՀՀ դրամ) | H6: Քանակը | I6: Գումարը (հազար դրամով)
A7: 1 | B7: 2 | E7: 3 | F7: 4 | G7: 5 | H7: 6 | I7: 7
A8: ՀՀ էկոնոմիկայի նախարարություն | I8: =+I10+I13 -> -52387.214
A9: Բաժին N 04 | B9: Խումբ N 01 | C9: Դաս N 01 | D9: Ընդհանուր բնույթի տնտեսական և առևտրային հարաբերություններ | I9: =+I10 -> -5000
A10: 1165 11014 | B10: Տեղական արտադրության դեղերի ներկայացման հեռուստահաղորդաշարի պատրաստում և հեռարձակման ապահովում | I10: =+I11 -> -5000
B11: ՄԱՍ I. Ա Պ Ր Ա Ն Ք Ն Ե Ր | I11: =+I12 -> -5000
A12: 39294200-1 | B12: տեղեկատվական և գովազդային արտադրանք | E12: ԷԱՃ | F12: հատ | G12: 5000000 | H12: -1 | I12: =+G12*H12/1000 -> -5000
A13: Բաժին N 04 | B13: Խումբ N 02 | C13: Դաս N 01 | D13: Գյուղատնտեսություն | I13: =+I14+I18 -> -47387.214
A14: 1116 11001 | B14: Գյուղատնտեսական կենդանիների պատվաստում | I14: =+I15 -> 2575.82
B15: ՄԱՍ I. Ա Պ Ր Ա Ն Ք Ն Ե Ր | I15: =+I16+I17 -> 2575.82
A16: 33651257-2 | B16: անասնաբուժության մեջ կիրառվող պատվաստանյութեր | E16: ԷԱՃ | F16: մլ | G16: 13.5 | H16: -495350 | I16: =+G16*H16/1000 -> -6687.225
A17: 33651257/501 | B17: անասնաբուժության մեջ կիրառվող պատվաստանյութեր | E17: ԷԱՃ | F17: մլ | G17: 18.7 | H17: 495350 | I17: =+G17*H17/1000 -> 9263.045
A18: 1116 11005 | B18: Հայաստանի Հանրապետությունում խոշոր և մանր եղջերավոր կենդանիների համարակալում և հաշվառում | I18: =+I19 -> -49963.034
B19: ՄԱՍ I. Ա Պ Ր Ա Ն Ք Ն Ե Ր | I19: =+I20+I21 -> -49963.034
A20: 03341200-1 | B20: մանր եղջերավոր կենդանիների ականջների պիտակներ | E20: ԷԱՃ | F20: հատ | G20: 166.4 | H20: -604874 | I20: -100651.03
A21: 03341100/501 | B21: տավարի ականջների պիտակներ | E21: ԷԱՃ | F21: հատ | G21: 115.2 | H21: 440000 | I21: =+G21*H21/1000 -> 50688

Sheet Հավելված 11
F1: Հավելված 11 ՀՀ կառավարության 2026 թվականի ____________ի N _____-Ն որոշման
A3: ՀԱՅԱՍՏԱՆԻ ՀԱՆՐԱՊԵՏՈՒԹՅԱՆ 2026 ԹՎԱԿԱՆԻ ՊԵՏԱԿԱՆ ԲՅՈՒՋԵՈՎ ՆԱԽԱՏԵՍՎԱԾ՝ ՀԱՅԱՍՏԱՆԻ ՀԱՆՐԱՊԵՏՈՒԹՅԱՆ ԿԱՌԱՎԱՐՈՒԹՅԱՆ ՊԱՀՈՒՍՏԱՅԻՆ ՖՈՆԴԻՑ ՀԱՏԿԱՑՈՒՄՆԵՐ ԿԱՏԱՐԵԼՈՒ ՎԵՐԱԲԵՐՅԱԼ
I4: հազար դրամներով
A5: Գործառնական դասիչ | D5: Ծրագրային դասիչը | F5: Բյուջետային ծախսերի գործառական դասակարգման բաժինների, խմբերի և դասերի, բյուջետային ծրագրերի միջոցառումների, բյուջետային հատկացումների գլխավոր կարգադրիչների անվանումները | G5: Ցուցանիշների փոփոխությունները (ավելացումներ նշված են դրական նշանով, նվազեցումները՝ փակագծերում)
A6: Բաժին | B6: Խումբ | C6: Դաս | D6: Ծրագիր | E6: Միջոցառում | G6: Առաջին կիսամյակ | H6: Ինն ամիս | I6: Տարի
F7: ԸՆԴԱՄԵՆԸ ԾԱԽՍԵՐ | G7: =+G9+G42 -> 0 | H7: =+H9+H42 -> 0 | I7: =+I9+I42 -> 0
F8: այդ թվում`
F9: ՀՀ էկոնոմիկայի նախարարություն | G9: =+G11 -> 1224 | H9: =+H11 -> 76840.5 | I9: =+I11 -> 177114.5
F10: այդ թվում`
A11: 04 | F11: ՏՆՏԵՍԱԿԱՆ ՀԱՐԱԲԵՐՈՒԹՅՈՒՆՆԵՐ | G11: =+G12 -> 1224 | H11: =+H12 -> 76840.5 | I11: =+I12 -> 177114.5
B12: 02 | F12: Գյուղատնտեսություն, անտառային տնտեսություն, ձկնորսություն և որսորդություն | G12: =+G14 -> 1224 | H12: =+H14 -> 76840.5 | I12: =+I14 -> 177114.5
F13: այդ թվում`
C14: 01 | F14: Գյուղատնտեսություն | G14: =+G16 -> 1224 | H14: =+H16 -> 76840.5 | I14: =+I16 -> 177114.5
F15: այդ թվում`
F16: ՀՀ էկոնոմիկայի նախարարություն | G16: =+G18+G29 -> 1224 | H16: =+H18+H29 -> 76840.5 | I16: =+I18+I29 -> 177114.5
F17: այդ թվում`
D18: 1022 | F18: =+'Հավելված 4'!D9 -> Գյուղատնտեսության խթանման ծրագիր | G18: =G20 -> 0 | H18: =H20 -> 75616.5 | I18: =I20 -> 175890.5
F19: այդ թվում`
E20: 12021 | F20: Խաղող վերամշակող տնտեսավարողներին տրամադրվող վարկերի տոկոսադրույքների սուբսիդավորում | G20: =+G22 -> 0 | H20: =+H22 -> 75616.5 | I20: =+I22 -> 175890.5
F21: այդ թվում` ըստ կատարողների
F22: ՀՀ էկոնոմիկայի նախարարություն | G22: =+G24 -> 0 | H22: =+H24 -> 75616.5 | I22: =+I24 -> 175890.5
F23: այդ թվում` բյուջետային ծախսերի տնտեսագիտական դասակարգման հոդվածներ
F24: ԸՆԴԱՄԵՆԸ ԾԱԽՍԵՐ | G24: =+G25 -> 0 | H24: =+H25 -> 75616.5 | I24: =+I25 -> 175890.5
F25: ԸՆԹԱՑԻԿ ԾԱԽՍԵՐ | G25: =+G26 -> 0 | H25: =+H26 -> 75616.5 | I25: =+I26 -> 175890.5
F26: ՍՈՒԲՍԻԴԻԱՆԵՐ | G26: =G27 -> 0 | H26: =H27 -> 75616.5 | I26: =I27 -> 175890.5
F27: Սուբսիդիաներ ոչ պետական կազմակերպություններին | G27: =G28 -> 0 | H27: =H28 -> 75616.5 | I27: =I28 -> 175890.5
F28: - Սուբսիդիաներ ոչ պետական ֆինանսական կազմակերպություններին | G28: 0 | H28: =+G28+75616.5 -> 75616.5 | I28: 175890.5
D29: 1086 | F29: Գյուղական ենթակառուցվածքների վերականգնում և զարգացում | G29: =G31 -> 1224 | H29: =H31 -> 1224 | I29: =I31 -> 1224
F30: այդ թվում`
E31: 31003 | F31: Ասիական զարգացման բանկի աջակցությամբ իրականացվող «Կլիմայական փոփոխություններին հարմարեցվող պարենային անվտանգության բարձրացման» դրամաշնորհային ծրագրի իրականացման համար տեխնիկական հագեցվածության ապահովում | G31: 1224 | H31: 1224 | I31: 1224
F32: այդ թվում` ըստ կատարողների
F33: ՀՀ էկոնոմիկայի նախարարություն | G33: 1224 | H33: 1224 | I33: 1224
F34: այդ թվում` բյուջետային ծախսերի տնտեսագիտական դասակարգման հոդվածներ
F35: ԸՆԴԱՄԵՆԸ ԾԱԽՍԵՐ | G35: 1224 | H35: 1224 | I35: 1224
F36: ՈՉ ՖԻՆԱՆՍԱԿԱՆ ԱԿՏԻՎՆԵՐԻ ԳԾՈՎ ԾԱԽՍԵՐ | G36: 1224 | H36: 1224 | I36: 1224
F37: ՀԻՄՆԱԿԱՆ ՄԻՋՈՑՆԵՐ | G37: 1224 | H37: 1224 | I37: 1224
F38: ՄԵՔԵՆԱՆԵՐ ԵՎ ՍԱՐՔԱՎՈՐՈՒՄՆԵՐ | G38: 1151.7 | H38: 1151.7 | I38: 1151.7
F39: - Վարչական սարքավորումներ | G39: 1151.7 | H39: 1151.7 | I39: 1151.7
F40: ԱՅԼ ՀԻՄՆԱԿԱՆ ՄԻՋՈՑՆԵՐ | G40: 72.3 | H40: 72.3 | I40: 72.3
F41: - Ոչ նյութական հիմնական միջոցներ | G41: 72.3 | H41: 72.3 | I41: 72.3
F42: ՀՀ կառավարություն | G42: =+G44 -> -1224 | H42: =+H44 -> -76840.5 | I42: =+I44 -> -177114.5
F43: այդ թվում`
A44: 11 | F44: ՀԻՄՆԱԿԱՆ ԲԱԺԻՆՆԵՐԻՆ ՉԴԱՍՎՈՂ ՊԱՀՈՒՍՏԱՅԻՆ ՖՈՆԴԵՐ | G44: =G46 -> -1224 | H44: =H46 -> -76840.5 | I44: =I46 -> -177114.5
F45: այդ թվում`
B46: 01 | F46: ՀՀ կառավարության և համայնքների պահուստային ֆոնդ | G46: =G48 -> -1224 | H46: =H48 -> -76840.5 | I46: =I48 -> -177114.5
F47: այդ թվում`
C48: 01 | F48: ՀՀ կառավարության պահուստային ֆոնդ | G48: =G50 -> -1224 | H48: =H50 -> -76840.5 | I48: =I50 -> -177114.5
F49: այդ թվում`
F50: ՀՀ կառավարություն | G50: =G52 -> -1224 | H50: =H52 -> -76840.5 | I50: =I52 -> -177114.5
F51: այդ թվում`
D52: 1139 | F52: ՀՀ կառավարության պահուստային ֆոնդ | G52: =+G54 -> -1224 | H52: =+H54 -> -76840.5 | I52: =+I54 -> -177114.5
F53: այդ թվում`
E54: 11001 | F54: ՀՀ կառավարության պահուստային ֆոնդ | G54: =G56 -> -1224 | H54: =H56 -> -76840.5 | I54: =I56 -> -177114.5
F55: այդ թվում` ըստ կատարողների
F56: ՀՀ կառավարություն | G56: =G58 -> -1224 | H56: =H58 -> -76840.5 | I56: =I58 -> -177114.5
F57: այդ թվում` բյուջետային ծախսերի տնտեսագիտական դասակարգման հոդվածներ
F58: ԸՆԴԱՄԵՆԸ ԾԱԽՍԵՐ | G58: =G59 -> -1224 | H58: =H59 -> -76840.5 | I58: =I59 -> -177114.5
F59: ԸՆԹԱՑԻԿ ԾԱԽՍԵՐ | G59: =G60 -> -1224 | H59: =H60 -> -76840.5 | I59: =I60 -> -177114.5
F60: ԱՅԼ ԾԱԽՍԵՐ | G60: =G61 -> -1224 | H60: =H61 -> -76840.5 | I60: =I61 -> -177114.5
F61: Պահուստային միջոցներ | G61: =(G20+G31)*-1 -> -1224 | H61: =(H20+H31)*-1 -> -76840.5 | I61: =(I20+I31)*-1 -> -177114.5
