Workbook
Name _tab10: #REF!
Name _tab11: #REF!
Name _tab12: #REF!
Name _tab13: #REF!
Name _tab14: #REF!
Name _tab15: #REF!
Name _tab16: #REF!
Name _tab17: #REF!
Name _tab18: #REF!
Name _tab19: #REF!
Name _tab20: #REF!
Name _tab21: #REF!
Name _tab22: #REF!
Name _tab23: #REF!
Name _tab24: #REF!
Name _tab5: #REF!
Name _tab6: #REF!
Name _tab7: #REF!
Name _tab8: #REF!
Name _tab9: #REF!
Name AgencyCode: #REF!
Name AgencyCode: #REF!
Name AgencyCode: #REF!
Name AgencyCode: #REF!
Name AgencyName: #REF!
Name AgencyName: #REF!
Name AgencyName: #REF!
Name AgencyName: #REF!
Name åû: #REF!
Name åû: #REF!
Name åû: #REF!
Name åû: #REF!
Name davit: #REF!
Name davit: #REF!
Name davit: #REF!
Name davit: #REF!
Name Functional1: #REF!
Name Functional1: #REF!
Name Functional1: #REF!
Name Functional1: #REF!
Name ggg: #REF!
Name ggg: #REF!
Name ggg: #REF!
Name ggg: #REF!
Name hav: #REF!
Name havelvac: #REF!
Name mas: #REF!
Name mas: #REF!
Name mas: #REF!
Name mas: #REF!
Name mass: #REF!
Name mass: #REF!
Name mass: #REF!
Name mass: #REF!
Name PANature: #REF!
Name PANature: #REF!
Name PANature: #REF!
Name PANature: #REF!
Name par_count: #REF!,#REF!,#REF!,#REF!,#REF!,#REF!,#REF!,#REF!,#REF!,#REF!,#REF!,#REF!,#REF!,#REF!,#REF!
Name par_qual: #REF!,#REF!,#REF!,#REF!,#REF!

Sheet 1
H1: Հավելված N 1
F2: ՀՀ կառավարության 2026 թվականի
F3: -----------------ի N -----------Ն որոշման
A5: «ՀԱՅԱՍՏԱՆԻ ՀԱՆՐԱՊԵՏՈՒԹՅԱՆ 2026 ԹՎԱԿԱՆԻ ՊԵՏԱԿԱՆ ԲՅՈՒՋԵԻ ՄԱՍԻՆ» ՀԱՅԱՍՏԱՆԻ ՀԱՆՐԱՊԵՏՈՒԹՅԱՆ ՕՐԵՆՔԻ N 1 ՀԱՎԵԼՎԱԾԻ N 2 ԱՂՅՈՒՍԱԿՈՒՄ ԿԱՏԱՐՎՈՂ ՎԵՐԱԲԱՇԽՈՒՄԸ ԵՎ ՀԱՅԱՍՏԱՆԻ ՀԱՆՐԱՊԵՏՈՒԹՅԱՆ ԿԱՌԱՎԱՐՈՒԹՅԱՆ 2025 ԹՎԱԿԱՆԻ ԴԵԿՏԵՄԲԵՐԻ 25-Ի N 1910-Ն ՈՐՈՇՄԱՆ N 5 ՀԱՎԵԼՎԱԾԻ N 1 ԱՂՅՈՒՍԱԿՈՒՄ ԿԱՏԱՐՎՈՂ ՓՈՓՈԽՈՒԹՅՈՒՆԸ ԵՎ ԼՐԱՑՈՒՄԸ
H6: հազար դրամներով
A7: ԲԳԿ | B7: Ծրագրային դասիչը | D7: ԲԳԿ/Ծրագրի /միջոցառման անվանումը | E7: Ծրագրի նպատակը/Միջոցառման նկարագրությունը | F7: Վերջնական արդյունքի նկարագրությունը/Միջոցառման տեսակը | G7: Ցուցանիշների փոփոխությունները ավելացումները նշված են դրական նշանով, իսկ նվազեցումները՝ փակագծերում
G8: Ինն ամիս | H8: Տարի
B9: Ծրագիր | C9: Միջոցառում
A10: ԸՆԴԱՄԵՆԸ | G10: =+G12+G15 -> 0 | H10: =+H12+H15 -> 0
A11: այդ թվում՝
A12: ՀՀ տարածքային կառավարման և ենթակառուցվածքների նախարարություն | G12: =G13 -> 545519.6 | H12: =H13 -> 545519.6
B13: 1157 | D13: Քաղաքային զարգացում | E13: Քաղաքային ենթակառուցվածքների զարգացում | F13: Քաղաքային ենթակառուցվածքների արդիականացում և բարելավում | G13: =+G14 -> 545519.6 | H13: =+H14 -> 545519.6
C14: 1157 - 21032 | D14: Երևան քաղաքում ճանապարհների կառուցման և միջին նորոգման աշխատանքներ | E14: Երևան քաղաքում նոր ճանապարհատվածների կառուցում և ճանապարհների պատվածքի մաշված վերին շերտի վերականգնում և շինարարական նորմերով նախատեսված սկզբնական որակական ցուցանիշների ապահովում | F14: Հանրության կողմից անմիջականորեն օգտագործվող ակտիվների հետ կապված միջոցառումներ | G14: 545519.6 | H14: 545519.6
A15: ՀՀ կառավարություն | G15: =+G16 -> -545519.6 | H15: =+H16 -> -545519.6
B16: 1139 | D16: ՀՀ կառավարության պահուստային ֆոնդ | E16: Պետական բյուջեում չկանխատեսված, ինչպես նաեւ բյուջետային երաշխիքների ապահովման ծախսերի ֆինանսավորման ապահովում | F16: Պահուստային ֆոնդի կառավարման արդյունավետության և թափանցիկության ապահովում | G16: =+G17 -> -545519.6 | H16: =+H17 -> -545519.6
C17: 1139 - 11001 | D17: ՀՀ կառավարության պահուստային ֆոնդ | E17: ՀՀ պետական բյուջեում նախատեսված ելքերի լրացուցիչ ֆինանսավորման, պետական բյուջեում չկանխատեսված ելքերի, ինչպես նաև բյուջետային երաշխիքների ապահովման ելքերի ֆինանսավորման ապահովում | F17: Ծառայությունների մատուցում | G17: -545519.6 | H17: -545519.6
D19: ՀԱՅԱՍՏԱՆԻ ՀԱՆՐԱՊԵՏՈՒԹՅԱՆ
D20: ՎԱՐՉԱՊԵՏԻ ԱՇԽԱՏԱԿԱԶՄԻ ՂԵԿԱՎԱՐ՝ | E20: Ա. ՀԱՐՈՒԹՅՈՒՆՅԱՆ

Sheet 2
H1: Հավելված N 2
F2: ՀՀ կառավարության 2026 թվականի
F3: -----------------ի N -----------Ն որոշման
A5: ՀՀԱՅԱՍՏԱՆԻ ՀԱՆՐԱՊԵՏՈՒԹՅԱՆ ԿԱՌԱՎԱՐՈՒԹՅԱՆ 2025 ԹՎԱԿԱՆԻ ԴԵԿՏԵՄԲԵՐԻ 25-Ի N 1910-Ն ՈՐՈՇՄԱՆ NN 3 ԵՎ 4 ՀԱՎԵԼՎԱԾՆԵՐՈՒՄ ԿԱՏԱՐՎՈՂ ՓՈՓՈԽՈՒԹՅՈՒՆԸ ԵՎ ԼՐԱՑՈՒՄԸ
H6: հազար դրամներով
A7: Գործառական դասիչը | D7: Ծրագրային դասիչը | F7: Բյուջետային ծախսերի գործառական դասակարգման բաժինների, խմբերի և դասերի, բյուջետային հատկացումների գլխավոր կարգադրիչների, ծրագրերի, միջոցառումների և միջոցառումները կատարող պետական մարմինների անվանումները | G7: Ցուցանիշների փոփոխությունները ավելացումները նշված են դրական նշանով, իսկ նվազեցումները՝ փակագծերում
A8: Բաժին | B8: Խումբ | C8: Դաս | D8: Ծրագիր | E8: Միջոցառում | G8: Ինն ամիս | H8: Տարի
F9: ԸՆԴԱՄԵՆԸ ԾԱԽՍԵՐ | G9: =+G11+G32 -> 0 | H9: =+H11+H32 -> 0
F10: այդ թվում՝
F11: ՀՀ տարածքային կառավարման և ենթակառուցվածքների նախարարություն | G11: =+G13 -> 545519.6 | H11: =+H13 -> 545519.6
F12: այդ թվում՝
A13: 04 | F13: ՏՆՏԵՍԱԿԱՆ ՀԱՐԱԲԵՐՈՒԹՅՈՒՆՆԵՐ | G13: =+G15 -> 545519.6 | H13: =+H15 -> 545519.6
F14: այդ թվում`
B15: 05 | F15: Տրանսպորտ | G15: =+G17 -> 545519.6 | H15: =+H17 -> 545519.6
F16: այդ թվում`
C17: 01 | F17: Ճանապարհային տրանսպորտ | G17: =+G21 -> 545519.6 | H17: =+H21 -> 545519.6
F18: այդ թվում`
F19: ՀՀ տարածքային կառավարման և ենթակառուցվածքների նախարարություն | G19: =+G21 -> 545519.6 | H19: =+H21 -> 545519.6
F20: այդ թվում`
D21: 1157 | F21: Քաղաքային զարգացում | G21: =+G23 -> 545519.6 | H21: =+H23 -> 545519.6
F22: այդ թվում`
E23: 21032 | F23: Երևան քաղաքում ճանապարհների կառուցման և միջին նորոգման աշխատանքներ | G23: =+G27 -> 545519.6 | H23: =+H27 -> 545519.6
F24: այդ թվում` ըստ կատարողների
F25: ՀՀ տարածքային կառավարման և ենթակառուցվածքների նախարարություն | G25: =+G27 -> 545519.6 | H25: =+H27 -> 545519.6
F26: այդ թվում` բյուջետային ծախսերի տնտեսագիտական դասակարգման հոդվածների
F27: ԸՆԴԱՄԵՆԸ ԾԱԽՍԵՐ | G27: =+G28 -> 545519.6 | H27: =+H28 -> 545519.6
F28: ՈՉ ՖԻՆԱՆՍԱԿԱՆ ԱԿՏԻՎՆԵՐԻ ԳԾՈՎ ԾԱԽՍԵՐ | G28: =+G29 -> 545519.6 | H28: =+H29 -> 545519.6
F29: ՀԻՄՆԱԿԱՆ ՄԻՋՈՑՆԵՐ | G29: =+G30 -> 545519.6 | H29: =+H30 -> 545519.6
F30: ՇԵՆՔԵՐ ԵՎ ՇԻՆՈՒԹՅՈՒՆՆԵՐ | G30: =+G31 -> 545519.6 | H30: =+H31 -> 545519.6
F31: - Շենքերի և շինությունների կապիտալ վերանորոգում | G31: =+'1'!G14 -> 545519.6 | H31: =+'1'!H14 -> 545519.6
F32: ՀՀ կառավարություն | G32: =+G34 -> -545519.6 | H32: =+H34 -> -545519.6
F33: այդ թվում`
A34: 11 | F34: ՀԻՄՆԱԿԱՆ ԲԱԺԻՆՆԵՐԻՆ ՉԴԱՍՎՈՂ ՊԱՀՈՒՍՏԱՅԻՆ ՖՈՆԴԵՐ | G34: =+G36 -> -545519.6 | H34: =+H36 -> -545519.6
F35: այդ թվում`
B36: 01 | F36: ՀՀ կառավարության և համայնքների պահուստային ֆոնդ | G36: =+G38 -> -545519.6 | H36: =+H38 -> -545519.6
F37: այդ թվում`
C38: 01 | F38: ՀՀ կառավարության պահուստային ֆոնդ | G38: =+G40 -> -545519.6 | H38: =+H40 -> -545519.6
F39: այդ թվում`
F40: ՀՀ կառավարություն | G40: =+G42 -> -545519.6 | H40: =+H42 -> -545519.6
F41: այդ թվում`
D42: 1139 | F42: ՀՀ կառավարության պահուստային ֆոնդ | G42: =+G44 -> -545519.6 | H42: =+H44 -> -545519.6
F43: այդ թվում`
E44: 11001 | F44: ՀՀ կառավարության պահուստային ֆոնդ | G44: =+G48 -> -545519.6 | H44: =+H48 -> -545519.6
F45: այդ թվում` ըստ կատարողների
F46: ՀՀ կառավարություն | G46: =+G48 -> -545519.6 | H46: =+H48 -> -545519.6
F47: այդ թվում` բյուջետային ծախսերի տնտեսագիտական դասակարգման հոդվածների
F48: ԸՆԴԱՄԵՆԸ ԾԱԽՍԵՐ | G48: =+G49 -> -545519.6 | H48: =+H49 -> -545519.6
F49: ԸՆԹԱՑԻԿ ԾԱԽՍԵՐ | G49: =+G50 -> -545519.6 | H49: =+H50 -> -545519.6
F50: ԱՅԼ ԾԱԽՍԵՐ | G50: =+'1'!G15 -> -545519.6 | H50: =+H51 -> -545519.6
F51: Պահուստային միջոցներ | G51: =+'1'!G16 -> -545519.6 | H51: =+H52 -> -545519.6
G52: =+'1'!G17 -> -545519.6 | H52: =+'1'!H17 -> -545519.6
D57: ՀԱՅԱՍՏԱՆԻ ՀԱՆՐԱՊԵՏՈՒԹՅԱՆ
D58: ՎԱՐՉԱՊԵՏԻ ԱՇԽԱՏԱԿԱԶՄԻ
D59: ՂԵԿԱՎԱՐ՝ | F59: Ա. ՀԱՐՈՒԹՅՈՒՆՅԱՆ

Sheet 3
H1: Հավելված N 3
H2: ՀՀ կառավարության 2026 թվականի
H3: ______________ ի ___Ն որոշման
A5: «ՀԱՅԱՍՏԱՆԻ ՀԱՆՐԱՊԵՏՈՒԹՅԱՆ 2026 ԹՎԱԿԱՆԻ ՊԵՏԱԿԱՆ ԲՅՈՒՋԵԻ ՄԱՍԻՆ» ՕՐԵՆՔԻ N 1 ՀԱՎԵԼՎԱԾԻ N 3 ԱՂՅՈՒՍԱԿՈՒՄ ԿԱՏԱՐՎՈՂ ԼՐԱՑՈՒՄԸ
H7: հազար դրամներով
A8: Ծրագրային դասիչ | C8: Բյուջետային գլխավոր կարգադրիչների, ծրագրերի, միջոցառումների և ուղղությունների անվանումները | D8: Ընդամենը | E8: Ցուցանիշների փոփոխությունները ավելացումները նշված են դրական նշանով
E9: այդ թվում՝
A10: Ծրագիր | B10: Միջոցառում | E10: Կառուցման աշխատանքներ | F10: Վերակառուցման, վերանորոգման և վերականգնման աշխատանքներ | G10: Նախագծահե- տազոտական, գեոդեզիա- քարտեզագրա- կան աշխա- տանքներ | H10: Ոչ ֆինանսական այլ ակտիվների ձեռքբերում
C11: ԸՆԴԱՄԵՆԸ | D11: =+D13 -> 545519.6 | E11: =E13 -> 0 | F11: =+F13 -> 545519.6 | G11: =+G13 -> 0
C13: ՀՀ ՏԱՐԱԾՔԱՅԻՆ ԿԱՌԱՎԱՐՄԱՆ ԵՎ ԵՆԹԱԿԱՌՈՒՑՎԱԾՔՆԵՐԻ ՆԱԽԱՐԱՐՈՒԹՅՈՒՆ | D13: =+E13+F13+G13 -> 545519.6 | E13: =+E15 -> 0 | F13: =+F15 -> 545519.6
C14: այդ թվում`
A15: 1157 | B15: 21032 | C15: Երևան քաղաքում ճանապարհների կառուցման և միջին նորոգման աշխատանքներ | D15: =+E15+F15 -> 545519.6 | F15: =+'1'!H14 -> 545519.6
C16: այդ թվում՝
C17: Երևան քաղաքի Կենտրոն վարչական շրջանի Ոսկերիչների փողոցի ճանապարհի հիմնանորոգում | D17: =+D15 -> 545519.6 | F17: =+F15 -> 545519.6
B20: ՀԱՅԱՍՏԱՆԻ ՀԱՆՐԱՊԵՏՈՒԹՅԱՆ
B21: ՎԱՐՉԱՊԵՏԻ ԱՇԽԱՏԱԿԱԶՄԻ
C22: ՂԵԿԱՎԱՐ՝ | E22: Ա. ՀԱՐՈՒԹՅՈՒՆՅԱՆ

Sheet 4
E1: Հավելված N 4
C2: ՀՀ կառավարության 2026 թվականի
C3: -----------------ի N -----------Ն որոշման
A5: ԱՅԱՍՏԱՆԻ ՀԱՆՐԱՊԵՏՈՒԹՅԱՆ ԿԱՌԱՎԱՐՈՒԹՅԱՆ 2025 ԹՎԱԿԱՆԻ ԴԵԿՏԵՄԲԵՐԻ 25-Ի N 1910-Ն ՈՐՈՇՄԱՆ N 5 ՀԱՎԵԼՎԱԾԻ N 2 ԱՂՅՈՒՍԱԿՈՒՄ ԿԱՏԱՐՎՈՂ ԼՐԱՑՈՒՄԸ
E6: հազար դրամներով
A7: Ծրագրային դասիչը | C7: Բյուջետային գլխավոր կարգադրիչների, ծրագրերի, միջոցառումների և ուղղությունների անվանումները | D7: Ցուցանիշների փոփոխությունները ավելացումները նշված են դրական նշանով
A8: Ծրագիր | B8: Միջոցառում | D8: Ինն ամիս | E8: Տարի
C9: ԸՆԴԱՄԵՆԸ ԾԱԽՍԵՐ | D9: =+D11 -> 545519.6 | E9: =+E11 -> 545519.6
C10: այդ թվում՝
C11: ՀՀ տարածքային կառավարման և ենթակառուցվածքների նախարարություն | D11: =+D13 -> 545519.6 | E11: =+E13 -> 545519.6
C12: այդ թվում՝
A13: 1157 | B13: 21032 | C13: Երևան քաղաքում ճանապարհների կառուցման և միջին նորոգման աշխատանքներ | D13: =+D15 -> 545519.6 | E13: =+E15 -> 545519.6
C14: այդ թվում` ըստ կատարողների
C15: ՀՀ տարածքային կառավարման և ենթակառուցվածքների նախարարություն | D15: =+'1'!G14 -> 545519.6 | E15: =+'1'!H14 -> 545519.6
C16: այդ թվում՝ ըստ ուղղությունների
C17: Երևան քաղաքի Կենտրոն վարչական շրջանի Ոսկերիչների փողոցի ճանապարհի հիմնանորոգում | D17: =+D15 -> 545519.6 | E17: =+E15 -> 545519.6
A19: ՀԱՅԱՍՏԱՆԻ ՀԱՆՐԱՊԵՏՈՒԹՅԱՆ
A20: ՎԱՐՉԱՊԵՏԻ ԱՇԽԱՏԱԿԱԶՄԻ
A21: ՂԵԿԱՎԱՐ՝ | C21: Ա. ՀԱՐՈՒԹՅՈՒՆՅԱՆ

Sheet 5
E1: Հավելված N 5
D2: ՀՀ կառավարության 2026 թվականի
D3: ______________ ի ___Ն որոշման
B5: ՀԱՅԱՍՏԱՆԻ ՀԱՆՐԱՊԵՏՈՒԹՅԱՆ ԿԱՌԱՎԱՐՈՒԹՅԱՆ 2025 ԹՎԱԿԱՆԻ ԴԵԿՏԵՄԲԵՐԻ 25-Ի N 1910-Ն ՈՐՈՇՄԱՆ N 8 ՀԱՎԵԼՎԱԾՈՒՄ ԿԱՏԱՐՎՈՂ ԼՐԱՑՈՒՄԸ
E7: հազար դրամներով
B8: Ծրագրային դասիչը | D8: Ծրագրերի, միջոցառումների անվանումները | E8: Ցուցանիշների փոփոխությունը (ավելացումները նշված են դրական նշանով)
B9: Ծրագիր | C9: Միջոցառում
D10: ԸՆԴԱՄԵՆԸ ԾԱԽՍԵՐ | E10: =E12 -> 545519.6
D11: այդ թվում՝
B12: 1157 | D12: Քաղաքային զարգացում | E12: =+E13 -> 545519.6
C13: 21032 | D13: =+'3'!C15 -> Երևան քաղաքում ճանապարհների կառուցման և միջին նորոգման աշխատանքներ | E13: =+'1'!H14 -> 545519.6
B15: ՀԱՅԱՍՏԱՆԻ ՀԱՆՐԱՊԵՏՈՒԹՅԱՆ
B16: ՎԱՐՉԱՊԵՏԻ ԱՇԽԱՏԱԿԱԶՄԻ
C17: ՂԵԿԱՎԱՐ ՝ Ա. ՀԱՐՈՒԹՅՈՒՆՅԱՆ

Sheet 6
K1: Հավելված N 6
K2: ՀՀ կառավարության 2026 թվականի
K3: ______________ ի ___Ն որոշման
A5: ՀԱՅԱՍՏԱՆԻ ՀԱՆՐԱՊԵՏՈՒԹՅԱՆ ԿԱՌԱՎԱՐՈՒԹՅԱՆ 2025 ԹՎԱԿԱՆԻ ԴԵԿՏԵՄԲԵՐԻ25-Ի N 1910-Ն ՈՐՈՇՄԱՆ NN 9 և 9.1 ՀԱՎԵԼՎԱԾՆԵՐՈՒՄ ԿԱՏԱՐՎՈՂ ՓՈՓՈԽՈՒԹՅՈՒՆԸ ԵՎ ԼՐԱՑՈՒՄՆԵՐԸ
K6: հազար դրամներով
A7: ԲԳԿ/ԲՍԿ | B7: Ծրագիր | D7: Միջոցառում | H7: Իրականացնողը/ ակտիվն օգտագործողը/ շահառուի ընտրության չափորոշիչը | I7: Արդյունքային չափորոշիչը | J7: Ցուցանիշների փոփոխությունները ավելացումները նշված են դրական նշանով, իսկ նվազեցումները՝ փակագծերում
B8: Դասիչը | C8: Անվա-նումը | D8: Դասիչը | E8: Անվա-նումը | F8: Նկարագրու-թյունը | G8: Տեսակը | J8: Ինն ամիս | K8: Տարի
A9: ԸՆԴԱՄԵՆԸ | J9: 0 | K9: 0
A10: ՀՀ ՏԱՐԱԾՔԱՅԻՆ ԿԱՌԱՎԱՐՄԱՆ ԵՎ ԵՆԹԱԿԱՌՈՒՑՎԱԾՔՆԵՐԻ ՆԱԽԱՐԱՐՈՒԹՅՈՒՆ | J10: =+'1'!G12 -> 545519.6 | K10: =+K11 -> 545519.6
B11: 1157 | C11: Քաղաքային զարգացում | J11: =+'1'!G13 -> 545519.6 | K11: =+K12 -> 545519.6
D12: 1157 - 21032 | E12: Երևան քաղաքում ճանապարհների կառուցման և միջին նորոգման աշխատանքներ | J12: =+'1'!G14 -> 545519.6 | K12: =+'1'!H14 -> 545519.6
F13: Երևան քաղաքում նոր ճանապարհատվածների կառուցում և ճանապարհների պատվածքի մաշված վերին շերտի վերականգնում և շինարարական նորմերով նախատեսված սկզբնական որակական ցուցանիշների ապահովում
G14: Հանրության կողմից անմիջականորեն օգտագործվող ակտիվների հետ կապված միջոցառումներ
H15: Շահառուների ընտրության չափանիշները` ՀՀ բնակչություն
I16: Հիմնանորոգվող փողոցի երկարությունը, մ | K16: 749
A17: ՀՀ ԿԱՌԱՎԱՐՈՒԹՅՈՒՆ | J17: =+'1'!G15 -> -545519.6 | K17: =+K18 -> -545519.6
B18: 1139 | C18: ՀՀ կառավարության պահուստային ֆոնդ | J18: =+'1'!G16 -> -545519.6 | K18: =+K19 -> -545519.6
D19: 1139 - 11001 | E19: ՀՀ կառավարության պահուստային ֆոնդ | J19: =+'1'!G17 -> -545519.6 | K19: =+'1'!H17 -> -545519.6
F20: ՀՀ պետական բյուջեում նախատեսված ելքերի լրացուցիչ ֆինանսավորման, պետական բյուջեում չկանխատեսված ելքերի, ինչպես նաև բյուջետային երաշխիքների ապահովման ելքերի ֆինանսավորման ապահովում
G21: Ծառայությունների մատուցում
H22: Ծառայությունը մատուցողի անվանումը` ՀՀ կառավարություն
G29: ՀԱՅԱՍՏԱՆԻ ՀԱՆՐԱՊԵՏՈՒԹՅԱՆ
G30: ՎԱՐՉԱՊԵՏԻ ԱՇԽԱՏԱԿԱԶՄԻ
G31: ՂԵԿԱՎԱՐ՝ | I31: Ա. ՀԱՐՈՒԹՅՈՒՆՅԱՆ
