Workbook
Name _tab10: #REF!
Name _tab10: #REF!
Name _tab10: #REF!
Name _tab10: #REF!
Name _tab10: #REF!
Name _tab10: #REF!
Name _tab11: #REF!
Name _tab11: #REF!
Name _tab11: #REF!
Name _tab11: #REF!
Name _tab11: #REF!
Name _tab11: #REF!
Name _tab12: #REF!
Name _tab12: #REF!
Name _tab12: #REF!
Name _tab12: #REF!
Name _tab12: #REF!
Name _tab12: #REF!
Name _tab13: #REF!
Name _tab13: #REF!
Name _tab13: #REF!
Name _tab13: #REF!
Name _tab13: #REF!
Name _tab13: #REF!
Name _tab14: #REF!
Name _tab14: #REF!
Name _tab14: #REF!
Name _tab14: #REF!
Name _tab14: #REF!
Name _tab14: #REF!
Name _tab15: #REF!
Name _tab15: #REF!
Name _tab15: #REF!
Name _tab15: #REF!
Name _tab15: #REF!
Name _tab15: #REF!
Name _tab16: #REF!
Name _tab16: #REF!
Name _tab16: #REF!
Name _tab16: #REF!
Name _tab16: #REF!
Name _tab16: #REF!
Name _tab17: #REF!
Name _tab17: #REF!
Name _tab17: #REF!
Name _tab17: #REF!
Name _tab17: #REF!
Name _tab17: #REF!
Name _tab18: #REF!
Name _tab18: #REF!
Name _tab18: #REF!
Name _tab18: #REF!
Name _tab18: #REF!
Name _tab18: #REF!
Name _tab19: #REF!
Name _tab19: #REF!
Name _tab19: #REF!
Name _tab19: #REF!
Name _tab19: #REF!
Name _tab19: #REF!

Sheet ՕՀ-1 Ա-2 և Հ-5 Ա-1
I1: Հավելված N 1
I2: ՀՀ կառավարության 2026 թվականի
I3: ='Հ-3 և Հ-4'!I3 -> ______________ ի N ___ -Ն որոշման
B5: «ՀԱՅԱՍՏԱՆԻ ՀԱՆՐԱՊԵՏՈՒԹՅԱՆ 2026 ԹՎԱԿԱՆԻ ՊԵՏԱԿԱՆ ԲՅՈՒՋԵԻ ՄԱՍԻՆ» ՀԱՅԱՍՏԱՆԻ ՀԱՆՐԱՊԵՏՈՒԹՅԱՆ ՕՐԵՆՔԻ N 1 ՀԱՎԵԼՎԱԾԻ N 2 ԱՂՅՈՒՍԱԿՈՒՄ
B6: ԿԱՏԱՐՎՈՂ ՎԵՐԱԲԱՇԽՈՒՄԸ ԵՎ ՀԱՅԱՍՏԱՆԻ ՀԱՆՐԱՊԵՏՈՒԹՅԱՆ ԿԱՌԱՎԱՐՈՒԹՅԱՆ 2025 ԹՎԱԿԱՆԻ ԴԵԿՏԵՄԲԵՐԻ 25-Ի N 1910-Ն ՈՐՈՇՄԱՆ
B7: N 5 ՀԱՎԵԼՎԱԾԻ N 1 ԱՂՅՈՒՍԱԿՈՒՄ ԿԱՏԱՐՎՈՂ ՓՈՓՈԽՈՒԹՅՈՒՆՆԵՐԸ
I8: հազար դրամներով
B9: ԲԳԿ | C9: Ծրագրային դասիչը | E9: ԲԳԿ/Ծրագրի /միջոցառման անվանումը | F9: Ծրագրի նպատակը/ Միջոցառման նկարագրությունը | G9: Վերջնական արդյունքի նկարագրությունը/ Միջոցառման տեսակը | H9: Ցուցանիշների փոփոխությունը (ավելացումները նշված են դրական նշանով, իսկ նվազեցումները՝ փակագծերում)
C10: Ծրագիր | D10: Միջոցառում | H10: ինն ամիս | I10: տարի
B11: ԸՆԴԱՄԵՆԸ | H11: =H12 -> 0 | I11: =I12 -> 0
B12: ՀՀ պաշտպանության նախարարություն | H12: =H13 -> 0 | I12: =I13 -> 0
C13: 1169 | E13: ՀՀ պաշտպանության ապահովում | F13: ՀՀ ԶՈւ ռազմավարական ծավալումն ապահովող մարտական պատրաստականության պահպանում, արտաքին թշնամուց ՀՀ պետական սահմանների պաշտպանության ապահովում | G13: ՀՀ ԶՈւ ռազմավարական ծավալումն ապահովող մարտական պատրաստականության պահպանում | H13: =SUM(H14:H15) -> 0 | I13: =SUM(I14:I15) -> 0
D14: 1169 - 11001 | E14: Ռազմական կարիքների բավարարում | F14: Ընթացիկ գործունեության ապահովման գործողություններ | G14: Ծառայությունների մատուցում | H14: =+'Հ-3 և Հ-4'!H22 -> 300000 | I14: =+'Հ-3 և Հ-4'!I22 -> 300000
D15: 1169 - 31001 | E15: ՀՀ պաշտպանության նախարարության շենքային պայմանների բարելավում | F15: Պաշտպանության կարիքների համար բնակելի, գրասենյակային և այլ նշանակության շենքերի և շինությունների կառուցում | G15: Պետական մարմինների կողմից օգտագործվող ոչ ֆինանսական ակտիվների հետ գործառնություններ | H15: ='Հ-3 և Հ-4'!H31 -> -300000 | I15: ='Հ-3 և Հ-4'!I31 -> -300000

Sheet ՕՀ-1 Ա-3
I1: Հավելված N 2
I2: ՀՀ կառավարության 2026 թվականի
I3: ___________ ___-ի N _______ -Ն որոշման
B5: «ՀԱՅԱՍՏԱՆԻ ՀԱՆՐԱՊԵՏՈՒԹՅԱՆ 2026 ԹՎԱԿԱՆԻ ՊԵՏԱԿԱՆ ԲՅՈՒՋԵԻ ՄԱՍԻՆ» ՀԱՅԱՍՏԱՆԻ ՀԱՆՐԱՊԵՏՈՒԹՅԱՆ ՕՐԵՆՔԻ
B6: N 1 ՀԱՎԵԼՎԱԾԻ N 3 ԱՂՅՈՒՍԱԿՈՒՄ ԿԱՏԱՐՎՈՂ ՓՈՓՈԽՈՒԹՅՈՒՆՆԵՐԸ
I7: հազար դրամներով
B8: Ծրագրային դասիչ | D8: Բյուջետային գլխավոր կարգադրիչների, ծրագրերի, միջոցառումների և ուղղությունների անվանումները | E8: Ցուցանիշների փոփոխությունը (նվազեցումները նշված են փակագծերում)
B9: Ծրագիր | C9: Միջոցառում | E9: ընդամենը | F9: այդ թվում՝
F10: կառուցման աշխատանքներ | G10: վերակառուցման, վերանորոգման և վերականգնման աշխատանքներ | H10: նախագծահե- տազոտական, գեոդեզիա- քարտեզագրա- կան աշխա- տանքներ | I10: ոչ ֆինանսական այլ ակտիվների ձեռքբերում
D11: ԸՆԴԱՄԵՆԸ | E11: =E12 -> -300000 | F11: =F12 -> -300000 | G11: =G12 -> 0 | H11: =H12 -> 0 | I11: =I12 -> 0
D12: ՀՀ պաշտպանության նախարարություն | E12: =SUM(E14:E14) -> -300000 | F12: =SUM(F14:F14) -> -300000 | G12: =SUM(G14:G14) -> 0 | H12: =SUM(H14:H14) -> 0 | I12: =SUM(I14:I14) -> 0
D13: այդ թվում`
B14: 1169 | C14: 31001 | D14: ՀՀ պաշտպանության նախարարության շենքային պայմանների բարելավում | E14: =SUM(F14:I14) -> -300000 | F14: =+'Հ-5 Ա-2'!F16 -> -300000 | G14: 0 | H14: 0 | I14: 0

Sheet Հ-3 և Հ-4
I1: Հավելված N 3
I2: ՀՀ կառավարության 2026 թվականի
I3: ______________ ի N ___ -Ն որոշման
B5: ՀԱՅԱՍՏԱՆԻ ՀԱՆՐԱՊԵՏՈՒԹՅԱՆ ԿԱՌԱՎԱՐՈՒԹՅԱՆ 2025 ԹՎԱԿԱՆԻ ԴԵԿՏԵՄԲԵՐԻ 25-Ի N 1910-Ն ՈՐՈՇՄԱՆ
B6: N 3 և N 4 ՀԱՎԵԼՎԱԾՆԵՐՈՒՄ ԿԱՏԱՐՎՈՂ ՓՈՓՈԽՈՒԹՅՈՒՆՆԵՐԸ
I7: հազար դրամներով
B8: Գործառական դասիչը | E8: Ծրագրային դասիչը | G8: Բյուջետային ծախսերի գործառական դասակարգման բաժինների, խմբերի և դասերի, բյուջետային ծրագրերի միջոցառումների, բյուջետային հատկացումների գլխավոր կարգադրիչների անվանումները | H8: Ցուցանիշների փոփոխությունը (ավելացումները նշված են դրական նշանով, իսկ նվազեցումները՝ փակագծերում)
B9: բաժին | C9: խումբ | D9: դաս | E9: ծրագիր | F9: միջոցա-ռում | H9: ինն ամիս | I9: տարի
G10: ԸՆԴԱՄԵՆԸ ԾԱԽՍԵՐ | H10: =H12 -> 0 | I10: =I12 -> 0
G11: այդ թվում`
G12: ՀՀ պաշտպանության նախարարություն | H12: =H14 -> 0 | I12: =I14 -> 0
G13: այդ թվում`
B14: 02 | G14: ՊԱՇՏՊԱՆՈՒԹՅՈՒՆ | H14: =H16 -> 0 | I14: =I16 -> 0
G15: այդ թվում`
C16: 01 | G16: Ռազմական պաշտպանություն | H16: =H18 -> 0 | I16: =I18 -> 0
G17: այդ թվում`
D18: 01 | G18: Ռազմական պաշտպանություն | H18: =H20 -> 0 | I18: =I20 -> 0
G19: այդ թվում`
E20: 1169 | G20: ՀՀ պաշտպանության ապահովում | H20: =H22+H31 -> 0 | I20: =I22+I31 -> 0
G21: այդ թվում`
F22: 11001 | G22: Ռազմական կարիքների բավարարում | H22: =H24 -> 300000 | I22: =I24 -> 300000
G23: այդ թվում` ըստ կատարողների
G24: ՀՀ պաշտպանության նախարարություն | H24: =H26 -> 300000 | I24: =I26 -> 300000
G25: այդ թվում` բյուջետային ծախսերի տնտեսագիտական դասակարգման հոդվածներ
G26: ԸՆԴԱՄԵՆԸ ԾԱԽՍԵՐ | H26: =H27 -> 300000 | I26: =I27 -> 300000
G27: ԸՆԹԱՑԻԿ ԾԱԽՍԵՐ | H27: =H28 -> 300000 | I27: =I28 -> 300000
G28: ԱՅԼ ԾԱԽՍԵՐ | H28: =H29 -> 300000 | I28: =I29 -> 300000
G29: ԱՅԼ ԾԱԽՍԵՐ | H29: =H30 -> 300000 | I29: =I30 -> 300000
G30: - Այլ ծախսեր | H30: 300000 | I30: 300000
F31: 31001 | G31: ՀՀ պաշտպանության նախարարության շենքային պայմանների բարելավում | H31: =H33 -> -300000 | I31: =I33 -> -300000
G32: այդ թվում` ըստ կատարողների
G33: ՀՀ պաշտպանության նախարարություն | H33: =H35 -> -300000 | I33: =I35 -> -300000
G34: այդ թվում` բյուջետային ծախսերի տնտեսագիտական դասակարգման հոդվածներ
G35: ԸՆԴԱՄԵՆԸ ԾԱԽՍԵՐ | H35: =H36 -> -300000 | I35: =I36 -> -300000
G36: ՈՉ ՖԻՆԱՆՍԱԿԱՆ ԱԿՏԻՎՆԵՐԻ ԳԾՈՎ ԾԱԽՍԵՐ | H36: =H37 -> -300000 | I36: =I37 -> -300000
G37: ՀԻՄՆԱԿԱՆ ՄԻՋՈՑՆԵՐ | H37: =H38 -> -300000 | I37: =I38 -> -300000
G38: ՇԵՆՔԵՐ և ՇԻՆՈՒԹՅՈՒՆՆԵՐ | H38: =H39 -> -300000 | I38: =I39 -> -300000
G39: - Շենքերի և շինությունների շինարարություն | H39: -300000 | I39: -300000

Sheet Հ-5 Ա-2
F1: Հավելված N 4
F2: ='Հ-3 և Հ-4'!I2 -> ՀՀ կառավարության 2026 թվականի
F3: ='Հ-3 և Հ-4'!I3 -> ______________ ի N ___ -Ն որոշման
B5: ='Հ-3 և Հ-4'!B5:I5 -> ՀԱՅԱՍՏԱՆԻ ՀԱՆՐԱՊԵՏՈՒԹՅԱՆ ԿԱՌԱՎԱՐՈՒԹՅԱՆ 2025 ԹՎԱԿԱՆԻ ԴԵԿՏԵՄԲԵՐԻ 25-Ի N 1910-Ն ՈՐՈՇՄԱՆ
B6: N 5 ՀԱՎԵԼՎԱԾԻ N 2 ԱՂՅՈՒՍԱԿՈՒՄ ԿԱՏԱՐՎՈՂ ՓՈՓՈԽՈՒԹՅՈՒՆՆԵՐԸ
F7: հազար դրամներով
B8: Ծրագրային դասիչ | D8: Բյուջետային գլխավոր կարգադրիչների, ծրագրերի, միջոցառումների և ուղղությունների անվանումները | E8: Ցուցանիշների փոփոխությունը (նվազեցումները նշված են փակագծերում)
B9: ծրագիր | C9: միջո-ցառում | E9: ինն ամիս | F9: տարի
D10: ԸՆԴԱՄԵՆԸ | E10: =E12 -> -300000 | F10: =F12 -> -300000
D11: այդ թվում՝
D12: ՀՀ պաշտպանության նախարարություն | E12: =E14 -> -300000 | F12: =F14 -> -300000
D13: այդ թվում`
B14: 1169 | C14: 31001 | D14: ՀՀ պաշտպանության նախարարության շենքային պայմանների բարելավում | E14: =E16 -> -300000 | F14: =F16 -> -300000
D15: այդ թվում` ըստ կատարողների
D16: ՀՀ պաշտպանության նախարարություն | E16: ='Հ-3 և Հ-4'!H31 -> -300000 | F16: ='Հ-3 և Հ-4'!I31 -> -300000

Sheet Հ-9
L1: Հավելված N 5
L2: ='Հ-3 և Հ-4'!I2 -> ՀՀ կառավարության 2026 թվականի
L3: ='Հ-3 և Հ-4'!I3 -> ______________ ի N ___ -Ն որոշման
B5: =+'Հ-3 և Հ-4'!B5:I5 -> ՀԱՅԱՍՏԱՆԻ ՀԱՆՐԱՊԵՏՈՒԹՅԱՆ ԿԱՌԱՎԱՐՈՒԹՅԱՆ 2025 ԹՎԱԿԱՆԻ ԴԵԿՏԵՄԲԵՐԻ 25-Ի N 1910-Ն ՈՐՈՇՄԱՆ
B6: N 9 ՀԱՎԵԼՎԱԾՈՒՄ ԿԱՏԱՐՎՈՂ ՓՈՓՈԽՈՒԹՅՈՒՆՆԵՐԸ
L7: հազար դրամներով
B8: ԲԳԿ | C8: Ծրագիր | E8: Միջոցառում | I8: Իրականացնողը/ ակտիվն օգտագործողը/ շահառուի ընտրության չափորոշիչը | J8: Արդյունքային չափորոշիչը | K8: Ցուցանիշների փոփոխությունը (ավելացումները նշված են դրական նշանով, իսկ նվազեցումները՝ փակագծերում)
C9: Դասիչը | D9: Անվա-նումը | E9: Դասիչը | F9: Անվա-նումը | G9: Նկարագրու-թյունը | H9: Տեսակը | K9: ինն ամիս | L9: տարի
B10: ԸՆԴԱՄԵՆԸ | K10: =K11 -> 0 | L10: =L11 -> 0
B11: ՀՀ պաշտպանության նախարարություն | K11: =K12 -> 0 | L11: =L12 -> 0
C12: 1169 | D12: ՀՀ պաշտպանության ապահովում | K12: =K13+K17 -> 0 | L12: =L13+L17 -> 0
E13: 1169 - 11001 | F13: Ռազմական կարիքների բավարարում | K13: =+'Հ-3 և Հ-4'!H22 -> 300000 | L13: =+'Հ-3 և Հ-4'!I22 -> 300000
G14: Ընթացիկ գործունեության ապահովման գործողություններ
H15: Ծառայությունների մատուցում
I16: Ծառայությունը մատուցողի անվանումը` ՀՀ պաշտպանության նախարարություն
E17: 1169 - 31001 | F17: ՀՀ պաշտպանության նախարարության շենքային պայմանների բարելավում | K17: =+'Հ-3 և Հ-4'!H31 -> -300000 | L17: =+'Հ-3 և Հ-4'!I31 -> -300000
G18: Պաշտպանության կարիքների համար բնակելի, գրասենյակային և այլ նշանակության շենքերի և շինությունների կառուցում
H19: Պետական մարմինների կողմից օգտագործվող ոչ ֆինանսական ակտիվների հետ գործառնություններ
I20: Ակտիվն օգտագործող կազմակերպության անվանումը` ՀՀ պաշտպանության նախարարություն

Sheet Հ-9.1
L1: Հավելված N 6
L2: ='Հ-3 և Հ-4'!I2 -> ՀՀ կառավարության 2026 թվականի
L3: ='Հ-3 և Հ-4'!I3 -> ______________ ի N ___ -Ն որոշման
B5: =+'Հ-3 և Հ-4'!B5:I5 -> ՀԱՅԱՍՏԱՆԻ ՀԱՆՐԱՊԵՏՈՒԹՅԱՆ ԿԱՌԱՎԱՐՈՒԹՅԱՆ 2025 ԹՎԱԿԱՆԻ ԴԵԿՏԵՄԲԵՐԻ 25-Ի N 1910-Ն ՈՐՈՇՄԱՆ
B6: N 9.1 ՀԱՎԵԼՎԱԾՈՒՄ ԿԱՏԱՐՎՈՂ ՓՈՓՈԽՈՒԹՅՈՒՆՆԵՐԸ
L7: հազար դրամներով
B8: ԲՍԿ | C8: Ծրագիր | E8: Միջոցառում | I8: Իրականացնողը/ ակտիվն օգտագործողը/ շահառուի ընտրության չափորոշիչը | J8: Արդյունքային չափորոշիչը | K8: Ցուցանիշների փոփոխությունը (ավելացումները նշված են դրական նշանով, իսկ նվազեցումները՝ փակագծերում)
C9: Դասիչը | D9: Անվա-նումը | E9: Դասիչը | F9: Անվա-նումը | G9: Նկարագրու-թյունը | H9: Տեսակը | K9: ինն ամիս | L9: տարի
B10: ԸՆԴԱՄԵՆԸ | K10: =K11 -> 0 | L10: =L11 -> 0
B11: ՀՀ պաշտպանության նախարարություն | K11: =K12 -> 0 | L11: =L12 -> 0
C12: 1169 | D12: ՀՀ պաշտպանության ապահովում | K12: =K13+K17 -> 0 | L12: =L13+L17 -> 0
E13: 1169 - 11001 | F13: Ռազմական կարիքների բավարարում | K13: =+'Հ-3 և Հ-4'!H22 -> 300000 | L13: =+'Հ-3 և Հ-4'!I22 -> 300000
G14: Ընթացիկ գործունեության ապահովման գործողություններ
H15: Ծառայությունների մատուցում
I16: Ծառայությունը մատուցողի անվանումը` ՀՀ պաշտպանության նախարարություն
E17: 1169 - 31001 | F17: ՀՀ պաշտպանության նախարարության շենքային պայմանների բարելավում | K17: =+'Հ-3 և Հ-4'!H31 -> -300000 | L17: =+'Հ-3 և Հ-4'!I31 -> -300000
G18: Պաշտպանության կարիքների համար բնակելի, գրասենյակային և այլ նշանակության շենքերի և շինությունների կառուցում
H19: Պետական մարմինների կողմից օգտագործվող ոչ ֆինանսական ակտիվների հետ գործառնություններ
I20: Ակտիվն օգտագործող կազմակերպության անվանումը` ՀՀ պաշտպանության նախարարություն

Sheet Sheet1
A1: 4239 | B1: 20939.6
A2: 4252 | B2: 4001.2
A3: 4261 | B3: 24221.5
A4: 4264 | B4: 658398.2
A5: 4267 | B5: 51113.2
A6: 4269 | B6: 58135.2
A7: 5121 | B7: 34800
A8: 5122 | B8: 30780.6
A9: 5129 | B9: 165718.2
A10: 5132 | B10: 33.2
