Workbook

Sheet 1
H1: Հավելված N 1
E2: ՀՀ կառավարության 2026 թվականի
E3: -----------------ի N -----------Ն որոշման
A5: «ՀԱՅԱՍՏԱՆԻ ՀԱՆՐԱՊԵՏՈՒԹՅԱՆ 2026 ԹՎԱԿԱՆԻ ՊԵՏԱԿԱՆ ԲՅՈՒՋԵԻ ՄԱՍԻՆ» ՕՐԵՆՔԻ N 1 ՀԱՎԵԼՎԱԾԻ N 2 ԱՂՅՈՒՍԱԿՈՒՄ ԿԱՏԱՐՎՈՂ ՎԵՐԱԲԱՇԽՈՒՄԸ ԵՎ ԼՐԱՑՈՒՄԸ, ՀԱՅԱՍՏԱՆԻ ՀԱՆՐԱՊԵՏՈՒԹՅԱՆ ԿԱՌԱՎԱՐՈՒԹՅԱՆ 2025 ԹՎԱԿԱՆԻ ԴԵԿՏԵՄԲԵՐԻ 25-Ի N 1910-Ն ՈՐՈՇՄԱՆ N 5 ՀԱՎԵԼՎԱԾԻ N 1 ԱՂՅՈՒՍԱԿՈՒՄ ԿԱՏԱՐՎՈՂ ՓՈՓՈԽՈՒԹՅՈՒՆԸ ԵՎ ԼՐԱՑՈՒՄԸ
H6: հազար դրամներով
A7: ԲԳԿ | B7: Ծրագրային դասիչը | D7: ԲԳԿ/Ծրագրի /միջոցառման անվանումը | E7: Ծրագրի նպատակը/Միջոցառման նկարագրույունը | F7: Վերջնական արդյունքի նկարագրությունը/Միջոցառման տեսակը | G7: Ցուցանիշների փոփոխությունները ավելացումները նշված են դրական նշանով, իսկ նվազեցումները՝ փակագծերում
B8: Ծրագիր | C8: Միջոցառում | G8: Ինն ամիս | H8: Տարի
A9: ԸՆԴԱՄԵՆԸ | G9: =G10 -> 0 | H9: =H10 -> 0
A10: ՀՀ աշխատանքի և սոցիալական հարցերի նախարարություն | G10: =G11+G13 -> 0 | H10: =H11+H13 -> 0
B11: 1205 | D11: Սոցիալական ապահովություն | E11: Սոցիալական ապահովության իրավունքի իրականացման ապահովում | F11: Սոցիալական ապահովության իրավունքի իրականացում | G11: =G12 -> 18000 | H11: =H12 -> 18000
C12: 1205-12018 | D12: Ռազմական դրությամբ պայմանավորված՝ դրամական աջակցություն անհայտ կորած զինծառայողների ընտանիքներին | E12: Ադրբեջանի կողմից 2020 թվականի սեպտեմբերի 27-ին սանձազերծված ռազմական գործողությունների հետևանքով անհայտ կորած զինծառայողների ընտանիքներին դրամական օժանդակության տրամադրում | F12: Տրանսֆերտների տրամադրում | G12: 18000 | H12: 18000
B13: 1005 | D13: Պարգևավճարներ և պատվովճարներ | E13: Պետական հոգածության դրսևորում, առանձին կատեգորիայի քաղաքացիներին և նրանց ընտանիքներին սոցիալական երաշխիքների տրամադրում | F13: Առանձին կատեգորիայի քաղաքացիներին և նրանց ընտանիքի անդամների սոցիալական պաշտպանվածության մակարդակի բարձրացում | G13: =G14 -> -18000 | H13: =H14 -> -18000
C14: 1005 - 12001 | D14: Զինծառայողներին, ՀՄՊ մասնակիցներին, այլ պետություններում մարտական գործողությունների մասնակիցներին, զոհված (մահացած) զինծառայողի ընտանիքի անդամներին, ընտանիքներին տրվող պարգևավճարներ | E14: Զինծառայողներին, ՀՄՊ մասնակիցներին, այլ պետություններում մարտական գործողությունների մասնակիցներին, զոհված (մահացած) զինծառայողի ընտանիքի անդամներին, ընտանիքներին, պարգևավճարների տրամադրում | F14: Տրանսֆերտների տրամադրում | G14: -18000 | H14: -18000
A15: ՀՀ կառավարություն | G15: =G16 -> 0 | H15: =H16 -> 0
B16: 1139 | D16: ՀՀ կառավարության պահուստային ֆոնդ | E16: Պետական բյուջեում չկանխատեսված, ինչպես նաեւ բյուջետային երաշխիքների ապահովման ծախսերի ֆինանսավորման ապահովում | F16: Պահուստային ֆոնդի կառավարման արդյունավետության և թափանցիկության ապահովում | G16: =G17+G18 -> 0 | H16: =H17+H18 -> 0
C17: 1139 - 11001 | D17: ՀՀ կառավարության պահուստային ֆոնդ | E17: ՀՀ պետական բյուջեում նախատեսված ելքերի լրացուցիչ ֆինանսավորման, պետական բյուջեում չկանխատեսված ելքերի, ինչպես նաև բյուջետային երաշխիքների ապահովման ելքերի ֆինանսավորման ապահովում | F17: Ծառայությունների մատուցում | G17: =G12 -> 18000 | H17: =H12 -> 18000
C18: 1139 - 11001 | D18: ՀՀ կառավարության պահուստային ֆոնդ | E18: ՀՀ պետական բյուջեում նախատեսված ելքերի լրացուցիչ ֆինանսավորման, պետական բյուջեում չկանխատեսված ելքերի, ինչպես նաև բյուջետային երաշխիքների ապահովման ելքերի ֆինանսավորման ապահովում | F18: Ծառայությունների մատուցում | G18: =G14 -> -18000 | H18: =H14 -> -18000

Sheet 2
H1: Հավելված N 2
F2: ՀՀ կառավարության 2026 թվականի
F3: -----------------ի N -----------Ն որոշման
A5: ՀԱՅԱՍՏԱՆԻ ՀԱՆՐԱՊԵՏՈՒԹՅԱՆ ԿԱՌԱՎԱՐՈՒԹՅԱՆ 2025 ԹՎԱԿԱՆԻ ԴԵԿՏԵՄԲԵՐԻ 25-Ի N 1910-Ն ՈՐՈՇՄԱՆ NN 3 ԵՎ 4 ՀԱՎԵԼՎԱԾՆԵՐՈՒՄ ԿԱՏԱՐՎՈՂ ՓՈՓՈԽՈՒԹՅՈՒՆԸ ԵՎ ԼՐԱՑՈՒՄԸ
G6: հազար դրամներով
A7: Գործառական դասիչը | D7: Ծրագրային դասիչը | F7: Բյուջետային ծախսերի գործառական դասակարգման բաժինների, խմբերի և դասերի, բյուջետային ծրագրերի միջոցառումների, բյուջետային հատկացումների գլխավոր կարգադրիչների անվանումները | G7: Ցուցանիշների փոփոխությունները ավելացումները նշված են դրական նշանով, իսկ նվազեցումները՝ փակագծերում
A8: Բաժինը | B8: Խումբը | C8: Դասը | D8: Ծրագիր | E8: Միջոցառում | G8: Ինն ամիս | H8: Տարի
F9: ԸՆԴԱՄԵՆԸ ԾԱԽՍԵՐ | G9: =G13 -> 0 | H9: =H13 -> 0
F10: այդ թվում`
F11: ՀՀ աշխատանքի և սոցիալական հարցերի նախարարություն | G11: =G13 -> 0 | H11: =H13 -> 0
F12: այդ թվում՝
A13: 10 | F13: ՍՈՑԻԱԼԱԿԱՆ ՊԱՇՏՊԱՆՈՒԹՅՈՒՆ | G13: =G15+G31 -> 0 | H13: =H15+H31 -> 0
F14: այդ թվում՝
B15: 09 | F15: Սոցիալական պաշտպանություն (այլ դասերին չպատկանող) | G15: =G17 -> 18000 | H15: =H17 -> 18000
F16: այդ թվում՝
C17: 02 | F17: Սոցիալական պաշտպանությանը տրամադրվող օժանդակ ծառայություններ (այլ դասերին չպատկանող) | G17: =G19 -> 18000 | H17: =H19 -> 18000
F18: այդ թվում՝
F19: ՀՀ աշխատանքի և սոցիալական հարցերի նախարարություն | G19: =G21 -> 18000 | H19: =H21 -> 18000
F20: այդ թվում՝
D21: 1205 | F21: Սոցիալական ապահովություն | G21: =G23 -> 18000 | H21: =H23 -> 18000
F22: այդ թվում`
E23: 12018 | F23: ='1'!D12 -> Ռազմական դրությամբ պայմանավորված՝ դրամական աջակցություն անհայտ կորած զինծառայողների ընտանիքներին | G23: =G25 -> 18000 | H23: =H25 -> 18000
F24: այդ թվում` ըստ կատարողների
F25: ՀՀ աշխատանքի և սոցիալական հարցերի նախարարություն | G25: =G27 -> 18000 | H25: =H27 -> 18000
F26: այդ թվում` բյուջետային ծախսերի տնտեսագիտական դասակարգման հոդվածներ
F27: ԸՆԴԱՄԵՆԸ ԾԱԽՍԵՐ | G27: =G28 -> 18000 | H27: =H28 -> 18000
F28: ԸՆԹԱՑԻԿ ԾԱԽՍԵՐ | G28: =G29 -> 18000 | H28: =H29 -> 18000
F29: ՍՈՑԻԱԼԱԿԱՆ ՆՊԱՍՏՆԵՐ ԵՎ ԿԵՆՍԱԹՈՇԱԿՆԵՐ | G29: =G30 -> 18000 | H29: =H30 -> 18000
F30: - Այլ նպաստներ բյուջեից | G30: ='1'!G12 -> 18000 | H30: ='1'!H12 -> 18000
B31: 07 | F31: Սոցիալական հատուկ արտոնություններ (այլ դասերին չպատկանող) | G31: =G33 -> -18000 | H31: =H33 -> -18000
F32: այդ թվում՝
C33: 01 | F33: Սոցիալական հատուկ արտոնություններ (այլ դասերին չպատկանող) | G33: =G35 -> -18000 | H33: =H35 -> -18000
F34: այդ թվում՝
F35: ՀՀ աշխատանքի և սոցիալական հարցերի նախարարություն | G35: =G37 -> -18000 | H35: =H37 -> -18000
F36: այդ թվում՝
D37: ='1'!B13 -> 1005 | F37: ='1'!D13 -> Պարգևավճարներ և պատվովճարներ | G37: =G39 -> -18000 | H37: =H39 -> -18000
F38: այդ թվում`
E39: 12001 | F39: ='1'!D14 -> Զինծառայողներին, ՀՄՊ մասնակիցներին, այլ պետություններում մարտական գործողությունների մասնակիցներին, զոհված (մահացած) զինծառայողի ընտանիքի անդամներին, ընտանիքներին տրվող պարգևավճարներ | G39: =G41 -> -18000 | H39: =H41 -> -18000
F40: այդ թվում` ըստ կատարողների
F41: ՀՀ աշխատանքի և սոցիալական հարցերի նախարարության միասնական սոցիալական ծառայություն | G41: =G43 -> -18000 | H41: =H43 -> -18000
...

Sheet 3
K1: Հավելված N 3
K2: ՀՀ կառավարության 2026 թվականի
K3: -----------------ի N -----------Ն որոշման
A6: ՀԱՅԱՍՏԱՆԻ ՀԱՆՐԱՊԵՏՈՒԹՅԱՆ ԿԱՌԱՎԱՐՈՒԹՅԱՆ 2025 ԹՎԱԿԱՆԻ ԴԵԿՏԵՄԲԵՐԻ 25-Ի N 1910-Ն ՈՐՈՇՄԱՆ N 9 ՀԱՎԵԼՎԱԾՈՒՄ ԿԱՏԱՐՎՈՂ ՓՈՓՈԽՈՒԹՅՈՒՆԸ ԵՎ ԼՐԱՑՈՒՄԸ
J7: հազար դրամներով
A8: ԲԳԿ | B8: Ծրագիր | D8: Միջոցառում | H8: Իրականացնողը/ ակտիվն օգտագործողը/ շահառուի ընտրության չափորոշիչը | I8: Արդյունքային չափորոշիչը | J8: Ցուցանիշների փոփոխությունները ավելացումները նշված են դրական նշանով, իսկ նվազեցումները՝ փակագծերում
B9: Դասիչը | C9: Անվանումը | D9: Դասիչը | E9: Անվանումը | F9: Նկարագրությունը | G9: Տեսակը | J9: Ինն ամիս | K9: Տարի
A10: ԸՆԴԱՄԵՆԸ | J10: =J11 -> 0 | K10: =K11 -> 0
A11: ՀՀ աշխատանքի և սոցիալական հարցերի նախարարություն | J11: =J12+J18 -> 0 | K11: =K12+K18 -> 0
B12: 1205 | C12: Սոցիալական ապահովություն | J12: =J13 -> 18000 | K12: =K13 -> 18000
D13: ='1'!C12 -> 1205-12018 | E13: ='1'!D12 -> Ռազմական դրությամբ պայմանավորված՝ դրամական աջակցություն անհայտ կորած զինծառայողների ընտանիքներին | J13: ='1'!G12 -> 18000 | K13: ='1'!H12 -> 18000
F14: ='1'!E12 -> Ադրբեջանի կողմից 2020 թվականի սեպտեմբերի 27-ին սանձազերծված ռազմական գործողությունների հետևանքով անհայտ կորած զինծառայողների ընտանիքներին դրամական օժանդակության տրամադրում
G15: Տրանսֆերտների տրամադրում
H16: Անհայտ կորած զինծառայողի ընտանիք՝ համաձայն ՀՀ կառավարության 2020 թվականի դեկտեմբերի 10-ի N 2001-Լ որոշման
B18: ='1'!B13 -> 1005 | C18: ='1'!D13 -> Պարգևավճարներ և պատվովճարներ | J18: =J19 -> -18000 | K18: =K19 -> -18000
D19: ='1'!C14 -> 1005 - 12001 | E19: ='1'!D14 -> Զինծառայողներին, ՀՄՊ մասնակիցներին, այլ պետություններում մարտական գործողությունների մասնակիցներին, զոհված (մահացած) զինծառայողի ընտանիքի անդամներին, ընտանիքներին տրվող պարգևավճարներ | J19: ='1'!G14 -> -18000 | K19: ='1'!H14 -> -18000
F20: ='1'!E14 -> Զինծառայողներին, ՀՄՊ մասնակիցներին, այլ պետություններում մարտական գործողությունների մասնակիցներին, զոհված (մահացած) զինծառայողի ընտանիքի անդամներին, ընտանիքներին, պարգևավճարների տրամադրում
G21: ='1'!F14 -> Տրանսֆերտների տրամադրում
H22: Շահառուների ընտրության չափորոշիչները` ՀՄՊ մասնակիցներ, ՀՄՊ և այլ պետություններում մարտական գործողությունների ընթացքում զոհված զինծառայողների ընտանիքներ
I23: Պարգևավճարներ ստացողների միջին թիվ, ընտանիք, այդ թվում` | K23: -65
A25: ՀՀ կառավարություն | J25: =J26 -> 0 | K25: =K26 -> 0
B26: 1139 | C26: ՀՀ կառավարության պահուստային ֆոնդ | J26: =J27+J31 -> 0 | K26: =K27+K31 -> 0
D27: 1139 - 11001 | E27: ՀՀ կառավարության պահուստային ֆոնդ | J27: ='1'!G17 -> 18000 | K27: ='1'!H17 -> 18000
F28: ՀՀ պետական բյուջեում նախատեսված ելքերի լրացուցիչ ֆինանսավորման, պետական բյուջեում չկանխատեսված ելքերի, ինչպես նաև բյուջետային երաշխիքների ապահովման ելքերի ֆինանսավորման ապահովում
G29: Ծառայությունների մատուցում
H30: Ծառայությունը մատուցողի անվանումը` ՀՀ կառավարություն
D31: 1139 - 11001 | E31: ՀՀ կառավարության պահուստային ֆոնդ | J31: ='1'!G18 -> -18000 | K31: ='1'!H18 -> -18000
F32: ՀՀ պետական բյուջեում նախատեսված ելքերի լրացուցիչ ֆինանսավորման, պետական բյուջեում չկանխատեսված ելքերի, ինչպես նաև բյուջետային երաշխիքների ապահովման ելքերի ֆինանսավորման ապահովում
G33: Ծառայությունների մատուցում
H34: Ծառայությունը մատուցողի անվանումը` ՀՀ կառավարություն

Sheet 4
K1: Հավելված N 4
K2: ՀՀ կառավարության 2026 թվականի
K3: -----------------ի N -----------Ն որոշման
A6: ՀԱՅԱՍՏԱՆԻ ՀԱՆՐԱՊԵՏՈՒԹՅԱՆ ԿԱՌԱՎԱՐՈՒԹՅԱՆ 2025 ԹՎԱԿԱՆԻ ԴԵԿՏԵՄԲԵՐԻ 25-Ի N 1910-Ն ՈՐՈՇՄԱՆ N 9.1 ՀԱՎԵԼՎԱԾՈՒՄ ԿԱՏԱՐՎՈՂ ՓՈՓՈԽՈՒԹՅՈՒՆԸ ԵՎ ԼՐԱՑՈՒՄԸ
J7: հազար դրամներով
A8: ԲՍԿ | B8: Ծրագիր | D8: Միջոցառում | H8: Իրականացնողը/ ակտիվն օգտագործողը/ շահառուի ընտրության չափորոշիչը | I8: Արդյունքային չափորոշիչը | J8: Ցուցանիշների փոփոխությունները ավելացումները նշված են դրական նշանով, իսկ նվազեցումները՝ փակագծերում
B9: Դասիչը | C9: Անվանումը | D9: Դասիչը | E9: Անվանումը | F9: Նկարագրությունը | G9: Տեսակը | J9: Ինն ամիս | K9: Տարի
A10: ԸՆԴԱՄԵՆԸ | J10: =J11+J18 -> 0 | K10: =K11+K18 -> 0
A11: ՀՀ աշխատանքի և սոցիալական հարցերի նախարարություն | J11: =J12 -> 18000 | K11: =K12 -> 18000
B12: 1205 | C12: Սոցիալական ապահովություն | J12: =J13 -> 18000 | K12: =K13 -> 18000
D13: ='1'!C12 -> 1205-12018 | E13: ='1'!D12 -> Ռազմական դրությամբ պայմանավորված՝ դրամական աջակցություն անհայտ կորած զինծառայողների ընտանիքներին | J13: ='1'!G12 -> 18000 | K13: ='1'!H12 -> 18000
F14: ='1'!E12 -> Ադրբեջանի կողմից 2020 թվականի սեպտեմբերի 27-ին սանձազերծված ռազմական գործողությունների հետևանքով անհայտ կորած զինծառայողների ընտանիքներին դրամական օժանդակության տրամադրում
G15: Տրանսֆերտների տրամադրում
H16: Անհայտ կորած զինծառայողի ընտանիք՝ համաձայն ՀՀ կառավարության 2020 թվականի դեկտեմբերի 10-ի N 2001-Լ որոշման
A18: ՀՀ աշխատանքի և սոցիալական հարցերի նախարարության միասնական սոցիալական ծառայություն | J18: =J19 -> -18000 | K18: =K19 -> -18000
B19: ='1'!B13 -> 1005 | C19: ='1'!D13 -> Պարգևավճարներ և պատվովճարներ | J19: =J20 -> -18000 | K19: =K20 -> -18000
D20: ='3'!D19 -> 1005 - 12001 | E20: ='3'!E19:I19 -> Զինծառայողներին, ՀՄՊ մասնակիցներին, այլ պետություններում մարտական գործողությունների մասնակիցներին, զոհված (մահացած) զինծառայողի ընտանիքի անդամներին, ընտանիքներին տրվող պարգևավճարներ | J20: ='1'!G14 -> -18000 | K20: ='1'!H14 -> -18000
F21: ='3'!F20:K20 -> Զինծառայողներին, ՀՄՊ մասնակիցներին, այլ պետություններում մարտական գործողությունների մասնակիցներին, զոհված (մահացած) զինծառայողի ընտանիքի անդամներին, ընտանիքներին, պարգևավճարների տրամադրում
G22: ='3'!G21:K21 -> Տրանսֆերտների տրամադրում
H23: ='3'!H22:K22 -> Շահառուների ընտրության չափորոշիչները` ՀՄՊ մասնակիցներ, ՀՄՊ և այլ պետություններում մարտական գործողությունների ընթացքում զոհված զինծառայողների ընտանիքներ
I24: ='3'!I23 -> Պարգևավճարներ ստացողների միջին թիվ, ընտանիք, այդ թվում` | K24: ='3'!K23 -> -65
A26: ՀՀ կառավարություն | J26: =J27 -> 0 | K26: =K27 -> 0
B27: 1139 | C27: ՀՀ կառավարության պահուստային ֆոնդ | J27: =J28+J32 -> 0 | K27: =K28+K32 -> 0
D28: 1139 - 11001 | E28: ՀՀ կառավարության պահուստային ֆոնդ | J28: ='3'!J27 -> 18000 | K28: ='3'!K27 -> 18000
F29: ՀՀ պետական բյուջեում նախատեսված ելքերի լրացուցիչ ֆինանսավորման, պետական բյուջեում չկանխատեսված ելքերի, ինչպես նաև բյուջետային երաշխիքների ապահովման ելքերի ֆինանսավորման ապահովում
G30: Ծառայությունների մատուցում
H31: Ծառայությունը մատուցողի անվանումը` ՀՀ կառավարություն
D32: 1139 - 11001 | E32: ՀՀ կառավարության պահուստային ֆոնդ | J32: ='3'!J31 -> -18000 | K32: ='3'!K31 -> -18000
F33: ՀՀ պետական բյուջեում նախատեսված ելքերի լրացուցիչ ֆինանսավորման, պետական բյուջեում չկանխատեսված ելքերի, ինչպես նաև բյուջետային երաշխիքների ապահովման ելքերի ֆինանսավորման ապահովում
G34: Ծառայությունների մատուցում
H35: Ծառայությունը մատուցողի անվանումը` ՀՀ կառավարություն
