Workbook

Sheet 1.
H1: Հավելված N 1
I2: ՀՀ կառավարության 2026 թվականի
I3: ______________ ի ___Ն որոշման
B5: «ՀԱՅԱUՏԱՆԻ ՀԱՆՐԱՊԵՏՈՒԹՅԱՆ 2026 ԹՎԱԿԱՆԻ ՊԵՏԱԿԱՆ ԲՅՈՒՋԵԻ ՄԱUԻՆ» OՐԵՆՔԻ N 1 ՀԱՎԵԼՎԱԾԻ N 2 ԱՂՅՈՒՍԱԿՈՒՄ ԿԱՏԱՐՎՈՂ ՎԵՐԱԲԱՇԽՈՒՄԸ ԵՎ ՀԱՅԱՍՏԱՆԻ ՀԱՆՐԱՊԵՏՈՒԹՅԱՆ ԿԱՌԱՎԱՐՈՒԹՅԱՆ 2025 ԹՎԱԿԱՆԻ ԴԵԿՏԵՄԲԵՐԻ 25-Ի N 1910-Ն ՈՐՈՇՄԱՆ N 5 ՀԱՎԵԼՎԱԾԻ N 1 ԱՂՅՈՒՍԱԿՈՒՄ ԿԱՏԱՐՎՈՂ ՓՈՓՈԽՈՒԹՅՈՒՆՆԵՐԸ ԵՎ ԼՐԱՑՈՒՄՆԵՐԸ
H6: հազար դրամներով
B7: ԲԳԿ | C7: Ծրագրային դասիչը | E7: ԲԳԿ/Ծրագրի /միջոցառման անվանումը | F7: Ծրագրի նպատակը/Միջոցառման նկարագրությունը | G7: Վերջնական արդյունքի նկարագրությունը/Միջոցառման տեսակը | H7: Ցուցանիշների փոփոխությունը (ավելացումները նշված են դրական նշանով, իսկ նվազեցումները՝ փակագծերում)
H8: Ինն ամիս | I8: Տարի
C9: Ծրագիր | D9: Միջոցառում
B10: ԸՆԴԱՄԵՆԸ | H10: =H11 -> 0 | I10: =I11 -> 0
B11: ՀՀ տարածքային կառավարման և ենթակառուցվածքների նախարարություն | H11: =H12+H14 -> 0 | I11: =I12+I14 -> 0
C12: 1001 | E12: Տարածքային կառավարման ոլորտում քաղաքականության մշակում, ծրագրերի համակարգում և մոնիտորինգի իրականացում | F12: Տարածքային կառավարման բնագավառում պետական արդյունավետ քաղաքականության մշակման և իրականացման ապահովում | G12: Տարածքային կառավարման քաղաքականության իրագործմանն ուղղված ծրագրերի ազդեցության և արդյունավետության բարելավում | H12: =H13 -> 6386.8 | I12: =I13 -> 6386.8
D13: 1001 - 11001 | E13: Տարածքային կառավարման և ենթակառուցվածքների քաղաքականության մշակում և ծառայությունների մատուցում | F13: Տարածքային կառավարման և ենթակառուցվածքների բնագավառում պետական քաղաքականության մշակման և դրա կատարման համակարգման, պետական ծրագրերի մշակման, իրականացման, մոնիտորինգի, խորհրդատվության և աջակցության ծառայություններ | G13: Ծառայությունների մատուցում | H13: ='2.'!H22 -> 6386.8 | I13: ='2.'!I22 -> 6386.8
C14: 1049 | E14: Ճանապարհային ցանցի բարելավում | F14: Ճանապարհային ցանցի բարելավում և անվտանգ երթևեկության ապահովում | G14: Ճանապարհների ծածկի որակի և փոխադրումների արդյունավետության բարելավում, ճանապարհների վիճակով պայմանավորված պատահարների նվազում | H14: =H15 -> -6386.8 | I14: =I15 -> -6386.8
D15: 1049 - 21001 | E15: Պետական նշանակության ավտոճանապարհների հիմնանորոգում | F15: Միջպետական, հանրապետական և մարզային նշանակության ավտոճոնապարհների քայքայված ծածկի վերանորոգում, մաշված ծածկի փոխարինում | G15: Հանրության կողմից անմիջականորեն օգտագործվող ակտիվների հետ կապված միջոցառումներ | H15: ='2.'!H42 -> -6386.8 | I15: ='2.'!I42 -> -6386.8
D20: ՀԱՅԱՍՏԱՆԻ ՀԱՆՐԱՊԵՏՈՒԹՅԱՆ ՎԱՐՉԱՊԵՏԻ ԱՇԽԱՏԱԿԱԶՄԻ ՂԵԿԱՎԱՐ՝ | F20: Լ․ՄԱԿՈՒՆՑ

Sheet 2.
I1: Հավելված N 2
I2: ՀՀ կառավարության 2026 թվականի
I3: ______________ ի ___Ն որոշման
B5: ՀԱՅԱՍՏԱՆԻ ՀԱՆՐԱՊԵՏՈՒԹՅԱՆ ԿԱՌԱՎԱՐՈՒԹՅԱՆ 2025 ԹՎԱԿԱՆԻ ԴԵԿՏԵՄԲԵՐԻ 25-Ի N 1910-Ն ՈՐՈՇՄԱՆ NN 3 ԵՎ 4 ՀԱՎԵԼՎԱԾՆԵՐՈՒՄ ԿԱՏԱՐՎՈՂ ՓՈՓՈԽՈՒԹՅՈՒՆՆԵՐԸ ԵՎ ԼՐԱՑՈՒՄՆԵՐԸ
I7: հազար դրամներով
B8: Գործառական դասիչը | E8: Ծրագրային դասիչը | G8: Բյուջետային հատկացումների գլխավոր կարգադրիչների, ծրագրերի, միջոցառումների և միջոցառումները կատարող պետական մարմինների անվանումները | H8: Ցուցանիշների փոփոխությունը (ավելացումները նշված են դրական նշանով, իսկ նվազեցումները` փակագծերում)
B9: Բաժին | C9: Խումբ | D9: Դաս | E9: Ծրագիր | F9: Միջոցառում | H9: Ինն ամիս | I9: Տարի
G10: ԸՆԴԱՄԵՆԸ | H10: =H12 -> 0 | I10: =I12 -> 0
G11: այդ թվում`
G12: ՀՀ տարածքային կառավարման և ենթակառուցվածքների նախարարություն | H12: =H32+H14 -> 0 | I12: =I32+I14 -> 0
G13: այդ թվում`
B14: 01 | G14: ԸՆԴՀԱՆՈՒՐ ԲՆՈՒՅԹԻ ՀԱՆՐԱՅԻՆ ԾԱՌԱՅՈՒԹՅՈՒՆՆԵՐ | H14: =H16 -> 6386.8 | I14: =I16 -> 6386.8
G15: այդ թվում`
C16: 01 | G16: Օրենսդիր և գործադիր մարմիններ, պետական կառավարում, ֆինանսական և հարկաբյուջետային հարաբերություններ, արտաքին հարաբերություններ | H16: =H18 -> 6386.8 | I16: =I18 -> 6386.8
G17: այդ թվում`
D18: 01 | G18: Օրենսդիր և գործադիր մարմիններ, պետական կառավարում | H18: =H22 -> 6386.8 | I18: =I20 -> 6386.8
G19: այդ թվում`
G20: ՀՀ տարածքային կառավարման և ենթակառուցվածքների նախարարություն | H20: =H22 -> 6386.8 | I20: =I22 -> 6386.8
G21: այդ թվում`
E22: 1001 | G22: Տարածքային կառավարման ոլորտում քաղաքականության մշակում, ծրագրերի համակարգում և մոնիտորինգի իրականացում | H22: =H24 -> 6386.8 | I22: =I24 -> 6386.8
G23: այդ թվում`
F24: 11001 | G24: Տարածքային կառավարման և ենթակառուցվածքների քաղաքականության մշակում և ծառայությունների մատուցում | H24: =H26 -> 6386.8 | I24: =I26 -> 6386.8
G25: այդ թվում` ըստ կատարողների
G26: ՀՀ տարածքային կառավարման և ենթակառուցվածքների նախարարություն | H26: =H29 -> 6386.8 | I26: =I29 -> 6386.8
G27: այդ թվում` բյուջետային ծախսերի տնտեսագիտական դասակարգման հոդվածներ
G28: ԸՆԴԱՄԵՆԸ ԾԱԽՍԵՐ | H28: =H30 -> 6386.8 | I28: =I30 -> 6386.8
G29: ԸՆԹԱՑԻԿ ԾԱԽՍԵՐ | H29: =H30 -> 6386.8 | I29: =I30 -> 6386.8
G30: ԱՅԼ ԾԱԽՍԵՐ | H30: =H31 -> 6386.8 | I30: =I31 -> 6386.8
G31: Հարկեր, պարտադիր վճարներ և տույժեր, որոնք կառավարման տարբեր մակարդակների կողմից կիրառվում են միմյանց նկատմամբ | H31: =-H32 -> 6386.8 | I31: =-I32 -> 6386.8
B32: 04 | G32: ՏՆՏԵՍԱԿԱՆ ՀԱՐԱԲԵՐՈՒԹՅՈՒՆՆԵՐ | H32: =H34 -> -6386.8 | I32: =I34 -> -6386.8
G33: այդ թվում`
C34: 05 | G34: ՏՐԱՆՍՊՈՐՏ | H34: =H36 -> -6386.8 | I34: =I36 -> -6386.8
G35: այդ թվում`
D36: 01 | G36: Ճանապարհային տրանսպորտ | H36: =H38 -> -6386.8 | I36: =I38 -> -6386.8
G37: այդ թվում`
G38: ՀՀ տարածքային կառավարման և ենթակառուցվածքների նախարարություն | H38: =H40 -> -6386.8 | I38: =I40 -> -6386.8
G39: այդ թվում`
E40: 1049 | G40: Ճանապարհային ցանցի բարելավում | H40: =H42+H60 -> -6386.8 | I40: =I42+I60 -> -6386.8
G41: այդ թվում`
F42: 21001 | G42: Պետական նշանակության ավտոճանապարհների հիմնանորոգում | H42: =H44+H53 -> -6386.8 | I42: =I44+I53 -> -6386.8
...

Sheet 3.
I1: Հավելված N 3
I2: ՀՀ կառավարության 2026 թվականի
I3: ______________ ի ___Ն որոշման
B5: «ՀԱՅԱՍՏԱՆԻ ՀԱՆՐԱՊԵՏՈՒԹՅԱՆ 2026 ԹՎԱԿԱՆԻ ՊԵՏԱԿԱՆ ԲՅՈՒՋԵԻ ՄԱՍԻՆ» ՕՐԵՆՔԻ N 1 ՀԱՎԵԼՎԱԾԻ N 3 ԱՂՅՈՒՍԱԿՈՒՄ ԿԱՏԱՐՎՈՂ ՓՈՓՈԽՈՒԹՅՈՒՆՆԵՐԸ ԵՎ ԼՐԱՑՈՒՄՆԵՐԸ
H6: հազար դրամներով
B7: Ծրագրային դասիչ | D7: Բյուջետային գլխավոր կարգադրիչների, ծրագրերի, միջոցառումների և ուղղությունների անվանումները | E7: Ցուցանիշների փոփոխությունը (ավելացումները նշված են դրական նշանով, իսկ նվազեցումները` փակագծերում)
E8: Ընդամենը, | F8: այդ թվում՝
B9: Ծրագիր | C9: Միջոցառում | F9: Կառուցման աշխատանքներ | G9: Վերակառուցման, վերանորոգման և վերականգնման աշխատանքներ | H9: Նախագծահե- տազոտական, գեոդեզիա- քարտեզագրական աշխատանքներ | I9: Ոչ ֆինանսական այլ ակտիվների ձեռքբերում
D10: ԸՆԴԱՄԵՆԸ | E10: =F10+G10+H10+I10 -> -6386.8 | F10: =F12 -> 1266869.5 | G10: =G12 -> -1351023.4 | H10: =H12 -> 77767.1 | I10: =I12 -> 0
D11: այդ թվում՝
D12: ՀՀ ՏԱՐԱԾՔԱՅԻՆ ԿԱՌԱՎԱՐՄԱՆ ԵՎ ԵՆԹԱԿԱՌՈՒՑՎԱԾՔՆԵՐԻ ՆԱԽԱՐԱՐՈՒԹՅՈՒՆ | E12: =F12+G12+H12+I12 -> -6386.8 | F12: =F14+F82 -> 1266869.5 | G12: =G14+G82 -> -1351023.4 | H12: =H14+H82 -> 77767.1 | I12: =I14+I82 -> 0
D13: այդ թվում`
B14: 1049 | C14: 21001 | D14: Պետական նշանակության ավտոճանապարհների հիմնանորոգում | E14: =F14+G14+H14+I14 -> -6386.8 | F14: =F16+F22+F32 -> 0 | G14: =G16+G22+G32+G81 -> -71080.8 | H14: =H16+H22+H32+H81 -> 64694 | I14: =I16+I22+I32+I81 -> 0
D15: այդ թվում`
C16: 1 | D16: Միջպետական նշանակության ավտոճանապարհներ, այդ թվում | E16: =F16+G16+H16+I16 -> 1014956.6 | F16: 0 | G16: =G17+G18+G19+G20+G21 -> 1012200.6 | H16: 2756 | I16: 0
D17: Մ-2, Երևան-Երասխ-Նորավան- Տաթև-Կապան-Մեղրի-ՀՀ սահման (նախկին՝ Մ-2 ,Երևան-Երասխ-Գորիս-Մեղրի-ՀՀ սահման) միջպետական նշանակության ավտոճանապարհի կմ108+400 - կմ126+100 հատվածի հիմնանորոգում | E17: 135966.1 | F17: 0 | G17: 135966.1 | H17: 0 | I17: 0
D18: Մ-3,ՀՀ սահման – Մարգարա – Վանաձոր – Տաշիր - ՀՀ սահման միջպետական նշանակության ավտոճանապարհի կմ72+000-կմ75+500 հատվածի հիմնանորոգում | E18: 1826 | F18: 0 | G18: 0 | H18: 1826 | I18: 0
D19: Մ-3, ՀՀ սահման(Մարգարա) – Վանաձոր – Տաշիր – ՀՀ սահման միջպետական նշանակության ավտոճանապարհի Ռյա Թազա բնակավայրով անցնող հատվածում ջրահեռացման կարգավորում | E19: 61658.9 | F19: 0 | G19: 61658.9 | H19: 0 | I19: 0
D20: Մ-5, Երևան-Արմավիր-ՀՀ սահման միջպետական նշանակության ավտոճանապարհի կմ44+600 – կմ47+000 հատվածում մայթերի կառուցում | E20: 930 | F20: 0 | G20: 0 | H20: 930 | I20: 0
D21: Մ-10, Սևան-Մարտունի-Վարդենիս-ՀՀ սահման միջպետական նշանակության ավտոճանապարհի կմ95+200-կմ104+200 հատվածի (նախկին՝ Մ-11, Մարտունի - Վարդենիս - ՀՀ սահման միջպետական նշանակության ավտոճանապարհի կմ29+200-կմ38+200 հատվածի) հիմնանորոգում | E21: 814575.6 | F21: 0 | G21: 814575.6 | H21: 0 | I21: 0
C22: 2 | D22: Հանրապետական նշանակության ավտոճանապարհներ, այդ թվում | E22: =F22+G22+H22+I22 -> 8396600.7 | F22: 0 | G22: =SUM(G23:G31) -> 8391320.6 | H22: =SUM(H23:H31) -> 5280.1 | I22: =SUM(I23:I31) -> 0
D23: Հ-1, Վ. Պտղնու տրանսպորտային հանգույց -Աբովյան - Ֆանտան -Ալափարս-Հ-5 հանրապետական նշանակության ավտոճանապարհի կմ5+023 - կմ20+810 հատվածի հիմնանորոգում | E23: 3840 | F23: 0 | G23: 0 | H23: 3840 | I23: 0
D24: Հ-2, /Հ-1/(Աբովյան) -Արզնի -/Հ-6/Նոր Գեղի հանրապետական նշանակության ավտոճանապարհի կմ1+400 -կմ8+088 հատվածի հիմնանորոգում | E24: 1686560.2 | F24: 0 | G24: 1686560.2 | H24: 0 | I24: 0
D25: Հ-4, Երևան -Եղվարդ -Արագյուղ -Հարթավան - /Մ-3/ հանրապետական նշանակության ավտոճանապարհի կմ 15+600-կմ28+000 հատվածի հիմնանորոգում | E25: =F25+G25+H25+I25 -> 2020796.9 | G25: ='4.'!F28 -> 2020796.9
D26: Հ-26, /Մ-4/ - Ենոքավան-Կարմիրգյուղ (գյուղատեղի) - /Հ-58/ (նախկին՝ Հ-26, /Մ-4/ - Ենոքավան – Կարմիրգյուղ (գյուղատեղի) - /Մ-16/) հանրապետական նշանակության ավտոճանապարհի կմ 0+000-կմ6+300 հատվածի հիմնանորոգում | E26: 1011389.7 | F26: 0 | G26: 1011389.7 | H26: 0 | I26: 0
D27: Հ-36, /Մ-4/(Իջևան) - Նավուր - Բերդ - Այգեպար - Հ-37 (նախկին՝ Հ-36, /Մ-4/ (Իջևան) - Նավուր - Բերդ - Այգեպար) հանրապետական նշանակության ավտոճանապարհի կմ 42+100(40+606)-կմ 51+900 հատվածի հիմնանորոգում | E27: 2032693.5 | F27: 0 | G27: 2032693.5 | H27: 0 | I27: 0
D28: Հ-36, /Մ-4/(Իջևան) - Նավուր - Բերդ - Այգեպար - Հ-37 (նախկին՝ Հ-36, /Մ-4/ (Իջևան) - Նավուր - Բերդ - Այգեպար) հանրապետական նշանակության ավտոճանապարհի կմ 51+900 -կմ 56+460 հատվածի հիմնանորոգում | E28: 1228220 | F28: 0 | G28: 1228220 | H28: 0 | I28: 0
D29: Հ-58, /Մ-4/ -Ոսկեպար-Նոյեմբերյան- /Մ-6/ հանրապետական նշանակության ավտոճանապարհի (նախկին՝ Մ-16, Մ-4-Ոսկեպար-Նոյեմբերյան-Մ-6 միջպետական նշանակության ավտոճանապարհի) կմ41+900-կմ46+400 հատվածի հիմնանորոգում | E29: =F29+G29+H29+I29 -> 79833.8 | G29: 79833.8
D30: Հ-67, /Հ-32/ (Ամասիա) -Բերդաշեն- /Հ-66/ հանրապետական նշանակության ավտոճանապարհի Բերդաշեն բնակավայրով անցնող 1.5 կմ երկարությամբ տարանցիկ հատվածի հիմնանորոգում | E30: 331826.5 | F30: 0 | G30: 331826.5 | H30: 0 | I30: 0
D31: Հ-70, /Մ-6/ - Աթան – Հ-26 հանրապետական նշանակության ավտոճանապարհի Աթան – Հ-26 հատվածի կառուցում | E31: 1440.1 | F31: 0 | G31: 0 | H31: 1440.1 | I31: 0
C32: 3 | D32: Մարզային նշանակության ավտոճանապարհներ, այդ թվում | E32: 4921314.2 | F32: 0 | G32: 4864656.3 | H32: 56657.9 | I32: 0
D33: Տ-1-6, /Հ-14/ - Ուջան - /Հ-14/ (նախկինում՝ Տ-1-6, /Մ-1/ Ուջան - /Մ-1/) տեղական նշանակության ավտոճանապարհի կմ0+650 - կմ3+700 հատվածի հիմնանորագում | E33: 2954.5 | F33: 0 | G33: 2954.5 | I33: 0
D34: Տ-1-43, /Մ-3/ - Նիգավան տեղական նշանակության ավտոճանապարհի կմ 0+000-կմ1+320 հատվածի հիմնանորոգում | E34: 946 | F34: 0 | G34: 0 | H34: 946 | I34: 0
D35: Տ-1-45, /Մ-3/ (Ապարան)-Վարդենիս-Թթուջուր-Ձորագլուխ տեղական նշանակության ավտոճանապարհի կմ 0+000-կմ0+820 հատվածի հիմնանորոգում | E35: 1072 | F35: 0 | G35: 0 | H35: 1072 | I35: 0
D36: Տ-1-46, /Մ-3/ (Քուչակ)-Արագած-Շենավան- /Մ-3/ տեղական նշանակության ավտոճանապարհի կմ0+000-կմ8+500 հատվածի հիմնանորոգում | E36: 3650 | F36: 0 | G36: 0 | H36: 3650 | I36: 0
D37: Տ-1-60, /Մ-1/ -Կաքավաձոր-Օթևան տեղական նշանակության ավտոճանապարհի կմ 0+000-կմ 6+300 հատվածի հիմնանորոգում | E37: 1824 | F37: 0 | G37: 0 | H37: 1824 | I37: 0
D38: Թալին համայնքի Կաքավաձոր բնակավայրում համայնքային նշանակության 1-ին փողոցի մոտ 900մ ասֆալտապատում հիմնանորոգում | E38: 120753.8 | F38: 0 | G38: 120753.8 | H38: 0 | I38: 0
D39: Տ-2-13, Արգավանդ – Հայանիստ – Հովտաշատ - Արմավիրի մարզի սահման տեղական նշանակության ավտոճանապարհի կմ 0+000-կմ 5+300 հատվածի հիմնանորոգում | E39: 950.1 | F39: 0 | G39: 0 | H39: 950.1 | I39: 0
D40: Տ-2-16, Տ-2-15 /Գետափնյա/– Երևան /Շիրակի փողոց/ տեղական նշանակության ավտոճանապարհի կմ 0+000-կմ 0+300 հատվածի հիմնանորոգում | E40: 722.3 | F40: 0 | G40: 0 | H40: 722.3 | I40: 0
D41: Տ-2-46, /Հ-8/ - Գինեվետ -Նոր Ուղի – /Հ-10/ տեղական նշանակության ավտոճանապարհի կմ 0+000-կմ 10+500 հատվածի հիմնանորոգում | E41: 5994 | F41: 0 | G41: 0 | H41: 5994 | I41: 0
...

Sheet 4.
F1: Հավելված N 4
F2: ՀՀ կառավարության 2026 թվականի
F3: ______________ ի ___Ն որոշման
A5: ՀԱՅԱՍՏԱՆԻ ՀԱՆՐԱՊԵՏՈՒԹՅԱՆ ԿԱՌԱՎԱՐՈՒԹՅԱՆ 2025 ԹՎԱԿԱՆԻ ԴԵԿՏԵՄԲԵՐԻ 25-Ի N 1910-Ն ՈՐՈՇՄԱՆ N 5 ՀԱՎԵԼՎԱԾԻ N 2 ԱՂՅՈՒՍԱԿՈՒՄ ԿԱՏԱՐՎՈՂ ՓՈՓՈԽՈՒԹՅՈՒՆՆԵՐԸ ԵՎ ԼՐԱՑՈՒՄՆԵՐԸ
F7: հազար դրամներով
B8: Ծրագրային դասիչը | D8: Հատկացումների տրամադրման նպատակները և բյուջետային գլխավոր կարգադրիչների, ծրագրերի, միջոցառումների և կատարող պետական մարմնի անվանումները | E8: Ցուցանիշների փոփոխությունը (ավելացումները նշված են դրական նշանով, իսկ նվազեցումները` փակագծերում)
B9: Ծրագիր | C9: Միջոցառում | E9: Ինն ամիս | F9: Տարի
D10: ԸՆԴԱՄԵՆԸ | E10: =E12 -> -6386.8 | F10: =F12 -> -6386.8
D11: այդ թվում՝
D12: ՀՀ ՏԱՐԱԾՔԱՅԻՆ ԿԱՌԱՎԱՐՄԱՆ ԵՎ ԵՆԹԱԿԱՌՈՒՑՎԱԾՔՆԵՐԻ ՆԱԽԱՐԱՐՈՒԹՅՈՒՆ | E12: =E14+E84 -> -6386.8 | F12: =F14+F84 -> -6386.8
D13: այդ թվում`
B14: 1049 | C14: 21001 | D14: Պետական նշանակության ավտոճանապարհների հիմնանորոգում | E14: =E16+E17 -> -6386.8 | F14: =F16+F17 -> -6386.8
D15: այդ թվում` ըստ կատարողների
D16: ՀՀ կառավարություն | E16: -7028972.3 | F16: -14339258
D17: ՀՀ տարածքային կառավարման և ենթակառուցվածքների նախարարություն | E17: =E19+E25+E35 -> 7022585.5 | F17: =F19+F25+F35 -> 14332872
D18: այդ թվում՝ ըստ ուղղությունների
C19: 1 | D19: Միջպետական նշանակության ավտոճանապարհներ, այդ թվում | E19: =E20+E21+E22+E23+E24 -> 581179.3 | F19: 1014956.6
D20: Մ-2, Երևան-Երասխ-Նորավան- Տաթև-Կապան-Մեղրի-ՀՀ սահման (նախկին՝ Մ-2 ,Երևան-Երասխ-Գորիս-Մեղրի-ՀՀ սահման) միջպետական նշանակության ավտոճանապարհի կմ108+400 - կմ126+100 հատվածի հիմնանորոգում | E20: 135966.1 | F20: 135966.1
D21: Մ-3,ՀՀ սահման – Մարգարա – Վանաձոր – Տաշիր - ՀՀ սահման միջպետական նշանակության ավտոճանապարհի կմ72+000-կմ75+500 հատվածի հիմնանորոգում | E21: 0 | F21: 1826
D22: Մ-3, ՀՀ սահման(Մարգարա) – Վանաձոր – Տաշիր – ՀՀ սահման միջպետական նշանակության ավտոճանապարհի Ռյա Թազա բնակավայրով անցնող հատվածում ջրահեռացման կարգավորում | E22: 36995.4 | F22: 61658.9
D23: Մ-5, Երևան-Արմավիր-ՀՀ սահման միջպետական նշանակության ավտոճանապարհի կմ44+600 – կմ47+000 հատվածում մայթերի կառուցում | E23: 930 | F23: 930
D24: Մ-10, Սևան-Մարտունի-Վարդենիս-ՀՀ սահման միջպետական նշանակության ավտոճանապարհի կմ95+200-կմ104+200 հատվածի (նախկին՝ Մ-11, Մարտունի - Վարդենիս - ՀՀ սահման միջպետական նշանակության ավտոճանապարհի կմ29+200-կմ38+200 հատվածի) հիմնանորոգում | E24: 407287.8 | F24: 814575.6
C25: 2 | D25: Հանրապետական նշանակության ավտոճանապարհներ, այդ թվում | E25: =SUM(E26:E34) -> 3561183.7 | F25: =SUM(F26:F34) -> 8396600.7
D26: Հ-1, Վ. Պտղնու տրանսպորտային հանգույց -Աբովյան - Ֆանտան -Ալափարս-Հ-5 հանրապետական նշանակության ավտոճանապարհի կմ5+023 - կմ20+810 հատվածի հիմնանորոգում | E26: 0 | F26: 3840
D27: Հ-2, /Հ-1/(Աբովյան) -Արզնի -/Հ-6/Նոր Գեղի հանրապետական նշանակության ավտոճանապարհի կմ1+400 -կմ8+088 հատվածի հիմնանորոգում | E27: 843280.1 | F27: 1686560.2
D28: Հ-4, Երևան -Եղվարդ -Արագյուղ -Հարթավան - /Մ-3/ հանրապետական նշանակության ավտոճանապարհի կմ 15+600-կմ28+000 հատվածի հիմնանորոգում | E28: 606239 | F28: 2020796.9
D29: Հ-26, /Մ-4/ - Ենոքավան-Կարմիրգյուղ (գյուղատեղի) - /Հ-58/ (նախկին՝ Հ-26, /Մ-4/ - Ենոքավան – Կարմիրգյուղ (գյուղատեղի) - /Մ-16/) հանրապետական նշանակության ավտոճանապարհի կմ 0+000-կմ6+300 հատվածի հիմնանորոգում | E29: 202278 | F29: 1011389.7
D30: Հ-36, /Մ-4/(Իջևան) - Նավուր - Բերդ - Այգեպար - Հ-37 (նախկին՝ Հ-36, /Մ-4/ (Իջևան) - Նավուր - Բերդ - Այգեպար) հանրապետական նշանակության ավտոճանապարհի կմ 42+100(40+606)-կմ 51+900 հատվածի հիմնանորոգում | E30: 1016346.8 | F30: 2032693.5
D31: Հ-36, /Մ-4/(Իջևան) - Նավուր - Բերդ - Այգեպար - Հ-37 (նախկին՝ Հ-36, /Մ-4/ (Իջևան) - Նավուր - Բերդ - Այգեպար) հանրապետական նշանակության ավտոճանապարհի կմ 51+900 -կմ 56+460 հատվածի հիմնանորոգում | E31: 614110 | F31: 1228220
D32: Հ-58, /Մ-4/ -Ոսկեպար-Նոյեմբերյան- /Մ-6/ հանրապետական նշանակության ավտոճանապարհի (նախկին՝ Մ-16, Մ-4-Ոսկեպար-Նոյեմբերյան-Մ-6 միջպետական նշանակության ավտոճանապարհի) կմ41+900-կմ46+400 հատվածի հիմնանորոգում | E32: ='3.'!G29 -> 79833.8 | F32: =E32 -> 79833.8
D33: Հ-67, /Հ-32/ (Ամասիա) -Բերդաշեն- /Հ-66/ հանրապետական նշանակության ավտոճանապարհի Բերդաշեն բնակավայրով անցնող 1.5 կմ երկարությամբ տարանցիկ հատվածի հիմնանորոգում | E33: 199096 | F33: 331826.5
D34: Հ-70, /Մ-6/ - Աթան – Հ-26 հանրապետական նշանակության ավտոճանապարհի Աթան – Հ-26 հատվածի կառուցում | E34: 0 | F34: 1440.1
C35: 3 | D35: Մարզային նշանակության ավտոճանապարհներ, այդ թվում | E35: =SUM(E36:E83) -> 2880222.5 | F35: =SUM(F36:F83) -> 4921314.2
D36: Տ-1-6, /Հ-14/ - Ուջան - /Հ-14/ (նախկինում՝ Տ-1-6, /Մ-1/ Ուջան - /Մ-1/) տեղական նշանակության ավտոճանապարհի կմ0+650 - կմ3+700 հատվածի հիմնանորագում | E36: 1772.7 | F36: 2954.5
D37: Տ-1-43, /Մ-3/ - Նիգավան տեղական նշանակության ավտոճանապարհի կմ 0+000-կմ1+320 հատվածի հիմնանորոգում | E37: 0 | F37: 946
D38: Տ-1-45, /Մ-3/ (Ապարան)-Վարդենիս-Թթուջուր-Ձորագլուխ տեղական նշանակության ավտոճանապարհի կմ 0+000-կմ0+820 հատվածի հիմնանորոգում | E38: 0 | F38: 1072
D39: Տ-1-46, /Մ-3/ (Քուչակ)-Արագած-Շենավան- /Մ-3/ տեղական նշանակության ավտոճանապարհի կմ0+000-կմ8+500 հատվածի հիմնանորոգում | E39: 0 | F39: 3650
D40: Տ-1-60, /Մ-1/ -Կաքավաձոր-Օթևան տեղական նշանակության ավտոճանապարհի կմ 0+000-կմ 6+300 հատվածի հիմնանորոգում | E40: 0 | F40: 1824
D41: Թալին համայնքի Կաքավաձոր բնակավայրում համայնքային նշանակության 1-ին փողոցի մոտ 900մ ասֆալտապատում հիմնանորոգում | E41: 72452.3 | F41: 120753.8
D42: Տ-2-13, Արգավանդ – Հայանիստ – Հովտաշատ - Արմավիրի մարզի սահման տեղական նշանակության ավտոճանապարհի կմ 0+000-կմ 5+300 հատվածի հիմնանորոգում | E42: 950.1 | F42: 950.1
...

Sheet 5.
L1: Հավելված N5
L2: ՀՀ կառավարության 2026 թվականի
L3: ______________ ի ___Ն որոշման
B5: ՀԱՅԱՍՏԱՆԻ ՀԱՆՐԱՊԵՏՈՒԹՅԱՆ ԿԱՌԱՎԱՐՈՒԹՅԱՆ 2025 ԹՎԱԿԱՆԻ ԴԵԿՏԵՄԲԵՐԻ 25-Ի № 1910-Ն ՈՐՈՇՄԱՆ № 9 ՀԱՎԵԼՎԱԾՈՒՄ ԿԱՏԱՐՎՈՂ ՓՈՓՈԽՈՒԹՅՈՒՆՆԵՐԸ ԵՎ ԼՐԱՑՈՒՄՆԵՐԸ
L7: հազար դրամներով
B8: ԲԳԿ | C8: Ծրագիր | E8: Միջոցառում | I8: Իրականացնողը/ ակտիվն օգտագործողը/ շահառուի ընտրության չափորոշիչը | J8: Արդյունքային չափորոշիչը | K8: Ցուցանիշների փոփոխությունը (ավելացումները նշված են դրական նշանով, իսկ նվազեցումները` փակագծերում)
C9: Դասիչը | D9: Անվանումը | E9: Դասիչը | F9: Անվանումը | G9: Նկարագրությունը | H9: Տեսակը | K9: Ինն ամիս | L9: Տարի
B10: ԸՆԴԱՄԵՆԸ | K10: =K11 -> 0 | L10: =L11 -> 0
B11: ՀՀ տարածքային կառավարման և ենթակառուցվածքների նախարարություն | K11: =K12+K17 -> 0 | L11: =L12+L17 -> 0
C12: 1001 | D12: Տարածքային կառավարման ոլորտում քաղաքականության մշակում, ծրագրերի համակարգում և մոնիտորինգի իրականացում | K12: =K13 -> 6386.8 | L12: =L13 -> 6386.8
E13: 1001 - 11001 | F13: Տարածքային կառավարման և ենթակառուցվածքների քաղաքականության մշակում և ծառայությունների մատուցում | K13: ='2.'!H24 -> 6386.8 | L13: ='2.'!I24 -> 6386.8
G14: Տարածքային կառավարման և ենթակառուցվածքների բնագավառում պետական քաղաքականության մշակման և դրա կատարման համակարգման, պետական ծրագրերի մշակման, իրականացման, մոնիտորինգի, խորհրդատվության և աջակցության ծառայություններ
H15: Ծառայությունների մատուցում
I16: Ծառայությունը մատուցողի անվանումը` ՀՀ տարածքային կառավարման և ենթակառուցվածքների նախարարություն
C17: 1049 | D17: Ճանապարհային ցանցի բարելավում | K17: =K18+K23 -> -6386.8 | L17: =L18+L23 -> -6386.8
E18: 1049 - 21001 | F18: Պետական նշանակության ավտոճանապարհների հիմնանորոգում | K18: ='2.'!H42 -> -6386.8 | L18: ='2.'!I42 -> -6386.8
G19: Միջպետական, հանրապետական և մարզային նշանակության ավտոճոնապարհների քայքայված ծածկի վերանորոգում, մաշված ծածկի փոխարինում
H20: Հանրության կողմից անմիջականորեն օգտագործվող ակտիվների հետ կապված միջոցառումներ
I21: Միջոցառումն իրականացնողի անվանումը` Մասնագիտացված միավոր
J22: Նախագծանախահաշվային փաստաթղթերի քանակ, հատ | L22: ='6.'!L21 -> 38
E23: 1049 - 21002 | F23: Տրանսպորտային օբյեկտների հիմնանորոգում | K23: ='4.'!H59 -> 0
G24: Ավտոմոբիլային ճանապարհների վրա գտնվող կամուրջների հիմնանորոգում
H25: Հանրության կողմից անմիջականորեն օգտագործվող ակտիվների հետ կապված միջոցառումներ
I26: Միջոցառումն իրականացնողի անվանումը` Մասնագիտացված միավոր
J27: Նախագծանախահաշվային փաստաթղթերի քանակ, հատ | L27: 3
D29: ՀԱՅԱՍՏԱՆԻ ՀԱՆՐԱՊԵՏՈՒԹՅԱՆ
D30: ՎԱՐՉԱՊԵՏԻ ԱՇԽԱՏԱԿԱԶՄԻ
E31: ՂԵԿԱՎԱՐ ՝ Լ․ՄԱԿՈՒՆՑ

Sheet 6.
L1: Հավելված N 6
L2: ՀՀ կառավարության 2026 թվականի
L3: ______________ ի ___Ն որոշման
B5: ՀԱՅԱՍՏԱՆԻ ՀԱՆՐԱՊԵՏՈՒԹՅԱՆ ԿԱՌԱՎԱՐՈՒԹՅԱՆ 2025 ԹՎԱԿԱՆԻ ԴԵԿՏԵՄԲԵՐԻ 25-Ի № 1910-Ն ՈՐՈՇՄԱՆ № 9.1 ՀԱՎԵԼՎԱԾՈՒՄ ԿԱՏԱՐՎՈՂ ՓՈՓՈԽՈՒԹՅՈՒՆՆԵՐԸ ԵՎ ԼՐԱՑՈՒՄՆԵՐԸ
L6: հազար դրամներով
B7: ԲՍԿ | C7: Ծրագիր | E7: Միջոցառում | I7: Իրականացնողը/ ակտիվն օգտագործողը/ շահառուի ընտրության չափորոշիչը | J7: Արդյունքային չափորոշիչը | K7: Ցուցանիշների փոփոխությունը (ավելացումները նշված են դրական նշանով, իսկ նվազեցումները` փակագծերում)
C8: Դասիչը | D8: Անվանումը | E8: Դասիչը | F8: Անվանումը | G8: Նկարագրությունը | H8: Տեսակը | K8: Ինն ամիս | L8: Տարի
B9: ԸՆԴԱՄԵՆԸ | K9: =K10+K32 -> 0 | L9: =L10+L32 -> 0
B10: ՀՀ տարածքային կառավարման և ենթակառուցվածքների նախարարություն | K10: =K16+K11 -> 8270946.9 | L10: =L16+L11 -> 15653277
C11: 1001 | D11: Տարածքային կառավարման ոլորտում քաղաքականության մշակում, ծրագրերի համակարգում և մոնիտորինգի իրականացում | K11: =K12 -> 6386.8 | L11: =L12 -> 6386.8
E12: 1001 - 11001 | F12: Տարածքային կառավարման և ենթակառուցվածքների քաղաքականության մշակում և ծառայությունների մատուցում | K12: ='2.'!H24 -> 6386.8 | L12: ='2.'!I24 -> 6386.8
G13: Տարածքային կառավարման և ենթակառուցվածքների բնագավառում պետական քաղաքականության մշակման և դրա կատարման համակարգման, պետական ծրագրերի մշակման, իրականացման, մոնիտորինգի, խորհրդատվության և աջակցության ծառայություններ
H14: Ծառայությունների մատուցում
I15: Ծառայությունը մատուցողի անվանումը` ՀՀ տարածքային կառավարման և ենթակառուցվածքների նախարարություն
C16: 1049 | D16: Ճանապարհային ցանցի բարելավում | K16: =K17+K26 -> 8264560.1 | L16: =L17+L26 -> 15646890
E17: 1049 - 21001 | F17: Պետական նշանակության ավտոճանապարհների հիմնանորոգում | K17: ='2.'!H44 -> 7022585.5 | L17: ='2.'!I44 -> 14332872
G18: Միջպետական, հանրապետական և մարզային նշանակության ավտոճոնապարհների քայքայված ծածկի վերանորոգում, մաշված ծածկի փոխարինում
H19: Հանրության կողմից անմիջականորեն օգտագործվող ակտիվների հետ կապված միջոցառումներ
I20: Միջոցառումն իրականացնողի անվանումը` Մասնագիտացված միավոր
J21: Նախագծանախահաշվային փաստաթղթերի քանակ, հատ | L21: 38
J22: Պետական նշանակության ավտոճանապարհներ, կիլոմետր | L22: =L23+L24+L25 -> 63.5
J23: Միջպետական նշանակության ավտոճանապարհներ, կիլոմետր | L23: 4.8
J24: Հանրապետական նշանակության ավտոճանապարհներ, կիլոմետր | L24: 32.2
J25: Մարզային նշանակության ավտոճանապարհներ, կիլոմետր | L25: 26.5
E26: 1049 - 21002 | F26: Տրանսպորտային օբյեկտների հիմնանորոգում | K26: ='2.'!H62 -> 1241974.6 | L26: ='2.'!I62 -> 1314018.7
G27: Ավտոմոբիլային ճանապարհների վրա գտնվող կամուրջների հիմնանորոգում
H28: Հանրության կողմից անմիջականորեն օգտագործվող ակտիվների հետ կապված միջոցառումներ
I29: Միջոցառումն իրականացնողի անվանումը` Մասնագիտացված միավոր
J30: Նախագծանախահաշվային փաստաթղթերի քանակ, հատ | L30: 3
J31: Հիմնանորոգվող տրանսպորտային օբյեկտների թիվը, այդ թվում | L31: =-L46 -> 4
B32: ՀՀ կառավարություն | K32: =K33 -> -8270946.9 | L32: =L33 -> -15653277
C33: 1049 | D33: Ճանապարհային ցանցի բարելավում | K33: =K34+K42 -> -8270946.9 | L33: =L34+L42 -> -15653277
E34: 1049 - 21001 | F34: Պետական նշանակության ավտոճանապարհների հիմնանորոգում | K34: ='2.'!H53 -> -7028972.3 | L34: ='2.'!I53 -> -14339258
G35: Միջպետական, հանրապետական և մարզային նշանակության ավտոճոնապարհների քայքայված ծածկի վերանորոգում, մաշված ծածկի փոխարինում
H36: Հանրության կողմից անմիջականորեն օգտագործվող ակտիվների հետ կապված միջոցառումներ
I37: Միջոցառումն իրականացնողի անվանումը` Մասնագիտացված միավոր
J38: Պետական նշանակության ավտոճանապարհներ, կիլոմետր | L38: =L39+L40+L41 -> -63.5
J39: Միջպետական նշանակության ավտոճանապարհներ, կիլոմետր | L39: -4.8
J40: Հանրապետական նշանակության ավտոճանապարհներ, կիլոմետր | L40: -32.2
J41: Մարզային նշանակության ավտոճանապարհներ, կիլոմետր | L41: -26.5
...

Sheet 7
H1: Հավելված N7
H2: ՀՀ կառավարության 2026 թվականի
H3: ______________ ի ___Ն որոշման
B5: ՀԱՅԱՍՏԱՆԻ ՀԱՆՐԱՊԵՏՈՒԹՅԱՆ ԿԱՌԱՎԱՐՈՒԹՅԱՆ 2025 ԹՎԱԿԱՆԻ ԴԵԿՏԵՄԲԵՐԻ 25-Ի N 1910-Ն ՈՐՈՇՄԱՆ N 10 ՀԱՎԵԼՎԱԾՈՒՄ ԿԱՏԱՐՎՈՂ ԼՐԱՑՈՒՄՆԵՐԸ
B7: Կոդը | C7: Անվանումը | D7: Գնման ձևը | E7: Չափման միավորը | F7: Միավորի գինը | G7: Ցուցանիշների փոփոխությունը (ավելացումները նշված են դրական նշանով)
G8: Քանակը | H8: Գումարը (հազար դրամով)
B9: ՀՀ տարածքային կառավարման և ենթակառուցվածքների նախարարություն | H9: =+H10 -> 15431089
B10: Բաժին N 04 | C10: Խումբ N 05 | D10: Դաս N 01 | E10: Ճանապարհային տրանսպորտ | H10: =H11+H150 -> 15431089
B11: 1049 21001 | C11: Պետական նշանակության ավտոճանապարհների հիմնանորոգում | H11: =+H12+H32 -> 14117071
B12: ՄԱՍ II. ԱՇԽԱՏԱՆՔՆԵՐ | H12: =SUM(H13:H31) -> 13892109
B13: 45231177/514 | C13: ճանապարհների վերանորոգման աշխատանքներ | D13: ՀԲՄ | E13: դրամ | F13: 60973333 | G13: 1 | H13: =+G13*F13/1000 -> 60973.333
B14: 45231177/530 | C14: ճանապարհների վերանորոգման աշխատանքներ | D14: ՀԲՄ | E14: դրամ | F14: 801949573 | G14: 1 | H14: =+G14*F14/1000 -> 801949.57
B15: 45231177/536 | C15: ճանապարհների վերանորոգման աշխատանքներ | D15: ՀԲՄ | E15: դրամ | F15: 1666666662 | G15: 1 | H15: =+G15*F15/1000 -> 1666666.7
B16: 45231177/503 | C16: ճանապարհների վերանորոգման աշխատանքներ | D16: ՀԲՄ | E16: դրամ | F16: 1000000000 | G16: 1 | H16: =+G16*F16/1000 -> 1000000
B17: 45231177/531 | C17: ճանապարհների վերանորոգման աշխատանքներ | D17: ՀԲՄ | E17: դրամ | F17: 2012130200 | G17: 1 | H17: =+G17*F17/1000 -> 2012130.2
B18: 45231177/532 | C18: ճանապարհների վերանորոգման աշխատանքներ | D18: ՀԲՄ | E18: դրամ | F18: 1215000000 | G18: 1 | H18: =+G18*F18/1000 -> 1215000
B19: 45231177/519 | C19: ճանապարհների վերանորոգման աշխատանքներ | D19: ՀԲՄ | E19: դրամ | F19: 328800000 | G19: 1 | H19: =+G19*F19/1000 -> 328800
B20: 45231177/543 | C20: ճանապարհների վերանորոգման աշխատանքներ | D20: ՀԲՄ | E20: դրամ | F20: 118800000 | G20: 1 | H20: =+G20*F20/1000 -> 118800
B21: 45231177/521 | C21: ճանապարհների վերանորոգման աշխատանքներ | D21: ՀԲՄ | E21: դրամ | F21: 298800000 | G21: 1 | H21: =+G21*F21/1000 -> 298800
B22: 45231177/535 | C22: ճանապարհների վերանորոգման աշխատանքներ | D22: ՀԲՄ | E22: դրամ | F22: 378000000 | G22: 1 | H22: =+G22*F22/1000 -> 378000
B23: 45231177/537 | C23: ճանապարհների վերանորոգման աշխատանքներ | D23: ՀԲՄ | E23: դրամ | F23: 759000000 | G23: 1 | H23: =+G23*F23/1000 -> 759000
B24: 45231177/517 | C24: ճանապարհների վերանորոգման աշխատանքներ | D24: ՀԲՄ | E24: դրամ | F24: 577444000 | G24: 1 | H24: =+G24*F24/1000 -> 577444
... B31: 45231177/552 | C31: ճանապարհների վերանորոգման աշխատանքներ | D31: ՀԲՄ | E31: դրամ | F31: 2000000000 | G31: 1 | H31: =+G31*F31/1000 -> 2000000
B32: ՄԱՍ III. ԾԱՌԱՅՈՒԹՅՈՒՆՆԵՐ | H32: =SUM(H33:H149) -> 224961.38
B33: 71351540/510 | C33: տեխնիկական հսկողության ծառայություններ | D33: ՀԲՄ | E33: դրամ | F33: 330000 | G33: 1 | H33: =+G33*F33/1000 -> 330
B34: 71351540/523 | C34: տեխնիկական հսկողության ծառայություններ | D34: ՀԲՄ | E34: դրամ | F34: 5400000 | G34: 1 | H34: =+G34*F34/1000 -> 5400
B35: 71351540/529 | C35: տեխնիկական հսկողության ծառայություններ | D35: ՀԲՄ | E35: դրամ | F35: 4800000 | G35: 1 | H35: =+G35*F35/1000 -> 4800
B36: 71351540/503 | C36: տեխնիկական հսկողության ծառայություններ | D36: ՀԲՄ | E36: դրամ | F36: 2044990 | G36: 1 | H36: =+G36*F36/1000 -> 2044.99
B37: 71351540/524 | C37: տեխնիկական հսկողության ծառայություններ | D37: ՀԲՄ | E37: դրամ | F37: 4887766 | G37: 1 | H37: =+G37*F37/1000 -> 4887.766
B38: 71351540/525 | C38: տեխնիկական հսկողության ծառայություններ | D38: ՀԲՄ | E38: դրամ | F38: 4500000 | G38: 1 | H38: =+G38*F38/1000 -> 4500
B39: 71351540/515 | C39: տեխնիկական հսկողության ծառայություններ | D39: ՀԲՄ | E39: դրամ | F39: 800000 | G39: 1 | H39: =+G39*F39/1000 -> 800
B40: 71351540/533 | C40: տեխնիկական հսկողության ծառայություններ | D40: ՀԲՄ | E40: դրամ | F40: 1110000 | G40: 1 | H40: =+G40*F40/1000 -> 1110
B41: 71351540/517 | C41: տեխնիկական հսկողության ծառայություններ | D41: ՀԲՄ | E41: դրամ | F41: 1400000 | G41: 1 | H41: =+G41*F41/1000 -> 1400
B42: 71351540/526 | C42: տեխնիկական հսկողության ծառայություններ | D42: ՀԲՄ | E42: դրամ | F42: 1000000 | G42: 1 | H42: =+G42*F42/1000 -> 1000
B43: 71351540/530 | C43: տեխնիկական հսկողության ծառայություններ | D43: ՀԲՄ | E43: դրամ | F43: 3300000 | G43: 1 | H43: =+G43*F43/1000 -> 3300
B44: 71351540/513 | C44: տեխնիկական հսկողության ծառայություններ | D44: ՀԲՄ | E44: դրամ | F44: 2700000 | G44: 1 | H44: =+G44*F44/1000 -> 2700
... B65: 98111140/ | C65: հեղինակային հսկողության ծառայություններ | D65: ՄԱ | E65: դրամ | F65: 4205773 | G65: 1 | H65: =+G65*F65/1000 -> 4205.773
B66: 98111140/57 | C66: հեղինակային հսկողության ծառայություններ | D66: ՄԱ | E66: դրամ | F66: 8140799 | G66: -1 | H66: -8140.8
B67: 98111140/58 | C67: հեղինակային հսկողության ծառայություններ | D67: ՄԱ | E67: դրամ | F67: 8140799 | G67: 1 | H67: =+G67*F67/1000 -> 8140.799
B68: 98111140/ | C68: հեղինակային հսկողության ծառայություններ | D68: ՄԱ | E68: դրամ | F68: 1324879 | G68: 1 | H68: =+G68*F68/1000 -> 1324.879
...
