Workbook
Name \A: #REF!
Name _tab10: #REF!
Name _tab10: #REF!
Name _tab11: #REF!
Name _tab12: #REF!
Name _tab13: #REF!
Name _tab14: #REF!
Name _tab15: #REF!
Name _tab16: #REF!
Name _tab17: #REF!
Name _tab18: #REF!
Name _tab19: #REF!
Name _tab20: #REF!
Name _tab21: #REF!
Name _tab22: #REF!
Name _tab23: #REF!
Name _tab24: #REF!
Name _tab5: #REF!
Name _tab6: #REF!
Name _tab7: #REF!
Name _tab8: #REF!
Name _tab9: #REF!
Name aaa: #REF!
Name aaaa: #REF!
Name aaaaa: #REF!
Name AgencyCode: #REF!
Name AgencyCode: #REF!
Name AgencyName: #REF!
Name alis: #REF!
Name alisa: #REF!
Name als: #REF!
Name ampop_krchat: #REF!
Name Armata: #REF!
Name asd: #REF!
Name åû: #REF!
Name BOP: #REF!
Name BOPfoot: #REF!
Name davit: #REF!
Name DebtCG: '[1]Fis-Debt'!#REF!
Name DebtGG: #REF!
Name fff: #REF!
Name Functional1: #REF!
Name ggg: #REF!
Name h: #REF!
Name Hav: #REF!,#REF!
Name havelvac: #REF!
Name mas: #REF!
Name mass: #REF!
Name MonExo: #REF!
Name MonGrow: [2]BM!#REF!
Name PANature: #REF!
Name PANature: #REF!
Name par_count: #REF!,#REF!,#REF!,#REF!,#REF!,#REF!,#REF!,#REF!,#REF!,#REF!,#REF!,#REF!,#REF!,#REF!,#REF!
Name par_count: #REF!,#REF!,#REF!,#REF!,#REF!,#REF!,#REF!,#REF!,#REF!,#REF!,#REF!,#REF!,#REF!,#REF!,#REF!
Name par_qual: #REF!,#REF!,#REF!,#REF!,#REF!
Name par_qual: #REF!,#REF!,#REF!,#REF!,#REF!
Name par_time: #REF!,#REF!,#REF!,#REF!
Name par_time: #REF!,#REF!,#REF!,#REF!
Name par2.12s: #REF!
Name par2.12s: #REF!

Sheet Հավելված 1
A1: Հավելված N 1 ՀՀ կառավարության 2026 թվականի ____________ի N _____-Ն որոշման
A3: «ՀԱՅԱՍՏԱՆԻ ՀԱՆՐԱՊԵՏՈՒԹՅԱՆ 2026 ԹՎԱԿԱՆԻ ՊԵՏԱԿԱՆ ԲՅՈՒՋԵԻ ՄԱՍԻՆ» ՕՐԵՆՔԻ N 1 ՀԱՎԵԼՎԱԾԻ N 2 ԱՂՅՈՒՍԱԿՈՒՄ ԿԱՏԱՐՎՈՂ ՎԵՐԱԲԱՇԽՈՒՄԸ, ԼՐԱՑՈՒՄՆԵՐԸ, ՀԱՅԱՍՏԱՆԻ ՀԱՆՐԱՊԵՏՈՒԹՅԱՆ ԿԱՌԱՎԱՐՈՒԹՅԱՆ 2025 ԹՎԱԿԱՆԻ ԴԵԿՏԵՄԲԵՐԻ 25-Ի N 1910-Ն ՈՐՈՇՄԱՆ N 5 ՀԱՎԵԼՎԱԾԻ N 1 ԱՂՅՈՒՍԱԿՈՒՄ ԿԱՏԱՐՎՈՂ ՓՈՓՈԽՈՒԹՅՈՒՆՆԵՐԸ ԵՎ ԼՐԱՑՈՒՄՆԵՐԸ
G4: հազար դրամներով
A5: ԲԳԿ | B5: Ծրագրային դասիչը | D5: ԲԳԿ/Ծրագրի /միջոցառման անվանումը | E5: Ծրագրի նպատակը/Միջոցառման նկարագրությունը | F5: Վերջնական արդյունքի նկարագրությունը/Միջոցառման տեսակը | G5: Ցուցանիշների փոփոխությունները (ավելացումներ նշված են դրական նշանով, նվազեցումները՝ փակագծերում)
B6: Ծրագիր | C6: Միջոցառում | G6: Տարի
A7: ԸՆԴԱՄԵՆԸ | G7: =+G8+G25 -> 0
A8: ՀՀ էկոնոմիկայի նախարարություն | G8: =+G9+G19+G21+G17+G14 -> 0
B9: 1022 | D9: Գյուղատնտեսության խթանման ծրագիր | E9: Գյուղատնտեսական մթերքի և դրանց վերամշակումից ստացվող սննդամթերքի ծավալների ավելացում | F9: Գյուղատնտեսական մթերքների ծավալների ավելացում: Օգտագործվող վարելահողերի ավելացում: Պտուղբանջարեղենի և խաղողի վերամշակումից ստացված արտադրանքի ծավալների աճ | G9: =+SUM(G10:G13) -> 143768.5 | H9: =+#REF!+G12+G13+G15+G16+#REF!+#REF!+G20+#REF!+#REF!+#REF!+G23 -> #REF!
C10: 1022 - 11002 | D10: Պետական աջակցություն Հայաստանի Հանրապետության գյուղատնտեսական ծրագրերի իրականացմանը | E10: Աջակցություն Հայաստանի Հանրապետության բուսաբուծության խթանման, բույսերի պաշտպանության և անասնաբուժական ծրագրերի իրականացմանը | F10: Ծառայությունների մատուցում | G10: -18632.3 | H10: =+G12+G13+G15+G16+G20+G23 -> 534566
C11: 1022 - 12010 | D11: Անասնաբուծության ճյուղում իրականացվող ներդրումային ծրագրերին աջակցություն | E11: Անասնաբուծության ճյուղում իրականացվող առնվազն 1 մլրդ դրամի ներդրումներից կապիտալ ներդրումների մասնակի փոխհատուցում | F11: Տրանսֆերտների տրամադրում | G11: =+'Հավելված 2'!G57 -> -31324.2
C12: =+B9&"-"&'Հավելված 2'!E66 -> 1022-12023 | D12: 2026 թվականին կաթի արտադրության համար սուբսիդավորման տրամադրման միջոցառում | E12: Հանրապետության մարզերում կաթի արտադրության գործընթացին աջակցելու նպատակով սուբսիդավորել կաթի արտադրությամբ զբաղվող տնտեսավարող սուբյեկտներին | F12: Տրանսֆերտների տրամադրում | G12: =+'Հավելված 2'!G66 -> 43725
C13: 1022-12024 | D13: ՀՀ Արարատի և Արմավիրի մարզերում գործունեություն իրականացնող արդյունագործական ձկնաբուծական տնտեսություններին աջակցություն | E13: ՀՀ Արարատի և Արմավիրի մարզերում գործող արդյունագործական ձկնաբուծական տնտեսությունների կողմից բացառապես 2026 թվականի առաջին կիսամյակի ընթացքում սեփական կարիքների համար ներմուծված և (կամ) ՀՀ տարածքում ձեռք բերված ձկան կերի ընդհանուր քանակի հիման վրա հաշվարկված՝ միջին ամսական քանակի 20 տոկոսի չափով փոխհատուցում։ | F13: Տրանսֆերտների տրամադրում | G13: =+'Հավելված 2'!G108 -> 150000
B14: 1059 | D14: Բուսաբուծության խթանում և բույսերի պաշտպանություն | E14: Հողագործությունից ստացվող արդյունքի բարելավում | F14: Մշակաբույսերի միջին բերքատվության բարձրացում:ՀՀ գյուղատնտեսական նշանակության ողջ հողատարածքի համար կազմված ագրոքիմիական քարտեզներով ապահովվածություն: Հացահատիկի և հատիկաընդեղենի արտադրության ծավալների ավելացում: | G14: =+SUM(G15:G16) -> 173096.7
C15: 1059-11010 | D15: ՀՀ-ում գարնանացան, աշնանացան և կերային մշակաբույսերի ցանքատարածությունների մոնիթորինգի իրականացմանն աջակցություն | E15: Համայնքների կողմից մշակաբույսերի և բազմամյա խոտաբույսերի մոնիթորինգի իրականացում, արդյունքների ամփոփում և համապատասխան տեղեկատվության ներկայացում | F15: Ծառայությունների մատուցում | G15: =+'Հավելված 2'!G119 -> 5041.7
C16: 1059-12003 | D16: ՀՀ-ում գարնանացան, աշնանացան և կերային մշակաբույսերի մշակության հիմնական աշխատանքների համար կատարված ծախսերի մասնակի փոխհատուցման տրամադրում | E16: Մշակաբույսերի և բազմամյա խոտաբույսերի ցանքատարածությունների ընդլայնմանը նպաստելու նպատակով մշակության հիմնական աշխատանքների համար կատարված ծախսերի մասնակի փոխհատուցում | F16: Տրանսֆերտների տրամադրում | G16: =+'Հավելված 2'!G128 -> 168055
B17: 1067 | D17: Ստանդարտների մշակում և հավատարմագրման համակարգի զարգացում | E17: Արտադրանքի, ծառայությունների և գործընթացների անվտանգության մակարդակի բարելավում, միջազգային ու տարածաշրջանային հավատարմագրման համակարգերին ինտեգրում | F17: Առևտրում տեխնիկական խոչընդոտների վերացում և շուկայահանվող արտադրանքի ու մատուցվող ծառայությունների համապատասխանության գնահատման գործունեության արդյունքների նկատմամբ սպառողների վստահության բարձրացում | G17: =+G18 -> -314510.4
C18: 1067-12001 | D18: Որակի ենթակառուցվածքի համակարգի արդիականացմանն աջակցություն | E18: ՍՉԱՄ ՓԲԸ-ում տրամաչփարկման կարողությունների հիմնում, ՍՉԱՄ ՓԲԸ-ում փորձարկման կարողությունների ընդլայնում, նոր լաբորատոր սարքավորումնարի ձեռքբերում, լաբորատորիանորի վերազինում | F18: Տրանսֆերտների տրամադրում | G18: -314510.4
B19: 1165 | D19: Ներդրումների և արտահանման խթանման ծրագիր | E19: Ներդրումների ներգրավման և արտահանման խթանում | F19: Նախորդ տարվա համեմատ ներդրումների և արտահանման ծավալների աճ | G19: =+SUM(G20:G20) -> 97645.2
C20: 1165 - 12011 | D20: Հայաստանի Հանրապետությունից արտահանման սահմանափակման ներքո գտնվող ՀՀ ծագման որոշ ապրանքների՛ Հայաստանի Հանրապետությունում իրացմանն աջակցություն | E20: Թիրախային ապրանքներ արտադրող և սեփական արտադրանքը իրացնող տնտեսավարողներին օժանդակության տրամադրում՛ ՀՀ-ում իրացման յուրաքանչյուր տոննայի համար՛ 10.0 հազար դրամի չափով | F20: Տրանսֆերտների տրամադրում | G20: =+'Հավելված 2'!G31 -> 97645.2
B21: 1187 | D21: Գյուղատնտեսության արդիականացման ծրագիր | E21: Գյուղատնտեսական տեխնիկական համակարգերի արդիականացում, ինտենսիվ այգիների ներդրման և տոհմաբուծության մեջ նոր ցեղատեսակների բուծման աջակցություն | F21: Ոռոգման արդիական համակարգեր ներդրված հողատարածքների և տոհմային կենդանիների տեսակարար կշռի ավելացում | G21: =SUM(G22:G24) -> -100000
C22: 1187 - 12018 | D22: Ոչխարաբուծության և այծաբուծության զարգացման ծրագրին աջակցություն | E22: Արտերկրից բարձր մթերատու ոչխարի և այծերի ցեղերի տոհմային կենդանիների ներկրման, ինչպես նաև ՀՀ-ից ձեռքբերումների շարունակականության ապահովում | F22: Տրանսֆերտների տրամադրում | G22: =+'Հավելված 2'!G139 -> -100000
C23: 1187-12019 | D23: Տնամերձ հողամասերում այգեհիմնման և ոռոգման արդիական համակարգերի ներդրման աջակցություն | E23: ՀՀ Իջևան համայնքի Ծաղկավան, Կիրանց, Բերքաբեր և Խաշթառակ բնակավայրերի տնամերձ հողամասերում այգեհիմնման և ոռոգման արդիական համակարգերի ներդրման խթանում | F23: Տրանսֆերտների տրամադրում | G23: =+'Հավելված 2'!G148 -> 70099.1
C24: 1187 - 12024 | D24: «Խելացի» անասնաշենքերի կառուցման կամ վերակառուցման և դրանց տեխնոլոգիական ապահովման աջակցության ծրագրի շրջանակներում աջակցություն | E24: Խելացի անասնաշենքերի կառուցման կամ վերակառուցման և դրանց տեխնոլոգիական ապահովման համար ծախսերի մասնակիփոխհատուցում | F24: Տրանսֆերտների տրամադրում | G24: =+'Հավելված 2'!G157 -> -70099.1
A25: ՀՀ կառավարություն | G25: =+G26 -> 0
B26: 1139 | D26: ՀՀ կառավարության պահուստային ֆոնդ | E26: Պետական բյուջեում չկանխատեսված, ինչպես նաեւ բյուջետային երաշխիքների ապահովման ծախսերի ֆինանսավորման ապահովում | F26: Պահուստային ֆոնդի կառավարման արդյունավետության և թափանցիկության ապահովում | G26: =+G28+G27 -> 0
C27: 1139 - 11001 | D27: ՀՀ կառավարության պահուստային ֆոնդ | E27: ՀՀ պետական բյուջեում նախատեսված ելքերի լրացուցիչ ֆինանսավորման, պետական բյուջեում չկանխատեսված ելքերի, ինչպես նաև բյուջետային երաշխիքների ապահովման ելքերի ֆինանսավորման ապահովում | F27: Ծառայությունների մատուցում | G27: =+'Հավելված 2'!G178 -> 193725
C28: 1139 - 11001 | D28: ՀՀ կառավարության պահուստային ֆոնդ | E28: ՀՀ պետական բյուջեում նախատեսված ելքերի լրացուցիչ ֆինանսավորման, պետական բյուջեում չկանխատեսված ելքերի, ինչպես նաև բյուջետային երաշխիքների ապահովման ելքերի ֆինանսավորման ապահովում | F28: Ծառայությունների մատուցում | G28: =+G27*-1 -> -193725

Sheet Հավելված 2
F1: Հավելված 2 ՀՀ կառավարության 2026 թվականի ____________ի N _____-Ն որոշման
A3: ՀԱՅԱՍՏԱՆԻ ՀԱՆՐԱՊԵՏՈՒԹՅԱՆ ԿԱՌԱՎԱՐՈՒԹՅԱՆ 2025 ԹՎԱԿԱՆԻ ԴԵԿՏԵՄԲԵՐԻ 25-Ի N 1910-Ն ՈՐՈՇՄԱՆ NN 3 ԵՎ 4 ՀԱՎԵԼՎԱԾՆԵՐՈՒՄ ԿԱՏԱՐՎՈՂ ՓՈՓՈԽՈՒԹՅՈՒՆՆԵՐԸ ԵՎ ԼՐԱՑՈՒՄՆԵՐԸ
G4: հազար դրամներով
A5: Գործառնական դասիչ | D5: Ծրագրային դասիչը | F5: Բյուջետային ծախսերի գործառական դասակարգման բաժինների, խմբերի և դասերի, բյուջետային ծրագրերի միջոցառումների, բյուջետային հատկացումների գլխավոր կարգադրիչների անվանումները | G5: Ցուցանիշների փոփոխությունները (ավելացումներ նշված են դրական նշանով, նվազեցումները՝ փակագծերում)
A6: Բաժին | B6: Խումբ | C6: Դաս | D6: Ծրագիր | E6: Միջոցառում | G6: Տարի
F7: ԸՆԴԱՄԵՆԸ ԾԱԽՍԵՐ | G7: =+G9+G166 -> 0
F8: այդ թվում`
F9: ՀՀ էկոնոմիկայի նախարարություն | G9: =+G11 -> 0
F10: այդ թվում`
A11: 04 | F11: ՏՆՏԵՍԱԿԱՆ ՀԱՐԱԲԵՐՈՒԹՅՈՒՆՆԵՐ | G11: =+G12+G40 -> 0
B12: 01 | F12: Ընդհանուր բնույթի տնտեսական, առևտրային և աշխատանքի գծով հարաբերություններ | G12: =+G14 -> -216865.2
F13: այդ թվում`
C14: 01 | F14: Ընդհանուր բնույթի տնտեսական և առևտրային հարաբերություններ | G14: =+G16 -> -216865.2
F15: այդ թվում`
F16: ՀՀ էկոնոմիկայի նախարարություն | G16: =+G29+G18 -> -216865.2
F17: այդ թվում`
D18: 1067 | F18: Ստանդարտների մշակում և հավատարմագրման համակարգի զարգացում | G18: =+G20 -> -314510.4
F19: այդ թվում`
E20: 12001 | F20: Որակի ենթակառուցվածքի համակարգի արդիականացմանն աջակցություն | G20: =+G22 -> -314510.4
F21: այդ թվում` ըստ կատարողների
F22: ՀՀ էկոնոմիկայի նախարարություն | G22: =+G24 -> -314510.4
F23: այդ թվում` բյուջետային ծախսերի տնտեսագիտական դասակարգման հոդվածներ
F24: ԸՆԴԱՄԵՆԸ ԾԱԽՍԵՐ | G24: =+G25 -> -314510.4
F25: ԸՆԹԱՑԻԿ ԾԱԽՍԵՐ | G25: =+G26 -> -314510.4
F26: ԴՐԱՄԱՇՆՈՐՀՆԵՐ | G26: =+G27 -> -314510.4
F27: Կապիտալ դրամաշնորհներ պետական հատվածի այլ մակարդակներին | G27: =+G28 -> -314510.4
F28: - Կապիտալ դրամաշնորհներ պետական և համայնքային առևտրային կազմակերպություններին | G28: =+'[4]Հավելված 1'!H12 -> -314510.4
D29: 1165 | F29: Ներդրումների և արտահանման խթանման ծրագիր | G29: =+G31 -> 97645.2
F30: այդ թվում`
E31: 12011 | F31: Հայաստանի Հանրապետությունից արտահանման սահմանափակման ներքո գտնվող ՀՀ ծագման որոշ ապրանքների՛ Հայաստանի Հանրապետությունում իրացմանն աջակցություն | G31: =+G33 -> 97645.2
F32: այդ թվում` ըստ կատարողների
F33: ՀՀ էկոնոմիկայի նախարարություն | G33: =+G35 -> 97645.2
F34: այդ թվում` բյուջետային ծախսերի տնտեսագիտական դասակարգման հոդվածներ
F35: ԸՆԴԱՄԵՆԸ ԾԱԽՍԵՐ | G35: =+G36 -> 97645.2
F36: ԸՆԹԱՑԻԿ ԾԱԽՍԵՐ | G36: =+G37 -> 97645.2
F37: ՍՈՒԲՍԻԴԻԱՆԵՐ | G37: =G38 -> 97645.2
F38: Սուբսիդիաներ ոչ պետական կազմակերպություններին | G38: =G39 -> 97645.2
F39: - Սուբսիդիաներ ոչ պետական ոչ ֆինանսական կազմակերպություններին | G39: 97645.2
B40: 02 | F40: Գյուղատնտեսություն, անտառային տնտեսություն, ձկնորսություն և որսորդություն | G40: =+G42 -> 216865.2
F41: այդ թվում`
...

Sheet Հավելված 3
D1: Հավելված 3
C2: ՀՀ կառավարության 2026 թվականի
C3: ___________ ___-ի N _______ -Ն որոշման
A6: ՀԱՅԱՍՏԱՆԻ ՀԱՆՐԱՊԵՏՈՒԹՅԱՆ ԿԱՌԱՎԱՐՈՒԹՅԱՆ 2025 ԹՎԱԿԱՆԻ ԴԵԿՏԵՄԲԵՐԻ25-Ի N 1910-Ն ՈՐՈՇՄԱՆ N 5 ՀԱՎԵԼՎԱԾԻ 7 ԱՂՅՈՒՍԱԿՈՒՄ ԿԱՏԱՐՎՈՂ ՓՈՓՈԽՈՒԹՅՈՒՆՆԵՐԸ
G7: հազար դրամներով
A8: Ծրագրային դասիչ | C8: Բյուջետային հատկացումների գլխավոր կարգադրիչների, ծրագրերի, միջոցառումների, ծախսային ուղղությունների անվանումները | F8: Միջոցառումները կատարող պետական մարմինների և դրամաշնորհ ստացող տնտեսվարող սուբյեկտների անվանումները | G8: Ցուցանիշների փոփոխությունները (ավելացումներ նշված են դրական նշանով, նվազեցումները՝ փակագծերում)
A9: Ծրագիր | B9: Միջոցառում | G9: Տարի
A10: 1 | B10: 2 | C10: 3 | F10: 4 | G10: 5
A11: Ընդամենը | G11: =+G12 -> -358001.9
A12: ՀՀ էկոնոմիկայի նախարարություն | G12: =+G13+G22+G2+G16+G19 -> -358001.9
A13: 1022 | B13: =+'Հավելված 1'!D9 -> Գյուղատնտեսության խթանման ծրագիր | G13: =+G14 -> -18632.3
B14: 11002 | C14: Պետական աջակցություն Հայաստանի Հանրապետության գյուղատնտեսական ծրագրերի իրականացմանը | F14: ՀՀ էկոնոմիկայի նախարարություն | G14: =+G15 -> -18632.3
F15: «Գյուղատնտեսական ծառայությունների կենտրոն» ՊՈԱԿ | G15: =+'Հավելված 2'!G48 -> -18632.3
A16: 1059 | B16: Բուսաբուծության խթանում և բույսերի պաշտպանություն | G16: =+G17 -> 5041.7
B17: 11010 | C17: ՀՀ-ում գարնանացան, աշնանացան և կերային մշակաբույսերի ցանքատարածությունների մոնիթորինգի իրականացմանն աջակցություն | F17: ՀՀ էկոնոմիկայի նախարարություն | G17: =G18 -> 5041.7
F18: ՀՀ կառավարության կողմից հաստատված համապատասխան ծրագրի չափանիշները բավարարող համայնքներ | G18: =+'Հավելված 2'!G127 -> 5041.7
A19: 1067 | B19: Ստանդարտների մշակում և հավատարմագրման համակարգի զարգացում | G19: =+G20 -> -314510.4
B20: 12001 | C20: Որակի ենթակառուցվածքի համակարգի արդիականացմանն աջակցություն | F20: ՀՀ էկոնոմիկայի նախարարություն | G20: =+G21 -> -314510.4
F21: «Ստանդարտացման և չափագիտության ազգային մարմին» ՓԲԸ | G21: =+'[4]Հավելված 2'!H23 -> -314510.4
A22: 1187 | B22: Գյուղատնտեսության արդիականացման ծրագիր | G22: =G24+G26 -> -29900.9
B23: 12018 | C23: Ոչխարաբուծության և այծաբուծության զարգացման ծրագրին աջակցություն | F23: ՀՀ էկոնոմիկայի նախարարություն | G23: =+G24 -> -100000
F24: ՀՀ կառավարության կողմից հաստատված համապատասխան ծրագրի չափանիշները բավարարող շահառուներ | G24: =+'Հավելված 2'!G139 -> -100000
B26: 12019 | C26: Տնամերձ հողամասերում այգեհիմնման և ոռոգման արդիական համակարգերի ներդրման աջակցություն | F26: ՀՀ էկոնոմիկայի նախարարություն | G26: =G27 -> 70099.1
F27: ՀՀ կառավարության կողմից հաստատված համապատասխան ծրագրի չափանիշները բավարարող շահառուներ | G27: =+'Հավելված 2'!G148 -> 70099.1

Sheet Հավելված 4
A1: Հավելված 4 ՀՀ կառավարության 2026 թվականի ____________ի N _____-Ն որոշման
A2: ՀԱՅԱՍՏԱՆԻ ՀԱՆՐԱՊԵՏՈՒԹՅԱՆ ԿԱՌԱՎԱՐՈՒԹՅԱՆ 2025 ԹՎԱԿԱՆԻ ԴԵԿՏԵՄԲԵՐԻ 25-Ի N 1910-Ն ՈՐՈՇՄԱՆ N 9 ՀԱՎԵԼՎԱԾՈՒՄ ԿԱՏԱՐՎՈՂ ՓՈՓՈԽՈՒԹՅՈՒՆՆԵՐԸ ԵՎ ԼՐԱՑՈՒՄՆԵՐԸ
J3: հազար դրամներով
A4: ԲԳԿ | B4: Ծրագիր | D4: Միջոցառում | H4: Իրականացնողը/ ակտիվն օգտագործողը/ շահառուի ընտրության չափորոշիչը | I4: Արդյունքային չափորոշիչը | J4: Ցուցանիշների փոփոխությունը (ավելացումները նշված են դրական նշանով, իսկ նվազեցումները՝ փակագծերում)
B5: Դասիչը | C5: Անվա-նումը | D5: Դասիչը | E5: Անվա-նումը | F5: Նկարագրու-թյունը | G5: Տեսակը | J5: Տարի
A6: ԸՆԴԱՄԵՆԸ | J6: =+J7+J86 -> 0
A7: ՀՀ էկոնոմիկայի նախարարություն | J7: =+J8+J28+J64+J70+J43+J54 -> 0
B8: 1022 | C8: Գյուղատնտեսության խթանման ծրագիր | J8: =+J9+J18+J23+J14 -> 143768.5
D9: =+'Հավելված 1'!C10 -> 1022 - 11002 | E9: =+'Հավելված 1'!D10 -> Պետական աջակցություն Հայաստանի Հանրապետության գյուղատնտեսական ծրագրերի իրականացմանը | J9: =+'Հավելված 2'!G48 -> -18632.3
F10: =+'Հավելված 1'!E10 -> Աջակցություն Հայաստանի Հանրապետության բուսաբուծության խթանման, բույսերի պաշտպանության և անասնաբուժական ծրագրերի իրականացմանը
G11: =+'Հավելված 1'!F10 -> Ծառայությունների մատուցում
H12: Ծառայությունը մատուցողի անվանումը` Մասնագիտացված կազմակերպություններ
H13: Գյուղատնտեսության ոլորտում իրականացվող մոնիթորինգի ենթակա միջոցառումների թիվը, հատ շուրջ | J13: -4
D14: 1022 - 12010 | E14: Անասնաբուծության ճյուղում իրականացվող ներդրումային ծրագրերին աջակցություն | J14: =+'Հավելված 1'!G11 -> -31324.2
F15: Անասնաբուծության ճյուղում իրականացվող առնվազն 1 մլրդ դրամի ներդրումներից կապիտալ ներդրումների մասնակի փոխհատուցում
G16: Տրանսֆերտների տրամադրում
H17: Շահառուների ընտրության չափորոշիչները` ՀՀ գյուղատնտեսական տնտեսավարողներ` ընտրված ՀՀ կառավարության 03.03.2022թ. թիվ 276-Լ որոշմամբ հաստատված ծրագրի չափանիշներին համապատասխան
D18: =+'Հավելված 1'!C12 -> 1022-12023 | E18: =+'Հավելված 1'!D12 -> 2026 թվականին կաթի արտադրության համար սուբսիդավորման տրամադրման միջոցառում | J18: =+'Հավելված 5'!J81+'Հավելված 5'!J87+'Հավելված 5'!J99+'Հավելված 5'!J93 -> 43725
F19: =+'Հավելված 1'!E12 -> Հանրապետության մարզերում կաթի արտադրության գործընթացին աջակցելու նպատակով սուբսիդավորել կաթի արտադրությամբ զբաղվող տնտեսավարող սուբյեկտներին
G20: =+'Հավելված 1'!F12 -> Տրանսֆերտների տրամադրում
H21: Շահառուների ընտրության չափորոշիչները` ՀՀ կառավարության 2026 թվականի մայիսի 8-ի N 640-Լ որոշմամբ հաստատված ծրագրի չափանիշները բավարարող շահառուներ
I22: Սուբսիդավորման ենթակա կովերի գլխաքանակը, գլուխ | J22: =+'Հավելված 5'!J86+'Հավելված 5'!J92+'Հավելված 5'!J98+'Հավելված 5'!J104 -> 2915
D23: =+'Հավելված 1'!C13 -> 1022-12024 | E23: =+'Հավելված 1'!D13 -> ՀՀ Արարատի և Արմավիրի մարզերում գործունեություն իրականացնող արդյունագործական ձկնաբուծական տնտեսություններին աջակցություն | J23: =+'Հավելված 1'!G13 -> 150000
F24: =+'Հավելված 1'!E13 -> ՀՀ Արարատի և Արմավիրի մարզերում գործող արդյունագործական ձկնաբուծական տնտեսությունների կողմից բացառապես 2026 թվականի առաջին կիսամյակի ընթացքում սեփական կարիքների համար ներմուծված և (կամ) ՀՀ տարածքում ձեռք բերված ձկան կերի ընդհանուր քանակի հիման վրա հաշվարկված՝ միջին ամսական քանակի 20 տոկոսի չափով փոխհատուցում։
G25: =+'Հավելված 1'!F13 -> Տրանսֆերտների տրամադրում
H26: Շահառուների ընտրության չափորոշիչները` ՀՀ կառավարության 2026 թվականի հուլիսի 30-ի N-1125-Լ որոշմամբ հաստատված ծրագրի չափանիշները բավարարող տնտեսավարող սուբյեկտներ
H27: Արարատի և Արմավիրի մարզերի ձկնաբուծական տնտեսությունների կողմից ձեռքբերված կեր, կգ | J27: 170000
B28: 1058 | C28: Էկոնոմիկայի ոլորտում պետական քաղաքականության մշակում, ծրագրերի համակարգում և մոնիտորինգ | J28: =+J29 -> 0
D29: 1058 - 11002 | E29: Օտարերկրյա պետություններում ՀՀ առևտրական կցորդների և Առևտրի համաշխարհային կազմակերպությունում (ԱՀԿ) մշտական ներկայացուցչի նպատակների և խնդիրների իրագործում | J29: 0
F30: ԱՀԿ-ում ՀՀ տնտեսական շահերի ներկայացում և պաշտպանություն, ՀՀ առևտրատնտեսական քաղաքականության զարգացմանը, արտահանումների խթանմանը և ներդրումների ներգրավմանն ուղղված գործունեություն արտերկրում
G31: Ծառայությունների մատուցում
H32: Ծառայությունը մատուցողի անվանումը` ՀՀ էկոնոմիկայի նախարարություն
I33: Դեսպանակալ երկրի հետ տարեկան առևտրաշրջանառության ծավալների աճ, առնվազն տոկոս | J33: (10-15)
I34: Հայաստանում և դեսպանակալ երկրում գործարար համաժողովների կազմակերպում, հատ | J34: -5
I35: Դեսպանակալ երկրում ոլորտային ցուցահանդեսներին հայ արտադրողների մասնակցության ապահովում, ցուցահանդես | J35: -5
I36: Դեսպանակալ երկրի գործարարների համար Հայաստանի ներդրումային և գործարար միջավայրի մասին տեղեկատվության տարածում, անգամ | J36: -5
I37: Դեսպանակալ երկրից դեպի Հայաստան տարեկան զբասաշրջիկների թվի աճ, տոկոս | J37: -6
I38: Դեսպանակալ երկրում կազմակերպված կամ աջակցված բիզնես միջոցառումներ (ցուցահանդեսներ, գործարար համաժողովներ), քանակ | J38: 6
I39: Ներդրումային գործարքներ կամ համաձայնագրեր, քանակ | J39: 2
I40: Շուկայի եռամսյակային ամփոփագրեր (մարկետ բրիֆներ), քանակ | J40: 4
...

Sheet Հավելված 5
A1: Հավելված 5 ՀՀ կառավարության 2026 թվականի ____________ի N _____-Ն որոշման
A2: ՀԱՅԱՍՏԱՆԻ ՀԱՆՐԱՊԵՏՈՒԹՅԱՆ ԿԱՌԱՎԱՐՈՒԹՅԱՆ 2025 ԹՎԱԿԱՆԻ ԴԵԿՏԵՄԲԵՐԻ 25-Ի N 1910-Ն ՈՐՈՇՄԱՆ N 9.1 ՀԱՎԵԼՎԱԾՈՒՄ ԿԱՏԱՐՎՈՂ ՓՈՓՈԽՈՒԹՅՈՒՆՆԵՐԸ ԵՎ ԼՐԱՑՈՒՄՆԵՐԸ
J3: հազար դրամներով
A4: ԲՍԿ | B4: Ծրագիր | D4: Միջոցառում | H4: Իրականացնողը/ ակտիվն օգտագործողը/ շահառուի ընտրության չափորոշիչը | I4: Արդյունքային չափորոշիչը | J4: Ցուցանիշների փոփոխությունը (ավելացումները նշված են դրական նշանով, իսկ նվազեցումները՝ փակագծերում)
B5: Դասիչը | C5: Անվա-նումը | D5: Դասիչը | E5: Անվա-նումը | F5: Նկարագրու-թյունը | G5: Տեսակը | J5: Տարի
A6: ԸՆԴԱՄԵՆԸ | J6: =+J7+J81+J87+J93+J99+J105 -> 0
A7: ՀՀ էկոնոմիկայի նախարարություն | J7: =+J8++J59+J65+J38+J49 -> -43725
B8: 1022 | C8: Գյուղատնտեսության խթանման ծրագիր | J8: =J14+J9+J18 -> 100043.5
D9: =+'Հավելված 1'!C10 -> 1022 - 11002 | E9: =+'Հավելված 1'!D10 -> Պետական աջակցություն Հայաստանի Հանրապետության գյուղատնտեսական ծրագրերի իրականացմանը | J9: =+'Հավելված 4'!J9 -> -18632.3
F10: =+'Հավելված 1'!E10 -> Աջակցություն Հայաստանի Հանրապետության բուսաբուծության խթանման, բույսերի պաշտպանության և անասնաբուժական ծրագրերի իրականացմանը
G11: =+'Հավելված 1'!F10 -> Ծառայությունների մատուցում
H12: Ծառայությունը մատուցողի անվանումը` Մասնագիտացված կազմակերպություններ
H13: Գյուղատնտեսության ոլորտում իրականացվող մոնիթորինգի ենթակա միջոցառումների թիվը, հատ շուրջ | J13: -4
D14: 1022 - 12010 | E14: Անասնաբուծության ճյուղում իրականացվող ներդրումային ծրագրերին աջակցություն | J14: =+'Հավելված 1'!G11 -> -31324.2
F15: Անասնաբուծության ճյուղում իրականացվող առնվազն 1 մլրդ դրամի ներդրումներից կապիտալ ներդրումների մասնակի փոխհատուցում
G16: Տրանսֆերտների տրամադրում
H17: Շահառուների ընտրության չափորոշիչները` ՀՀ գյուղատնտեսական տնտեսավարողներ` ընտրված ՀՀ կառավարության 03.03.2022թ. թիվ 276-Լ որոշմամբ հաստատված ծրագրի չափանիշներին համապատասխան
D18: =+'Հավելված 4'!D23 -> 1022-12024 | E18: =+'Հավելված 4'!E23:I23 -> ՀՀ Արարատի և Արմավիրի մարզերում գործունեություն իրականացնող արդյունագործական ձկնաբուծական տնտեսություններին աջակցություն | J18: =+'Հավելված 1'!G13 -> 150000
F19: =+'Հավելված 4'!F24:J24 -> ՀՀ Արարատի և Արմավիրի մարզերում գործող արդյունագործական ձկնաբուծական տնտեսությունների կողմից բացառապես 2026 թվականի առաջին կիսամյակի ընթացքում սեփական կարիքների համար ներմուծված և (կամ) ՀՀ տարածքում ձեռք բերված ձկան կերի ընդհանուր քանակի հիման վրա հաշվարկված՝ միջին ամսական քանակի 20 տոկոսի չափով փոխհատուցում։
G20: =+'Հավելված 4'!G25:J25 -> Տրանսֆերտների տրամադրում
H21: =+'Հավելված 4'!H26:J26 -> Շահառուների ընտրության չափորոշիչները` ՀՀ կառավարության 2026 թվականի հուլիսի 30-ի N-1125-Լ որոշմամբ հաստատված ծրագրի չափանիշները բավարարող տնտեսավարող սուբյեկտներ
H22: =+'Հավելված 4'!H27:I27 -> Արարատի և Արմավիրի մարզերի ձկնաբուծական տնտեսությունների կողմից ձեռքբերված կեր, կգ | J22: =+'Հավելված 4'!J27 -> 170000
B23: 1058 | C23: Էկոնոմիկայի ոլորտում պետական քաղաքականության մշակում, ծրագրերի համակարգում և մոնիտորինգ | J23: =+J24 -> 0
D24: 1058 - 11002 | E24: Օտարերկրյա պետություններում ՀՀ առևտրական կցորդների և Առևտրի համաշխարհային կազմակերպությունում (ԱՀԿ) մշտական ներկայացուցչի նպատակների և խնդիրների իրագործում | J24: 0
F25: ԱՀԿ-ում ՀՀ տնտեսական շահերի ներկայացում և պաշտպանություն, ՀՀ առևտրատնտեսական քաղաքականության զարգացմանը, արտահանումների խթանմանը և ներդրումների ներգրավմանն ուղղված գործունեություն արտերկրում
G26: Ծառայությունների մատուցում
H27: Ծառայությունը մատուցողի անվանումը` ՀՀ էկոնոմիկայի նախարարություն
I28: Դեսպանակալ երկրի հետ տարեկան առևտրաշրջանառության ծավալների աճ, առնվազն տոկոս | J28: (10-15)
I29: Հայաստանում և դեսպանակալ երկրում գործարար համաժողովների կազմակերպում, հատ | J29: -5
I30: Դեսպանակալ երկրում ոլորտային ցուցահանդեսներին հայ արտադրողների մասնակցության ապահովում, ցուցահանդես | J30: -5
I31: Դեսպանակալ երկրի գործարարների համար Հայաստանի ներդրումային և գործարար միջավայրի մասին տեղեկատվության տարածում, անգամ | J31: -5
I32: Դեսպանակալ երկրից դեպի Հայաստան տարեկան զբասաշրջիկների թվի աճ, տոկոս | J32: -6
I33: Դեսպանակալ երկրում կազմակերպված կամ աջակցված բիզնես միջոցառումներ (ցուցահանդեսներ, գործարար համաժողովներ), քանակ | J33: 6
I34: Ներդրումային գործարքներ կամ համաձայնագրեր, քանակ | J34: 2
I35: Շուկայի եռամսյակային ամփոփագրեր (մարկետ բրիֆներ), քանակ | J35: 4
I36: Թեմատիկ կամ ոլորտային վերլուծական հաշվետվություններ, քանակ | J36: 4
I37: Տարեկան ռազմավարական հաշվետվության պատրաստում, քանակ | J37: 1
B38: 1059 | C38: Բուսաբուծության խթանում և բույսերի պաշտպանություն | J38: =+J39+J44 -> 173096.7
D39: 1059 - 11010 | E39: ՀՀ-ում գարնանացան, աշնանացան և կերային մշակաբույսերի ցանքատարածությունների մոնիթորինգի իրականացմանն աջակցություն | J39: =+'Հավելված 4'!J44 -> 5041.7
F40: Համայնքների կողմից մշակաբույսերի և բազմամյա խոտաբույսերի մոնիթորինգի իրականացում, արդյունքների ամփոփում և համապատասխան տեղեկատվության ներկայացում
...

Sheet Հավելված 6
F1: Հավելված 6 ՀՀ կառավարության 2026 թվականի ____________ի N _____-Ն որոշման
A3: ՀԱՅԱՍՏԱՆԻ ՀԱՆՐԱՊԵՏՈՒԹՅԱՆ 2026 ԹՎԱԿԱՆԻ ՊԵՏԱԿԱՆ ԲՅՈՒՋԵՈՎ ՆԱԽԱՏԵՍՎԱԾ՝ ՀԱՅԱՍՏԱՆԻ ՀԱՆՐԱՊԵՏՈՒԹՅԱՆ ԿԱՌԱՎԱՐՈՒԹՅԱՆ ՊԱՀՈՒՍՏԱՅԻՆ ՖՈՆԴԻՑ ՀԱՏԿԱՑՈՒՄՆԵՐ ԿԱՏԱՐԵԼՈՒ ՎԵՐԱԲԵՐՅԱԼ
G4: հազար դրամներով
A5: Գործառնական դասիչ | D5: Ծրագրային դասիչը | F5: Բյուջետային ծախսերի գործառական դասակարգման բաժինների, խմբերի և դասերի, բյուջետային ծրագրերի միջոցառումների, բյուջետային հատկացումների գլխավոր կարգադրիչների անվանումները | G5: Ցուցանիշների փոփոխությունները (ավելացումներ նշված են դրական նշանով, նվազեցումները՝ փակագծերում)
A6: Բաժին | B6: Խումբ | C6: Դաս | D6: Ծրագիր | E6: Միջոցառում | G6: Տարի
F7: ԸՆԴԱՄԵՆԸ ԾԱԽՍԵՐ | G7: =+G9+G71 -> 0
F8: այդ թվում`
F9: ՀՀ էկոնոմիկայի նախարարություն | G9: =+G11 -> 193725
F10: այդ թվում`
A11: 04 | F11: ՏՆՏԵՍԱԿԱՆ ՀԱՐԱԲԵՐՈՒԹՅՈՒՆՆԵՐ | G11: =G12 -> 193725
B12: 02 | F12: Գյուղատնտեսություն, անտառային տնտեսություն, ձկնորսություն և որսորդություն | G12: =+G14 -> 193725
F13: այդ թվում`
C14: 01 | F14: Գյուղատնտեսություն | G14: =+G16 -> 193725
F15: այդ թվում`
F16: ՀՀ էկոնոմիկայի նախարարություն | G16: =+G18 -> 193725
F17: այդ թվում`
D18: 1022 | F18: =+'Հավելված 1'!D9 -> Գյուղատնտեսության խթանման ծրագիր | G18: =G20+G62 -> 193725
F19: այդ թվում`
E20: 12023 | F20: 2026 թվականին կաթի արտադրության համար սուբսիդավորման տրամադրման միջոցառում | G20: =+G22+G32+G42+G52 -> 43725
F21: այդ թվում` ըստ կատարողների
F22: ՀՀ Արագածոտնի մարզպետի աշխատակազմ | G22: =+G24 -> 2550
F23: այդ թվում` բյուջետային ծախսերի տնտեսագիտական դասակարգման հոդվածներ
F24: ԸՆԴԱՄԵՆԸ ԾԱԽՍԵՐ | G24: =+G25 -> 2550
F25: ԸՆԹԱՑԻԿ ԾԱԽՍԵՐ | G25: =+G26+G29 -> 2550
F26: ՍՈՑԻԱԼԱԿԱՆ ՆՊԱՍՏՆԵՐ ԵՎ ԿԵՆՍԱԹՈՇԱԿՆԵՐ | G26: =+G27 -> 2535
F27: Սոցիալական օգնության դրամական արտահայտությամբ նպաստներ (բյուջեից) | G27: =+G28 -> 2535
F28: - Այլ նպաստներ բյուջեից | G28: 2535
F29: ՍՈՒԲՍԻԴԻԱՆԵՐ | G29: =+G30 -> 15
F30: Սուբսիդիաներ ոչ պետական կազմակերպություններին | G30: =+G31 -> 15
F31: - Սուբսիդիաներ ոչ պետական ոչ ֆինանսական կազմակերպություններին | G31: 15
F32: ՀՀ Գեղարքունիքի մարզպետի աշխատակազմ | G32: =+G34 -> 9240
F33: այդ թվում` բյուջետային ծախսերի տնտեսագիտական դասակարգման հոդվածներ
F34: ԸՆԴԱՄԵՆԸ ԾԱԽՍԵՐ | G34: =+G35 -> 9240
F35: ԸՆԹԱՑԻԿ ԾԱԽՍԵՐ | G35: =+G36+G39 -> 9240
F36: ՍՈՑԻԱԼԱԿԱՆ ՆՊԱՍՏՆԵՐ ԵՎ ԿԵՆՍԱԹՈՇԱԿՆԵՐ | G36: =+G37 -> 9225
F37: Սոցիալական օգնության դրամական արտահայտությամբ նպաստներ (բյուջեից) | G37: =+G38 -> 9225
F38: - Այլ նպաստներ բյուջեից | G38: 9225
F39: ՍՈՒԲՍԻԴԻԱՆԵՐ | G39: =+G40 -> 15
F40: Սուբսիդիաներ ոչ պետական կազմակերպություններին | G40: =+G41 -> 15
F41: - Սուբսիդիաներ ոչ պետական ոչ ֆինանսական կազմակերպություններին | G41: 15
...
