Workbook
Name \A: #REF!
Name _tab10: #REF!
Name _tab10: #REF!
Name _tab11: #REF!
Name _tab12: #REF!
Name _tab13: #REF!
Name _tab14: #REF!
Name _tab15: #REF!
Name _tab16: #REF!
Name _tab17: #REF!
Name _tab18: #REF!
Name _tab19: #REF!
Name _tab20: #REF!
Name _tab21: #REF!
Name _tab22: #REF!
Name _tab23: #REF!
Name _tab24: #REF!
Name _tab5: #REF!
Name _tab6: #REF!
Name _tab7: #REF!
Name _tab8: #REF!
Name _tab9: #REF!
Name aaa: #REF!
Name aaaa: #REF!
Name aaaaa: #REF!
Name AgencyCode: #REF!
Name AgencyCode: #REF!
Name AgencyName: #REF!
Name alis: #REF!
Name alisa: #REF!
Name als: #REF!
Name ampop_krchat: #REF!
Name Armata: #REF!
Name asd: #REF!
Name åû: #REF!
Name BOP: #REF!
Name BOPfoot: #REF!
Name davit: #REF!
Name DebtCG: '[1]Fis-Debt'!#REF!
Name DebtGG: #REF!
Name fff: #REF!
Name Functional1: #REF!
Name ggg: #REF!
Name h: #REF!
Name Hav: #REF!,#REF!
Name havelvac: #REF!
Name mas: #REF!
Name mass: #REF!
Name MonExo: #REF!
Name MonGrow: [2]BM!#REF!
Name PANature: #REF!
Name PANature: #REF!
Name par_count: #REF!,#REF!,#REF!,#REF!,#REF!,#REF!,#REF!,#REF!,#REF!,#REF!,#REF!,#REF!,#REF!,#REF!,#REF!
Name par_count: #REF!,#REF!,#REF!,#REF!,#REF!,#REF!,#REF!,#REF!,#REF!,#REF!,#REF!,#REF!,#REF!,#REF!,#REF!
Name par_qual: #REF!,#REF!,#REF!,#REF!,#REF!
Name par_qual: #REF!,#REF!,#REF!,#REF!,#REF!
Name par_time: #REF!,#REF!,#REF!,#REF!
Name par_time: #REF!,#REF!,#REF!,#REF!
Name par2.12s: #REF!
Name par2.12s: #REF!

Sheet Հավելված 1
A1: Հավելված N 1 ՀՀ կառավարության 2026 թվականի ____________ի N _____-Ն որոշման
A3: «ՀԱՅԱՍՏԱՆԻ ՀԱՆՐԱՊԵՏՈՒԹՅԱՆ 2026 ԹՎԱԿԱՆԻ ՊԵՏԱԿԱՆ ԲՅՈՒՋԵԻ ՄԱՍԻՆ» ՕՐԵՆՔԻ N 1 ՀԱՎԵԼՎԱԾԻ N 2 ԱՂՅՈՒՍԱԿՈՒՄ ԿԱՏԱՐՎՈՂ ՎԵՐԱԲԱՇԽՈՒՄԸ, ԼՐԱՑՈՒՄՆԵՐԸ, ՀԱՅԱՍՏԱՆԻ ՀԱՆՐԱՊԵՏՈՒԹՅԱՆ ԿԱՌԱՎԱՐՈՒԹՅԱՆ 2025 ԹՎԱԿԱՆԻ ԴԵԿՏԵՄԲԵՐԻ 25-Ի N 1910-Ն ՈՐՈՇՄԱՆ N 5 ՀԱՎԵԼՎԱԾԻ N 1 ԱՂՅՈՒՍԱԿՈՒՄ ԿԱՏԱՐՎՈՂ ՓՈՓՈԽՈՒԹՅՈՒՆՆԵՐԸ ԵՎ ԼՐԱՑՈՒՄՆԵՐԸ
G4: հազար դրամներով
A5: ԲԳԿ | B5: Ծրագրային դասիչը | D5: ԲԳԿ/Ծրագրի /միջոցառման անվանումը | E5: Ծրագրի նպատակը/Միջոցառման նկարագրությունը | F5: Վերջնական արդյունքի նկարագրությունը/Միջոցառման տեսակը | G5: Ցուցանիշների փոփոխությունները (ավելացումներ նշված են դրական նշանով, նվազեցումները՝ փակագծերում)
B6: Ծրագիր | C6: Միջոցառում | G6: Տարի
A7: ԸՆԴԱՄԵՆԸ | G7: =+G8+G25 -> 0
A8: ՀՀ էկոնոմիկայի նախարարություն | G8: =+G9+G19+G21+G17+G14 -> 0
B9: 1022 | D9: Գյուղատնտեսության խթանման ծրագիր | E9: Գյուղատնտեսական մթերքի և դրանց վերամշակումից ստացվող սննդամթերքի ծավալների ավելացում | F9: Գյուղատնտեսական մթերքների ծավալների ավելացում: Օգտագործվող վարելահողերի ավելացում: Պտուղբանջարեղենի և խաղողի վերամշակումից ստացված արտադրանքի ծավալների աճ | G9: =+SUM(G10:G13) -> 143768.5 | H9: =+#REF!+G12+G13+G15+G16+#REF!+#REF!+G20+#REF!+#REF!+#REF!+G23 -> #REF!
C10: 1022 - 11002 | D10: Պետական աջակցություն Հայաստանի Հանրապետության գյուղատնտեսական ծրագրերի իրականացմանը | E10: Աջակցություն Հայաստանի Հանրապետության բուսաբուծության խթանման, բույսերի պաշտպանության և անասնաբուժական ծրագրերի իրականացմանը | F10: Ծառայությունների մատուցում | G10: -18632.3 | H10: =+G12+G13+G15+G16+G20+G23 -> 534566
C11: 1022 - 12010 | D11: Անասնաբուծության ճյուղում իրականացվող ներդրումային ծրագրերին աջակցություն | E11: Անասնաբուծության ճյուղում իրականացվող առնվազն 1 մլրդ դրամի ներդրումներից կապիտալ ներդրումների մասնակի փոխհատուցում | F11: Տրանսֆերտների տրամադրում | G11: =+'Հավելված 2'!G57 -> -31324.2
C12: =+B9&"-"&'Հավելված 2'!E66 -> 1022-12023 | D12: 2026 թվականին կաթի արտադրության համար սուբսիդավորման տրամադրման միջոցառում | E12: Հանրապետության մարզերում կաթի արտադրության գործընթացին աջակցելու նպատակով սուբսիդավորել կաթի արտադրությամբ զբաղվող տնտեսավարող սուբյեկտներին | F12: Տրանսֆերտների տրամադրում | G12: =+'Հավելված 2'!G66 -> 43725
C13: 1022-12024 | D13: ՀՀ Արարատի և Արմավիրի մարզերում գործունեություն իրականացնող արդյունագործական ձկնաբուծական տնտեսություններին աջակցություն | E13: ՀՀ Արարատի և Արմավիրի մարզերում գործող արդյունագործական ձկնաբուծական տնտեսությունների կողմից բացառապես 2026 թվականի առաջին կիսամյակի ընթացքում սեփական կարիքների համար ներմուծված և (կամ) ՀՀ տարածքում ձեռք բերված ձկան կերի ընդհանուր քանակի հիման վրա հաշվարկված՝ միջին ամսական քանակի 20 տոկոսի չափով փոխհատուցում։ | F13: Տրանսֆերտների տրամադրում | G13: =+'Հավելված 2'!G108 -> 150000
B14: 1059 | D14: Բուսաբուծության խթանում և բույսերի պաշտպանություն | E14: Հողագործությունից ստացվող արդյունքի բարելավում | F14: Մշակաբույսերի միջին բերքատվության բարձրացում:ՀՀ գյուղատնտեսական նշանակության ողջ հողատարածքի համար կազմված ագրոքիմիական քարտեզներով ապահովվածություն: Հացահատիկի և հատիկաընդեղենի արտադրության ծավալների ավելացում: | G14: =+SUM(G15:G16) -> 173096.7
C15: 1059-11010 | D15: ՀՀ-ում գարնանացան, աշնանացան և կերային մշակաբույսերի ցանքատարածությունների մոնիթորինգի իրականացմանն աջակցություն | E15: Համայնքների կողմից մշակաբույսերի և բազմամյա խոտաբույսերի մոնիթորինգի իրականացում, արդյունքների ամփոփում և համապատասխան տեղեկատվության ներկայացում | F15: Ծառայությունների մատուցում | G15: =+'Հավելված 2'!G119 -> 5041.7
C16: 1059-12003 | D16: ՀՀ-ում գարնանացան, աշնանացան և կերային մշակաբույսերի մշակության հիմնական աշխատանքների համար կատարված ծախսերի մասնակի փոխհատուցման տրամադրում | E16: Մշակաբույսերի և բազմամյա խոտաբույսերի ցանքատարածությունների ընդլայնմանը նպաստելու նպատակով մշակության հիմնական աշխատանքների համար կատարված ծախսերի մասնակի փոխհատուցում | F16: Տրանսֆերտների տրամադրում | G16: =+'Հավելված 2'!G128 -> 168055
B17: 1067 | D17: Ստանդարտների մշակում և հավատարմագրման համակարգի զարգացում | E17: Արտադրանքի, ծառայությունների և գործընթացների անվտանգության մակարդակի բարելավում, միջազգային ու տարածաշրջանային հավատարմագրման համակարգերին ինտեգրում | F17: Առևտրում տեխնիկական խոչընդոտների վերացում և շուկայահանվող արտադրանքի ու մատուցվող ծառայությունների համապատասխանության գնահատման գործունեության արդյունքների նկատմամբ սպառողների վստահության բարձրացում | G17: =+G18 -> -314510.4
C18: 1067-12001 | D18: Որակի ենթակառուցվածքի համակարգի արդիականացմանն աջակցություն | E18: ՍՉԱՄ ՓԲԸ-ում տրամաչփարկման կարողությունների հիմնում, ՍՉԱՄ ՓԲԸ-ում փորձարկման կարողությունների ընդլայնում, նոր լաբորատոր սարքավորումնարի ձեռքբերում, լաբորատորիանորի վերազինում | F18: Տրանսֆերտների տրամադրում | G18: -314510.4
B19: 1165 | D19: Ներդրումների և արտահանման խթանման ծրագիր | E19: Ներդրումների ներգրավման և արտահանման խթանում | F19: Նախորդ տարվա համեմատ ներդրումների և արտահանման ծավալների աճ | G19: =+SUM(G20:G20) -> 97645.2
C20: 1165 - 12011 | D20: Հայաստանի Հանրապետությունից արտահանման սահմանափակման ներքո գտնվող ՀՀ ծագման որոշ ապրանքների՛ Հայաստանի Հանրապետությունում իրացմանն աջակցություն | E20: Թիրախային ապրանքներ արտադրող և սեփական արտադրանքը իրացնող տնտեսավարողներին օժանդակության տրամադրում՛ ՀՀ-ում իրացման յուրաքանչյուր տոննայի համար՛ 10.0 հազար դրամի չափով | F20: Տրանսֆերտների տրամադրում | G20: =+'Հավելված 2'!G31 -> 97645.2
B21: 1187 | D21: Գյուղատնտեսության արդիականացման ծրագիր | E21: Գյուղատնտեսական տեխնիկական համակարգերի արդիականացում, ինտենսիվ այգիների ներդրման և տոհմաբուծության մեջ նոր ցեղատեսակների բուծման աջակցություն | F21: Ոռոգման արդիական համակարգեր ներդրված հողատարածքների և տոհմային կենդանիների տեսակարար կշռի ավելացում | G21: =SUM(G22:G24) -> -100000
C22: 1187 - 12018 | D22: Ոչխարաբուծության և այծաբուծության զարգացման ծրագրին աջակցություն | E22: Արտերկրից բարձր մթերատու ոչխարի և այծերի ցեղերի տոհմային կենդանիների ներկրման, ինչպես նաև ՀՀ-ից ձեռքբերումների շարունակականության ապահովում | F22: Տրանսֆերտների տրամադրում | G22: =+'Հավելված 2'!G139 -> -100000
C23: 1187-12019 | D23: Տնամերձ հողամասերում այգեհիմնման և ոռոգման արդիական համակարգերի ներդրման աջակցություն | E23: ՀՀ Իջևան համայնքի Ծաղկավան, Կիրանց, Բերքաբեր և Խաշթառակ բնակավայրերի տնամերձ հողամասերում այգեհիմնման և ոռոգման արդիական համակարգերի ներդրման խթանում | F23: Տրանսֆերտների տրամադրում | G23: =+'Հավելված 2'!G148 -> 70099.1
C24: 1187 - 12024 | D24: «Խելացի» անասնաշենքերի կառուցման կամ վերակառուցման և դրանց տեխնոլոգիական ապահովման աջակցության ծրագրի շրջանակներում աջակցություն | E24: Խելացի անասնաշենքերի կառուցման կամ վերակառուցման և դրանց տեխնոլոգիական ապահովման համար ծախսերի մասնակիփոխհատուցում | F24: Տրանսֆերտների տրամադրում | G24: =+'Հավելված 2'!G157 -> -70099.1
A25: ՀՀ կառավարություն | G25: =+G26 -> 0
B26: 1139 | D26: ՀՀ կառավարության պահուստային ֆոնդ | E26: Պետական բյուջեում չկանխատեսված, ինչպես նաեւ բյուջետային երաշխիքների ապահովման ծախսերի ֆինանսավորման ապահովում | F26: Պահուստային ֆոնդի կառավարման արդյունավետության և թափանցիկության ապահովում | G26: =+G28+G27 -> 0
C27: 1139 - 11001 | D27: ՀՀ կառավարության պահուստային ֆոնդ | E27: ՀՀ պետական բյուջեում նախատեսված ելքերի լրացուցիչ ֆինանսավորման, պետական բյուջեում չկանխատեսված ելքերի, ինչպես նաև բյուջետային երաշխիքների ապահովման ելքերի ֆինանսավորման ապահովում | F27: Ծառայությունների մատուցում | G27: =+'Հավելված 2'!G178 -> 193725
C28: 1139 - 11001 | D28: ՀՀ կառավարության պահուստային ֆոնդ | E28: ՀՀ պետական բյուջեում նախատեսված ելքերի լրացուցիչ ֆինանսավորման, պետական բյուջեում չկանխատեսված ելքերի, ինչպես նաև բյուջետային երաշխիքների ապահովման ելքերի ֆինանսավորման ապահովում | F28: Ծառայությունների մատուցում | G28: =+G27*-1 -> -193725

Sheet Հավելված 2
F1: Հավելված 2 ՀՀ կառավարության 2026 թվականի ____________ի N _____-Ն որոշման
A3: ՀԱՅԱՍՏԱՆԻ ՀԱՆՐԱՊԵՏՈՒԹՅԱՆ ԿԱՌԱՎԱՐՈՒԹՅԱՆ 2025 ԹՎԱԿԱՆԻ ԴԵԿՏԵՄԲԵՐԻ 25-Ի N 1910-Ն ՈՐՈՇՄԱՆ NN 3 ԵՎ 4 ՀԱՎԵԼՎԱԾՆԵՐՈՒՄ ԿԱՏԱՐՎՈՂ ՓՈՓՈԽՈՒԹՅՈՒՆՆԵՐԸ ԵՎ ԼՐԱՑՈՒՄՆԵՐԸ
G4: հազար դրամներով
A5: Գործառնական դասիչ | D5: Ծրագրային դասիչը | F5: Բյուջետային ծախսերի գործառական դասակարգման բաժինների, խմբերի և դասերի, բյուջետային ծրագրերի միջոցառումների, բյուջետային հատկացումների գլխավոր կարգադրիչների անվանումները | G5: Ցուցանիշների փոփոխությունները (ավելացումներ նշված են դրական նշանով, նվազեցումները՝ փակագծերում)
A6: Բաժին | B6: Խումբ | C6: Դաս | D6: Ծրագիր | E6: Միջոցառում | G6: Տարի
F7: ԸՆԴԱՄԵՆԸ ԾԱԽՍԵՐ | G7: =+G9+G166 -> 0
F8: այդ թվում`
F9: ՀՀ էկոնոմիկայի նախարարություն | G9: =+G11 -> 0
F10: այդ թվում`
A11: 04 | F11: ՏՆՏԵՍԱԿԱՆ ՀԱՐԱԲԵՐՈՒԹՅՈՒՆՆԵՐ | G11: =+G12+G40 -> 0
B12: 01 | F12: Ընդհանուր բնույթի տնտեսական, առևտրային և աշխատանքի գծով հարաբերություններ | G12: =+G14 -> -216865.2
F13: այդ թվում`
C14: 01 | F14: Ընդհանուր բնույթի տնտեսական և առևտրային հարաբերություններ | G14: =+G16 -> -216865.2
F15: այդ թվում`
F16: ՀՀ էկոնոմիկայի նախարարություն | G16: =+G29+G18 -> -216865.2
F17: այդ թվում`
D18: 1067 | F18: Ստանդարտների մշակում և հավատարմագրման համակարգի զարգացում | G18: =+G20 -> -314510.4
F19: այդ թվում`
E20: 12001 | F20: Որակի ենթակառուցվածքի համակարգի արդիականացմանն աջակցություն | G20: =+G22 -> -314510.4
F21: այդ թվում` ըստ կատարողների
F22: ՀՀ էկոնոմիկայի նախարարություն | G22: =+G24 -> -314510.4
F23: այդ թվում` բյուջետային ծախսերի տնտեսագիտական դասակարգման հոդվածներ
F24: ԸՆԴԱՄԵՆԸ ԾԱԽՍԵՐ | G24: =+G25 -> -314510.4
F25: ԸՆԹԱՑԻԿ ԾԱԽՍԵՐ | G25: =+G26 -> -314510.4
F26: ԴՐԱՄԱՇՆՈՐՀՆԵՐ | G26: =+G27 -> -314510.4
F27: Կապիտալ դրամաշնորհներ պետական հատվածի այլ մակարդակներին | G27: =+G28 -> -314510.4
F28: - Կապիտալ դրամաշնորհներ պետական և համայնքային առևտրային կազմակերպություններին | G28: =+'[4]Հավելված 1'!H12 -> -314510.4
D29: 1165 | F29: Ներդրումների և արտահանման խթանման ծրագիր | G29: =+G31 -> 97645.2
F30: այդ թվում`
E31: 12011 | F31: Հայաստանի Հանրապետությունից արտահանման սահմանափակման ներքո գտնվող ՀՀ ծագման որոշ ապրանքների՛ Հայաստանի Հանրապետությունում իրացմանն աջակցություն | G31: =+G33 -> 97645.2
F32: այդ թվում` ըստ կատարողների
F33: ՀՀ էկոնոմիկայի նախարարություն | G33: =+G35 -> 97645.2
F34: այդ թվում` բյուջետային ծախսերի տնտեսագիտական դասակարգման հոդվածներ
F35: ԸՆԴԱՄԵՆԸ ԾԱԽՍԵՐ | G35: =+G36 -> 97645.2
F36: ԸՆԹԱՑԻԿ ԾԱԽՍԵՐ | G36: =+G37 -> 97645.2
F37: ՍՈՒԲՍԻԴԻԱՆԵՐ | G37: =G38 -> 97645.2
F38: Սուբսիդիաներ ոչ պետական կազմակերպություններին | G38: =G39 -> 97645.2
F39: - Սուբսիդիաներ ոչ պետական ոչ ֆինանսական կազմակերպություններին | G39: 97645.2
B40: 02 | F40: Գյուղատնտեսություն, անտառային տնտեսություն, ձկնորսություն և որսորդություն | G40: =+G42 -> 216865.2
F41: այդ թվում`
C42: 01 | F42: Գյուղատնտեսություն | G42: =+G44 -> 216865.2
F43: այդ թվում`
F44: ՀՀ էկոնոմիկայի նախարարություն | G44: =+G46+G137+G117 -> 216865.2
F45: այդ թվում`
D46: 1022 | F46: =+'Հավելված 1'!D9 -> Գյուղատնտեսության խթանման ծրագիր | G46: =G66+G48+G108+G57 -> 143768.5
F47: այդ թվում`
E48: 11002 | F48: Պետական աջակցություն Հայաստանի Հանրապետության գյուղատնտեսական ծրագրերի իրականացմանը | G48: =+G50 -> -18632.3
F49: այդ թվում` ըստ կատարողների
F50: ՀՀ էկոնոմիկայի նախարարություն | G50: =+G52 -> -18632.3
F51: այդ թվում` բյուջետային ծախսերի տնտեսագիտական դասակարգման հոդվածներ
F52: ԸՆԴԱՄԵՆԸ ԾԱԽՍԵՐ | G52: =+G53 -> -18632.3
F53: ԸՆԹԱՑԻԿ ԾԱԽՍԵՐ | G53: =+G54 -> -18632.3
F54: ԴՐԱՄԱՇՆՈՐՀՆԵՐ | G54: =G55 -> -18632.3
F55: Ընթացիկ դրամաշնորհներ պետական հատվածի այլ մակարդակներին | G55: =G56 -> -18632.3
F56: - Ընթացիկ դրամաշնորհներ պետական և համայնքների ոչ առևտրային կազմակերպություններին | G56: =+'Հավելված 1'!G10 -> -18632.3
E57: 12010 | F57: Անասնաբուծության ճյուղում իրականացվող ներդրումային ծրագրերին աջակցություն | G57: =+G59 -> -31324.2
F58: այդ թվում` ըստ կատարողների
F59: ՀՀ էկոնոմիկայի նախարարություն | G59: =+G61 -> -31324.2
F60: այդ թվում` բյուջետային ծախսերի տնտեսագիտական դասակարգման հոդվածներ
F61: ԸՆԴԱՄԵՆԸ ԾԱԽՍԵՐ | G61: =+G62 -> -31324.2
F62: ԸՆԹԱՑԻԿ ԾԱԽՍԵՐ | G62: =+G63 -> -31324.2
F63: ՍՈՒԲՍԻԴԻԱՆԵՐ | G63: =+G64 -> -31324.2
F64: Սուբսիդիաներ ոչ պետական կազմակերպություններին | G64: =+G65 -> -31324.2
F65: - Սուբսիդիաներ ոչ պետական ոչ ֆինանսական կազմակերպություններին | G65: -31324.2
E66: 12023 | F66: 2026 թվականին կաթի արտադրության համար սուբսիդավորման տրամադրման միջոցառում | G66: =+G68+G78+G88+G98 -> 43725
F67: այդ թվում` ըստ կատարողների
F68: ՀՀ Արագածոտնի մարզպետի աշխատակազմ | G68: =+G70 -> 2550
F69: այդ թվում` բյուջետային ծախսերի տնտեսագիտական դասակարգման հոդվածներ
F70: ԸՆԴԱՄԵՆԸ ԾԱԽՍԵՐ | G70: =+G71 -> 2550
F71: ԸՆԹԱՑԻԿ ԾԱԽՍԵՐ | G71: =+G72+G75 -> 2550
F72: ՍՈՑԻԱԼԱԿԱՆ ՆՊԱՍՏՆԵՐ ԵՎ ԿԵՆՍԱԹՈՇԱԿՆԵՐ | G72: =+G73 -> 2535
F73: Սոցիալական օգնության դրամական արտահայտությամբ նպաստներ (բյուջեից) | G73: =+G74 -> 2535
F74: - Այլ նպաստներ բյուջեից | G74: 2535 | H74: 99.816514 | I74: 0.18348624
F75: ՍՈՒԲՍԻԴԻԱՆԵՐ | G75: =+G76 -> 15 | H75: 2550
F76: Սուբսիդիաներ ոչ պետական կազմակերպություններին | G76: =+G77 -> 15 | H76: =+H75*H74/100 -> 2545.3211 | I76: =+H75*I74/100 -> 4.6788991
F77: - Սուբսիդիաներ ոչ պետական ոչ ֆինանսական կազմակերպություններին | G77: 15
F78: ՀՀ Գեղարքունիքի մարզպետի աշխատակազմ | G78: =+G80 -> 9240
F79: այդ թվում` բյուջետային ծախսերի տնտեսագիտական դասակարգման հոդվածներ
F80: ԸՆԴԱՄԵՆԸ ԾԱԽՍԵՐ | G80: =+G81 -> 9240
F81: ԸՆԹԱՑԻԿ ԾԱԽՍԵՐ | G81: =+G82+G85 -> 9240
F82: ՍՈՑԻԱԼԱԿԱՆ ՆՊԱՍՏՆԵՐ ԵՎ ԿԵՆՍԱԹՈՇԱԿՆԵՐ | G82: =+G83 -> 9225
F83: Սոցիալական օգնության դրամական արտահայտությամբ նպաստներ (բյուջեից) | G83: =+G84 -> 9225
F84: - Այլ նպաստներ բյուջեից | G84: 9225 | H84: 99.793103 | I84: 0.20689655
F85: ՍՈՒԲՍԻԴԻԱՆԵՐ | G85: =+G86 -> 15 | H85: 9240
F86: Սուբսիդիաներ ոչ պետական կազմակերպություններին | G86: =+G87 -> 15 | H86: =+H85*H84/100 -> 9220.8828 | I86: =+H85*I84/100 -> 19.117241
F87: - Սուբսիդիաներ ոչ պետական ոչ ֆինանսական կազմակերպություններին | G87: 15
F88: ՀՀ Շիրակի մարզպետի աշխատակազմ | G88: =+G90 -> 255
F89: այդ թվում` բյուջետային ծախսերի տնտեսագիտական դասակարգման հոդվածներ
F90: ԸՆԴԱՄԵՆԸ ԾԱԽՍԵՐ | G90: =+G91 -> 255
F91: ԸՆԹԱՑԻԿ ԾԱԽՍԵՐ | G91: =+G92+G95 -> 255
F92: ՍՈՑԻԱԼԱԿԱՆ ՆՊԱՍՏՆԵՐ ԵՎ ԿԵՆՍԱԹՈՇԱԿՆԵՐ | G92: =+G93 -> 225
F93: Սոցիալական օգնության դրամական արտահայտությամբ նպաստներ (բյուջեից) | G93: =+G94 -> 225
F94: - Այլ նպաստներ բյուջեից | G94: 225 | H94: 0.91488092 | I94: 0.085119077
F95: ՍՈՒԲՍԻԴԻԱՆԵՐ | G95: =+G96 -> 30 | H95: 255
F96: Սուբսիդիաներ ոչ պետական կազմակերպություններին | G96: =+G97 -> 30 | H96: =+H95*H94 -> 233.29464 | I96: =+H95*I94 -> 21.705365
F97: - Սուբսիդիաներ ոչ պետական ոչ ֆինանսական կազմակերպություններին | G97: 30
F98: ՀՀ Սյունիքի մարզպետի աշխատակազմ | G98: =+G100 -> 31680
F99: այդ թվում` բյուջետային ծախսերի տնտեսագիտական դասակարգման հոդվածներ
F100: ԸՆԴԱՄԵՆԸ ԾԱԽՍԵՐ | G100: =+G101 -> 31680
F101: ԸՆԹԱՑԻԿ ԾԱԽՍԵՐ | G101: =+G102+G105 -> 31680
...

Sheet Հավելված 3
D1: Հավելված 3
C2: ՀՀ կառավարության 2026 թվականի
C3: ___________ ___-ի N _______ -Ն որոշման
A6: ՀԱՅԱՍՏԱՆԻ ՀԱՆՐԱՊԵՏՈՒԹՅԱՆ ԿԱՌԱՎԱՐՈՒԹՅԱՆ 2025 ԹՎԱԿԱՆԻ ԴԵԿՏԵՄԲԵՐԻ25-Ի N 1910-Ն ՈՐՈՇՄԱՆ N 5 ՀԱՎԵԼՎԱԾԻ 7 ԱՂՅՈՒՍԱԿՈՒՄ ԿԱՏԱՐՎՈՂ ՓՈՓՈԽՈՒԹՅՈՒՆՆԵՐԸ
G7: հազար դրամներով
A8: Ծրագրային դասիչ | C8: Բյուջետային հատկացումների գլխավոր կարգադրիչների, ծրագրերի, միջոցառումների, ծախսային ուղղությունների անվանումները | F8: Միջոցառումները կատարող պետական մարմինների և դրամաշնորհ ստացող տնտեսվարող սուբյեկտների անվանումները | G8: Ցուցանիշների փոփոխությունները (ավելացումներ նշված են դրական նշանով, նվազեցումները՝ փակագծերում)
A9: Ծրագիր | B9: Միջոցառում | G9: Տարի
A10: 1 | B10: 2 | C10: 3 | F10: 4 | G10: 5
A11: Ընդամենը | G11: =+G12 -> -358001.9
A12: ՀՀ էկոնոմիկայի նախարարություն | G12: =+G13+G22+G2+G16+G19 -> -358001.9
A13: 1022 | B13: =+'Հավելված 1'!D9 -> Գյուղատնտեսության խթանման ծրագիր | G13: =+G14 -> -18632.3
B14: 11002 | C14: Պետական աջակցություն Հայաստանի Հանրապետության գյուղատնտեսական ծրագրերի իրականացմանը | F14: ՀՀ էկոնոմիկայի նախարարություն | G14: =+G15 -> -18632.3
F15: «Գյուղատնտեսական ծառայությունների կենտրոն» ՊՈԱԿ | G15: =+'Հավելված 2'!G48 -> -18632.3
A16: 1059 | B16: Բուսաբուծության խթանում և բույսերի պաշտպանություն | G16: =+G17 -> 5041.7
B17: 11010 | C17: ՀՀ-ում գարնանացան, աշնանացան և կերային մշակաբույսերի ցանքատարածությունների մոնիթորինգի իրականացմանն աջակցություն | F17: ՀՀ էկոնոմիկայի նախարարություն | G17: =G18 -> 5041.7
F18: ՀՀ կառավարության կողմից հաստատված համապատասխան ծրագրի չափանիշները բավարարող համայնքներ | G18: =+'Հավելված 2'!G127 -> 5041.7
A19: 1067 | B19: Ստանդարտների մշակում և հավատարմագրման համակարգի զարգացում | G19: =+G20 -> -314510.4
B20: 12001 | C20: Որակի ենթակառուցվածքի համակարգի արդիականացմանն աջակցություն | F20: ՀՀ էկոնոմիկայի նախարարություն | G20: =+G21 -> -314510.4
F21: «Ստանդարտացման և չափագիտության ազգային մարմին» ՓԲԸ | G21: =+'[4]Հավելված 2'!H23 -> -314510.4
A22: 1187 | B22: Գյուղատնտեսության արդիականացման ծրագիր | G22: =G24+G26 -> -29900.9
B23: 12018 | C23: Ոչխարաբուծության և այծաբուծության զարգացման ծրագրին աջակցություն | F23: ՀՀ էկոնոմիկայի նախարարություն | G23: =+G24 -> -100000
F24: ՀՀ կառավարության կողմից հաստատված համապատասխան ծրագրի չափանիշները բավարարող շահառուներ | G24: =+'Հավելված 2'!G139 -> -100000
B26: 12019 | C26: Տնամերձ հողամասերում այգեհիմնման և ոռոգման արդիական համակարգերի ներդրման աջակցություն | F26: ՀՀ էկոնոմիկայի նախարարություն | G26: =G27 -> 70099.1
F27: ՀՀ կառավարության կողմից հաստատված համապատասխան ծրագրի չափանիշները բավարարող շահառուներ | G27: =+'Հավելված 2'!G148 -> 70099.1

Sheet Հավելված 4
A1: Հավելված 4 ՀՀ կառավարության 2026 թվականի ____________ի N _____-Ն որոշման
A2: ՀԱՅԱՍՏԱՆԻ ՀԱՆՐԱՊԵՏՈՒԹՅԱՆ ԿԱՌԱՎԱՐՈՒԹՅԱՆ 2025 ԹՎԱԿԱՆԻ ԴԵԿՏԵՄԲԵՐԻ 25-Ի N 1910-Ն ՈՐՈՇՄԱՆ N 9 ՀԱՎԵԼՎԱԾՈՒՄ ԿԱՏԱՐՎՈՂ ՓՈՓՈԽՈՒԹՅՈՒՆՆԵՐԸ ԵՎ ԼՐԱՑՈՒՄՆԵՐԸ
J3: հազար դրամներով
A4: ԲԳԿ | B4: Ծրագիր | D4: Միջոցառում | H4: Իրականացնողը/ ակտիվն օգտագործողը/ շահառուի ընտրության չափորոշիչը | I4: Արդյունքային չափորոշիչը | J4: Ցուցանիշների փոփոխությունը (ավելացումները նշված են դրական նշանով, իսկ նվազեցումները՝ փակագծերում)
B5: Դասիչը | C5: Անվա-նումը | D5: Դասիչը | E5: Անվա-նումը | F5: Նկարագրու-թյունը | G5: Տեսակը | J5: Տարի
A6: ԸՆԴԱՄԵՆԸ | J6: =+J7+J86 -> 0
A7: ՀՀ էկոնոմիկայի նախարարություն | J7: =+J8+J28+J64+J70+J43+J54 -> 0
B8: 1022 | C8: Գյուղատնտեսության խթանման ծրագիր | J8: =+J9+J18+J23+J14 -> 143768.5
D9: =+'Հավելված 1'!C10 -> 1022 - 11002 | E9: =+'Հավելված 1'!D10 -> Պետական աջակցություն Հայաստանի Հանրապետության գյուղատնտեսական ծրագրերի իրականացմանը | J9: =+'Հավելված 2'!G48 -> -18632.3
F10: =+'Հավելված 1'!E10 -> Աջակցություն Հայաստանի Հանրապետության բուսաբուծության խթանման, բույսերի պաշտպանության և անասնաբուժական ծրագրերի իրականացմանը
G11: =+'Հավելված 1'!F10 -> Ծառայությունների մատուցում
H12: Ծառայությունը մատուցողի անվանումը` Մասնագիտացված կազմակերպություններ
H13: Գյուղատնտեսության ոլորտում իրականացվող մոնիթորինգի ենթակա միջոցառումների թիվը, հատ շուրջ | J13: -4
D14: 1022 - 12010 | E14: Անասնաբուծության ճյուղում իրականացվող ներդրումային ծրագրերին աջակցություն | J14: =+'Հավելված 1'!G11 -> -31324.2
F15: Անասնաբուծության ճյուղում իրականացվող առնվազն 1 մլրդ դրամի ներդրումներից կապիտալ ներդրումների մասնակի փոխհատուցում
G16: Տրանսֆերտների տրամադրում
H17: Շահառուների ընտրության չափորոշիչները` ՀՀ գյուղատնտեսական տնտեսավարողներ` ընտրված ՀՀ կառավարության 03.03.2022թ. թիվ 276-Լ որոշմամբ հաստատված ծրագրի չափանիշներին համապատասխան
D18: =+'Հավելված 1'!C12 -> 1022-12023 | E18: =+'Հավելված 1'!D12 -> 2026 թվականին կաթի արտադրության համար սուբսիդավորման տրամադրման միջոցառում | J18: =+'Հավելված 5'!J81+'Հավելված 5'!J87+'Հավելված 5'!J99+'Հավելված 5'!J93 -> 43725
F19: =+'Հավելված 1'!E12 -> Հանրապետության մարզերում կաթի արտադրության գործընթացին աջակցելու նպատակով սուբսիդավորել կաթի արտադրությամբ զբաղվող տնտեսավարող սուբյեկտներին
G20: =+'Հավելված 1'!F12 -> Տրանսֆերտների տրամադրում
H21: Շահառուների ընտրության չափորոշիչները` ՀՀ կառավարության 2026 թվականի մայիսի 8-ի N 640-Լ որոշմամբ հաստատված ծրագրի չափանիշները բավարարող շահառուներ
I22: Սուբսիդավորման ենթակա կովերի գլխաքանակը, գլուխ | J22: =+'Հավելված 5'!J86+'Հավելված 5'!J92+'Հավելված 5'!J98+'Հավելված 5'!J104 -> 2915
D23: =+'Հավելված 1'!C13 -> 1022-12024 | E23: =+'Հավելված 1'!D13 -> ՀՀ Արարատի և Արմավիրի մարզերում գործունեություն իրականացնող արդյունագործական ձկնաբուծական տնտեսություններին աջակցություն | J23: =+'Հավելված 1'!G13 -> 150000
F24: =+'Հավելված 1'!E13 -> ՀՀ Արարատի և Արմավիրի մարզերում գործող արդյունագործական ձկնաբուծական տնտեսությունների կողմից բացառապես 2026 թվականի առաջին կիսամյակի ընթացքում սեփական կարիքների համար ներմուծված և (կամ) ՀՀ տարածքում ձեռք բերված ձկան կերի ընդհանուր քանակի հիման վրա հաշվարկված՝ միջին ամսական քանակի 20 տոկոսի չափով փոխհատուցում։
G25: =+'Հավելված 1'!F13 -> Տրանսֆերտների տրամադրում
H26: Շահառուների ընտրության չափորոշիչները` ՀՀ կառավարության 2026 թվականի հուլիսի 30-ի N-1125-Լ որոշմամբ հաստատված ծրագրի չափանիշները բավարարող տնտեսավարող սուբյեկտներ
H27: Արարատի և Արմավիրի մարզերի ձկնաբուծական տնտեսությունների կողմից ձեռքբերված կեր, կգ | J27: 170000
B28: 1058 | C28: Էկոնոմիկայի ոլորտում պետական քաղաքականության մշակում, ծրագրերի համակարգում և մոնիտորինգ | J28: =+J29 -> 0
D29: 1058 - 11002 | E29: Օտարերկրյա պետություններում ՀՀ առևտրական կցորդների և Առևտրի համաշխարհային կազմակերպությունում (ԱՀԿ) մշտական ներկայացուցչի նպատակների և խնդիրների իրագործում | J29: 0
F30: ԱՀԿ-ում ՀՀ տնտեսական շահերի ներկայացում և պաշտպանություն, ՀՀ առևտրատնտեսական քաղաքականության զարգացմանը, արտահանումների խթանմանը և ներդրումների ներգրավմանն ուղղված գործունեություն արտերկրում
G31: Ծառայությունների մատուցում
H32: Ծառայությունը մատուցողի անվանումը` ՀՀ էկոնոմիկայի նախարարություն
I33: Դեսպանակալ երկրի հետ տարեկան առևտրաշրջանառության ծավալների աճ, առնվազն տոկոս | J33: (10-15)
I34: Հայաստանում և դեսպանակալ երկրում գործարար համաժողովների կազմակերպում, հատ | J34: -5
I35: Դեսպանակալ երկրում ոլորտային ցուցահանդեսներին հայ արտադրողների մասնակցության ապահովում, ցուցահանդես | J35: -5
I36: Դեսպանակալ երկրի գործարարների համար Հայաստանի ներդրումային և գործարար միջավայրի մասին տեղեկատվության տարածում, անգամ | J36: -5
I37: Դեսպանակալ երկրից դեպի Հայաստան տարեկան զբասաշրջիկների թվի աճ, տոկոս | J37: -6
I38: Դեսպանակալ երկրում կազմակերպված կամ աջակցված բիզնես միջոցառումներ (ցուցահանդեսներ, գործարար համաժողովներ), քանակ | J38: 6
I39: Ներդրումային գործարքներ կամ համաձայնագրեր, քանակ | J39: 2
I40: Շուկայի եռամսյակային ամփոփագրեր (մարկետ բրիֆներ), քանակ | J40: 4
I41: Թեմատիկ կամ ոլորտային վերլուծական հաշվետվություններ, քանակ | J41: 4
I42: Տարեկան ռազմավարական հաշվետվության պատրաստում, քանակ | J42: 1
B43: 1059 | C43: Բուսաբուծության խթանում և բույսերի պաշտպանություն | J43: =+J44+J49 -> 173096.7
D44: 1059 - 11010 | E44: ՀՀ-ում գարնանացան, աշնանացան և կերային մշակաբույսերի ցանքատարածությունների մոնիթորինգի իրականացմանն աջակցություն | J44: =+'Հավելված 1'!G15 -> 5041.7
F45: Համայնքների կողմից մշակաբույսերի և բազմամյա խոտաբույսերի մոնիթորինգի իրականացում, արդյունքների ամփոփում և համապատասխան տեղեկատվության ներկայացում
G46: Ծառայությունների մատուցում
H47: Ծառայությունը մատուցողի անվանումը` ՀՀ համայնքներ՛ ընտրված համաձայն՛ ՀՀ կառավարության 2025թ. մարտի 27-ի 356-Լ որոշմամբ հաստատված ծրագրի
I48: Աշնանացան ցորենի մոնիթորինգի ենթարկված ցանքատարածություններ, հա | J48: 2100.7
D49: 1059 - 12003 | E49: ՀՀ-ում գարնանացան, աշնանացան և կերային մշակաբույսերի մշակության հիմնական աշխատանքների համար կատարված ծախսերի մասնակի փոխհատուցման տրամադրում | J49: =+'Հավելված 2'!G128 -> 168055
F50: Մշակաբույսերի և բազմամյա խոտաբույսերի ցանքատարածությունների ընդլայնմանը նպաստելու նպատակով մշակության հիմնական աշխատանքների համար կատարված ծախսերի մասնակի փոխհատուցում
G51: Տրանսֆերտների տրամադրում
H52: Շահառուների ընտրության չափորոշիչները` Գյուղատնտեսությունում տնտեսավարողներ՛ ընտրված համաձայն ՀՀ կառավարության 2025 թ. մարտի 27-ի N 356-Լ որոշմամբ հաստատված ծրագրի
I53: Աշնանացան ցորենի ցանքատարածությունների ավելացում, հա | J53: 2100.7
B54: 1067 | C54: Ստանդարտների մշակում և հավատարմագրման համակարգի զարգացում | J54: =+J55 -> -314510.4
D55: 1067 - 12001 | E55: Որակի ենթակառուցվածքի համակարգի արդիականացմանն աջակցություն | J55: =+'Հավելված 2'!G18 -> -314510.4
F56: ՍՉԱՄ ՓԲԸ-ում տրամաչփարկման կարողությունների հիմնում, ՍՉԱՄ ՓԲԸ-ում փորձարկման կարողությունների ընդլայնում, նոր լաբորատոր սարքավորումնարի ձեռքբերում, լաբորատորիանորի վերազինում
G57: Տրանսֆերտների տրամադրում
H58: Շահառուների ընտրության չափորոշիչները` Մասնագիտացված կազմակերպություններ
I59: Ռադիոէլեկտրական չափումների լաբորատորիայի վերազինում, հատ | J59: (1)
I60: Ջերմային և բժշկական սարքավորումների չափումների լաբորատորիայի վերազինում, հատ | J60: (1)
I61: Նավթամթերքի փորձարկման լաբորատորիայի վերազինում, հատ | J61: (1)
I62: Լաբորատոր տարածքների օդափոխման, օդորակման համակարգերի արդիականացում, հատ | J62: (1)
I63: Անկյունգծային լաբորատորիայի վերազինում, հատ | J63: (1)
B64: 1165 | C64: Ներդրումների և արտահանման խթանման ծրագիր | J64: =+J65 -> 97645.2
D65: 1165 - 12011 | E65: Հայաստանի Հանրապետությունից արտահանման սահմանափակման ներքո գտնվող ՀՀ ծագման որոշ ապրանքների՛ Հայաստանի Հանրապետությունում իրացմանն աջակցություն | J65: =+'Հավելված 2'!G31 -> 97645.2
F66: Թիրախային ապրանքներ արտադրող և սեփական արտադրանքը իրացնող տնտեսավարողներին օժանդակության տրամադրում՛ ՀՀ-ում իրացման յուրաքանչյուր տոննայի համար՛ 10.0 հազար դրամի չափով
G67: Տրանսֆերտների տրամադրում
H68: Շահառուների ընտրության չափորոշիչները` ՀՀ կառավարության 2025 թվականի մարտի 20-ի N-338-Լ որոշմամբ հաստատված ծրագրի չափանիշները բավարարող տնտեսավարող սուբյեկտներ
I69: Արտահանման սահմանափակմամբ Հայաստանի Հանրապետության ծագման որոշ ապրանքների` Հայաստանի Հանրապետությունում իրացման ծավալ, տոննա | J69: 9764.515
B70: 1187 | C70: Գյուղատնտեսության արդիականացման ծրագիր | J70: =+J77+J81+J71 -> -100000
D71: 1187 - 12018 | E71: Ոչխարաբուծության և այծաբուծության զարգացման ծրագրին աջակցություն | J71: =+'Հավելված 1'!G22 -> -100000
F72: Արտերկրից բարձր մթերատու ոչխարի և այծերի ցեղերի տոհմային կենդանիների ներկրման, ինչպես նաև ՀՀ-ից ձեռքբերումների շարունակականության ապահովում
G73: =+'Հավելված 1'!F22 -> Տրանսֆերտների տրամադրում
H74: Շահառուների ընտրության չափորոշիչները` ՀՀ կառավարության 2024 թվականի օգոստոսի 22-ի N 1392-Լ որոշմամբ հաստատված ծրագրի չափանիշները բավարարող շահառուներ
I75: Արտերկրից ներկրված մանր եղջերավոր տոհմային կենդանիների քանակ, գլուխ | J75: -140
I76: ՀՀ-ից ձեռքբերվող մանր եղջերավոր տոհմային կենդանիների քանակ, գլուխ | J76: -458
D77: 1187 - 12019 | E77: Տնամերձ հողամասերում այգեհիմնման և ոռոգման արդիական համակարգերի ներդրման աջակցություն | J77: =+'Հավելված 2'!G148 -> 70099.1
F78: ՀՀ Իջևան համայնքի Ծաղկավան, Կիրանց, Բերքաբեր և Խաշթառակ բնակավայրերի տնամերձ հողամասերում այգեհիմնման և ոռոգման արդիական համակարգերի ներդրման խթանում
G79: Տրանսֆերտների տրամադրում
H80: Շահառուների ընտրության չափորոշիչները` ՀՀ կառավարության 2025 թվականի հունիսի 12-ի N 780-Լ որոշմանը համապատասխանող շահառուներ
D81: 1187 - 12024 | E81: «Խելացի» անասնաշենքերի կառուցման կամ վերակառուցման և դրանց տեխնոլոգիական ապահովման աջակցության ծրագրի շրջանակներում աջակցություն | J81: =+'Հավելված 2'!G157 -> -70099.1
F82: Խելացի անասնաշենքերի կառուցման կամ վերակառուցման և դրանց տեխնոլոգիական ապահովման համար ծախսերի մասնակիփոխհատուցում
G83: Տրանսֆերտների տրամադրում
H84: Շահառուների ընտրության չափորոշիչները` ՀՀ գյուղատնտեսական տնտեսավարողներ՛ ընտրված համաձայն ՀՀ կառավարության 2024 թվականի օգոստոսի 22-ի N 1392-Լ որոշմամբ հաստատված ծրագրի չափանիշների
I85: Կառուցվող/վերակառուցվող խելացի անասնաշենքեր 3-րդ մոդել, /1-ին և 2-րդ փուլ/, հատ | J85: -1
A86: ՀՀ կառավարություն | J86: =+J92+J87 -> 0
B87: 1139 | C87: ՀՀ կառավարության պահուստային ֆոնդ | J87: =+J88 -> 193725
D88: 1139 - 11001 | E88: ՀՀ կառավարության պահուստային ֆոնդ | J88: =+'Հավելված 1'!G27 -> 193725
F89: ՀՀ պետական բյուջեում նախատեսված ելքերի լրացուցիչ ֆինանսավորման, պետական բյուջեում չկանխատեսված ելքերի, ինչպես նաև բյուջետային երաշխիքների ապահովման ելքերի ֆինանսավորման ապահովում
G90: Ծառայությունների մատուցում
H91: Ծառայությունը մատուցողի անվանումը` ՀՀ կառավարություն
B92: 1139 | C92: ՀՀ կառավարության պահուստային ֆոնդ | J92: =+J93 -> -193725
D93: 1139 - 11001 | E93: ՀՀ կառավարության պահուստային ֆոնդ | J93: =+'Հավելված 1'!G28 -> -193725
F94: ՀՀ պետական բյուջեում նախատեսված ելքերի լրացուցիչ ֆինանսավորման, պետական բյուջեում չկանխատեսված ելքերի, ինչպես նաև բյուջետային երաշխիքների ապահովման ելքերի ֆինանսավորման ապահովում
G95: Ծառայությունների մատուցում
H96: Ծառայությունը մատուցողի անվանումը` ՀՀ կառավարություն

Sheet Հավելված 5
A1: Հավելված 5 ՀՀ կառավարության 2026 թվականի ____________ի N _____-Ն որոշման
A2: ՀԱՅԱՍՏԱՆԻ ՀԱՆՐԱՊԵՏՈՒԹՅԱՆ ԿԱՌԱՎԱՐՈՒԹՅԱՆ 2025 ԹՎԱԿԱՆԻ ԴԵԿՏԵՄԲԵՐԻ 25-Ի N 1910-Ն ՈՐՈՇՄԱՆ N 9.1 ՀԱՎԵԼՎԱԾՈՒՄ ԿԱՏԱՐՎՈՂ ՓՈՓՈԽՈՒԹՅՈՒՆՆԵՐԸ ԵՎ ԼՐԱՑՈՒՄՆԵՐԸ
J3: հազար դրամներով
A4: ԲՍԿ | B4: Ծրագիր | D4: Միջոցառում | H4: Իրականացնողը/ ակտիվն օգտագործողը/ շահառուի ընտրության չափորոշիչը | I4: Արդյունքային չափորոշիչը | J4: Ցուցանիշների փոփոխությունը (ավելացումները նշված են դրական նշանով, իսկ նվազեցումները՝ փակագծերում)
B5: Դասիչը | C5: Անվա-նումը | D5: Դասիչը | E5: Անվա-նումը | F5: Նկարագրու-թյունը | G5: Տեսակը | J5: Տարի
A6: ԸՆԴԱՄԵՆԸ | J6: =+J7+J81+J87+J93+J99+J105 -> 0
A7: ՀՀ էկոնոմիկայի նախարարություն | J7: =+J8++J59+J65+J38+J49 -> -43725
B8: 1022 | C8: Գյուղատնտեսության խթանման ծրագիր | J8: =J14+J9+J18 -> 100043.5
D9: =+'Հավելված 1'!C10 -> 1022 - 11002 | E9: =+'Հավելված 1'!D10 -> Պետական աջակցություն Հայաստանի Հանրապետության գյուղատնտեսական ծրագրերի իրականացմանը | J9: =+'Հավելված 4'!J9 -> -18632.3
F10: =+'Հավելված 1'!E10 -> Աջակցություն Հայաստանի Հանրապետության բուսաբուծության խթանման, բույսերի պաշտպանության և անասնաբուժական ծրագրերի իրականացմանը
G11: =+'Հավելված 1'!F10 -> Ծառայությունների մատուցում
H12: Ծառայությունը մատուցողի անվանումը` Մասնագիտացված կազմակերպություններ
H13: Գյուղատնտեսության ոլորտում իրականացվող մոնիթորինգի ենթակա միջոցառումների թիվը, հատ շուրջ | J13: -4
D14: 1022 - 12010 | E14: Անասնաբուծության ճյուղում իրականացվող ներդրումային ծրագրերին աջակցություն | J14: =+'Հավելված 1'!G11 -> -31324.2
F15: Անասնաբուծության ճյուղում իրականացվող առնվազն 1 մլրդ դրամի ներդրումներից կապիտալ ներդրումների մասնակի փոխհատուցում
G16: Տրանսֆերտների տրամադրում
H17: Շահառուների ընտրության չափորոշիչները` ՀՀ գյուղատնտեսական տնտեսավարողներ` ընտրված ՀՀ կառավարության 03.03.2022թ. թիվ 276-Լ որոշմամբ հաստատված ծրագրի չափանիշներին համապատասխան
D18: =+'Հավելված 4'!D23 -> 1022-12024 | E18: =+'Հավելված 4'!E23:I23 -> ՀՀ Արարատի և Արմավիրի մարզերում գործունեություն իրականացնող արդյունագործական ձկնաբուծական տնտեսություններին աջակցություն | J18: =+'Հավելված 1'!G13 -> 150000
F19: =+'Հավելված 4'!F24:J24 -> ՀՀ Արարատի և Արմավիրի մարզերում գործող արդյունագործական ձկնաբուծական տնտեսությունների կողմից բացառապես 2026 թվականի առաջին կիսամյակի ընթացքում սեփական կարիքների համար ներմուծված և (կամ) ՀՀ տարածքում ձեռք բերված ձկան կերի ընդհանուր քանակի հիման վրա հաշվարկված՝ միջին ամսական քանակի 20 տոկոսի չափով փոխհատուցում։
G20: =+'Հավելված 4'!G25:J25 -> Տրանսֆերտների տրամադրում
H21: =+'Հավելված 4'!H26:J26 -> Շահառուների ընտրության չափորոշիչները` ՀՀ կառավարության 2026 թվականի հուլիսի 30-ի N-1125-Լ որոշմամբ հաստատված ծրագրի չափանիշները բավարարող տնտեսավարող սուբյեկտներ
H22: =+'Հավելված 4'!H27:I27 -> Արարատի և Արմավիրի մարզերի ձկնաբուծական տնտեսությունների կողմից ձեռքբերված կեր, կգ | J22: =+'Հավելված 4'!J27 -> 170000
B23: 1058 | C23: Էկոնոմիկայի ոլորտում պետական քաղաքականության մշակում, ծրագրերի համակարգում և մոնիտորինգ | J23: =+J24 -> 0
D24: 1058 - 11002 | E24: Օտարերկրյա պետություններում ՀՀ առևտրական կցորդների և Առևտրի համաշխարհային կազմակերպությունում (ԱՀԿ) մշտական ներկայացուցչի նպատակների և խնդիրների իրագործում | J24: 0
F25: ԱՀԿ-ում ՀՀ տնտեսական շահերի ներկայացում և պաշտպանություն, ՀՀ առևտրատնտեսական քաղաքականության զարգացմանը, արտահանումների խթանմանը և ներդրումների ներգրավմանն ուղղված գործունեություն արտերկրում
G26: Ծառայությունների մատուցում
H27: Ծառայությունը մատուցողի անվանումը` ՀՀ էկոնոմիկայի նախարարություն
I28: Դեսպանակալ երկրի հետ տարեկան առևտրաշրջանառության ծավալների աճ, առնվազն տոկոս | J28: (10-15)
I29: Հայաստանում և դեսպանակալ երկրում գործարար համաժողովների կազմակերպում, հատ | J29: -5
I30: Դեսպանակալ երկրում ոլորտային ցուցահանդեսներին հայ արտադրողների մասնակցության ապահովում, ցուցահանդես | J30: -5
I31: Դեսպանակալ երկրի գործարարների համար Հայաստանի ներդրումային և գործարար միջավայրի մասին տեղեկատվության տարածում, անգամ | J31: -5
I32: Դեսպանակալ երկրից դեպի Հայաստան տարեկան զբասաշրջիկների թվի աճ, տոկոս | J32: -6
I33: Դեսպանակալ երկրում կազմակերպված կամ աջակցված բիզնես միջոցառումներ (ցուցահանդեսներ, գործարար համաժողովներ), քանակ | J33: 6
I34: Ներդրումային գործարքներ կամ համաձայնագրեր, քանակ | J34: 2
I35: Շուկայի եռամսյակային ամփոփագրեր (մարկետ բրիֆներ), քանակ | J35: 4
I36: Թեմատիկ կամ ոլորտային վերլուծական հաշվետվություններ, քանակ | J36: 4
I37: Տարեկան ռազմավարական հաշվետվության պատրաստում, քանակ | J37: 1
B38: 1059 | C38: Բուսաբուծության խթանում և բույսերի պաշտպանություն | J38: =+J39+J44 -> 173096.7
D39: 1059 - 11010 | E39: ՀՀ-ում գարնանացան, աշնանացան և կերային մշակաբույսերի ցանքատարածությունների մոնիթորինգի իրականացմանն աջակցություն | J39: =+'Հավելված 4'!J44 -> 5041.7
F40: Համայնքների կողմից մշակաբույսերի և բազմամյա խոտաբույսերի մոնիթորինգի իրականացում, արդյունքների ամփոփում և համապատասխան տեղեկատվության ներկայացում
G41: Ծառայությունների մատուցում
H42: Ծառայությունը մատուցողի անվանումը` ՀՀ համայնքներ՛ ընտրված համաձայն՛ ՀՀ կառավարության 2025թ. մարտի 27-ի 356-Լ որոշմամբ հաստատված ծրագրի
I43: Աշնանացան ցորենի մոնիթորինգի ենթարկված ցանքատարածություններ, հա | J43: 2100.7
D44: 1059 - 12003 | E44: ՀՀ-ում գարնանացան, աշնանացան և կերային մշակաբույսերի մշակության հիմնական աշխատանքների համար կատարված ծախսերի մասնակի փոխհատուցման տրամադրում | J44: =+'Հավելված 4'!J49 -> 168055
F45: Մշակաբույսերի և բազմամյա խոտաբույսերի ցանքատարածությունների ընդլայնմանը նպաստելու նպատակով մշակության հիմնական աշխատանքների համար կատարված ծախսերի մասնակի փոխհատուցում
G46: Տրանսֆերտների տրամադրում
H47: Շահառուների ընտրության չափորոշիչները` Գյուղատնտեսությունում տնտեսավարողներ՛ ընտրված համաձայն ՀՀ կառավարության 2025 թ. մարտի 27-ի N 356-Լ որոշմամբ հաստատված ծրագրի
I48: Աշնանացան ցորենի ցանքատարածությունների ավելացում, հա | J48: 2100.7
B49: 1067 | C49: Ստանդարտների մշակում և հավատարմագրման համակարգի զարգացում | J49: =+J50 -> -314510.4
D50: 1067 - 12001 | E50: Որակի ենթակառուցվածքի համակարգի արդիականացմանն աջակցություն | J50: =+'Հավելված 1'!G18 -> -314510.4
F51: ՍՉԱՄ ՓԲԸ-ում տրամաչփարկման կարողությունների հիմնում, ՍՉԱՄ ՓԲԸ-ում փորձարկման կարողությունների ընդլայնում, նոր լաբորատոր սարքավորումնարի ձեռքբերում, լաբորատորիանորի վերազինում
G52: Տրանսֆերտների տրամադրում
H53: Շահառուների ընտրության չափորոշիչները` Մասնագիտացված կազմակերպություններ
I54: Ռադիոէլեկտրական չափումների լաբորատորիայի վերազինում, հատ | J54: (1)
I55: Ջերմային և բժշկական սարքավորումների չափումների լաբորատորիայի վերազինում, հատ | J55: (1)
I56: Նավթամթերքի փորձարկման լաբորատորիայի վերազինում, հատ | J56: (1)
I57: Լաբորատոր տարածքների օդափոխման, օդորակման համակարգերի արդիականացում, հատ | J57: (1)
I58: Անկյունգծային լաբորատորիայի վերազինում, հատ | J58: (1)
B59: 1165 | C59: Ներդրումների և արտահանման խթանման ծրագիր | J59: =J60 -> 97645.2
D60: 1165 - 12011 | E60: Հայաստանի Հանրապետությունից արտահանման սահմանափակման ներքո գտնվող ՀՀ ծագման որոշ ապրանքների՛ Հայաստանի Հանրապետությունում իրացմանն աջակցություն | J60: =+'Հավելված 2'!G31 -> 97645.2
F61: Թիրախային ապրանքներ արտադրող և սեփական արտադրանքը իրացնող տնտեսավարողներին օժանդակության տրամադրում՛ ՀՀ-ում իրացման յուրաքանչյուր տոննայի համար՛ 10.0 հազար դրամի չափով
G62: Տրանսֆերտների տրամադրում
H63: Շահառուների ընտրության չափորոշիչները` ՀՀ կառավարության 2025 թվականի մարտի 20-ի N-338-Լ որոշմամբ հաստատված ծրագրի չափանիշները բավարարող տնտեսավարող սուբյեկտներ
I64: Արտահանման սահմանափակմամբ Հայաստանի Հանրապետության ծագման որոշ ապրանքների` Հայաստանի Հանրապետությունում իրացման ծավալ, տոննա | J64: 9764.515
B65: 1187 | C65: Գյուղատնտեսության արդիականացման ծրագիր | J65: =J72+J76+J66 -> -100000
D66: 1187 - 12018 | E66: Ոչխարաբուծության և այծաբուծության զարգացման ծրագրին աջակցություն | J66: =+'Հավելված 4'!J71 -> -100000
F67: Արտերկրից բարձր մթերատու ոչխարի և այծերի ցեղերի տոհմային կենդանիների ներկրման, ինչպես նաև ՀՀ-ից ձեռքբերումների շարունակականության ապահովում
G68: =+'Հավելված 1'!F20 -> Տրանսֆերտների տրամադրում
H69: Շահառուների ընտրության չափորոշիչները` ՀՀ կառավարության 2024 թվականի օգոստոսի 22-ի N 1392-Լ որոշմամբ հաստատված ծրագրի չափանիշները բավարարող շահառուներ
I70: Արտերկրից ներկրված մանր եղջերավոր տոհմային կենդանիների քանակ, գլուխ | J70: =+'Հավելված 4'!J75 -> -140
I71: ՀՀ-ից ձեռքբերվող մանր եղջերավոր տոհմային կենդանիների քանակ, գլուխ | J71: =+'Հավելված 4'!J76 -> -458
D72: 1187 - 12019 | E72: Տնամերձ հողամասերում այգեհիմնման և ոռոգման արդիական համակարգերի ներդրման աջակցություն | J72: =+'Հավելված 2'!G148 -> 70099.1
F73: ՀՀ Իջևան համայնքի Ծաղկավան, Կիրանց, Բերքաբեր և Խաշթառակ բնակավայրերի տնամերձ հողամասերում այգեհիմնման և ոռոգման արդիական համակարգերի ներդրման խթանում
G74: Տրանսֆերտների տրամադրում
H75: Շահառուների ընտրության չափորոշիչները` ՀՀ կառավարության 2025 թվականի հունիսի 12-ի N 780-Լ որոշմանը համապատասխանող շահառուներ
D76: 1187 - 12024 | E76: «Խելացի» անասնաշենքերի կառուցման կամ վերակառուցման և դրանց տեխնոլոգիական ապահովման աջակցության ծրագրի շրջանակներում աջակցություն | J76: =+'Հավելված 2'!G157 -> -70099.1
F77: Խելացի անասնաշենքերի կառուցման կամ վերակառուցման և դրանց տեխնոլոգիական ապահովման համար ծախսերի մասնակիփոխհատուցում
G78: Տրանսֆերտների տրամադրում
H79: Շահառուների ընտրության չափորոշիչները` ՀՀ գյուղատնտեսական տնտեսավարողներ՛ ընտրված համաձայն ՀՀ կառավարության 2024 թվականի օգոստոսի 22-ի N 1392-Լ որոշմամբ հաստատված ծրագրի չափանիշների
I80: Կառուցվող/վերակառուցվող խելացի անասնաշենքեր 3-րդ մոդել, /1-ին և 2-րդ փուլ/, հատ | J80: -1
A81: ՀՀ Արագածոտնի մարզպետի աշխատակազմ | J81: =+J82 -> 2550
D82: =+'Հավելված 1'!C12 -> 1022-12023 | E82: =+'Հավելված 1'!D12 -> 2026 թվականին կաթի արտադրության համար սուբսիդավորման տրամադրման միջոցառում | J82: =+'Հավելված 2'!G68 -> 2550
F83: =+'Հավելված 1'!E12 -> Հանրապետության մարզերում կաթի արտադրության գործընթացին աջակցելու նպատակով սուբսիդավորել կաթի արտադրությամբ զբաղվող տնտեսավարող սուբյեկտներին
G84: =+'Հավելված 1'!F12 -> Տրանսֆերտների տրամադրում
H85: Շահառուների ընտրության չափորոշիչները` ՀՀ կառավարության 2026 թվականի մայիսի 8-ի N 640-Լ որոշմամբ հաստատված ծրագրի չափանիշները բավարարող շահառուներ
I86: Սուբսիդավորման ենթակա կովերի գլխաքանակը, գլուխ | J86: =+J82/15 -> 170
A87: =+'Հավելված 2'!F78 -> ՀՀ Գեղարքունիքի մարզպետի աշխատակազմ | J87: =+J88 -> 9240
D88: =+D82 -> 1022-12023 | E88: =+E82 -> 2026 թվականին կաթի արտադրության համար սուբսիդավորման տրամադրման միջոցառում | J88: =+'Հավելված 2'!G78 -> 9240
F89: =+F83 -> Հանրապետության մարզերում կաթի արտադրության գործընթացին աջակցելու նպատակով սուբսիդավորել կաթի արտադրությամբ զբաղվող տնտեսավարող սուբյեկտներին
G90: =+G84 -> Տրանսֆերտների տրամադրում
H91: =+H85 -> Շահառուների ընտրության չափորոշիչները` ՀՀ կառավարության 2026 թվականի մայիսի 8-ի N 640-Լ որոշմամբ հաստատված ծրագրի չափանիշները բավարարող շահառուներ
I92: Սուբսիդավորման ենթակա կովերի գլխաքանակը, գլուխ | J92: =+J88/15 -> 616
A93: =+'Հավելված 2'!F88 -> ՀՀ Շիրակի մարզպետի աշխատակազմ | J93: =+J94 -> 255
D94: =+D88 -> 1022-12023 | E94: =+E88 -> 2026 թվականին կաթի արտադրության համար սուբսիդավորման տրամադրման միջոցառում | J94: =+'Հավելված 2'!G88 -> 255
F95: =+F89 -> Հանրապետության մարզերում կաթի արտադրության գործընթացին աջակցելու նպատակով սուբսիդավորել կաթի արտադրությամբ զբաղվող տնտեսավարող սուբյեկտներին
G96: =+G78 -> Տրանսֆերտների տրամադրում
H97: =+H91 -> Շահառուների ընտրության չափորոշիչները` ՀՀ կառավարության 2026 թվականի մայիսի 8-ի N 640-Լ որոշմամբ հաստատված ծրագրի չափանիշները բավարարող շահառուներ
I98: Սուբսիդավորման ենթակա կովերի գլխաքանակը, գլուխ | J98: =+J94/15 -> 17
A99: ՀՀ Սյունիքի մարզպետի աշխատակազմ | J99: =+J100 -> 31680
D100: =+D82 -> 1022-12023 | E100: =+E82 -> 2026 թվականին կաթի արտադրության համար սուբսիդավորման տրամադրման միջոցառում | J100: =+'Հավելված 2'!G98 -> 31680
...

Sheet Հավելված 6
F1: Հավելված 6 ՀՀ կառավարության 2026 թվականի ____________ի N _____-Ն որոշման
A3: ՀԱՅԱՍՏԱՆԻ ՀԱՆՐԱՊԵՏՈՒԹՅԱՆ 2026 ԹՎԱԿԱՆԻ ՊԵՏԱԿԱՆ ԲՅՈՒՋԵՈՎ ՆԱԽԱՏԵՍՎԱԾ՝ ՀԱՅԱՍՏԱՆԻ ՀԱՆՐԱՊԵՏՈՒԹՅԱՆ ԿԱՌԱՎԱՐՈՒԹՅԱՆ ՊԱՀՈՒՍՏԱՅԻՆ ՖՈՆԴԻՑ ՀԱՏԿԱՑՈՒՄՆԵՐ ԿԱՏԱՐԵԼՈՒ ՎԵՐԱԲԵՐՅԱԼ
G4: հազար դրամներով
A5: Գործառնական դասիչ | D5: Ծրագրային դասիչը | F5: Բյուջետային ծախսերի գործառական դասակարգման բաժինների, խմբերի և դասերի, բյուջետային ծրագրերի միջոցառումների, բյուջետային հատկացումների գլխավոր կարգադրիչների անվանումները | G5: Ցուցանիշների փոփոխությունները (ավելացումներ նշված են դրական նշանով, նվազեցումները՝ փակագծերում)
A6: Բաժին | B6: Խումբ | C6: Դաս | D6: Ծրագիր | E6: Միջոցառում | G6: Տարի
F7: ԸՆԴԱՄԵՆԸ ԾԱԽՍԵՐ | G7: =+G9+G71 -> 0
F8: այդ թվում`
F9: ՀՀ էկոնոմիկայի նախարարություն | G9: =+G11 -> 193725
F10: այդ թվում`
A11: 04 | F11: ՏՆՏԵՍԱԿԱՆ ՀԱՐԱԲԵՐՈՒԹՅՈՒՆՆԵՐ | G11: =G12 -> 193725
B12: 02 | F12: Գյուղատնտեսություն, անտառային տնտեսություն, ձկնորսություն և որսորդություն | G12: =+G14 -> 193725
F13: այդ թվում`
C14: 01 | F14: Գյուղատնտեսություն | G14: =+G16 -> 193725
F15: այդ թվում`
F16: ՀՀ էկոնոմիկայի նախարարություն | G16: =+G18 -> 193725
F17: այդ թվում`
D18: 1022 | F18: =+'Հավելված 1'!D9 -> Գյուղատնտեսության խթանման ծրագիր | G18: =G20+G62 -> 193725
F19: այդ թվում`
E20: 12023 | F20: 2026 թվականին կաթի արտադրության համար սուբսիդավորման տրամադրման միջոցառում | G20: =+G22+G32+G42+G52 -> 43725
F21: այդ թվում` ըստ կատարողների
F22: ՀՀ Արագածոտնի մարզպետի աշխատակազմ | G22: =+G24 -> 2550
F23: այդ թվում` բյուջետային ծախսերի տնտեսագիտական դասակարգման հոդվածներ
F24: ԸՆԴԱՄԵՆԸ ԾԱԽՍԵՐ | G24: =+G25 -> 2550
F25: ԸՆԹԱՑԻԿ ԾԱԽՍԵՐ | G25: =+G26+G29 -> 2550
F26: ՍՈՑԻԱԼԱԿԱՆ ՆՊԱՍՏՆԵՐ ԵՎ ԿԵՆՍԱԹՈՇԱԿՆԵՐ | G26: =+G27 -> 2535
F27: Սոցիալական օգնության դրամական արտահայտությամբ նպաստներ (բյուջեից) | G27: =+G28 -> 2535
F28: - Այլ նպաստներ բյուջեից | G28: 2535
F29: ՍՈՒԲՍԻԴԻԱՆԵՐ | G29: =+G30 -> 15
F30: Սուբսիդիաներ ոչ պետական կազմակերպություններին | G30: =+G31 -> 15
F31: - Սուբսիդիաներ ոչ պետական ոչ ֆինանսական կազմակերպություններին | G31: 15
F32: ՀՀ Գեղարքունիքի մարզպետի աշխատակազմ | G32: =+G34 -> 9240
F33: այդ թվում` բյուջետային ծախսերի տնտեսագիտական դասակարգման հոդվածներ
F34: ԸՆԴԱՄԵՆԸ ԾԱԽՍԵՐ | G34: =+G35 -> 9240
F35: ԸՆԹԱՑԻԿ ԾԱԽՍԵՐ | G35: =+G36+G39 -> 9240
F36: ՍՈՑԻԱԼԱԿԱՆ ՆՊԱՍՏՆԵՐ ԵՎ ԿԵՆՍԱԹՈՇԱԿՆԵՐ | G36: =+G37 -> 9225
F37: Սոցիալական օգնության դրամական արտահայտությամբ նպաստներ (բյուջեից) | G37: =+G38 -> 9225
F38: - Այլ նպաստներ բյուջեից | G38: 9225
F39: ՍՈՒԲՍԻԴԻԱՆԵՐ | G39: =+G40 -> 15
F40: Սուբսիդիաներ ոչ պետական կազմակերպություններին | G40: =+G41 -> 15
F41: - Սուբսիդիաներ ոչ պետական ոչ ֆինանսական կազմակերպություններին | G41: 15
F42: ՀՀ Շիրակի մարզպետի աշխատակազմ | G42: =+G44 -> 255
F43: այդ թվում` բյուջետային ծախսերի տնտեսագիտական դասակարգման հոդվածներ
F44: ԸՆԴԱՄԵՆԸ ԾԱԽՍԵՐ | G44: =+G45 -> 255
F45: ԸՆԹԱՑԻԿ ԾԱԽՍԵՐ | G45: =+G46+G49 -> 255
F46: ՍՈՑԻԱԼԱԿԱՆ ՆՊԱՍՏՆԵՐ ԵՎ ԿԵՆՍԱԹՈՇԱԿՆԵՐ | G46: =+G47 -> 225
F47: Սոցիալական օգնության դրամական արտահայտությամբ նպաստներ (բյուջեից) | G47: =+G48 -> 225
F48: - Այլ նպաստներ բյուջեից | G48: 225
F49: ՍՈՒԲՍԻԴԻԱՆԵՐ | G49: =+G50 -> 30
F50: Սուբսիդիաներ ոչ պետական կազմակերպություններին | G50: =+G51 -> 30
F51: - Սուբսիդիաներ ոչ պետական ոչ ֆինանսական կազմակերպություններին | G51: 30
F52: ՀՀ Սյունիքի մարզպետի աշխատակազմ | G52: =+G54 -> 31680
F53: այդ թվում` բյուջետային ծախսերի տնտեսագիտական դասակարգման հոդվածներ
F54: ԸՆԴԱՄԵՆԸ ԾԱԽՍԵՐ | G54: =+G55 -> 31680
F55: ԸՆԹԱՑԻԿ ԾԱԽՍԵՐ | G55: =+G56+G59 -> 31680
F56: ՍՈՑԻԱԼԱԿԱՆ ՆՊԱՍՏՆԵՐ ԵՎ ԿԵՆՍԱԹՈՇԱԿՆԵՐ | G56: =+G57 -> 28965
F57: Սոցիալական օգնության դրամական արտահայտությամբ նպաստներ (բյուջեից) | G57: =+G58 -> 28965
F58: - Այլ նպաստներ բյուջեից | G58: 28965
F59: ՍՈՒԲՍԻԴԻԱՆԵՐ | G59: =+G60 -> 2715
F60: Սուբսիդիաներ ոչ պետական կազմակերպություններին | G60: =+G61 -> 2715
F61: - Սուբսիդիաներ ոչ պետական ոչ ֆինանսական կազմակերպություններին | G61: 2715
E62: 12024 | F62: =+'Հավելված 1'!D13 -> ՀՀ Արարատի և Արմավիրի մարզերում գործունեություն իրականացնող արդյունագործական ձկնաբուծական տնտեսություններին աջակցություն | G62: =+G64 -> 150000
F63: այդ թվում` ըստ կատարողների
F64: ՀՀ էկոնոմիկայի նախարարություն | G64: =+G66 -> 150000
F65: այդ թվում` բյուջետային ծախսերի տնտեսագիտական դասակարգման հոդվածներ
F66: ԸՆԴԱՄԵՆԸ ԾԱԽՍԵՐ | G66: =+G67 -> 150000
F67: ԸՆԹԱՑԻԿ ԾԱԽՍԵՐ | G67: =+G68 -> 150000
F68: ՍՈՒԲՍԻԴԻԱՆԵՐ | G68: =+G69 -> 150000
F69: Սուբսիդիաներ ոչ պետական կազմակերպություններին | G69: =+G70 -> 150000
F70: - Սուբսիդիաներ ոչ պետական ոչ ֆինանսական կազմակերպություններին | G70: 150000
F71: ՀՀ կառավարություն | G71: =+G73 -> -193725
F72: այդ թվում`
A73: 11 | F73: ՀԻՄՆԱԿԱՆ ԲԱԺԻՆՆԵՐԻՆ ՉԴԱՍՎՈՂ ՊԱՀՈՒՍՏԱՅԻՆ ՖՈՆԴԵՐ | G73: =G75 -> -193725
F74: այդ թվում`
B75: 01 | F75: ՀՀ կառավարության և համայնքների պահուստային ֆոնդ | G75: =G77 -> -193725
F76: այդ թվում`
C77: 01 | F77: ՀՀ կառավարության պահուստային ֆոնդ | G77: =G79 -> -193725
F78: այդ թվում`
F79: ՀՀ կառավարություն | G79: =G81 -> -193725
F80: այդ թվում`
D81: 1139 | F81: ՀՀ կառավարության պահուստային ֆոնդ | G81: =+G83 -> -193725
F82: այդ թվում`
E83: 11001 | F83: ՀՀ կառավարության պահուստային ֆոնդ | G83: =G85 -> -193725
F84: այդ թվում` ըստ կատարողների
F85: ՀՀ կառավարություն | G85: =G87 -> -193725
F86: այդ թվում` բյուջետային ծախսերի տնտեսագիտական դասակարգման հոդվածներ
F87: ԸՆԴԱՄԵՆԸ ԾԱԽՍԵՐ | G87: =G88 -> -193725
F88: ԸՆԹԱՑԻԿ ԾԱԽՍԵՐ | G88: =G89 -> -193725
F89: ԱՅԼ ԾԱԽՍԵՐ | G89: =G90 -> -193725
F90: Պահուստային միջոցներ | G90: =+G9*-1 -> -193725
